{"text_format":"1","workbook":"xlsx","n_sheets":9,"sheets":["SYSTEM","syllabus","stats","rank","rank_v_beta","rank.19F","FCs","ExamPtTots","COPLFR"],"not_rendered":{"charts":0,"images":0,"macros":1,"external_links":0,"defined_names":33,"comments":0,"pivot_tables":1},"unopened":[],"bounds":{"document_bytes":16777216,"sheet_cells":100000,"rows_first":2000,"rows_last":500,"rows_between":2000,"halvings":0,"cell_chars":16384,"cell_head_chars":4096},"cells_cut":0,"cells_raw":0,"read":"whole","date_system":"1900"}

{"sheet":"SYSTEM","index":0,"n_rows":79,"n_cols":13,"rows_kept":79,"cut":false,"hidden":false,"merged":[]}
[]
[null,"A",{"$f":"VLOOKUP(B2,B4:C79,2,FALSE)","v":2}]
[null,"T-value for priority",null,null,null,null,null,null,null,null,null,"date:",{"$f":"NOW()","v":"2019-06-26T09:22:43.930"}]
[null,"A",2,null,"* apply correction factor if I update the scoring system"]
[null,"A1",2]
[null,"A2",2]
[null,"A3",2]
[null,"A4",2]
[null,"A5",2]
[null,"A6",2]
[null,"A7",2]
[null,"A8",2]
[null,"A9",2]
[null,"B",0.2,null,1.5]
[null,"B1",0.2,null,1.5]
[null,"B2",0.2,null,1.5]
[null,"B3",0.2,null,1.5]
[null,"B4",0.2,null,1.5]
[null,"B5",0.2,null,1.5]
[null,"B6",0.2,null,1.5]
[null,"B7",0.2,null,1.5]
[null,"B8",0.2,null,1.5]
[null,"B9",0.2,null,1.5]
[null,"C",0.2,null,1]
[null,"C1",0.2,null,1]
[null,"C2",0.2,null,1]
[null,"C3",0.2,null,1]
[null,"C4",0.2,null,1]
[null,"C5",0.2,null,1]
[null,"C6",0.2,null,1]
[null,"C7",0.2,null,1]
[null,"C8",0.2,null,1]
[null,"C9",0.2,null,1]
[null,"D",0.2,null,0.5]
[null,"D1",0.2,null,0.5]
[null,"D2",0.2,null,0.5]
[null,"D3",0.2,null,0.5]
[null,"D4",0.2,null,0.5]
[null,"D5",0.2,null,0.5]
[null,"D6",0.2,null,0.5]
[null,"D7",0.2,null,0.5]
[null,"D8",0.2,null,0.5]
[null,"E",0.1]
[null,"GSG",2]
[null,"GSGx",0]
[null,"case",2]
[null,"calc",4]
[null,"outdated",0]
[null,"x",0]
[null,"ssq",2]
[null,"calc00",0]
[null,"calc02",4]
[null,"calc04",6]
[null,"calc06",8]
[null,"calc08",10]
[null,"calc10",2]
[null,"A-02",2]
[null,"A-03",2]
[null,"A-04",2]
[null,"A-05",2]
[null,"A-06",2]
[null,"A-07",2]
[null,"A-08",2]
[null,"A-09",2]
[null,"A-10",2]
[null,"A-11",2]
[null,"A-12",2]
[null,"A-01+",2]
[null,"A-02+",2]
[null,"A-03+",2]
[null,"A-04+",2]
[null,"A-05+",2]
[null,"A-06+",2]
[null,"A-07+",2]
[null,"A-08+",2]
[null,"A-09+",2]
[null,"A-10+",2]
[null,"A-11+",2]
[null,"A-12+",2]

{"sheet":"syllabus","index":1,"n_rows":73,"n_cols":9,"rows_kept":73,"cut":false,"hidden":false,"merged":[]}
["#","BattleActs100 Abbreviation","Citation","CAS Abbreviation","Source","New"]
[0,"Exam.Total"]
[10,"IEE.2016","2016 Insurance Expense Exhibit.","2016 IEE","B","New Fall 2017",null,null,{"$f":"A3","v":10}]
[20,"ASOP.20","Actuarial Standards Board of the American Academy of Actuaries, “Actuarial Standard of Practice, No. 20, Discounting of Property/Casualty Unpaid Claim Estimates,” September 2011.","ASOP 20","online",null,null,null,20]
[30,"ASOP.36","Actuarial Standards Board of the American Academy of Actuaries, “Actuarial Standard of Practice No. 36, Statements of Actuarial Opinion Regarding Property/Casualty Loss and Loss Adjustment Expense Reserves,” December 2010, updated for deviation language in May 2011.","ASOP 36","online",null,null,null,30]
[40,"ASOP.41","Actuarial Standards Board of the American Academy of Actuaries, “Actuarial Standard of Practice No. 41, Actuarial Communications,” December 2010.","ASOP 41","online",null,null,null,40]
[50,"ASOP.43","Actuarial Standards Board of the American Academy of Actuaries, “Actuarial Standard of Practice No. 43, Property/Casualty Unpaid Claim Estimates,” June 2007, updated for deviation language in May 2011.","ASOP 43","online",null,null,null,50]
[60,"AAA.Materiality","American Academy of Actuaries, Task Force on Materiality, “Materiality, Concepts on Professionalism,” Discussion Paper, Professionalism Series, 2006, No. 8, June 2006.","AAA Materiality","online",null,null,null,60]
[70,"Baribeau.Regs","Baribeau, A.G., “Demystifying the Regulatory Web,” Actuarial Review, March/April 2016.","Baribeau","online","New Fall 2017",null,null,70]
[80,"BK.Reins","Blanchard, R.S.; and Klann, J., “Basic Reinsurance Accounting–Selected Topics,” CAS Study Note, October 2012.","Blanchard and Klann","online",null,null,null,80]
[90,"COPLFR.SAO","Committee on Property and Liability Financial Reporting, American Academy of Actuaries, “Property and Casualty Practice Note, Statements of Actuarial Opinion on P&C Loss Reserves as of December 31, 2016.” Exclude Appendix I.1.3 NAIC Title SAO Instructions and Appendix IV. SSAPs.\nNote that SSAP 5R, 9, 53, 55, 62R and 65 found in Appendix IV are readings for Learning Objectives C1 and E1 for this exam.","COPLFR P&C Practice Note","online","New Fall 2017",null,null,90]
[100,"Cook.Personal","Cook, Mary Ann, ed., Personal Insurance, (Second Edition), The Institutes, 2013, pp. 2.13-2.15 and 7.32-7.36.","Cook","SKU",null,null,null,100]
[105,"Dearie.Excess",null,null,null,null,null,null,105]
[110,"Feldblum.Discount","Feldblum, S., \"IRS Loss Reserve Discounting,\" CAS Study Note, 2017, pp. 1-26, excluding Appendix and endnotes.","Feldblum (Loss Reserve Discounting)","online","New Fall 2017",null,null,110]
[120,"Feldblum.Ratings","Feldblum, S., “Rating Agencies,” CAS Study Note, October 3, 2011, pp. 1-7 and 14-15 (stop at Best’s Capital Adequacy Ratio) and Appendix A. Candidates are not responsible for Section 4, Section 5 beginning at Best's Capital Adequacy Ratio on p. 15, Appendices B-D, and the endnotes.","Feldblum (Rating Agencies)","online",null,null,null,120]
[130,"Feldblum.Surplus","Feldblum, S., “Statutory Surplus: Computation, Pricing and Valuation,” CAS Study Note, June 2003, including errata. Candidates are not responsible for the endnotes.","Feldblum (Surplus)","online",null,null,null,130]
[140,"FASB.944","Financial Accounting Standards Board, Accounting Standards Codification 944, “Financial Guarantee Insurance Contracts,” 2011, Section 15, Scope and Scope Exceptions, paragraphs 15-1 to 15-2; 15-5 to 15-7; 15-34 to 15-35; 15-41 to 15-44; and 15-49 to 15-54. Candidates are not responsible for material relating to long-duration contracts and/or life insurance.","ASC 944-020-15","SK",null,null,null,140]
[150,"Freihaut.Reins","Freihaut, D.; and Vendetti, P., “Common Pitfalls and Practical Considerations in Risk Transfer Analysis,” Casualty Actuarial Society E-Forum, Spring 2009. Appendices A and B are for information only and will not be directly tested.","Freihaut & Vendetti","online",null,null,null,{"$f":"A18","v":150}]
[160,"GAO.Report","“GAO Report to Congressional Requesters, Risk Retention Groups, Clarifications Could Facilitate States’ Implementation of the Liability Risk Retention Act,” United States Government Accountability Office, GAO-12-16, December 2011, pp. 5-7 and 34-38.","GAO Report","online","New Fall 2017",null,null,160]
[170,"Germani.GovtIns","Germani, W., et al., \"Government Insurers Study Note,” CAS Study Note, April 2017, pp. 1-16.","Government Insurers Study Note","online","New Fall 2017",null,null,170]
[174,"Horn2018.Flood",null,null,null,null,null,null,174]
[175,"Horn.Flood","Horn, D. and Brown, J., “Introduction to the National Flood Insurance Program (NFIP),” Congressional Research Service, September 12, 2017, pp. 1-25.","Horn and Brown (NFIP - Flood)",null,"New Fall 2018",null,null,175]
[180,"NAIC.Telematics","Karapiperis, Dimitri; Birnbaum, Birny; Brandenberg, Aaron; Castagna, Sandra; Greenberg, Allen; Harbage, Robin; and Obersteadt, Anne, Usage-Based Insurance and Vehicle Telematics: Insurance Market and Regulatory Implications, National Association of Insurance Commissioners, CIPR Study, March 2015, pp. 1-16 (excluding section on Tower Watson’s DriveAbility) and 42-60.","NAIC Telematics","online",null,null,null,180]
[190,"King.Flood","King, R. “The National Flood Insurance Program: Status and Remaining Issues for Congress,” Congressional Research Service, February 6, 2013, pp. 1-32.","King","online",null,null,null,190]
[200,"Klann.ReinsComm","Klann, J., “Reinsurance Commutation,” 2013.","Klann","online",null,null,null,200]
[210,"Kucera.Credit","Kucera, J., “NAIC Public Hearing on Credit-Based Insurance Scores,” American Academy of Actuaries, April 30, 2009.","Kucera","online",null,null,null,210]
[220,"McCarty.Credit","McCarty, K.M., “Testimony of Kevin M. McCarty, Florida Insurance Commissioner, Florida Office of Insurance Regulation and Representing the National Association of Insurance Commissioners, Regarding: ‘The Impact of Credit-Based Insurance Scoring on the Availability and Affordability of Insurance,’ May 21, 2008,” Subcommittee on Oversight and Investigations of the House Committee on Financial Services, excluding Appendices 1 and 2.","McCarty","online",null,null,null,220]
[230,"NAIC.APPM","National Association of Insurance Commissioners, Accounting Practices and Procedures Manual, 2016, Preamble.","NAIC APPM, Preamble","SKU","New Fall 2017",null,null,230]
[240,"NAIC.SSAP-5R","National Association of Insurance Commissioners, Accounting Practices and Procedures Manual, 2016, Statement of Statutory Accounting Principles 5R, “Liabilities, Contingencies, and Impairment of Assets,” paragraphs 1-12, 26-29, and 33-34.\nThis material is available in Appendix IV.1 of the COPLFR P&C Practice Note.","NAIC SSAP 5R","online - See COPLFR Practice Note","New Fall 2017",null,null,240]
[250,"NAIC.SSAP-9","National Association of Insurance Commissioners, Accounting Practices and Procedures Manual, 2016, Statement of Statutory Accounting Principles 9, “Subsequent Events,” paragraphs 1-8.\nThis material is available in Appendix IV.2 of the COPLFR P&C Practice Note.","NAIC SSAP 9","online - See COPLFR Practice Note","New Fall 2017",null,null,250]
[260,"NAIC.SSAP-53","National Association of Insurance Commissioners, Accounting Practices and Procedures Manual, 2016, Statement of Statutory Accounting Principles 53, “Property Casualty Contracts—Premiums,” paragraphs 1-18.\nThis material is available in Appendix IV.4 of the COPLFR P&C Practice Note.","NAIC SSAP 53","online - See COPLFR Practice Note","New Fall 2017",null,null,260]
[270,"NAIC.SSAP-55","National Association of Insurance Commissioners, Accounting Practices and Procedures Manual, 2016, Statement of Statutory Accounting Principles 55, “Unpaid Claims, Loss and Loss Adjustment Expenses,” paragraphs 1-6 and 10-17.\nThis material is available in Appendix IV.5 of the COPLFR P&C Practice Note.","NAIC SSAP 55","online - See COPLFR Practice Note","New Fall 2017",null,null,270]
[280,"NAIC.SSAP-62R","National Association of Insurance Commissioners, Accounting Practices and Procedures Manual, 2016, Statement of Statutory Accounting Principles 62R, “Property and Casualty Reinsurance,” paragraphs 1-90.\nThis material is available in Appendix IV.8 of the COPLFR P&C Practice Note.","NAIC SSAP 62R","online - See COPLFR Practice Note","New Fall 2017",null,null,280]
[290,"NAIC.SSAP-65","National Association of Insurance Commissioners, Accounting Practices and Procedures Manual, 2016, Statement of Statutory Accounting Principles 65, “Property and Casualty Contracts,” paragraphs 1-46.\nThis material is available in Appendix IV.10 of COPLFR P&C Practice Note.","NAIC SSAP 65","online - See COPLFR Practice Note","New Fall 2017",null,null,290]
[300,"NAIC.IRIS","National Association of Insurance Commissioners, “NAIC Insurance Regulatory Information System (IRIS) Ratios Manual,” 2016, Section II, Property/Casualty Ratios, pp. 5-26.","NAIC IRIS","online",null,null,null,300]
[310,"NAIC.Annual","National Association of Insurance Commissioners, Official 2016 NAIC Annual Statement Blanks, Property and Casualty, (both individual and consolidated basis), pp. 2-13, Notes to the Financial Statement p. 14 (refer to the Odomirok paper for the Notes to cover); Schedules D (pp. SI03 through SI09), F (pp. 20-29), H (pp. 30-32), and P (pp. 33-93).\nCandidates will be expected to have knowledge of other sections of the annual statement that are discussed in other Syllabus readings. Candidates are not responsible for page numbers. [The “Notes to the Financial Statement” are cited for reference only. Candidates are responsible for the Notes as described in the Odomirok reading where the Notes are referenced by title. If the 2016 Annual Statement and the study materials differ, candidates may base their answers on either.]","NAIC Annual Statement","B","New Fall 2017",null,null,310]
[320,"NAIC.AnnualExs","National Association of Insurance Commissioners Official Annual Statement Examples: The following companies post their annual statements online. Candidates may use these (or their own company’s statements) as illustrations to better understand the annual statement but are not responsible for any company-specific data: (1) Travelers and (2) the Liberty Mutual Group.","NAIC Annual Statement Examples","online","New Fall 2017",null,null,320]
[330,"NAIC.Price","National Association of Insurance Commissioners, Casualty Actuarial and Statistical Task Force, Price Optimization White Paper, November 2015, pp. 1-16.","NAIC Price","online",null,null,null,330]
[340,"NAIC.Solvency","NAIC White Paper, “The U.S. National State-Based System of Insurance Regulation and the Solvency Modernization Initiative,” 2013, excluding appendices, Section 2 paragraphs 15-18, 26-28, 32-34, 41-42; Section 3 paragraphs 9, 13-15, 23-32 and 38-39; Section 4; and Section 5 paragraphs 9, 20-29, 30-45 and 61-86.","NAIC Solvency Regulatory Framework","online",null,null,null,340]
[350,"Odomirok.Reporting","Odomirok, K.C., et al., Financial Reporting Through the Lens of a Property/ Casualty Actuary, Casualty Actuarial Society, 2014, Edition 4, excluding Part VII [Canadian Introduction and Canadian Chapters 27-29 (pp. 335-362)] and Appendix II. Including Errata.","CAS Financial Reporting","online",null,null,null,350]
[360,"Odomirok.1-5-Intro","Odomirok, PARTS I & II Chapters (1-5): Introduction & Overview","n/a","online",null,null,null,{"$f":"A41","v":360}]
[370,"Odomirok.6-7-BS","Odomirok, PART III, Chapters (6-7): Intro to Financial Statements, Balance Sheet","n/a","online",null,null,null,370]
[380,"Odomirok.8-9-IS","Odomirok, PART III, Chapters (8-9): Income Statement, Capital & Surplus Account","n/a","online",null,null,null,380]
[390,"Odomirok.10-Notes","Odomirok, PART III, Chapters (10): Notes to Financial Statements","n/a","online",null,null,null,390]
[400,"Odomirok.11-GenInt","Odomirok, PART III, Chapters (11): General Interrogatories","n/a","online",null,null,null,400]
[410,"Odomirok.12-5yr","Odomirok, PART III, Chapters (12): Five-Year Historical Data Exhibit","n/a","online",null,null,null,410]
[420,"Odomirok.13","Odomirok, PART III, Chapters (13): Overview of Schedules & Their Purpose","n/a","online",null,null,null,420]
[430,"Odomirok.14-F","Odomirok, PART III, Chapters (14): Schedule F","n/a","online",null,null,null,430]
[440,"Odomirok.15-P","Odomirok, PART III, Chapters (15): Schedule P","n/a","online",null,null,null,440]
[450,"Odomirok.16-17-SAO","Odomirok, PART IV, Chapters (16-17): SAO & AOS (Statement of Actuarial Opinion & Actuarial Opinion Summary Supplement)","n/a","online",null,null,null,450]
[460,"Odomirok.18-IEE","Odomirok, PART IV, Chapters (18): IEE (Insurance Expense Exhibit)","n/a","online",null,null,null,460]
[470,"Odomirok.19-RBC","Odomirok, PART IV, Chapters (19): RBC (Risk-Based Capital)","n/a","online",null,null,null,470]
[480,"Odomirok.20-IRIS","Odomirok, PART IV, Chapters (20): IRIS Ratios","n/a","online",null,null,null,480]
[490,"Odomirok.21-Tools","Odomirok, PART V, Chapters (21): Measurement Tools","n/a","online",null,null,null,490]
[500,"Odomirok.22-23-GAAP","Odomirok, PART VI, Chapters (22-23): U.S. GAAP, Fair Value Under Purchase GAAP","n/a","online",null,null,null,500]
[510,"Odomirok.24-IFRS","Odomirok, PART VI, Chapters (24): IFRS (International Financial Reporting Standards)","n/a","online",null,null,null,510]
[520,"Odomirok.25-Solv2","Odomirok, PART VI, Chapters (25): Solvency II","n/a","online",null,null,null,520]
[530,"Odomirok.26-Taxes","Odomirok, PART VI, Chapters (26): Taxation in the U.S.","n/a","online",null,null,null,530]
[540,"Odomirok.30-Future","Odomirok, PART VIII, Chapters (30): Future of SAP","n/a","online",null,null,null,540]
[550,"Porter.Regs-1","Porter, K., Insurance Regulation, Insurance Institute of America, 2008, Chapters 2 (exclude pp. 2.19-2.29), 3 (exclude pp. 3.21-3.25), 4 (exclude pp. 4.16-4.23), 5 (exclude pp. 5.12-5.22), 6 (pp. 6.11-6.17), 8 (pp. 8.3-8.6 and 8.12-8.15), and 12 (exclude pp. 12.12-12.17).","Porter 1","B",null,null,null,550]
[{"$f":"A60+10","v":560},"Porter.2-Devlpt","Development of Insurance Regulation (exclude pp. 2.19-2.29)","n/a","B",null,null,null,560]
[{"$f":"A61+10","v":570},"Porter.3-Roles-Fed","Federal Role in Insurance Regulation (exclude pp. 3.21-3.25)","n/a","B",null,null,null,570]
[580,"Porter.4-Roles-State","Roles of State Regulators & NAIC in Insurance Regulation (exclude pp. 4.16-4.23)","n/a","B",null,null,null,580]
[590,"Porter.5-Opns-State","State Department of Insurance Operations (exclude pp. 5.12-5.22)","n/a","B",null,null,null,590]
[600,"Porter.6-Formation","Insurer Formation (pp. 6.11-6.17)","n/a","B",null,null,null,600]
[610,"Porter.8-Rates","Rate Regulation (pp. 8.3-8.6 and 8.12-8.15)","n/a","B",null,null,null,610]
[620,"Porter.12-Insolvency","Insolvency Regulation (exclude pp. 12.12-12.17)","n/a","B",null,null,null,620]
[630,"Porter.Reg-2","Porter, K., Insurance Regulation, Insurance Institute of America, 2008, Chapter 12 (pp. 12.12-12.17).","Porter 2","B",null,null,null,630]
[640,"Vaughan.Crisis","Vaughan, T.M., “The Economic Crisis and Lessons from (and for) U.S. Insurance Regulation,” Journal of Insurance Regulation, National Association of Insurance Commissioners, Fall/Winter, Volume 28, No. 1, 2009.","Vaughan (Economic Crisis)","SK",null,null,null,640]
[650,"Webel.TRIA-1","Webel, B., “Terrorism Risk Insurance: Issue Analysis and Overview of Current Program,” Congressional Research Service, July 23, 2014, pp. 5-11.","Webel 1","online","New Fall 2017",null,null,650]
[660,"Webel.TRIA-2","Webel, B., “Terrorism Risk Insurance Legislation the 114th Congress: Issue Summary and Side-by-Side Analysis,” Congressional Research Service, January 20, 2015, Summary page and pp. 1-3.","Webel 2","online","New Fall 2017",null,null,660]
[670,"outdated.",null,null,null,null,null,null,670]
[680,"unknown.",null,null,null,null,null,null,680]

{"sheet":"stats","index":2,"n_rows":74,"n_cols":35,"rows_kept":74,"cut":false,"hidden":false,"merged":[]}
[null,null,null,null,null,"2-Fall","1-Spring","2-Fall","1-Spring","2-Fall","1-Spring","2-Fall","1-Spring","2-Fall","1-Spring","2-Fall","2-Fall",null,{"$f":"(SUM(H$3:M$3)-SUM(H$73:M$74)-SUM(H70:M70))","v":435.5},{"$f":"SUM(H4:M72)-SUM(H70:M70)","v":435.5},null,null,null,"1-Fall","1-Spring","1-Fall","1-Spring","2-Fall","1-Spring","2-Fall","1-Spring","2-Fall","1-Spring","2-Fall","2-Fall"]
["ref","BA100_abbreviation","# pgs","prop",null,18,18,17,17,16,16,15,15,14,14,13,12,null,"L8 wtd","% L8 wtd",null,"rank",null,18,18,17,17,16,16,15,15,14,14,13,12]
[0,{"$f":"VLOOKUP(A3,Syllabus,2,FALSE)","v":"Exam.Total"},{"$f":"SUM(C5:C103)","v":323},{"$f":"C3/C3","v":1},null,{"$f":"SUM(F4:F128)","v":69.5},{"$f":"SUM(G4:G128)","v":67.25},70,73.5,74.25,81.25,80.5,81.25,81.75,88,91.5,87,null,{"$f":"SUM(F3:K3)+0.5*SUM(L3:M3)+0.25*SUM(N3:O3)","v":559.0625},{"$f":"SUM(T4:T128)","v":0.89448852108440458},null,null,{"$f":"IFERROR(SUMIF(#REF!,P5,#REF!)/SUMIF(#REF!,P5,#REF!),\"\")","v":""},{"$f":"F3/X4","v":1},0.94718309859154926,1,1,1.010204081632653,1,1.0387096774193549,1,1,1.0114942528735633,1.0517241379310345,1]
[{"$f":"syllabus!A3","v":10},{"$f":"VLOOKUP(A4,Syllabus,2,FALSE)","v":"IEE.2016"},null,{"$f":"C4/C$3","v":0},null,{"$f":"SUMIFS(FCs!$AA$1:$AA$11201,FCs!$A$1:$A$11201,stats!$B4,FCs!$V$1:$V$11201,stats!F$2,FCs!$W$1:$W$11201,stats!F$1)","v":0},{"$f":"SUMIFS(FCs!$AA$1:$AA$11201,FCs!$A$1:$A$11201,stats!$B4,FCs!$V$1:$V$11201,stats!G$2,FCs!$W$1:$W$11201,stats!G$1)","v":0},{"$f":"SUMIFS(FCs!$AA$1:$AA$11201,FCs!$A$1:$A$11201,stats!$B4,FCs!$V$1:$V$11201,stats!H$2,FCs!$W$1:$W$11201,stats!H$1)","v":0},{"$f":"SUMIFS(FCs!$AA$1:$AA$11201,FCs!$A$1:$A$11201,stats!$B4,FCs!$V$1:$V$11201,stats!I$2,FCs!$W$1:$W$11201,stats!I$1)","v":0},{"$f":"SUMIFS(FCs!$AA$1:$AA$11201,FCs!$A$1:$A$11201,stats!$B4,FCs!$V$1:$V$11201,stats!J$2,FCs!$W$1:$W$11201,stats!J$1)","v":0},{"$f":"SUMIFS(FCs!$AA$1:$AA$11201,FCs!$A$1:$A$11201,stats!$B4,FCs!$V$1:$V$11201,stats!K$2,FCs!$W$1:$W$11201,stats!K$1)","v":0},{"$f":"SUMIFS(FCs!$AA$1:$AA$11201,FCs!$A$1:$A$11201,stats!$B4,FCs!$V$1:$V$11201,stats!L$2,FCs!$W$1:$W$11201,stats!L$1)","v":0},{"$f":"SUMIFS(FCs!$AA$1:$AA$11201,FCs!$A$1:$A$11201,stats!$B4,FCs!$V$1:$V$11201,stats!M$2,FCs!$W$1:$W$11201,stats!M$1)","v":0},{"$f":"SUMIFS(FCs!$AA$1:$AA$11201,FCs!$A$1:$A$11201,stats!$B4,FCs!$V$1:$V$11201,stats!N$2,FCs!$W$1:$W$11201,stats!N$1)","v":0},{"$f":"SUMIFS(FCs!$AA$1:$AA$11201,FCs!$A$1:$A$11201,stats!$B4,FCs!$V$1:$V$11201,stats!O$2,FCs!$W$1:$W$11201,stats!O$1)","v":0},{"$f":"SUMIFS(FCs!$AA$1:$AA$11201,FCs!$A$1:$A$11201,stats!$B4,FCs!$V$1:$V$11201,stats!P$2,FCs!$W$1:$W$11201,stats!P$1)","v":0},{"$f":"SUMIFS(FCs!$AA$1:$AA$11201,FCs!$A$1:$A$11201,stats!$B4,FCs!$V$1:$V$11201,stats!Q$2,FCs!$W$1:$W$11201,stats!Q$1)","v":0},null,{"$f":"SUM(F4:K4)+0.5*SUM(L4:M4)+0.25*SUM(N4:O4)","v":0},{"$f":"S4/S$3","v":0},null,{"$f":"_xlfn.RANK.AVG(T4,T$5:T$74)","v":52},null,69.5,71,70,73.5,73.5,81.25,77.5,81.25,81.75,87,87,87]
[{"$f":"syllabus!A4","v":20},"ASOP.20",17,{"$f":"C5/C$3","v":5.2631578947368418E-2},null,{"$f":"SUMIFS(FCs!$AA$1:$AA$11201,FCs!$A$1:$A$11201,stats!$B5,FCs!$V$1:$V$11201,stats!F$2,FCs!$W$1:$W$11201,stats!F$1)","v":0},{"$f":"SUMIFS(FCs!$AA$1:$AA$11201,FCs!$A$1:$A$11201,stats!$B5,FCs!$V$1:$V$11201,stats!G$2,FCs!$W$1:$W$11201,stats!G$1)","v":0},{"$f":"SUMIFS(FCs!$AA$1:$AA$11201,FCs!$A$1:$A$11201,stats!$B5,FCs!$V$1:$V$11201,stats!H$2,FCs!$W$1:$W$11201,stats!H$1)","v":0},{"$f":"SUMIFS(FCs!$AA$1:$AA$11201,FCs!$A$1:$A$11201,stats!$B5,FCs!$V$1:$V$11201,stats!I$2,FCs!$W$1:$W$11201,stats!I$1)","v":0},{"$f":"SUMIFS(FCs!$AA$1:$AA$11201,FCs!$A$1:$A$11201,stats!$B5,FCs!$V$1:$V$11201,stats!J$2,FCs!$W$1:$W$11201,stats!J$1)","v":0},{"$f":"SUMIFS(FCs!$AA$1:$AA$11201,FCs!$A$1:$A$11201,stats!$B5,FCs!$V$1:$V$11201,stats!K$2,FCs!$W$1:$W$11201,stats!K$1)","v":0},{"$f":"SUMIFS(FCs!$AA$1:$AA$11201,FCs!$A$1:$A$11201,stats!$B5,FCs!$V$1:$V$11201,stats!L$2,FCs!$W$1:$W$11201,stats!L$1)","v":0},{"$f":"SUMIFS(FCs!$AA$1:$AA$11201,FCs!$A$1:$A$11201,stats!$B5,FCs!$V$1:$V$11201,stats!M$2,FCs!$W$1:$W$11201,stats!M$1)","v":0},{"$f":"SUMIFS(FCs!$AA$1:$AA$11201,FCs!$A$1:$A$11201,stats!$B5,FCs!$V$1:$V$11201,stats!N$2,FCs!$W$1:$W$11201,stats!N$1)","v":0},{"$f":"SUMIFS(FCs!$AA$1:$AA$11201,FCs!$A$1:$A$11201,stats!$B5,FCs!$V$1:$V$11201,stats!O$2,FCs!$W$1:$W$11201,stats!O$1)","v":0},{"$f":"SUMIFS(FCs!$AA$1:$AA$11201,FCs!$A$1:$A$11201,stats!$B5,FCs!$V$1:$V$11201,stats!P$2,FCs!$W$1:$W$11201,stats!P$1)","v":0},{"$f":"SUMIFS(FCs!$AA$1:$AA$11201,FCs!$A$1:$A$11201,stats!$B5,FCs!$V$1:$V$11201,stats!Q$2,FCs!$W$1:$W$11201,stats!Q$1)","v":0},null,{"$f":"SUM(F5:K5)+0.5*SUM(L5:M5)+0.25*SUM(N5:O5)","v":0},{"$f":"S5/S$3","v":0},null,52,null,{"$f":"X4-F3","v":0},3.75,0,0,-0.75,0,-3,0,0,-1,-4.5,0]
[{"$f":"syllabus!A5","v":30},"ASOP.36",22,{"$f":"C6/C$3","v":6.8111455108359129E-2},null,{"$f":"SUMIFS(FCs!$AA$1:$AA$11201,FCs!$A$1:$A$11201,stats!$B6,FCs!$V$1:$V$11201,stats!F$2,FCs!$W$1:$W$11201,stats!F$1)","v":0},{"$f":"SUMIFS(FCs!$AA$1:$AA$11201,FCs!$A$1:$A$11201,stats!$B6,FCs!$V$1:$V$11201,stats!G$2,FCs!$W$1:$W$11201,stats!G$1)","v":0},{"$f":"SUMIFS(FCs!$AA$1:$AA$11201,FCs!$A$1:$A$11201,stats!$B6,FCs!$V$1:$V$11201,stats!H$2,FCs!$W$1:$W$11201,stats!H$1)","v":0},{"$f":"SUMIFS(FCs!$AA$1:$AA$11201,FCs!$A$1:$A$11201,stats!$B6,FCs!$V$1:$V$11201,stats!I$2,FCs!$W$1:$W$11201,stats!I$1)","v":0},{"$f":"SUMIFS(FCs!$AA$1:$AA$11201,FCs!$A$1:$A$11201,stats!$B6,FCs!$V$1:$V$11201,stats!J$2,FCs!$W$1:$W$11201,stats!J$1)","v":0},{"$f":"SUMIFS(FCs!$AA$1:$AA$11201,FCs!$A$1:$A$11201,stats!$B6,FCs!$V$1:$V$11201,stats!K$2,FCs!$W$1:$W$11201,stats!K$1)","v":0},{"$f":"SUMIFS(FCs!$AA$1:$AA$11201,FCs!$A$1:$A$11201,stats!$B6,FCs!$V$1:$V$11201,stats!L$2,FCs!$W$1:$W$11201,stats!L$1)","v":0},{"$f":"SUMIFS(FCs!$AA$1:$AA$11201,FCs!$A$1:$A$11201,stats!$B6,FCs!$V$1:$V$11201,stats!M$2,FCs!$W$1:$W$11201,stats!M$1)","v":0},{"$f":"SUMIFS(FCs!$AA$1:$AA$11201,FCs!$A$1:$A$11201,stats!$B6,FCs!$V$1:$V$11201,stats!N$2,FCs!$W$1:$W$11201,stats!N$1)","v":0},{"$f":"SUMIFS(FCs!$AA$1:$AA$11201,FCs!$A$1:$A$11201,stats!$B6,FCs!$V$1:$V$11201,stats!O$2,FCs!$W$1:$W$11201,stats!O$1)","v":0},{"$f":"SUMIFS(FCs!$AA$1:$AA$11201,FCs!$A$1:$A$11201,stats!$B6,FCs!$V$1:$V$11201,stats!P$2,FCs!$W$1:$W$11201,stats!P$1)","v":0},{"$f":"SUMIFS(FCs!$AA$1:$AA$11201,FCs!$A$1:$A$11201,stats!$B6,FCs!$V$1:$V$11201,stats!Q$2,FCs!$W$1:$W$11201,stats!Q$1)","v":0},null,0,0,null,52]
[{"$f":"syllabus!A6","v":40},"ASOP.41",27,8.3591331269349839E-2,null,{"$f":"SUMIFS(FCs!$AA$1:$AA$11201,FCs!$A$1:$A$11201,stats!$B7,FCs!$V$1:$V$11201,stats!F$2,FCs!$W$1:$W$11201,stats!F$1)","v":0},{"$f":"SUMIFS(FCs!$AA$1:$AA$11201,FCs!$A$1:$A$11201,stats!$B7,FCs!$V$1:$V$11201,stats!G$2,FCs!$W$1:$W$11201,stats!G$1)","v":0},{"$f":"SUMIFS(FCs!$AA$1:$AA$11201,FCs!$A$1:$A$11201,stats!$B7,FCs!$V$1:$V$11201,stats!H$2,FCs!$W$1:$W$11201,stats!H$1)","v":0},{"$f":"SUMIFS(FCs!$AA$1:$AA$11201,FCs!$A$1:$A$11201,stats!$B7,FCs!$V$1:$V$11201,stats!I$2,FCs!$W$1:$W$11201,stats!I$1)","v":0},{"$f":"SUMIFS(FCs!$AA$1:$AA$11201,FCs!$A$1:$A$11201,stats!$B7,FCs!$V$1:$V$11201,stats!J$2,FCs!$W$1:$W$11201,stats!J$1)","v":0},{"$f":"SUMIFS(FCs!$AA$1:$AA$11201,FCs!$A$1:$A$11201,stats!$B7,FCs!$V$1:$V$11201,stats!K$2,FCs!$W$1:$W$11201,stats!K$1)","v":0},{"$f":"SUMIFS(FCs!$AA$1:$AA$11201,FCs!$A$1:$A$11201,stats!$B7,FCs!$V$1:$V$11201,stats!L$2,FCs!$W$1:$W$11201,stats!L$1)","v":0},{"$f":"SUMIFS(FCs!$AA$1:$AA$11201,FCs!$A$1:$A$11201,stats!$B7,FCs!$V$1:$V$11201,stats!M$2,FCs!$W$1:$W$11201,stats!M$1)","v":2.75},{"$f":"SUMIFS(FCs!$AA$1:$AA$11201,FCs!$A$1:$A$11201,stats!$B7,FCs!$V$1:$V$11201,stats!N$2,FCs!$W$1:$W$11201,stats!N$1)","v":0},{"$f":"SUMIFS(FCs!$AA$1:$AA$11201,FCs!$A$1:$A$11201,stats!$B7,FCs!$V$1:$V$11201,stats!O$2,FCs!$W$1:$W$11201,stats!O$1)","v":0},{"$f":"SUMIFS(FCs!$AA$1:$AA$11201,FCs!$A$1:$A$11201,stats!$B7,FCs!$V$1:$V$11201,stats!P$2,FCs!$W$1:$W$11201,stats!P$1)","v":0},{"$f":"SUMIFS(FCs!$AA$1:$AA$11201,FCs!$A$1:$A$11201,stats!$B7,FCs!$V$1:$V$11201,stats!Q$2,FCs!$W$1:$W$11201,stats!Q$1)","v":0},null,1.375,2.4594745667970933E-3,null,37]
[{"$f":"syllabus!A7","v":50},"ASOP.43",31,9.5975232198142413E-2,null,{"$f":"SUMIFS(FCs!$AA$1:$AA$11201,FCs!$A$1:$A$11201,stats!$B8,FCs!$V$1:$V$11201,stats!F$2,FCs!$W$1:$W$11201,stats!F$1)","v":0},{"$f":"SUMIFS(FCs!$AA$1:$AA$11201,FCs!$A$1:$A$11201,stats!$B8,FCs!$V$1:$V$11201,stats!G$2,FCs!$W$1:$W$11201,stats!G$1)","v":0},{"$f":"SUMIFS(FCs!$AA$1:$AA$11201,FCs!$A$1:$A$11201,stats!$B8,FCs!$V$1:$V$11201,stats!H$2,FCs!$W$1:$W$11201,stats!H$1)","v":0},{"$f":"SUMIFS(FCs!$AA$1:$AA$11201,FCs!$A$1:$A$11201,stats!$B8,FCs!$V$1:$V$11201,stats!I$2,FCs!$W$1:$W$11201,stats!I$1)","v":0},{"$f":"SUMIFS(FCs!$AA$1:$AA$11201,FCs!$A$1:$A$11201,stats!$B8,FCs!$V$1:$V$11201,stats!J$2,FCs!$W$1:$W$11201,stats!J$1)","v":0},{"$f":"SUMIFS(FCs!$AA$1:$AA$11201,FCs!$A$1:$A$11201,stats!$B8,FCs!$V$1:$V$11201,stats!K$2,FCs!$W$1:$W$11201,stats!K$1)","v":0},{"$f":"SUMIFS(FCs!$AA$1:$AA$11201,FCs!$A$1:$A$11201,stats!$B8,FCs!$V$1:$V$11201,stats!L$2,FCs!$W$1:$W$11201,stats!L$1)","v":0},{"$f":"SUMIFS(FCs!$AA$1:$AA$11201,FCs!$A$1:$A$11201,stats!$B8,FCs!$V$1:$V$11201,stats!M$2,FCs!$W$1:$W$11201,stats!M$1)","v":0},{"$f":"SUMIFS(FCs!$AA$1:$AA$11201,FCs!$A$1:$A$11201,stats!$B8,FCs!$V$1:$V$11201,stats!N$2,FCs!$W$1:$W$11201,stats!N$1)","v":0},{"$f":"SUMIFS(FCs!$AA$1:$AA$11201,FCs!$A$1:$A$11201,stats!$B8,FCs!$V$1:$V$11201,stats!O$2,FCs!$W$1:$W$11201,stats!O$1)","v":0},{"$f":"SUMIFS(FCs!$AA$1:$AA$11201,FCs!$A$1:$A$11201,stats!$B8,FCs!$V$1:$V$11201,stats!P$2,FCs!$W$1:$W$11201,stats!P$1)","v":0},{"$f":"SUMIFS(FCs!$AA$1:$AA$11201,FCs!$A$1:$A$11201,stats!$B8,FCs!$V$1:$V$11201,stats!Q$2,FCs!$W$1:$W$11201,stats!Q$1)","v":0},null,0,0,null,52]
[{"$f":"syllabus!A8","v":60},"AAA.Materiality",null,0,null,{"$f":"SUMIFS(FCs!$AA$1:$AA$11201,FCs!$A$1:$A$11201,stats!$B9,FCs!$V$1:$V$11201,stats!F$2,FCs!$W$1:$W$11201,stats!F$1)","v":0},{"$f":"SUMIFS(FCs!$AA$1:$AA$11201,FCs!$A$1:$A$11201,stats!$B9,FCs!$V$1:$V$11201,stats!G$2,FCs!$W$1:$W$11201,stats!G$1)","v":0},{"$f":"SUMIFS(FCs!$AA$1:$AA$11201,FCs!$A$1:$A$11201,stats!$B9,FCs!$V$1:$V$11201,stats!H$2,FCs!$W$1:$W$11201,stats!H$1)","v":0},{"$f":"SUMIFS(FCs!$AA$1:$AA$11201,FCs!$A$1:$A$11201,stats!$B9,FCs!$V$1:$V$11201,stats!I$2,FCs!$W$1:$W$11201,stats!I$1)","v":0},{"$f":"SUMIFS(FCs!$AA$1:$AA$11201,FCs!$A$1:$A$11201,stats!$B9,FCs!$V$1:$V$11201,stats!J$2,FCs!$W$1:$W$11201,stats!J$1)","v":0},{"$f":"SUMIFS(FCs!$AA$1:$AA$11201,FCs!$A$1:$A$11201,stats!$B9,FCs!$V$1:$V$11201,stats!K$2,FCs!$W$1:$W$11201,stats!K$1)","v":0},{"$f":"SUMIFS(FCs!$AA$1:$AA$11201,FCs!$A$1:$A$11201,stats!$B9,FCs!$V$1:$V$11201,stats!L$2,FCs!$W$1:$W$11201,stats!L$1)","v":0},{"$f":"SUMIFS(FCs!$AA$1:$AA$11201,FCs!$A$1:$A$11201,stats!$B9,FCs!$V$1:$V$11201,stats!M$2,FCs!$W$1:$W$11201,stats!M$1)","v":0},{"$f":"SUMIFS(FCs!$AA$1:$AA$11201,FCs!$A$1:$A$11201,stats!$B9,FCs!$V$1:$V$11201,stats!N$2,FCs!$W$1:$W$11201,stats!N$1)","v":0},{"$f":"SUMIFS(FCs!$AA$1:$AA$11201,FCs!$A$1:$A$11201,stats!$B9,FCs!$V$1:$V$11201,stats!O$2,FCs!$W$1:$W$11201,stats!O$1)","v":0},{"$f":"SUMIFS(FCs!$AA$1:$AA$11201,FCs!$A$1:$A$11201,stats!$B9,FCs!$V$1:$V$11201,stats!P$2,FCs!$W$1:$W$11201,stats!P$1)","v":0},{"$f":"SUMIFS(FCs!$AA$1:$AA$11201,FCs!$A$1:$A$11201,stats!$B9,FCs!$V$1:$V$11201,stats!Q$2,FCs!$W$1:$W$11201,stats!Q$1)","v":0},null,0,0,null,52]
[{"$f":"syllabus!A9","v":70},"Baribeau.Regs",null,0,null,{"$f":"SUMIFS(FCs!$AA$1:$AA$11201,FCs!$A$1:$A$11201,stats!$B10,FCs!$V$1:$V$11201,stats!F$2,FCs!$W$1:$W$11201,stats!F$1)","v":2.25},{"$f":"SUMIFS(FCs!$AA$1:$AA$11201,FCs!$A$1:$A$11201,stats!$B10,FCs!$V$1:$V$11201,stats!G$2,FCs!$W$1:$W$11201,stats!G$1)","v":0},{"$f":"SUMIFS(FCs!$AA$1:$AA$11201,FCs!$A$1:$A$11201,stats!$B10,FCs!$V$1:$V$11201,stats!H$2,FCs!$W$1:$W$11201,stats!H$1)","v":1},{"$f":"SUMIFS(FCs!$AA$1:$AA$11201,FCs!$A$1:$A$11201,stats!$B10,FCs!$V$1:$V$11201,stats!I$2,FCs!$W$1:$W$11201,stats!I$1)","v":1.5},{"$f":"SUMIFS(FCs!$AA$1:$AA$11201,FCs!$A$1:$A$11201,stats!$B10,FCs!$V$1:$V$11201,stats!J$2,FCs!$W$1:$W$11201,stats!J$1)","v":3.25},{"$f":"SUMIFS(FCs!$AA$1:$AA$11201,FCs!$A$1:$A$11201,stats!$B10,FCs!$V$1:$V$11201,stats!K$2,FCs!$W$1:$W$11201,stats!K$1)","v":1},{"$f":"SUMIFS(FCs!$AA$1:$AA$11201,FCs!$A$1:$A$11201,stats!$B10,FCs!$V$1:$V$11201,stats!L$2,FCs!$W$1:$W$11201,stats!L$1)","v":0},{"$f":"SUMIFS(FCs!$AA$1:$AA$11201,FCs!$A$1:$A$11201,stats!$B10,FCs!$V$1:$V$11201,stats!M$2,FCs!$W$1:$W$11201,stats!M$1)","v":0.5},{"$f":"SUMIFS(FCs!$AA$1:$AA$11201,FCs!$A$1:$A$11201,stats!$B10,FCs!$V$1:$V$11201,stats!N$2,FCs!$W$1:$W$11201,stats!N$1)","v":0.5},{"$f":"SUMIFS(FCs!$AA$1:$AA$11201,FCs!$A$1:$A$11201,stats!$B10,FCs!$V$1:$V$11201,stats!O$2,FCs!$W$1:$W$11201,stats!O$1)","v":1},{"$f":"SUMIFS(FCs!$AA$1:$AA$11201,FCs!$A$1:$A$11201,stats!$B10,FCs!$V$1:$V$11201,stats!P$2,FCs!$W$1:$W$11201,stats!P$1)","v":0},{"$f":"SUMIFS(FCs!$AA$1:$AA$11201,FCs!$A$1:$A$11201,stats!$B10,FCs!$V$1:$V$11201,stats!Q$2,FCs!$W$1:$W$11201,stats!Q$1)","v":0},null,9.625,1.7216321967579655E-2,null,17]
[{"$f":"syllabus!A10","v":80},"BK.Reins",null,0,null,{"$f":"SUMIFS(FCs!$AA$1:$AA$11201,FCs!$A$1:$A$11201,stats!$B11,FCs!$V$1:$V$11201,stats!F$2,FCs!$W$1:$W$11201,stats!F$1)","v":0},{"$f":"SUMIFS(FCs!$AA$1:$AA$11201,FCs!$A$1:$A$11201,stats!$B11,FCs!$V$1:$V$11201,stats!G$2,FCs!$W$1:$W$11201,stats!G$1)","v":0},{"$f":"SUMIFS(FCs!$AA$1:$AA$11201,FCs!$A$1:$A$11201,stats!$B11,FCs!$V$1:$V$11201,stats!H$2,FCs!$W$1:$W$11201,stats!H$1)","v":0},{"$f":"SUMIFS(FCs!$AA$1:$AA$11201,FCs!$A$1:$A$11201,stats!$B11,FCs!$V$1:$V$11201,stats!I$2,FCs!$W$1:$W$11201,stats!I$1)","v":0},{"$f":"SUMIFS(FCs!$AA$1:$AA$11201,FCs!$A$1:$A$11201,stats!$B11,FCs!$V$1:$V$11201,stats!J$2,FCs!$W$1:$W$11201,stats!J$1)","v":0},{"$f":"SUMIFS(FCs!$AA$1:$AA$11201,FCs!$A$1:$A$11201,stats!$B11,FCs!$V$1:$V$11201,stats!K$2,FCs!$W$1:$W$11201,stats!K$1)","v":0},{"$f":"SUMIFS(FCs!$AA$1:$AA$11201,FCs!$A$1:$A$11201,stats!$B11,FCs!$V$1:$V$11201,stats!L$2,FCs!$W$1:$W$11201,stats!L$1)","v":0},{"$f":"SUMIFS(FCs!$AA$1:$AA$11201,FCs!$A$1:$A$11201,stats!$B11,FCs!$V$1:$V$11201,stats!M$2,FCs!$W$1:$W$11201,stats!M$1)","v":0},{"$f":"SUMIFS(FCs!$AA$1:$AA$11201,FCs!$A$1:$A$11201,stats!$B11,FCs!$V$1:$V$11201,stats!N$2,FCs!$W$1:$W$11201,stats!N$1)","v":0},{"$f":"SUMIFS(FCs!$AA$1:$AA$11201,FCs!$A$1:$A$11201,stats!$B11,FCs!$V$1:$V$11201,stats!O$2,FCs!$W$1:$W$11201,stats!O$1)","v":0},{"$f":"SUMIFS(FCs!$AA$1:$AA$11201,FCs!$A$1:$A$11201,stats!$B11,FCs!$V$1:$V$11201,stats!P$2,FCs!$W$1:$W$11201,stats!P$1)","v":0},{"$f":"SUMIFS(FCs!$AA$1:$AA$11201,FCs!$A$1:$A$11201,stats!$B11,FCs!$V$1:$V$11201,stats!Q$2,FCs!$W$1:$W$11201,stats!Q$1)","v":0},null,0,0,null,52]
[{"$f":"syllabus!A11","v":90},"COPLFR.SAO",null,0,null,{"$f":"SUMIFS(FCs!$AA$1:$AA$11201,FCs!$A$1:$A$11201,stats!$B12,FCs!$V$1:$V$11201,stats!F$2,FCs!$W$1:$W$11201,stats!F$1)","v":11.25},{"$f":"SUMIFS(FCs!$AA$1:$AA$11201,FCs!$A$1:$A$11201,stats!$B12,FCs!$V$1:$V$11201,stats!G$2,FCs!$W$1:$W$11201,stats!G$1)","v":12.75},{"$f":"SUMIFS(FCs!$AA$1:$AA$11201,FCs!$A$1:$A$11201,stats!$B12,FCs!$V$1:$V$11201,stats!H$2,FCs!$W$1:$W$11201,stats!H$1)","v":14},{"$f":"SUMIFS(FCs!$AA$1:$AA$11201,FCs!$A$1:$A$11201,stats!$B12,FCs!$V$1:$V$11201,stats!I$2,FCs!$W$1:$W$11201,stats!I$1)","v":10.75},{"$f":"SUMIFS(FCs!$AA$1:$AA$11201,FCs!$A$1:$A$11201,stats!$B12,FCs!$V$1:$V$11201,stats!J$2,FCs!$W$1:$W$11201,stats!J$1)","v":11.5},{"$f":"SUMIFS(FCs!$AA$1:$AA$11201,FCs!$A$1:$A$11201,stats!$B12,FCs!$V$1:$V$11201,stats!K$2,FCs!$W$1:$W$11201,stats!K$1)","v":14},{"$f":"SUMIFS(FCs!$AA$1:$AA$11201,FCs!$A$1:$A$11201,stats!$B12,FCs!$V$1:$V$11201,stats!L$2,FCs!$W$1:$W$11201,stats!L$1)","v":12.75},{"$f":"SUMIFS(FCs!$AA$1:$AA$11201,FCs!$A$1:$A$11201,stats!$B12,FCs!$V$1:$V$11201,stats!M$2,FCs!$W$1:$W$11201,stats!M$1)","v":8},{"$f":"SUMIFS(FCs!$AA$1:$AA$11201,FCs!$A$1:$A$11201,stats!$B12,FCs!$V$1:$V$11201,stats!N$2,FCs!$W$1:$W$11201,stats!N$1)","v":11.75},{"$f":"SUMIFS(FCs!$AA$1:$AA$11201,FCs!$A$1:$A$11201,stats!$B12,FCs!$V$1:$V$11201,stats!O$2,FCs!$W$1:$W$11201,stats!O$1)","v":9.5},{"$f":"SUMIFS(FCs!$AA$1:$AA$11201,FCs!$A$1:$A$11201,stats!$B12,FCs!$V$1:$V$11201,stats!P$2,FCs!$W$1:$W$11201,stats!P$1)","v":12.75},{"$f":"SUMIFS(FCs!$AA$1:$AA$11201,FCs!$A$1:$A$11201,stats!$B12,FCs!$V$1:$V$11201,stats!Q$2,FCs!$W$1:$W$11201,stats!Q$1)","v":11.75},null,89.9375,0.16087199552822806,null,1]
[{"$f":"syllabus!A12","v":100},"Cook.Personal",null,0,null,{"$f":"SUMIFS(FCs!$AA$1:$AA$11201,FCs!$A$1:$A$11201,stats!$B13,FCs!$V$1:$V$11201,stats!F$2,FCs!$W$1:$W$11201,stats!F$1)","v":2.75},{"$f":"SUMIFS(FCs!$AA$1:$AA$11201,FCs!$A$1:$A$11201,stats!$B13,FCs!$V$1:$V$11201,stats!G$2,FCs!$W$1:$W$11201,stats!G$1)","v":4.75},{"$f":"SUMIFS(FCs!$AA$1:$AA$11201,FCs!$A$1:$A$11201,stats!$B13,FCs!$V$1:$V$11201,stats!H$2,FCs!$W$1:$W$11201,stats!H$1)","v":1.75},{"$f":"SUMIFS(FCs!$AA$1:$AA$11201,FCs!$A$1:$A$11201,stats!$B13,FCs!$V$1:$V$11201,stats!I$2,FCs!$W$1:$W$11201,stats!I$1)","v":4},{"$f":"SUMIFS(FCs!$AA$1:$AA$11201,FCs!$A$1:$A$11201,stats!$B13,FCs!$V$1:$V$11201,stats!J$2,FCs!$W$1:$W$11201,stats!J$1)","v":2.5},{"$f":"SUMIFS(FCs!$AA$1:$AA$11201,FCs!$A$1:$A$11201,stats!$B13,FCs!$V$1:$V$11201,stats!K$2,FCs!$W$1:$W$11201,stats!K$1)","v":2.5},{"$f":"SUMIFS(FCs!$AA$1:$AA$11201,FCs!$A$1:$A$11201,stats!$B13,FCs!$V$1:$V$11201,stats!L$2,FCs!$W$1:$W$11201,stats!L$1)","v":0},{"$f":"SUMIFS(FCs!$AA$1:$AA$11201,FCs!$A$1:$A$11201,stats!$B13,FCs!$V$1:$V$11201,stats!M$2,FCs!$W$1:$W$11201,stats!M$1)","v":3.25},{"$f":"SUMIFS(FCs!$AA$1:$AA$11201,FCs!$A$1:$A$11201,stats!$B13,FCs!$V$1:$V$11201,stats!N$2,FCs!$W$1:$W$11201,stats!N$1)","v":0},{"$f":"SUMIFS(FCs!$AA$1:$AA$11201,FCs!$A$1:$A$11201,stats!$B13,FCs!$V$1:$V$11201,stats!O$2,FCs!$W$1:$W$11201,stats!O$1)","v":4},{"$f":"SUMIFS(FCs!$AA$1:$AA$11201,FCs!$A$1:$A$11201,stats!$B13,FCs!$V$1:$V$11201,stats!P$2,FCs!$W$1:$W$11201,stats!P$1)","v":2},{"$f":"SUMIFS(FCs!$AA$1:$AA$11201,FCs!$A$1:$A$11201,stats!$B13,FCs!$V$1:$V$11201,stats!Q$2,FCs!$W$1:$W$11201,stats!Q$1)","v":3},null,20.875,3.7339295695919511E-2,null,8]
[105,"Dearie.Excess",null,null,null,{"$f":"SUMIFS(FCs!$AA$1:$AA$11201,FCs!$A$1:$A$11201,stats!$B14,FCs!$V$1:$V$11201,stats!F$2,FCs!$W$1:$W$11201,stats!F$1)","v":0},{"$f":"SUMIFS(FCs!$AA$1:$AA$11201,FCs!$A$1:$A$11201,stats!$B14,FCs!$V$1:$V$11201,stats!G$2,FCs!$W$1:$W$11201,stats!G$1)","v":0},{"$f":"SUMIFS(FCs!$AA$1:$AA$11201,FCs!$A$1:$A$11201,stats!$B14,FCs!$V$1:$V$11201,stats!H$2,FCs!$W$1:$W$11201,stats!H$1)","v":0},{"$f":"SUMIFS(FCs!$AA$1:$AA$11201,FCs!$A$1:$A$11201,stats!$B14,FCs!$V$1:$V$11201,stats!I$2,FCs!$W$1:$W$11201,stats!I$1)","v":0},{"$f":"SUMIFS(FCs!$AA$1:$AA$11201,FCs!$A$1:$A$11201,stats!$B14,FCs!$V$1:$V$11201,stats!J$2,FCs!$W$1:$W$11201,stats!J$1)","v":0},{"$f":"SUMIFS(FCs!$AA$1:$AA$11201,FCs!$A$1:$A$11201,stats!$B14,FCs!$V$1:$V$11201,stats!K$2,FCs!$W$1:$W$11201,stats!K$1)","v":0},{"$f":"SUMIFS(FCs!$AA$1:$AA$11201,FCs!$A$1:$A$11201,stats!$B14,FCs!$V$1:$V$11201,stats!L$2,FCs!$W$1:$W$11201,stats!L$1)","v":0},{"$f":"SUMIFS(FCs!$AA$1:$AA$11201,FCs!$A$1:$A$11201,stats!$B14,FCs!$V$1:$V$11201,stats!M$2,FCs!$W$1:$W$11201,stats!M$1)","v":0},{"$f":"SUMIFS(FCs!$AA$1:$AA$11201,FCs!$A$1:$A$11201,stats!$B14,FCs!$V$1:$V$11201,stats!N$2,FCs!$W$1:$W$11201,stats!N$1)","v":0},{"$f":"SUMIFS(FCs!$AA$1:$AA$11201,FCs!$A$1:$A$11201,stats!$B14,FCs!$V$1:$V$11201,stats!O$2,FCs!$W$1:$W$11201,stats!O$1)","v":0},{"$f":"SUMIFS(FCs!$AA$1:$AA$11201,FCs!$A$1:$A$11201,stats!$B14,FCs!$V$1:$V$11201,stats!P$2,FCs!$W$1:$W$11201,stats!P$1)","v":0},{"$f":"SUMIFS(FCs!$AA$1:$AA$11201,FCs!$A$1:$A$11201,stats!$B14,FCs!$V$1:$V$11201,stats!Q$2,FCs!$W$1:$W$11201,stats!Q$1)","v":0},null,{"$f":"SUM(F14:K14)+0.5*SUM(L14:M14)+0.25*SUM(N14:O14)","v":0},0,null,52]
[{"$f":"syllabus!A14","v":110},{"$f":"VLOOKUP(A15,Syllabus,2,FALSE)","v":"Feldblum.Discount"},null,{"$f":"C15/C$3","v":0},null,{"$f":"SUMIFS(FCs!$AA$1:$AA$11201,FCs!$A$1:$A$11201,stats!$B15,FCs!$V$1:$V$11201,stats!F$2,FCs!$W$1:$W$11201,stats!F$1)","v":0},{"$f":"SUMIFS(FCs!$AA$1:$AA$11201,FCs!$A$1:$A$11201,stats!$B15,FCs!$V$1:$V$11201,stats!G$2,FCs!$W$1:$W$11201,stats!G$1)","v":0},{"$f":"SUMIFS(FCs!$AA$1:$AA$11201,FCs!$A$1:$A$11201,stats!$B15,FCs!$V$1:$V$11201,stats!H$2,FCs!$W$1:$W$11201,stats!H$1)","v":0},{"$f":"SUMIFS(FCs!$AA$1:$AA$11201,FCs!$A$1:$A$11201,stats!$B15,FCs!$V$1:$V$11201,stats!I$2,FCs!$W$1:$W$11201,stats!I$1)","v":2.25},{"$f":"SUMIFS(FCs!$AA$1:$AA$11201,FCs!$A$1:$A$11201,stats!$B15,FCs!$V$1:$V$11201,stats!J$2,FCs!$W$1:$W$11201,stats!J$1)","v":0},{"$f":"SUMIFS(FCs!$AA$1:$AA$11201,FCs!$A$1:$A$11201,stats!$B15,FCs!$V$1:$V$11201,stats!K$2,FCs!$W$1:$W$11201,stats!K$1)","v":0},{"$f":"SUMIFS(FCs!$AA$1:$AA$11201,FCs!$A$1:$A$11201,stats!$B15,FCs!$V$1:$V$11201,stats!L$2,FCs!$W$1:$W$11201,stats!L$1)","v":0},{"$f":"SUMIFS(FCs!$AA$1:$AA$11201,FCs!$A$1:$A$11201,stats!$B15,FCs!$V$1:$V$11201,stats!M$2,FCs!$W$1:$W$11201,stats!M$1)","v":0},{"$f":"SUMIFS(FCs!$AA$1:$AA$11201,FCs!$A$1:$A$11201,stats!$B15,FCs!$V$1:$V$11201,stats!N$2,FCs!$W$1:$W$11201,stats!N$1)","v":2.75},{"$f":"SUMIFS(FCs!$AA$1:$AA$11201,FCs!$A$1:$A$11201,stats!$B15,FCs!$V$1:$V$11201,stats!O$2,FCs!$W$1:$W$11201,stats!O$1)","v":0},{"$f":"SUMIFS(FCs!$AA$1:$AA$11201,FCs!$A$1:$A$11201,stats!$B15,FCs!$V$1:$V$11201,stats!P$2,FCs!$W$1:$W$11201,stats!P$1)","v":0},{"$f":"SUMIFS(FCs!$AA$1:$AA$11201,FCs!$A$1:$A$11201,stats!$B15,FCs!$V$1:$V$11201,stats!Q$2,FCs!$W$1:$W$11201,stats!Q$1)","v":0},null,{"$f":"SUM(F15:K15)+0.5*SUM(L15:M15)+0.25*SUM(N15:O15)","v":2.9375},{"$f":"S15/S$3","v":5.2543320290665179E-3},null,35]
[{"$f":"syllabus!A15","v":120},"Feldblum.Ratings",null,0,null,{"$f":"SUMIFS(FCs!$AA$1:$AA$11201,FCs!$A$1:$A$11201,stats!$B16,FCs!$V$1:$V$11201,stats!F$2,FCs!$W$1:$W$11201,stats!F$1)","v":1.75},{"$f":"SUMIFS(FCs!$AA$1:$AA$11201,FCs!$A$1:$A$11201,stats!$B16,FCs!$V$1:$V$11201,stats!G$2,FCs!$W$1:$W$11201,stats!G$1)","v":0},{"$f":"SUMIFS(FCs!$AA$1:$AA$11201,FCs!$A$1:$A$11201,stats!$B16,FCs!$V$1:$V$11201,stats!H$2,FCs!$W$1:$W$11201,stats!H$1)","v":0},{"$f":"SUMIFS(FCs!$AA$1:$AA$11201,FCs!$A$1:$A$11201,stats!$B16,FCs!$V$1:$V$11201,stats!I$2,FCs!$W$1:$W$11201,stats!I$1)","v":2.5},{"$f":"SUMIFS(FCs!$AA$1:$AA$11201,FCs!$A$1:$A$11201,stats!$B16,FCs!$V$1:$V$11201,stats!J$2,FCs!$W$1:$W$11201,stats!J$1)","v":0},{"$f":"SUMIFS(FCs!$AA$1:$AA$11201,FCs!$A$1:$A$11201,stats!$B16,FCs!$V$1:$V$11201,stats!K$2,FCs!$W$1:$W$11201,stats!K$1)","v":0},{"$f":"SUMIFS(FCs!$AA$1:$AA$11201,FCs!$A$1:$A$11201,stats!$B16,FCs!$V$1:$V$11201,stats!L$2,FCs!$W$1:$W$11201,stats!L$1)","v":3},{"$f":"SUMIFS(FCs!$AA$1:$AA$11201,FCs!$A$1:$A$11201,stats!$B16,FCs!$V$1:$V$11201,stats!M$2,FCs!$W$1:$W$11201,stats!M$1)","v":5},{"$f":"SUMIFS(FCs!$AA$1:$AA$11201,FCs!$A$1:$A$11201,stats!$B16,FCs!$V$1:$V$11201,stats!N$2,FCs!$W$1:$W$11201,stats!N$1)","v":0},{"$f":"SUMIFS(FCs!$AA$1:$AA$11201,FCs!$A$1:$A$11201,stats!$B16,FCs!$V$1:$V$11201,stats!O$2,FCs!$W$1:$W$11201,stats!O$1)","v":0},{"$f":"SUMIFS(FCs!$AA$1:$AA$11201,FCs!$A$1:$A$11201,stats!$B16,FCs!$V$1:$V$11201,stats!P$2,FCs!$W$1:$W$11201,stats!P$1)","v":4.25},{"$f":"SUMIFS(FCs!$AA$1:$AA$11201,FCs!$A$1:$A$11201,stats!$B16,FCs!$V$1:$V$11201,stats!Q$2,FCs!$W$1:$W$11201,stats!Q$1)","v":3},null,8.25,1.475684740078256E-2,null,21]
[{"$f":"syllabus!A16","v":130},"Feldblum.Surplus",null,0,null,{"$f":"SUMIFS(FCs!$AA$1:$AA$11201,FCs!$A$1:$A$11201,stats!$B17,FCs!$V$1:$V$11201,stats!F$2,FCs!$W$1:$W$11201,stats!F$1)","v":0},{"$f":"SUMIFS(FCs!$AA$1:$AA$11201,FCs!$A$1:$A$11201,stats!$B17,FCs!$V$1:$V$11201,stats!G$2,FCs!$W$1:$W$11201,stats!G$1)","v":2.5},{"$f":"SUMIFS(FCs!$AA$1:$AA$11201,FCs!$A$1:$A$11201,stats!$B17,FCs!$V$1:$V$11201,stats!H$2,FCs!$W$1:$W$11201,stats!H$1)","v":0},{"$f":"SUMIFS(FCs!$AA$1:$AA$11201,FCs!$A$1:$A$11201,stats!$B17,FCs!$V$1:$V$11201,stats!I$2,FCs!$W$1:$W$11201,stats!I$1)","v":4.25},{"$f":"SUMIFS(FCs!$AA$1:$AA$11201,FCs!$A$1:$A$11201,stats!$B17,FCs!$V$1:$V$11201,stats!J$2,FCs!$W$1:$W$11201,stats!J$1)","v":0},{"$f":"SUMIFS(FCs!$AA$1:$AA$11201,FCs!$A$1:$A$11201,stats!$B17,FCs!$V$1:$V$11201,stats!K$2,FCs!$W$1:$W$11201,stats!K$1)","v":0},{"$f":"SUMIFS(FCs!$AA$1:$AA$11201,FCs!$A$1:$A$11201,stats!$B17,FCs!$V$1:$V$11201,stats!L$2,FCs!$W$1:$W$11201,stats!L$1)","v":0},{"$f":"SUMIFS(FCs!$AA$1:$AA$11201,FCs!$A$1:$A$11201,stats!$B17,FCs!$V$1:$V$11201,stats!M$2,FCs!$W$1:$W$11201,stats!M$1)","v":3.5},{"$f":"SUMIFS(FCs!$AA$1:$AA$11201,FCs!$A$1:$A$11201,stats!$B17,FCs!$V$1:$V$11201,stats!N$2,FCs!$W$1:$W$11201,stats!N$1)","v":0},{"$f":"SUMIFS(FCs!$AA$1:$AA$11201,FCs!$A$1:$A$11201,stats!$B17,FCs!$V$1:$V$11201,stats!O$2,FCs!$W$1:$W$11201,stats!O$1)","v":0},{"$f":"SUMIFS(FCs!$AA$1:$AA$11201,FCs!$A$1:$A$11201,stats!$B17,FCs!$V$1:$V$11201,stats!P$2,FCs!$W$1:$W$11201,stats!P$1)","v":0},{"$f":"SUMIFS(FCs!$AA$1:$AA$11201,FCs!$A$1:$A$11201,stats!$B17,FCs!$V$1:$V$11201,stats!Q$2,FCs!$W$1:$W$11201,stats!Q$1)","v":0},null,8.5,1.5204024594745668E-2,null,19]
[{"$f":"syllabus!A17","v":140},"FASB.944",null,0,null,{"$f":"SUMIFS(FCs!$AA$1:$AA$11201,FCs!$A$1:$A$11201,stats!$B18,FCs!$V$1:$V$11201,stats!F$2,FCs!$W$1:$W$11201,stats!F$1)","v":0},{"$f":"SUMIFS(FCs!$AA$1:$AA$11201,FCs!$A$1:$A$11201,stats!$B18,FCs!$V$1:$V$11201,stats!G$2,FCs!$W$1:$W$11201,stats!G$1)","v":0},{"$f":"SUMIFS(FCs!$AA$1:$AA$11201,FCs!$A$1:$A$11201,stats!$B18,FCs!$V$1:$V$11201,stats!H$2,FCs!$W$1:$W$11201,stats!H$1)","v":0},{"$f":"SUMIFS(FCs!$AA$1:$AA$11201,FCs!$A$1:$A$11201,stats!$B18,FCs!$V$1:$V$11201,stats!I$2,FCs!$W$1:$W$11201,stats!I$1)","v":0},{"$f":"SUMIFS(FCs!$AA$1:$AA$11201,FCs!$A$1:$A$11201,stats!$B18,FCs!$V$1:$V$11201,stats!J$2,FCs!$W$1:$W$11201,stats!J$1)","v":0},{"$f":"SUMIFS(FCs!$AA$1:$AA$11201,FCs!$A$1:$A$11201,stats!$B18,FCs!$V$1:$V$11201,stats!K$2,FCs!$W$1:$W$11201,stats!K$1)","v":0},{"$f":"SUMIFS(FCs!$AA$1:$AA$11201,FCs!$A$1:$A$11201,stats!$B18,FCs!$V$1:$V$11201,stats!L$2,FCs!$W$1:$W$11201,stats!L$1)","v":0},{"$f":"SUMIFS(FCs!$AA$1:$AA$11201,FCs!$A$1:$A$11201,stats!$B18,FCs!$V$1:$V$11201,stats!M$2,FCs!$W$1:$W$11201,stats!M$1)","v":0},{"$f":"SUMIFS(FCs!$AA$1:$AA$11201,FCs!$A$1:$A$11201,stats!$B18,FCs!$V$1:$V$11201,stats!N$2,FCs!$W$1:$W$11201,stats!N$1)","v":0},{"$f":"SUMIFS(FCs!$AA$1:$AA$11201,FCs!$A$1:$A$11201,stats!$B18,FCs!$V$1:$V$11201,stats!O$2,FCs!$W$1:$W$11201,stats!O$1)","v":0},{"$f":"SUMIFS(FCs!$AA$1:$AA$11201,FCs!$A$1:$A$11201,stats!$B18,FCs!$V$1:$V$11201,stats!P$2,FCs!$W$1:$W$11201,stats!P$1)","v":0},{"$f":"SUMIFS(FCs!$AA$1:$AA$11201,FCs!$A$1:$A$11201,stats!$B18,FCs!$V$1:$V$11201,stats!Q$2,FCs!$W$1:$W$11201,stats!Q$1)","v":0},null,0,0,null,52]
[{"$f":"syllabus!A18","v":150},"Freihaut.Reins",null,0,null,{"$f":"SUMIFS(FCs!$AA$1:$AA$11201,FCs!$A$1:$A$11201,stats!$B19,FCs!$V$1:$V$11201,stats!F$2,FCs!$W$1:$W$11201,stats!F$1)","v":3.25},{"$f":"SUMIFS(FCs!$AA$1:$AA$11201,FCs!$A$1:$A$11201,stats!$B19,FCs!$V$1:$V$11201,stats!G$2,FCs!$W$1:$W$11201,stats!G$1)","v":2.75},{"$f":"SUMIFS(FCs!$AA$1:$AA$11201,FCs!$A$1:$A$11201,stats!$B19,FCs!$V$1:$V$11201,stats!H$2,FCs!$W$1:$W$11201,stats!H$1)","v":0},{"$f":"SUMIFS(FCs!$AA$1:$AA$11201,FCs!$A$1:$A$11201,stats!$B19,FCs!$V$1:$V$11201,stats!I$2,FCs!$W$1:$W$11201,stats!I$1)","v":2.75},{"$f":"SUMIFS(FCs!$AA$1:$AA$11201,FCs!$A$1:$A$11201,stats!$B19,FCs!$V$1:$V$11201,stats!J$2,FCs!$W$1:$W$11201,stats!J$1)","v":1.5},{"$f":"SUMIFS(FCs!$AA$1:$AA$11201,FCs!$A$1:$A$11201,stats!$B19,FCs!$V$1:$V$11201,stats!K$2,FCs!$W$1:$W$11201,stats!K$1)","v":1.25},{"$f":"SUMIFS(FCs!$AA$1:$AA$11201,FCs!$A$1:$A$11201,stats!$B19,FCs!$V$1:$V$11201,stats!L$2,FCs!$W$1:$W$11201,stats!L$1)","v":2.5},{"$f":"SUMIFS(FCs!$AA$1:$AA$11201,FCs!$A$1:$A$11201,stats!$B19,FCs!$V$1:$V$11201,stats!M$2,FCs!$W$1:$W$11201,stats!M$1)","v":2.25},{"$f":"SUMIFS(FCs!$AA$1:$AA$11201,FCs!$A$1:$A$11201,stats!$B19,FCs!$V$1:$V$11201,stats!N$2,FCs!$W$1:$W$11201,stats!N$1)","v":0},{"$f":"SUMIFS(FCs!$AA$1:$AA$11201,FCs!$A$1:$A$11201,stats!$B19,FCs!$V$1:$V$11201,stats!O$2,FCs!$W$1:$W$11201,stats!O$1)","v":4.25},{"$f":"SUMIFS(FCs!$AA$1:$AA$11201,FCs!$A$1:$A$11201,stats!$B19,FCs!$V$1:$V$11201,stats!P$2,FCs!$W$1:$W$11201,stats!P$1)","v":2.25},{"$f":"SUMIFS(FCs!$AA$1:$AA$11201,FCs!$A$1:$A$11201,stats!$B19,FCs!$V$1:$V$11201,stats!Q$2,FCs!$W$1:$W$11201,stats!Q$1)","v":1.5},null,14.9375,2.6718837339295694E-2,null,11]
[{"$f":"syllabus!A19","v":160},"GAO.Report",58,0.17956656346749225,null,{"$f":"SUMIFS(FCs!$AA$1:$AA$11201,FCs!$A$1:$A$11201,stats!$B20,FCs!$V$1:$V$11201,stats!F$2,FCs!$W$1:$W$11201,stats!F$1)","v":0},{"$f":"SUMIFS(FCs!$AA$1:$AA$11201,FCs!$A$1:$A$11201,stats!$B20,FCs!$V$1:$V$11201,stats!G$2,FCs!$W$1:$W$11201,stats!G$1)","v":0},{"$f":"SUMIFS(FCs!$AA$1:$AA$11201,FCs!$A$1:$A$11201,stats!$B20,FCs!$V$1:$V$11201,stats!H$2,FCs!$W$1:$W$11201,stats!H$1)","v":0},{"$f":"SUMIFS(FCs!$AA$1:$AA$11201,FCs!$A$1:$A$11201,stats!$B20,FCs!$V$1:$V$11201,stats!I$2,FCs!$W$1:$W$11201,stats!I$1)","v":0},{"$f":"SUMIFS(FCs!$AA$1:$AA$11201,FCs!$A$1:$A$11201,stats!$B20,FCs!$V$1:$V$11201,stats!J$2,FCs!$W$1:$W$11201,stats!J$1)","v":0},{"$f":"SUMIFS(FCs!$AA$1:$AA$11201,FCs!$A$1:$A$11201,stats!$B20,FCs!$V$1:$V$11201,stats!K$2,FCs!$W$1:$W$11201,stats!K$1)","v":3},{"$f":"SUMIFS(FCs!$AA$1:$AA$11201,FCs!$A$1:$A$11201,stats!$B20,FCs!$V$1:$V$11201,stats!L$2,FCs!$W$1:$W$11201,stats!L$1)","v":2},{"$f":"SUMIFS(FCs!$AA$1:$AA$11201,FCs!$A$1:$A$11201,stats!$B20,FCs!$V$1:$V$11201,stats!M$2,FCs!$W$1:$W$11201,stats!M$1)","v":0},{"$f":"SUMIFS(FCs!$AA$1:$AA$11201,FCs!$A$1:$A$11201,stats!$B20,FCs!$V$1:$V$11201,stats!N$2,FCs!$W$1:$W$11201,stats!N$1)","v":2.75},{"$f":"SUMIFS(FCs!$AA$1:$AA$11201,FCs!$A$1:$A$11201,stats!$B20,FCs!$V$1:$V$11201,stats!O$2,FCs!$W$1:$W$11201,stats!O$1)","v":0},{"$f":"SUMIFS(FCs!$AA$1:$AA$11201,FCs!$A$1:$A$11201,stats!$B20,FCs!$V$1:$V$11201,stats!P$2,FCs!$W$1:$W$11201,stats!P$1)","v":0},{"$f":"SUMIFS(FCs!$AA$1:$AA$11201,FCs!$A$1:$A$11201,stats!$B20,FCs!$V$1:$V$11201,stats!Q$2,FCs!$W$1:$W$11201,stats!Q$1)","v":0},null,4.6875,8.3845723868082728E-3,null,29]
[{"$f":"syllabus!A20","v":170},"Germani.GovtIns",18,5.5727554179566562E-2,null,{"$f":"SUMIFS(FCs!$AA$1:$AA$11201,FCs!$A$1:$A$11201,stats!$B21,FCs!$V$1:$V$11201,stats!F$2,FCs!$W$1:$W$11201,stats!F$1)","v":2},{"$f":"SUMIFS(FCs!$AA$1:$AA$11201,FCs!$A$1:$A$11201,stats!$B21,FCs!$V$1:$V$11201,stats!G$2,FCs!$W$1:$W$11201,stats!G$1)","v":1},{"$f":"SUMIFS(FCs!$AA$1:$AA$11201,FCs!$A$1:$A$11201,stats!$B21,FCs!$V$1:$V$11201,stats!H$2,FCs!$W$1:$W$11201,stats!H$1)","v":3},{"$f":"SUMIFS(FCs!$AA$1:$AA$11201,FCs!$A$1:$A$11201,stats!$B21,FCs!$V$1:$V$11201,stats!I$2,FCs!$W$1:$W$11201,stats!I$1)","v":2.5},{"$f":"SUMIFS(FCs!$AA$1:$AA$11201,FCs!$A$1:$A$11201,stats!$B21,FCs!$V$1:$V$11201,stats!J$2,FCs!$W$1:$W$11201,stats!J$1)","v":3},{"$f":"SUMIFS(FCs!$AA$1:$AA$11201,FCs!$A$1:$A$11201,stats!$B21,FCs!$V$1:$V$11201,stats!K$2,FCs!$W$1:$W$11201,stats!K$1)","v":2.5},{"$f":"SUMIFS(FCs!$AA$1:$AA$11201,FCs!$A$1:$A$11201,stats!$B21,FCs!$V$1:$V$11201,stats!L$2,FCs!$W$1:$W$11201,stats!L$1)","v":5},{"$f":"SUMIFS(FCs!$AA$1:$AA$11201,FCs!$A$1:$A$11201,stats!$B21,FCs!$V$1:$V$11201,stats!M$2,FCs!$W$1:$W$11201,stats!M$1)","v":1.5},{"$f":"SUMIFS(FCs!$AA$1:$AA$11201,FCs!$A$1:$A$11201,stats!$B21,FCs!$V$1:$V$11201,stats!N$2,FCs!$W$1:$W$11201,stats!N$1)","v":2.5},{"$f":"SUMIFS(FCs!$AA$1:$AA$11201,FCs!$A$1:$A$11201,stats!$B21,FCs!$V$1:$V$11201,stats!O$2,FCs!$W$1:$W$11201,stats!O$1)","v":4.75},{"$f":"SUMIFS(FCs!$AA$1:$AA$11201,FCs!$A$1:$A$11201,stats!$B21,FCs!$V$1:$V$11201,stats!P$2,FCs!$W$1:$W$11201,stats!P$1)","v":2.75},{"$f":"SUMIFS(FCs!$AA$1:$AA$11201,FCs!$A$1:$A$11201,stats!$B21,FCs!$V$1:$V$11201,stats!Q$2,FCs!$W$1:$W$11201,stats!Q$1)","v":6},null,19.0625,3.4097261039686973E-2,null,10]
[174,"Horn2018.Flood",null,null,null,{"$f":"SUMIFS(FCs!$AA$1:$AA$11201,FCs!$A$1:$A$11201,stats!$B22,FCs!$V$1:$V$11201,stats!F$2,FCs!$W$1:$W$11201,stats!F$1)","v":0},{"$f":"SUMIFS(FCs!$AA$1:$AA$11201,FCs!$A$1:$A$11201,stats!$B22,FCs!$V$1:$V$11201,stats!G$2,FCs!$W$1:$W$11201,stats!G$1)","v":0},{"$f":"SUMIFS(FCs!$AA$1:$AA$11201,FCs!$A$1:$A$11201,stats!$B22,FCs!$V$1:$V$11201,stats!H$2,FCs!$W$1:$W$11201,stats!H$1)","v":0},{"$f":"SUMIFS(FCs!$AA$1:$AA$11201,FCs!$A$1:$A$11201,stats!$B22,FCs!$V$1:$V$11201,stats!I$2,FCs!$W$1:$W$11201,stats!I$1)","v":0},{"$f":"SUMIFS(FCs!$AA$1:$AA$11201,FCs!$A$1:$A$11201,stats!$B22,FCs!$V$1:$V$11201,stats!J$2,FCs!$W$1:$W$11201,stats!J$1)","v":0},{"$f":"SUMIFS(FCs!$AA$1:$AA$11201,FCs!$A$1:$A$11201,stats!$B22,FCs!$V$1:$V$11201,stats!K$2,FCs!$W$1:$W$11201,stats!K$1)","v":0},{"$f":"SUMIFS(FCs!$AA$1:$AA$11201,FCs!$A$1:$A$11201,stats!$B22,FCs!$V$1:$V$11201,stats!L$2,FCs!$W$1:$W$11201,stats!L$1)","v":0},{"$f":"SUMIFS(FCs!$AA$1:$AA$11201,FCs!$A$1:$A$11201,stats!$B22,FCs!$V$1:$V$11201,stats!M$2,FCs!$W$1:$W$11201,stats!M$1)","v":0},{"$f":"SUMIFS(FCs!$AA$1:$AA$11201,FCs!$A$1:$A$11201,stats!$B22,FCs!$V$1:$V$11201,stats!N$2,FCs!$W$1:$W$11201,stats!N$1)","v":0},{"$f":"SUMIFS(FCs!$AA$1:$AA$11201,FCs!$A$1:$A$11201,stats!$B22,FCs!$V$1:$V$11201,stats!O$2,FCs!$W$1:$W$11201,stats!O$1)","v":0},{"$f":"SUMIFS(FCs!$AA$1:$AA$11201,FCs!$A$1:$A$11201,stats!$B22,FCs!$V$1:$V$11201,stats!P$2,FCs!$W$1:$W$11201,stats!P$1)","v":0},{"$f":"SUMIFS(FCs!$AA$1:$AA$11201,FCs!$A$1:$A$11201,stats!$B22,FCs!$V$1:$V$11201,stats!Q$2,FCs!$W$1:$W$11201,stats!Q$1)","v":0},null,0,0,null,52]
[{"$f":"syllabus!A22","v":175},"Horn.Flood",86,{"$f":"C23/C$3","v":0.26625386996904027},null,{"$f":"SUMIFS(FCs!$AA$1:$AA$11201,FCs!$A$1:$A$11201,stats!$B23,FCs!$V$1:$V$11201,stats!F$2,FCs!$W$1:$W$11201,stats!F$1)","v":2.5},{"$f":"SUMIFS(FCs!$AA$1:$AA$11201,FCs!$A$1:$A$11201,stats!$B23,FCs!$V$1:$V$11201,stats!G$2,FCs!$W$1:$W$11201,stats!G$1)","v":0},{"$f":"SUMIFS(FCs!$AA$1:$AA$11201,FCs!$A$1:$A$11201,stats!$B23,FCs!$V$1:$V$11201,stats!H$2,FCs!$W$1:$W$11201,stats!H$1)","v":0},{"$f":"SUMIFS(FCs!$AA$1:$AA$11201,FCs!$A$1:$A$11201,stats!$B23,FCs!$V$1:$V$11201,stats!I$2,FCs!$W$1:$W$11201,stats!I$1)","v":0},{"$f":"SUMIFS(FCs!$AA$1:$AA$11201,FCs!$A$1:$A$11201,stats!$B23,FCs!$V$1:$V$11201,stats!J$2,FCs!$W$1:$W$11201,stats!J$1)","v":0},{"$f":"SUMIFS(FCs!$AA$1:$AA$11201,FCs!$A$1:$A$11201,stats!$B23,FCs!$V$1:$V$11201,stats!K$2,FCs!$W$1:$W$11201,stats!K$1)","v":0},{"$f":"SUMIFS(FCs!$AA$1:$AA$11201,FCs!$A$1:$A$11201,stats!$B23,FCs!$V$1:$V$11201,stats!L$2,FCs!$W$1:$W$11201,stats!L$1)","v":0},{"$f":"SUMIFS(FCs!$AA$1:$AA$11201,FCs!$A$1:$A$11201,stats!$B23,FCs!$V$1:$V$11201,stats!M$2,FCs!$W$1:$W$11201,stats!M$1)","v":0},{"$f":"SUMIFS(FCs!$AA$1:$AA$11201,FCs!$A$1:$A$11201,stats!$B23,FCs!$V$1:$V$11201,stats!N$2,FCs!$W$1:$W$11201,stats!N$1)","v":0},{"$f":"SUMIFS(FCs!$AA$1:$AA$11201,FCs!$A$1:$A$11201,stats!$B23,FCs!$V$1:$V$11201,stats!O$2,FCs!$W$1:$W$11201,stats!O$1)","v":0},{"$f":"SUMIFS(FCs!$AA$1:$AA$11201,FCs!$A$1:$A$11201,stats!$B23,FCs!$V$1:$V$11201,stats!P$2,FCs!$W$1:$W$11201,stats!P$1)","v":0},{"$f":"SUMIFS(FCs!$AA$1:$AA$11201,FCs!$A$1:$A$11201,stats!$B23,FCs!$V$1:$V$11201,stats!Q$2,FCs!$W$1:$W$11201,stats!Q$1)","v":0},null,0,0,null,52]
[{"$f":"syllabus!A23","v":180},"NAIC.Telematics",null,0,null,{"$f":"SUMIFS(FCs!$AA$1:$AA$11201,FCs!$A$1:$A$11201,stats!$B24,FCs!$V$1:$V$11201,stats!F$2,FCs!$W$1:$W$11201,stats!F$1)","v":0},{"$f":"SUMIFS(FCs!$AA$1:$AA$11201,FCs!$A$1:$A$11201,stats!$B24,FCs!$V$1:$V$11201,stats!G$2,FCs!$W$1:$W$11201,stats!G$1)","v":0},{"$f":"SUMIFS(FCs!$AA$1:$AA$11201,FCs!$A$1:$A$11201,stats!$B24,FCs!$V$1:$V$11201,stats!H$2,FCs!$W$1:$W$11201,stats!H$1)","v":2},{"$f":"SUMIFS(FCs!$AA$1:$AA$11201,FCs!$A$1:$A$11201,stats!$B24,FCs!$V$1:$V$11201,stats!I$2,FCs!$W$1:$W$11201,stats!I$1)","v":3.75},{"$f":"SUMIFS(FCs!$AA$1:$AA$11201,FCs!$A$1:$A$11201,stats!$B24,FCs!$V$1:$V$11201,stats!J$2,FCs!$W$1:$W$11201,stats!J$1)","v":0},{"$f":"SUMIFS(FCs!$AA$1:$AA$11201,FCs!$A$1:$A$11201,stats!$B24,FCs!$V$1:$V$11201,stats!K$2,FCs!$W$1:$W$11201,stats!K$1)","v":0},{"$f":"SUMIFS(FCs!$AA$1:$AA$11201,FCs!$A$1:$A$11201,stats!$B24,FCs!$V$1:$V$11201,stats!L$2,FCs!$W$1:$W$11201,stats!L$1)","v":0},{"$f":"SUMIFS(FCs!$AA$1:$AA$11201,FCs!$A$1:$A$11201,stats!$B24,FCs!$V$1:$V$11201,stats!M$2,FCs!$W$1:$W$11201,stats!M$1)","v":0},{"$f":"SUMIFS(FCs!$AA$1:$AA$11201,FCs!$A$1:$A$11201,stats!$B24,FCs!$V$1:$V$11201,stats!N$2,FCs!$W$1:$W$11201,stats!N$1)","v":0},{"$f":"SUMIFS(FCs!$AA$1:$AA$11201,FCs!$A$1:$A$11201,stats!$B24,FCs!$V$1:$V$11201,stats!O$2,FCs!$W$1:$W$11201,stats!O$1)","v":0},{"$f":"SUMIFS(FCs!$AA$1:$AA$11201,FCs!$A$1:$A$11201,stats!$B24,FCs!$V$1:$V$11201,stats!P$2,FCs!$W$1:$W$11201,stats!P$1)","v":0},{"$f":"SUMIFS(FCs!$AA$1:$AA$11201,FCs!$A$1:$A$11201,stats!$B24,FCs!$V$1:$V$11201,stats!Q$2,FCs!$W$1:$W$11201,stats!Q$1)","v":0},null,{"$f":"SUM(F24:K24)+0.5*SUM(L24:M24)+0.25*SUM(N24:O24)","v":5.75},1.0285075461151481E-2,null,25]
[{"$f":"syllabus!A24","v":190},"King.Flood",null,0,null,{"$f":"SUMIFS(FCs!$AA$1:$AA$11201,FCs!$A$1:$A$11201,stats!$B25,FCs!$V$1:$V$11201,stats!F$2,FCs!$W$1:$W$11201,stats!F$1)","v":0},{"$f":"SUMIFS(FCs!$AA$1:$AA$11201,FCs!$A$1:$A$11201,stats!$B25,FCs!$V$1:$V$11201,stats!G$2,FCs!$W$1:$W$11201,stats!G$1)","v":0},{"$f":"SUMIFS(FCs!$AA$1:$AA$11201,FCs!$A$1:$A$11201,stats!$B25,FCs!$V$1:$V$11201,stats!H$2,FCs!$W$1:$W$11201,stats!H$1)","v":2.75},{"$f":"SUMIFS(FCs!$AA$1:$AA$11201,FCs!$A$1:$A$11201,stats!$B25,FCs!$V$1:$V$11201,stats!I$2,FCs!$W$1:$W$11201,stats!I$1)","v":1},{"$f":"SUMIFS(FCs!$AA$1:$AA$11201,FCs!$A$1:$A$11201,stats!$B25,FCs!$V$1:$V$11201,stats!J$2,FCs!$W$1:$W$11201,stats!J$1)","v":2.5},{"$f":"SUMIFS(FCs!$AA$1:$AA$11201,FCs!$A$1:$A$11201,stats!$B25,FCs!$V$1:$V$11201,stats!K$2,FCs!$W$1:$W$11201,stats!K$1)","v":2.25},{"$f":"SUMIFS(FCs!$AA$1:$AA$11201,FCs!$A$1:$A$11201,stats!$B25,FCs!$V$1:$V$11201,stats!L$2,FCs!$W$1:$W$11201,stats!L$1)","v":2},{"$f":"SUMIFS(FCs!$AA$1:$AA$11201,FCs!$A$1:$A$11201,stats!$B25,FCs!$V$1:$V$11201,stats!M$2,FCs!$W$1:$W$11201,stats!M$1)","v":2},{"$f":"SUMIFS(FCs!$AA$1:$AA$11201,FCs!$A$1:$A$11201,stats!$B25,FCs!$V$1:$V$11201,stats!N$2,FCs!$W$1:$W$11201,stats!N$1)","v":2.25},{"$f":"SUMIFS(FCs!$AA$1:$AA$11201,FCs!$A$1:$A$11201,stats!$B25,FCs!$V$1:$V$11201,stats!O$2,FCs!$W$1:$W$11201,stats!O$1)","v":0},{"$f":"SUMIFS(FCs!$AA$1:$AA$11201,FCs!$A$1:$A$11201,stats!$B25,FCs!$V$1:$V$11201,stats!P$2,FCs!$W$1:$W$11201,stats!P$1)","v":1.75},{"$f":"SUMIFS(FCs!$AA$1:$AA$11201,FCs!$A$1:$A$11201,stats!$B25,FCs!$V$1:$V$11201,stats!Q$2,FCs!$W$1:$W$11201,stats!Q$1)","v":0},null,0,-0.01,null,68.5]
[{"$f":"syllabus!A25","v":200},"Klann.ReinsComm",null,0,null,{"$f":"SUMIFS(FCs!$AA$1:$AA$11201,FCs!$A$1:$A$11201,stats!$B26,FCs!$V$1:$V$11201,stats!F$2,FCs!$W$1:$W$11201,stats!F$1)","v":2},{"$f":"SUMIFS(FCs!$AA$1:$AA$11201,FCs!$A$1:$A$11201,stats!$B26,FCs!$V$1:$V$11201,stats!G$2,FCs!$W$1:$W$11201,stats!G$1)","v":0},{"$f":"SUMIFS(FCs!$AA$1:$AA$11201,FCs!$A$1:$A$11201,stats!$B26,FCs!$V$1:$V$11201,stats!H$2,FCs!$W$1:$W$11201,stats!H$1)","v":3},{"$f":"SUMIFS(FCs!$AA$1:$AA$11201,FCs!$A$1:$A$11201,stats!$B26,FCs!$V$1:$V$11201,stats!I$2,FCs!$W$1:$W$11201,stats!I$1)","v":3},{"$f":"SUMIFS(FCs!$AA$1:$AA$11201,FCs!$A$1:$A$11201,stats!$B26,FCs!$V$1:$V$11201,stats!J$2,FCs!$W$1:$W$11201,stats!J$1)","v":4.25},{"$f":"SUMIFS(FCs!$AA$1:$AA$11201,FCs!$A$1:$A$11201,stats!$B26,FCs!$V$1:$V$11201,stats!K$2,FCs!$W$1:$W$11201,stats!K$1)","v":3.5},{"$f":"SUMIFS(FCs!$AA$1:$AA$11201,FCs!$A$1:$A$11201,stats!$B26,FCs!$V$1:$V$11201,stats!L$2,FCs!$W$1:$W$11201,stats!L$1)","v":4.25},{"$f":"SUMIFS(FCs!$AA$1:$AA$11201,FCs!$A$1:$A$11201,stats!$B26,FCs!$V$1:$V$11201,stats!M$2,FCs!$W$1:$W$11201,stats!M$1)","v":3},{"$f":"SUMIFS(FCs!$AA$1:$AA$11201,FCs!$A$1:$A$11201,stats!$B26,FCs!$V$1:$V$11201,stats!N$2,FCs!$W$1:$W$11201,stats!N$1)","v":0},{"$f":"SUMIFS(FCs!$AA$1:$AA$11201,FCs!$A$1:$A$11201,stats!$B26,FCs!$V$1:$V$11201,stats!O$2,FCs!$W$1:$W$11201,stats!O$1)","v":0},{"$f":"SUMIFS(FCs!$AA$1:$AA$11201,FCs!$A$1:$A$11201,stats!$B26,FCs!$V$1:$V$11201,stats!P$2,FCs!$W$1:$W$11201,stats!P$1)","v":3.25},{"$f":"SUMIFS(FCs!$AA$1:$AA$11201,FCs!$A$1:$A$11201,stats!$B26,FCs!$V$1:$V$11201,stats!Q$2,FCs!$W$1:$W$11201,stats!Q$1)","v":0},null,{"$f":"SUM(F26:K26)+0.5*SUM(L26:M26)+0.25*SUM(N26:O26)","v":19.375},{"$f":"S26/S$3","v":3.4656232532140861E-2},null,9]
[{"$f":"syllabus!A26","v":210},"Kucera.Credit",7,2.1671826625386997E-2,null,{"$f":"SUMIFS(FCs!$AA$1:$AA$11201,FCs!$A$1:$A$11201,stats!$B27,FCs!$V$1:$V$11201,stats!F$2,FCs!$W$1:$W$11201,stats!F$1)","v":0},{"$f":"SUMIFS(FCs!$AA$1:$AA$11201,FCs!$A$1:$A$11201,stats!$B27,FCs!$V$1:$V$11201,stats!G$2,FCs!$W$1:$W$11201,stats!G$1)","v":0},{"$f":"SUMIFS(FCs!$AA$1:$AA$11201,FCs!$A$1:$A$11201,stats!$B27,FCs!$V$1:$V$11201,stats!H$2,FCs!$W$1:$W$11201,stats!H$1)","v":1.75},{"$f":"SUMIFS(FCs!$AA$1:$AA$11201,FCs!$A$1:$A$11201,stats!$B27,FCs!$V$1:$V$11201,stats!I$2,FCs!$W$1:$W$11201,stats!I$1)","v":0},{"$f":"SUMIFS(FCs!$AA$1:$AA$11201,FCs!$A$1:$A$11201,stats!$B27,FCs!$V$1:$V$11201,stats!J$2,FCs!$W$1:$W$11201,stats!J$1)","v":2.5},{"$f":"SUMIFS(FCs!$AA$1:$AA$11201,FCs!$A$1:$A$11201,stats!$B27,FCs!$V$1:$V$11201,stats!K$2,FCs!$W$1:$W$11201,stats!K$1)","v":0},{"$f":"SUMIFS(FCs!$AA$1:$AA$11201,FCs!$A$1:$A$11201,stats!$B27,FCs!$V$1:$V$11201,stats!L$2,FCs!$W$1:$W$11201,stats!L$1)","v":0},{"$f":"SUMIFS(FCs!$AA$1:$AA$11201,FCs!$A$1:$A$11201,stats!$B27,FCs!$V$1:$V$11201,stats!M$2,FCs!$W$1:$W$11201,stats!M$1)","v":0},{"$f":"SUMIFS(FCs!$AA$1:$AA$11201,FCs!$A$1:$A$11201,stats!$B27,FCs!$V$1:$V$11201,stats!N$2,FCs!$W$1:$W$11201,stats!N$1)","v":0},{"$f":"SUMIFS(FCs!$AA$1:$AA$11201,FCs!$A$1:$A$11201,stats!$B27,FCs!$V$1:$V$11201,stats!O$2,FCs!$W$1:$W$11201,stats!O$1)","v":2},{"$f":"SUMIFS(FCs!$AA$1:$AA$11201,FCs!$A$1:$A$11201,stats!$B27,FCs!$V$1:$V$11201,stats!P$2,FCs!$W$1:$W$11201,stats!P$1)","v":0},{"$f":"SUMIFS(FCs!$AA$1:$AA$11201,FCs!$A$1:$A$11201,stats!$B27,FCs!$V$1:$V$11201,stats!Q$2,FCs!$W$1:$W$11201,stats!Q$1)","v":0},null,4.75,8.4963666852990501E-3,null,28]
[{"$f":"syllabus!A27","v":220},"McCarty.Credit",57,0.17647058823529413,null,{"$f":"SUMIFS(FCs!$AA$1:$AA$11201,FCs!$A$1:$A$11201,stats!$B28,FCs!$V$1:$V$11201,stats!F$2,FCs!$W$1:$W$11201,stats!F$1)","v":1.5},{"$f":"SUMIFS(FCs!$AA$1:$AA$11201,FCs!$A$1:$A$11201,stats!$B28,FCs!$V$1:$V$11201,stats!G$2,FCs!$W$1:$W$11201,stats!G$1)","v":0},{"$f":"SUMIFS(FCs!$AA$1:$AA$11201,FCs!$A$1:$A$11201,stats!$B28,FCs!$V$1:$V$11201,stats!H$2,FCs!$W$1:$W$11201,stats!H$1)","v":0.5},{"$f":"SUMIFS(FCs!$AA$1:$AA$11201,FCs!$A$1:$A$11201,stats!$B28,FCs!$V$1:$V$11201,stats!I$2,FCs!$W$1:$W$11201,stats!I$1)","v":0},{"$f":"SUMIFS(FCs!$AA$1:$AA$11201,FCs!$A$1:$A$11201,stats!$B28,FCs!$V$1:$V$11201,stats!J$2,FCs!$W$1:$W$11201,stats!J$1)","v":0},{"$f":"SUMIFS(FCs!$AA$1:$AA$11201,FCs!$A$1:$A$11201,stats!$B28,FCs!$V$1:$V$11201,stats!K$2,FCs!$W$1:$W$11201,stats!K$1)","v":2.5},{"$f":"SUMIFS(FCs!$AA$1:$AA$11201,FCs!$A$1:$A$11201,stats!$B28,FCs!$V$1:$V$11201,stats!L$2,FCs!$W$1:$W$11201,stats!L$1)","v":2.25},{"$f":"SUMIFS(FCs!$AA$1:$AA$11201,FCs!$A$1:$A$11201,stats!$B28,FCs!$V$1:$V$11201,stats!M$2,FCs!$W$1:$W$11201,stats!M$1)","v":0},{"$f":"SUMIFS(FCs!$AA$1:$AA$11201,FCs!$A$1:$A$11201,stats!$B28,FCs!$V$1:$V$11201,stats!N$2,FCs!$W$1:$W$11201,stats!N$1)","v":3.75},{"$f":"SUMIFS(FCs!$AA$1:$AA$11201,FCs!$A$1:$A$11201,stats!$B28,FCs!$V$1:$V$11201,stats!O$2,FCs!$W$1:$W$11201,stats!O$1)","v":0.75},{"$f":"SUMIFS(FCs!$AA$1:$AA$11201,FCs!$A$1:$A$11201,stats!$B28,FCs!$V$1:$V$11201,stats!P$2,FCs!$W$1:$W$11201,stats!P$1)","v":0},{"$f":"SUMIFS(FCs!$AA$1:$AA$11201,FCs!$A$1:$A$11201,stats!$B28,FCs!$V$1:$V$11201,stats!Q$2,FCs!$W$1:$W$11201,stats!Q$1)","v":0},null,6.75,1.2073784237003914E-2,null,23]
[{"$f":"syllabus!A28","v":230},"NAIC.APPM",null,0,null,{"$f":"SUMIFS(FCs!$AA$1:$AA$11201,FCs!$A$1:$A$11201,stats!$B29,FCs!$V$1:$V$11201,stats!F$2,FCs!$W$1:$W$11201,stats!F$1)","v":0},{"$f":"SUMIFS(FCs!$AA$1:$AA$11201,FCs!$A$1:$A$11201,stats!$B29,FCs!$V$1:$V$11201,stats!G$2,FCs!$W$1:$W$11201,stats!G$1)","v":0},{"$f":"SUMIFS(FCs!$AA$1:$AA$11201,FCs!$A$1:$A$11201,stats!$B29,FCs!$V$1:$V$11201,stats!H$2,FCs!$W$1:$W$11201,stats!H$1)","v":0},{"$f":"SUMIFS(FCs!$AA$1:$AA$11201,FCs!$A$1:$A$11201,stats!$B29,FCs!$V$1:$V$11201,stats!I$2,FCs!$W$1:$W$11201,stats!I$1)","v":0},{"$f":"SUMIFS(FCs!$AA$1:$AA$11201,FCs!$A$1:$A$11201,stats!$B29,FCs!$V$1:$V$11201,stats!J$2,FCs!$W$1:$W$11201,stats!J$1)","v":0},{"$f":"SUMIFS(FCs!$AA$1:$AA$11201,FCs!$A$1:$A$11201,stats!$B29,FCs!$V$1:$V$11201,stats!K$2,FCs!$W$1:$W$11201,stats!K$1)","v":0},{"$f":"SUMIFS(FCs!$AA$1:$AA$11201,FCs!$A$1:$A$11201,stats!$B29,FCs!$V$1:$V$11201,stats!L$2,FCs!$W$1:$W$11201,stats!L$1)","v":0},{"$f":"SUMIFS(FCs!$AA$1:$AA$11201,FCs!$A$1:$A$11201,stats!$B29,FCs!$V$1:$V$11201,stats!M$2,FCs!$W$1:$W$11201,stats!M$1)","v":2},{"$f":"SUMIFS(FCs!$AA$1:$AA$11201,FCs!$A$1:$A$11201,stats!$B29,FCs!$V$1:$V$11201,stats!N$2,FCs!$W$1:$W$11201,stats!N$1)","v":0},{"$f":"SUMIFS(FCs!$AA$1:$AA$11201,FCs!$A$1:$A$11201,stats!$B29,FCs!$V$1:$V$11201,stats!O$2,FCs!$W$1:$W$11201,stats!O$1)","v":0},{"$f":"SUMIFS(FCs!$AA$1:$AA$11201,FCs!$A$1:$A$11201,stats!$B29,FCs!$V$1:$V$11201,stats!P$2,FCs!$W$1:$W$11201,stats!P$1)","v":0},{"$f":"SUMIFS(FCs!$AA$1:$AA$11201,FCs!$A$1:$A$11201,stats!$B29,FCs!$V$1:$V$11201,stats!Q$2,FCs!$W$1:$W$11201,stats!Q$1)","v":0},null,1,1.7887087758524315E-3,null,38]
[{"$f":"syllabus!A29","v":240},"NAIC.SSAP-5R",null,0,null,{"$f":"SUMIFS(FCs!$AA$1:$AA$11201,FCs!$A$1:$A$11201,stats!$B30,FCs!$V$1:$V$11201,stats!F$2,FCs!$W$1:$W$11201,stats!F$1)","v":0},{"$f":"SUMIFS(FCs!$AA$1:$AA$11201,FCs!$A$1:$A$11201,stats!$B30,FCs!$V$1:$V$11201,stats!G$2,FCs!$W$1:$W$11201,stats!G$1)","v":0},{"$f":"SUMIFS(FCs!$AA$1:$AA$11201,FCs!$A$1:$A$11201,stats!$B30,FCs!$V$1:$V$11201,stats!H$2,FCs!$W$1:$W$11201,stats!H$1)","v":0},{"$f":"SUMIFS(FCs!$AA$1:$AA$11201,FCs!$A$1:$A$11201,stats!$B30,FCs!$V$1:$V$11201,stats!I$2,FCs!$W$1:$W$11201,stats!I$1)","v":0},{"$f":"SUMIFS(FCs!$AA$1:$AA$11201,FCs!$A$1:$A$11201,stats!$B30,FCs!$V$1:$V$11201,stats!J$2,FCs!$W$1:$W$11201,stats!J$1)","v":0},{"$f":"SUMIFS(FCs!$AA$1:$AA$11201,FCs!$A$1:$A$11201,stats!$B30,FCs!$V$1:$V$11201,stats!K$2,FCs!$W$1:$W$11201,stats!K$1)","v":0},{"$f":"SUMIFS(FCs!$AA$1:$AA$11201,FCs!$A$1:$A$11201,stats!$B30,FCs!$V$1:$V$11201,stats!L$2,FCs!$W$1:$W$11201,stats!L$1)","v":0},{"$f":"SUMIFS(FCs!$AA$1:$AA$11201,FCs!$A$1:$A$11201,stats!$B30,FCs!$V$1:$V$11201,stats!M$2,FCs!$W$1:$W$11201,stats!M$1)","v":0},{"$f":"SUMIFS(FCs!$AA$1:$AA$11201,FCs!$A$1:$A$11201,stats!$B30,FCs!$V$1:$V$11201,stats!N$2,FCs!$W$1:$W$11201,stats!N$1)","v":0},{"$f":"SUMIFS(FCs!$AA$1:$AA$11201,FCs!$A$1:$A$11201,stats!$B30,FCs!$V$1:$V$11201,stats!O$2,FCs!$W$1:$W$11201,stats!O$1)","v":0},{"$f":"SUMIFS(FCs!$AA$1:$AA$11201,FCs!$A$1:$A$11201,stats!$B30,FCs!$V$1:$V$11201,stats!P$2,FCs!$W$1:$W$11201,stats!P$1)","v":0},{"$f":"SUMIFS(FCs!$AA$1:$AA$11201,FCs!$A$1:$A$11201,stats!$B30,FCs!$V$1:$V$11201,stats!Q$2,FCs!$W$1:$W$11201,stats!Q$1)","v":0},null,0,0,null,52]
[{"$f":"syllabus!A30","v":250},"NAIC.SSAP-9",null,0,null,{"$f":"SUMIFS(FCs!$AA$1:$AA$11201,FCs!$A$1:$A$11201,stats!$B31,FCs!$V$1:$V$11201,stats!F$2,FCs!$W$1:$W$11201,stats!F$1)","v":0},{"$f":"SUMIFS(FCs!$AA$1:$AA$11201,FCs!$A$1:$A$11201,stats!$B31,FCs!$V$1:$V$11201,stats!G$2,FCs!$W$1:$W$11201,stats!G$1)","v":0},{"$f":"SUMIFS(FCs!$AA$1:$AA$11201,FCs!$A$1:$A$11201,stats!$B31,FCs!$V$1:$V$11201,stats!H$2,FCs!$W$1:$W$11201,stats!H$1)","v":0},{"$f":"SUMIFS(FCs!$AA$1:$AA$11201,FCs!$A$1:$A$11201,stats!$B31,FCs!$V$1:$V$11201,stats!I$2,FCs!$W$1:$W$11201,stats!I$1)","v":0},{"$f":"SUMIFS(FCs!$AA$1:$AA$11201,FCs!$A$1:$A$11201,stats!$B31,FCs!$V$1:$V$11201,stats!J$2,FCs!$W$1:$W$11201,stats!J$1)","v":0},{"$f":"SUMIFS(FCs!$AA$1:$AA$11201,FCs!$A$1:$A$11201,stats!$B31,FCs!$V$1:$V$11201,stats!K$2,FCs!$W$1:$W$11201,stats!K$1)","v":0},{"$f":"SUMIFS(FCs!$AA$1:$AA$11201,FCs!$A$1:$A$11201,stats!$B31,FCs!$V$1:$V$11201,stats!L$2,FCs!$W$1:$W$11201,stats!L$1)","v":0},{"$f":"SUMIFS(FCs!$AA$1:$AA$11201,FCs!$A$1:$A$11201,stats!$B31,FCs!$V$1:$V$11201,stats!M$2,FCs!$W$1:$W$11201,stats!M$1)","v":0},{"$f":"SUMIFS(FCs!$AA$1:$AA$11201,FCs!$A$1:$A$11201,stats!$B31,FCs!$V$1:$V$11201,stats!N$2,FCs!$W$1:$W$11201,stats!N$1)","v":2},{"$f":"SUMIFS(FCs!$AA$1:$AA$11201,FCs!$A$1:$A$11201,stats!$B31,FCs!$V$1:$V$11201,stats!O$2,FCs!$W$1:$W$11201,stats!O$1)","v":0},{"$f":"SUMIFS(FCs!$AA$1:$AA$11201,FCs!$A$1:$A$11201,stats!$B31,FCs!$V$1:$V$11201,stats!P$2,FCs!$W$1:$W$11201,stats!P$1)","v":0},{"$f":"SUMIFS(FCs!$AA$1:$AA$11201,FCs!$A$1:$A$11201,stats!$B31,FCs!$V$1:$V$11201,stats!Q$2,FCs!$W$1:$W$11201,stats!Q$1)","v":0},null,0.5,8.9435438792621576E-4,null,39]
[{"$f":"syllabus!A31","v":260},"NAIC.SSAP-53",null,0,null,{"$f":"SUMIFS(FCs!$AA$1:$AA$11201,FCs!$A$1:$A$11201,stats!$B32,FCs!$V$1:$V$11201,stats!F$2,FCs!$W$1:$W$11201,stats!F$1)","v":0},{"$f":"SUMIFS(FCs!$AA$1:$AA$11201,FCs!$A$1:$A$11201,stats!$B32,FCs!$V$1:$V$11201,stats!G$2,FCs!$W$1:$W$11201,stats!G$1)","v":0},{"$f":"SUMIFS(FCs!$AA$1:$AA$11201,FCs!$A$1:$A$11201,stats!$B32,FCs!$V$1:$V$11201,stats!H$2,FCs!$W$1:$W$11201,stats!H$1)","v":0},{"$f":"SUMIFS(FCs!$AA$1:$AA$11201,FCs!$A$1:$A$11201,stats!$B32,FCs!$V$1:$V$11201,stats!I$2,FCs!$W$1:$W$11201,stats!I$1)","v":0},{"$f":"SUMIFS(FCs!$AA$1:$AA$11201,FCs!$A$1:$A$11201,stats!$B32,FCs!$V$1:$V$11201,stats!J$2,FCs!$W$1:$W$11201,stats!J$1)","v":0},{"$f":"SUMIFS(FCs!$AA$1:$AA$11201,FCs!$A$1:$A$11201,stats!$B32,FCs!$V$1:$V$11201,stats!K$2,FCs!$W$1:$W$11201,stats!K$1)","v":0},{"$f":"SUMIFS(FCs!$AA$1:$AA$11201,FCs!$A$1:$A$11201,stats!$B32,FCs!$V$1:$V$11201,stats!L$2,FCs!$W$1:$W$11201,stats!L$1)","v":0},{"$f":"SUMIFS(FCs!$AA$1:$AA$11201,FCs!$A$1:$A$11201,stats!$B32,FCs!$V$1:$V$11201,stats!M$2,FCs!$W$1:$W$11201,stats!M$1)","v":0},{"$f":"SUMIFS(FCs!$AA$1:$AA$11201,FCs!$A$1:$A$11201,stats!$B32,FCs!$V$1:$V$11201,stats!N$2,FCs!$W$1:$W$11201,stats!N$1)","v":0},{"$f":"SUMIFS(FCs!$AA$1:$AA$11201,FCs!$A$1:$A$11201,stats!$B32,FCs!$V$1:$V$11201,stats!O$2,FCs!$W$1:$W$11201,stats!O$1)","v":0},{"$f":"SUMIFS(FCs!$AA$1:$AA$11201,FCs!$A$1:$A$11201,stats!$B32,FCs!$V$1:$V$11201,stats!P$2,FCs!$W$1:$W$11201,stats!P$1)","v":0},{"$f":"SUMIFS(FCs!$AA$1:$AA$11201,FCs!$A$1:$A$11201,stats!$B32,FCs!$V$1:$V$11201,stats!Q$2,FCs!$W$1:$W$11201,stats!Q$1)","v":0},null,0,0,null,52]
[{"$f":"syllabus!A32","v":270},"NAIC.SSAP-55",null,0,null,{"$f":"SUMIFS(FCs!$AA$1:$AA$11201,FCs!$A$1:$A$11201,stats!$B33,FCs!$V$1:$V$11201,stats!F$2,FCs!$W$1:$W$11201,stats!F$1)","v":0},{"$f":"SUMIFS(FCs!$AA$1:$AA$11201,FCs!$A$1:$A$11201,stats!$B33,FCs!$V$1:$V$11201,stats!G$2,FCs!$W$1:$W$11201,stats!G$1)","v":0},{"$f":"SUMIFS(FCs!$AA$1:$AA$11201,FCs!$A$1:$A$11201,stats!$B33,FCs!$V$1:$V$11201,stats!H$2,FCs!$W$1:$W$11201,stats!H$1)","v":0},{"$f":"SUMIFS(FCs!$AA$1:$AA$11201,FCs!$A$1:$A$11201,stats!$B33,FCs!$V$1:$V$11201,stats!I$2,FCs!$W$1:$W$11201,stats!I$1)","v":0},{"$f":"SUMIFS(FCs!$AA$1:$AA$11201,FCs!$A$1:$A$11201,stats!$B33,FCs!$V$1:$V$11201,stats!J$2,FCs!$W$1:$W$11201,stats!J$1)","v":0},{"$f":"SUMIFS(FCs!$AA$1:$AA$11201,FCs!$A$1:$A$11201,stats!$B33,FCs!$V$1:$V$11201,stats!K$2,FCs!$W$1:$W$11201,stats!K$1)","v":0},{"$f":"SUMIFS(FCs!$AA$1:$AA$11201,FCs!$A$1:$A$11201,stats!$B33,FCs!$V$1:$V$11201,stats!L$2,FCs!$W$1:$W$11201,stats!L$1)","v":0},{"$f":"SUMIFS(FCs!$AA$1:$AA$11201,FCs!$A$1:$A$11201,stats!$B33,FCs!$V$1:$V$11201,stats!M$2,FCs!$W$1:$W$11201,stats!M$1)","v":0},{"$f":"SUMIFS(FCs!$AA$1:$AA$11201,FCs!$A$1:$A$11201,stats!$B33,FCs!$V$1:$V$11201,stats!N$2,FCs!$W$1:$W$11201,stats!N$1)","v":0},{"$f":"SUMIFS(FCs!$AA$1:$AA$11201,FCs!$A$1:$A$11201,stats!$B33,FCs!$V$1:$V$11201,stats!O$2,FCs!$W$1:$W$11201,stats!O$1)","v":0},{"$f":"SUMIFS(FCs!$AA$1:$AA$11201,FCs!$A$1:$A$11201,stats!$B33,FCs!$V$1:$V$11201,stats!P$2,FCs!$W$1:$W$11201,stats!P$1)","v":0},{"$f":"SUMIFS(FCs!$AA$1:$AA$11201,FCs!$A$1:$A$11201,stats!$B33,FCs!$V$1:$V$11201,stats!Q$2,FCs!$W$1:$W$11201,stats!Q$1)","v":0},null,0,0,null,52]
[{"$f":"syllabus!A33","v":280},"NAIC.SSAP-62R",null,0,null,{"$f":"SUMIFS(FCs!$AA$1:$AA$11201,FCs!$A$1:$A$11201,stats!$B34,FCs!$V$1:$V$11201,stats!F$2,FCs!$W$1:$W$11201,stats!F$1)","v":0},{"$f":"SUMIFS(FCs!$AA$1:$AA$11201,FCs!$A$1:$A$11201,stats!$B34,FCs!$V$1:$V$11201,stats!G$2,FCs!$W$1:$W$11201,stats!G$1)","v":2},{"$f":"SUMIFS(FCs!$AA$1:$AA$11201,FCs!$A$1:$A$11201,stats!$B34,FCs!$V$1:$V$11201,stats!H$2,FCs!$W$1:$W$11201,stats!H$1)","v":1.75},{"$f":"SUMIFS(FCs!$AA$1:$AA$11201,FCs!$A$1:$A$11201,stats!$B34,FCs!$V$1:$V$11201,stats!I$2,FCs!$W$1:$W$11201,stats!I$1)","v":0},{"$f":"SUMIFS(FCs!$AA$1:$AA$11201,FCs!$A$1:$A$11201,stats!$B34,FCs!$V$1:$V$11201,stats!J$2,FCs!$W$1:$W$11201,stats!J$1)","v":0},{"$f":"SUMIFS(FCs!$AA$1:$AA$11201,FCs!$A$1:$A$11201,stats!$B34,FCs!$V$1:$V$11201,stats!K$2,FCs!$W$1:$W$11201,stats!K$1)","v":0},{"$f":"SUMIFS(FCs!$AA$1:$AA$11201,FCs!$A$1:$A$11201,stats!$B34,FCs!$V$1:$V$11201,stats!L$2,FCs!$W$1:$W$11201,stats!L$1)","v":0},{"$f":"SUMIFS(FCs!$AA$1:$AA$11201,FCs!$A$1:$A$11201,stats!$B34,FCs!$V$1:$V$11201,stats!M$2,FCs!$W$1:$W$11201,stats!M$1)","v":0},{"$f":"SUMIFS(FCs!$AA$1:$AA$11201,FCs!$A$1:$A$11201,stats!$B34,FCs!$V$1:$V$11201,stats!N$2,FCs!$W$1:$W$11201,stats!N$1)","v":6},{"$f":"SUMIFS(FCs!$AA$1:$AA$11201,FCs!$A$1:$A$11201,stats!$B34,FCs!$V$1:$V$11201,stats!O$2,FCs!$W$1:$W$11201,stats!O$1)","v":0},{"$f":"SUMIFS(FCs!$AA$1:$AA$11201,FCs!$A$1:$A$11201,stats!$B34,FCs!$V$1:$V$11201,stats!P$2,FCs!$W$1:$W$11201,stats!P$1)","v":0},{"$f":"SUMIFS(FCs!$AA$1:$AA$11201,FCs!$A$1:$A$11201,stats!$B34,FCs!$V$1:$V$11201,stats!Q$2,FCs!$W$1:$W$11201,stats!Q$1)","v":1.5},null,5.25,9.3907210732252656E-3,null,26]
[{"$f":"syllabus!A34","v":290},"NAIC.SSAP-65",null,0,null,{"$f":"SUMIFS(FCs!$AA$1:$AA$11201,FCs!$A$1:$A$11201,stats!$B35,FCs!$V$1:$V$11201,stats!F$2,FCs!$W$1:$W$11201,stats!F$1)","v":0},{"$f":"SUMIFS(FCs!$AA$1:$AA$11201,FCs!$A$1:$A$11201,stats!$B35,FCs!$V$1:$V$11201,stats!G$2,FCs!$W$1:$W$11201,stats!G$1)","v":0},{"$f":"SUMIFS(FCs!$AA$1:$AA$11201,FCs!$A$1:$A$11201,stats!$B35,FCs!$V$1:$V$11201,stats!H$2,FCs!$W$1:$W$11201,stats!H$1)","v":0},{"$f":"SUMIFS(FCs!$AA$1:$AA$11201,FCs!$A$1:$A$11201,stats!$B35,FCs!$V$1:$V$11201,stats!I$2,FCs!$W$1:$W$11201,stats!I$1)","v":0},{"$f":"SUMIFS(FCs!$AA$1:$AA$11201,FCs!$A$1:$A$11201,stats!$B35,FCs!$V$1:$V$11201,stats!J$2,FCs!$W$1:$W$11201,stats!J$1)","v":0},{"$f":"SUMIFS(FCs!$AA$1:$AA$11201,FCs!$A$1:$A$11201,stats!$B35,FCs!$V$1:$V$11201,stats!K$2,FCs!$W$1:$W$11201,stats!K$1)","v":0},{"$f":"SUMIFS(FCs!$AA$1:$AA$11201,FCs!$A$1:$A$11201,stats!$B35,FCs!$V$1:$V$11201,stats!L$2,FCs!$W$1:$W$11201,stats!L$1)","v":0},{"$f":"SUMIFS(FCs!$AA$1:$AA$11201,FCs!$A$1:$A$11201,stats!$B35,FCs!$V$1:$V$11201,stats!M$2,FCs!$W$1:$W$11201,stats!M$1)","v":0},{"$f":"SUMIFS(FCs!$AA$1:$AA$11201,FCs!$A$1:$A$11201,stats!$B35,FCs!$V$1:$V$11201,stats!N$2,FCs!$W$1:$W$11201,stats!N$1)","v":0},{"$f":"SUMIFS(FCs!$AA$1:$AA$11201,FCs!$A$1:$A$11201,stats!$B35,FCs!$V$1:$V$11201,stats!O$2,FCs!$W$1:$W$11201,stats!O$1)","v":0},{"$f":"SUMIFS(FCs!$AA$1:$AA$11201,FCs!$A$1:$A$11201,stats!$B35,FCs!$V$1:$V$11201,stats!P$2,FCs!$W$1:$W$11201,stats!P$1)","v":0},{"$f":"SUMIFS(FCs!$AA$1:$AA$11201,FCs!$A$1:$A$11201,stats!$B35,FCs!$V$1:$V$11201,stats!Q$2,FCs!$W$1:$W$11201,stats!Q$1)","v":3.5},null,0,0,null,52]
[{"$f":"syllabus!A35","v":300},"NAIC.IRIS",null,0,null,{"$f":"SUMIFS(FCs!$AA$1:$AA$11201,FCs!$A$1:$A$11201,stats!$B36,FCs!$V$1:$V$11201,stats!F$2,FCs!$W$1:$W$11201,stats!F$1)","v":6.5},{"$f":"SUMIFS(FCs!$AA$1:$AA$11201,FCs!$A$1:$A$11201,stats!$B36,FCs!$V$1:$V$11201,stats!G$2,FCs!$W$1:$W$11201,stats!G$1)","v":6},{"$f":"SUMIFS(FCs!$AA$1:$AA$11201,FCs!$A$1:$A$11201,stats!$B36,FCs!$V$1:$V$11201,stats!H$2,FCs!$W$1:$W$11201,stats!H$1)","v":6},{"$f":"SUMIFS(FCs!$AA$1:$AA$11201,FCs!$A$1:$A$11201,stats!$B36,FCs!$V$1:$V$11201,stats!I$2,FCs!$W$1:$W$11201,stats!I$1)","v":8.75},{"$f":"SUMIFS(FCs!$AA$1:$AA$11201,FCs!$A$1:$A$11201,stats!$B36,FCs!$V$1:$V$11201,stats!J$2,FCs!$W$1:$W$11201,stats!J$1)","v":3.75},{"$f":"SUMIFS(FCs!$AA$1:$AA$11201,FCs!$A$1:$A$11201,stats!$B36,FCs!$V$1:$V$11201,stats!K$2,FCs!$W$1:$W$11201,stats!K$1)","v":6},{"$f":"SUMIFS(FCs!$AA$1:$AA$11201,FCs!$A$1:$A$11201,stats!$B36,FCs!$V$1:$V$11201,stats!L$2,FCs!$W$1:$W$11201,stats!L$1)","v":0},{"$f":"SUMIFS(FCs!$AA$1:$AA$11201,FCs!$A$1:$A$11201,stats!$B36,FCs!$V$1:$V$11201,stats!M$2,FCs!$W$1:$W$11201,stats!M$1)","v":5},{"$f":"SUMIFS(FCs!$AA$1:$AA$11201,FCs!$A$1:$A$11201,stats!$B36,FCs!$V$1:$V$11201,stats!N$2,FCs!$W$1:$W$11201,stats!N$1)","v":4.875},{"$f":"SUMIFS(FCs!$AA$1:$AA$11201,FCs!$A$1:$A$11201,stats!$B36,FCs!$V$1:$V$11201,stats!O$2,FCs!$W$1:$W$11201,stats!O$1)","v":9.25},{"$f":"SUMIFS(FCs!$AA$1:$AA$11201,FCs!$A$1:$A$11201,stats!$B36,FCs!$V$1:$V$11201,stats!P$2,FCs!$W$1:$W$11201,stats!P$1)","v":3.5},{"$f":"SUMIFS(FCs!$AA$1:$AA$11201,FCs!$A$1:$A$11201,stats!$B36,FCs!$V$1:$V$11201,stats!Q$2,FCs!$W$1:$W$11201,stats!Q$1)","v":5.5},null,43.03125,7.6970374510899942E-2,null,{"$f":"_xlfn.RANK.AVG(T36,T$5:T$74)","v":2}]
[{"$f":"syllabus!A36","v":310},"NAIC.Annual",null,0,null,{"$f":"SUMIFS(FCs!$AA$1:$AA$11201,FCs!$A$1:$A$11201,stats!$B37,FCs!$V$1:$V$11201,stats!F$2,FCs!$W$1:$W$11201,stats!F$1)","v":0},{"$f":"SUMIFS(FCs!$AA$1:$AA$11201,FCs!$A$1:$A$11201,stats!$B37,FCs!$V$1:$V$11201,stats!G$2,FCs!$W$1:$W$11201,stats!G$1)","v":0},{"$f":"SUMIFS(FCs!$AA$1:$AA$11201,FCs!$A$1:$A$11201,stats!$B37,FCs!$V$1:$V$11201,stats!H$2,FCs!$W$1:$W$11201,stats!H$1)","v":0},{"$f":"SUMIFS(FCs!$AA$1:$AA$11201,FCs!$A$1:$A$11201,stats!$B37,FCs!$V$1:$V$11201,stats!I$2,FCs!$W$1:$W$11201,stats!I$1)","v":0},{"$f":"SUMIFS(FCs!$AA$1:$AA$11201,FCs!$A$1:$A$11201,stats!$B37,FCs!$V$1:$V$11201,stats!J$2,FCs!$W$1:$W$11201,stats!J$1)","v":0},{"$f":"SUMIFS(FCs!$AA$1:$AA$11201,FCs!$A$1:$A$11201,stats!$B37,FCs!$V$1:$V$11201,stats!K$2,FCs!$W$1:$W$11201,stats!K$1)","v":0},{"$f":"SUMIFS(FCs!$AA$1:$AA$11201,FCs!$A$1:$A$11201,stats!$B37,FCs!$V$1:$V$11201,stats!L$2,FCs!$W$1:$W$11201,stats!L$1)","v":0},{"$f":"SUMIFS(FCs!$AA$1:$AA$11201,FCs!$A$1:$A$11201,stats!$B37,FCs!$V$1:$V$11201,stats!M$2,FCs!$W$1:$W$11201,stats!M$1)","v":0},{"$f":"SUMIFS(FCs!$AA$1:$AA$11201,FCs!$A$1:$A$11201,stats!$B37,FCs!$V$1:$V$11201,stats!N$2,FCs!$W$1:$W$11201,stats!N$1)","v":0},{"$f":"SUMIFS(FCs!$AA$1:$AA$11201,FCs!$A$1:$A$11201,stats!$B37,FCs!$V$1:$V$11201,stats!O$2,FCs!$W$1:$W$11201,stats!O$1)","v":0},{"$f":"SUMIFS(FCs!$AA$1:$AA$11201,FCs!$A$1:$A$11201,stats!$B37,FCs!$V$1:$V$11201,stats!P$2,FCs!$W$1:$W$11201,stats!P$1)","v":0},{"$f":"SUMIFS(FCs!$AA$1:$AA$11201,FCs!$A$1:$A$11201,stats!$B37,FCs!$V$1:$V$11201,stats!Q$2,FCs!$W$1:$W$11201,stats!Q$1)","v":0},null,0,0,null,52]
[{"$f":"syllabus!A37","v":320},"NAIC.AnnualExs",null,0,null,{"$f":"SUMIFS(FCs!$AA$1:$AA$11201,FCs!$A$1:$A$11201,stats!$B38,FCs!$V$1:$V$11201,stats!F$2,FCs!$W$1:$W$11201,stats!F$1)","v":0},{"$f":"SUMIFS(FCs!$AA$1:$AA$11201,FCs!$A$1:$A$11201,stats!$B38,FCs!$V$1:$V$11201,stats!G$2,FCs!$W$1:$W$11201,stats!G$1)","v":0},{"$f":"SUMIFS(FCs!$AA$1:$AA$11201,FCs!$A$1:$A$11201,stats!$B38,FCs!$V$1:$V$11201,stats!H$2,FCs!$W$1:$W$11201,stats!H$1)","v":0},{"$f":"SUMIFS(FCs!$AA$1:$AA$11201,FCs!$A$1:$A$11201,stats!$B38,FCs!$V$1:$V$11201,stats!I$2,FCs!$W$1:$W$11201,stats!I$1)","v":0},{"$f":"SUMIFS(FCs!$AA$1:$AA$11201,FCs!$A$1:$A$11201,stats!$B38,FCs!$V$1:$V$11201,stats!J$2,FCs!$W$1:$W$11201,stats!J$1)","v":0},{"$f":"SUMIFS(FCs!$AA$1:$AA$11201,FCs!$A$1:$A$11201,stats!$B38,FCs!$V$1:$V$11201,stats!K$2,FCs!$W$1:$W$11201,stats!K$1)","v":0},{"$f":"SUMIFS(FCs!$AA$1:$AA$11201,FCs!$A$1:$A$11201,stats!$B38,FCs!$V$1:$V$11201,stats!L$2,FCs!$W$1:$W$11201,stats!L$1)","v":0},{"$f":"SUMIFS(FCs!$AA$1:$AA$11201,FCs!$A$1:$A$11201,stats!$B38,FCs!$V$1:$V$11201,stats!M$2,FCs!$W$1:$W$11201,stats!M$1)","v":0},{"$f":"SUMIFS(FCs!$AA$1:$AA$11201,FCs!$A$1:$A$11201,stats!$B38,FCs!$V$1:$V$11201,stats!N$2,FCs!$W$1:$W$11201,stats!N$1)","v":0},{"$f":"SUMIFS(FCs!$AA$1:$AA$11201,FCs!$A$1:$A$11201,stats!$B38,FCs!$V$1:$V$11201,stats!O$2,FCs!$W$1:$W$11201,stats!O$1)","v":0},{"$f":"SUMIFS(FCs!$AA$1:$AA$11201,FCs!$A$1:$A$11201,stats!$B38,FCs!$V$1:$V$11201,stats!P$2,FCs!$W$1:$W$11201,stats!P$1)","v":0},{"$f":"SUMIFS(FCs!$AA$1:$AA$11201,FCs!$A$1:$A$11201,stats!$B38,FCs!$V$1:$V$11201,stats!Q$2,FCs!$W$1:$W$11201,stats!Q$1)","v":0},null,0,0,null,52]
[{"$f":"syllabus!A38","v":330},{"$f":"VLOOKUP(A39,Syllabus,2,FALSE)","v":"NAIC.Price"},null,0,null,{"$f":"SUMIFS(FCs!$AA$1:$AA$11201,FCs!$A$1:$A$11201,stats!$B39,FCs!$V$1:$V$11201,stats!F$2,FCs!$W$1:$W$11201,stats!F$1)","v":3},{"$f":"SUMIFS(FCs!$AA$1:$AA$11201,FCs!$A$1:$A$11201,stats!$B39,FCs!$V$1:$V$11201,stats!G$2,FCs!$W$1:$W$11201,stats!G$1)","v":3.25},{"$f":"SUMIFS(FCs!$AA$1:$AA$11201,FCs!$A$1:$A$11201,stats!$B39,FCs!$V$1:$V$11201,stats!H$2,FCs!$W$1:$W$11201,stats!H$1)","v":0},{"$f":"SUMIFS(FCs!$AA$1:$AA$11201,FCs!$A$1:$A$11201,stats!$B39,FCs!$V$1:$V$11201,stats!I$2,FCs!$W$1:$W$11201,stats!I$1)","v":0},{"$f":"SUMIFS(FCs!$AA$1:$AA$11201,FCs!$A$1:$A$11201,stats!$B39,FCs!$V$1:$V$11201,stats!J$2,FCs!$W$1:$W$11201,stats!J$1)","v":0},{"$f":"SUMIFS(FCs!$AA$1:$AA$11201,FCs!$A$1:$A$11201,stats!$B39,FCs!$V$1:$V$11201,stats!K$2,FCs!$W$1:$W$11201,stats!K$1)","v":0},{"$f":"SUMIFS(FCs!$AA$1:$AA$11201,FCs!$A$1:$A$11201,stats!$B39,FCs!$V$1:$V$11201,stats!L$2,FCs!$W$1:$W$11201,stats!L$1)","v":0},{"$f":"SUMIFS(FCs!$AA$1:$AA$11201,FCs!$A$1:$A$11201,stats!$B39,FCs!$V$1:$V$11201,stats!M$2,FCs!$W$1:$W$11201,stats!M$1)","v":0},{"$f":"SUMIFS(FCs!$AA$1:$AA$11201,FCs!$A$1:$A$11201,stats!$B39,FCs!$V$1:$V$11201,stats!N$2,FCs!$W$1:$W$11201,stats!N$1)","v":0},{"$f":"SUMIFS(FCs!$AA$1:$AA$11201,FCs!$A$1:$A$11201,stats!$B39,FCs!$V$1:$V$11201,stats!O$2,FCs!$W$1:$W$11201,stats!O$1)","v":0},{"$f":"SUMIFS(FCs!$AA$1:$AA$11201,FCs!$A$1:$A$11201,stats!$B39,FCs!$V$1:$V$11201,stats!P$2,FCs!$W$1:$W$11201,stats!P$1)","v":0},{"$f":"SUMIFS(FCs!$AA$1:$AA$11201,FCs!$A$1:$A$11201,stats!$B39,FCs!$V$1:$V$11201,stats!Q$2,FCs!$W$1:$W$11201,stats!Q$1)","v":0},null,6.25,1.1179429849077696E-2,null,24]
[{"$f":"syllabus!A39","v":340},"NAIC.Solvency",null,0,null,{"$f":"SUMIFS(FCs!$AA$1:$AA$11201,FCs!$A$1:$A$11201,stats!$B40,FCs!$V$1:$V$11201,stats!F$2,FCs!$W$1:$W$11201,stats!F$1)","v":0},{"$f":"SUMIFS(FCs!$AA$1:$AA$11201,FCs!$A$1:$A$11201,stats!$B40,FCs!$V$1:$V$11201,stats!G$2,FCs!$W$1:$W$11201,stats!G$1)","v":0},{"$f":"SUMIFS(FCs!$AA$1:$AA$11201,FCs!$A$1:$A$11201,stats!$B40,FCs!$V$1:$V$11201,stats!H$2,FCs!$W$1:$W$11201,stats!H$1)","v":0},{"$f":"SUMIFS(FCs!$AA$1:$AA$11201,FCs!$A$1:$A$11201,stats!$B40,FCs!$V$1:$V$11201,stats!I$2,FCs!$W$1:$W$11201,stats!I$1)","v":2.5},{"$f":"SUMIFS(FCs!$AA$1:$AA$11201,FCs!$A$1:$A$11201,stats!$B40,FCs!$V$1:$V$11201,stats!J$2,FCs!$W$1:$W$11201,stats!J$1)","v":2.5},{"$f":"SUMIFS(FCs!$AA$1:$AA$11201,FCs!$A$1:$A$11201,stats!$B40,FCs!$V$1:$V$11201,stats!K$2,FCs!$W$1:$W$11201,stats!K$1)","v":0},{"$f":"SUMIFS(FCs!$AA$1:$AA$11201,FCs!$A$1:$A$11201,stats!$B40,FCs!$V$1:$V$11201,stats!L$2,FCs!$W$1:$W$11201,stats!L$1)","v":5.5},{"$f":"SUMIFS(FCs!$AA$1:$AA$11201,FCs!$A$1:$A$11201,stats!$B40,FCs!$V$1:$V$11201,stats!M$2,FCs!$W$1:$W$11201,stats!M$1)","v":0},{"$f":"SUMIFS(FCs!$AA$1:$AA$11201,FCs!$A$1:$A$11201,stats!$B40,FCs!$V$1:$V$11201,stats!N$2,FCs!$W$1:$W$11201,stats!N$1)","v":4.5},{"$f":"SUMIFS(FCs!$AA$1:$AA$11201,FCs!$A$1:$A$11201,stats!$B40,FCs!$V$1:$V$11201,stats!O$2,FCs!$W$1:$W$11201,stats!O$1)","v":6.25},{"$f":"SUMIFS(FCs!$AA$1:$AA$11201,FCs!$A$1:$A$11201,stats!$B40,FCs!$V$1:$V$11201,stats!P$2,FCs!$W$1:$W$11201,stats!P$1)","v":0},{"$f":"SUMIFS(FCs!$AA$1:$AA$11201,FCs!$A$1:$A$11201,stats!$B40,FCs!$V$1:$V$11201,stats!Q$2,FCs!$W$1:$W$11201,stats!Q$1)","v":0},null,10.4375,1.8669647847959756E-2,null,16]
[{"$f":"syllabus!A40","v":350},"Odomirok.Reporting",null,0,null,null,null,null,null,null,null,null,null,null,null,null,null,null,{"$f":"SUM(H41:M41)","v":0},-1E-8,null,65.5,null,null,null,{"$f":"SUM(H41:M60)","v":148.75},{"$f":"Z41/T$1","v":0.34156142365097591}]
[{"$f":"syllabus!A41","v":360},"Odomirok.1-5-Intro",null,0,null,{"$f":"SUMIFS(FCs!$AA$1:$AA$11201,FCs!$A$1:$A$11201,stats!$B42,FCs!$V$1:$V$11201,stats!F$2,FCs!$W$1:$W$11201,stats!F$1)","v":0},{"$f":"SUMIFS(FCs!$AA$1:$AA$11201,FCs!$A$1:$A$11201,stats!$B42,FCs!$V$1:$V$11201,stats!G$2,FCs!$W$1:$W$11201,stats!G$1)","v":0},{"$f":"SUMIFS(FCs!$AA$1:$AA$11201,FCs!$A$1:$A$11201,stats!$B42,FCs!$V$1:$V$11201,stats!H$2,FCs!$W$1:$W$11201,stats!H$1)","v":0},{"$f":"SUMIFS(FCs!$AA$1:$AA$11201,FCs!$A$1:$A$11201,stats!$B42,FCs!$V$1:$V$11201,stats!I$2,FCs!$W$1:$W$11201,stats!I$1)","v":0},{"$f":"SUMIFS(FCs!$AA$1:$AA$11201,FCs!$A$1:$A$11201,stats!$B42,FCs!$V$1:$V$11201,stats!J$2,FCs!$W$1:$W$11201,stats!J$1)","v":0},{"$f":"SUMIFS(FCs!$AA$1:$AA$11201,FCs!$A$1:$A$11201,stats!$B42,FCs!$V$1:$V$11201,stats!K$2,FCs!$W$1:$W$11201,stats!K$1)","v":0},{"$f":"SUMIFS(FCs!$AA$1:$AA$11201,FCs!$A$1:$A$11201,stats!$B42,FCs!$V$1:$V$11201,stats!L$2,FCs!$W$1:$W$11201,stats!L$1)","v":0},{"$f":"SUMIFS(FCs!$AA$1:$AA$11201,FCs!$A$1:$A$11201,stats!$B42,FCs!$V$1:$V$11201,stats!M$2,FCs!$W$1:$W$11201,stats!M$1)","v":0},{"$f":"SUMIFS(FCs!$AA$1:$AA$11201,FCs!$A$1:$A$11201,stats!$B42,FCs!$V$1:$V$11201,stats!N$2,FCs!$W$1:$W$11201,stats!N$1)","v":0},{"$f":"SUMIFS(FCs!$AA$1:$AA$11201,FCs!$A$1:$A$11201,stats!$B42,FCs!$V$1:$V$11201,stats!O$2,FCs!$W$1:$W$11201,stats!O$1)","v":0},{"$f":"SUMIFS(FCs!$AA$1:$AA$11201,FCs!$A$1:$A$11201,stats!$B42,FCs!$V$1:$V$11201,stats!P$2,FCs!$W$1:$W$11201,stats!P$1)","v":0},{"$f":"SUMIFS(FCs!$AA$1:$AA$11201,FCs!$A$1:$A$11201,stats!$B42,FCs!$V$1:$V$11201,stats!Q$2,FCs!$W$1:$W$11201,stats!Q$1)","v":0},null,{"$f":"SUM(F42:K42)+0.5*SUM(L42:M42)+0.25*SUM(N42:O42)","v":0},{"$f":"S42/S$3","v":0},null,52]
[{"$f":"syllabus!A42","v":370},"Odomirok.6-7-BS",null,0,null,{"$f":"SUMIFS(FCs!$AA$1:$AA$11201,FCs!$A$1:$A$11201,stats!$B43,FCs!$V$1:$V$11201,stats!F$2,FCs!$W$1:$W$11201,stats!F$1)","v":1.25},{"$f":"SUMIFS(FCs!$AA$1:$AA$11201,FCs!$A$1:$A$11201,stats!$B43,FCs!$V$1:$V$11201,stats!G$2,FCs!$W$1:$W$11201,stats!G$1)","v":0},{"$f":"SUMIFS(FCs!$AA$1:$AA$11201,FCs!$A$1:$A$11201,stats!$B43,FCs!$V$1:$V$11201,stats!H$2,FCs!$W$1:$W$11201,stats!H$1)","v":2.25},{"$f":"SUMIFS(FCs!$AA$1:$AA$11201,FCs!$A$1:$A$11201,stats!$B43,FCs!$V$1:$V$11201,stats!I$2,FCs!$W$1:$W$11201,stats!I$1)","v":0},{"$f":"SUMIFS(FCs!$AA$1:$AA$11201,FCs!$A$1:$A$11201,stats!$B43,FCs!$V$1:$V$11201,stats!J$2,FCs!$W$1:$W$11201,stats!J$1)","v":0},{"$f":"SUMIFS(FCs!$AA$1:$AA$11201,FCs!$A$1:$A$11201,stats!$B43,FCs!$V$1:$V$11201,stats!K$2,FCs!$W$1:$W$11201,stats!K$1)","v":0},{"$f":"SUMIFS(FCs!$AA$1:$AA$11201,FCs!$A$1:$A$11201,stats!$B43,FCs!$V$1:$V$11201,stats!L$2,FCs!$W$1:$W$11201,stats!L$1)","v":0},{"$f":"SUMIFS(FCs!$AA$1:$AA$11201,FCs!$A$1:$A$11201,stats!$B43,FCs!$V$1:$V$11201,stats!M$2,FCs!$W$1:$W$11201,stats!M$1)","v":0},{"$f":"SUMIFS(FCs!$AA$1:$AA$11201,FCs!$A$1:$A$11201,stats!$B43,FCs!$V$1:$V$11201,stats!N$2,FCs!$W$1:$W$11201,stats!N$1)","v":0},{"$f":"SUMIFS(FCs!$AA$1:$AA$11201,FCs!$A$1:$A$11201,stats!$B43,FCs!$V$1:$V$11201,stats!O$2,FCs!$W$1:$W$11201,stats!O$1)","v":0},{"$f":"SUMIFS(FCs!$AA$1:$AA$11201,FCs!$A$1:$A$11201,stats!$B43,FCs!$V$1:$V$11201,stats!P$2,FCs!$W$1:$W$11201,stats!P$1)","v":0},{"$f":"SUMIFS(FCs!$AA$1:$AA$11201,FCs!$A$1:$A$11201,stats!$B43,FCs!$V$1:$V$11201,stats!Q$2,FCs!$W$1:$W$11201,stats!Q$1)","v":5},null,3.5,6.2604807154835107E-3,null,33]
[{"$f":"syllabus!A43","v":380},"Odomirok.8-9-IS",null,0,null,{"$f":"SUMIFS(FCs!$AA$1:$AA$11201,FCs!$A$1:$A$11201,stats!$B44,FCs!$V$1:$V$11201,stats!F$2,FCs!$W$1:$W$11201,stats!F$1)","v":7},{"$f":"SUMIFS(FCs!$AA$1:$AA$11201,FCs!$A$1:$A$11201,stats!$B44,FCs!$V$1:$V$11201,stats!G$2,FCs!$W$1:$W$11201,stats!G$1)","v":3},{"$f":"SUMIFS(FCs!$AA$1:$AA$11201,FCs!$A$1:$A$11201,stats!$B44,FCs!$V$1:$V$11201,stats!H$2,FCs!$W$1:$W$11201,stats!H$1)","v":6},{"$f":"SUMIFS(FCs!$AA$1:$AA$11201,FCs!$A$1:$A$11201,stats!$B44,FCs!$V$1:$V$11201,stats!I$2,FCs!$W$1:$W$11201,stats!I$1)","v":0},{"$f":"SUMIFS(FCs!$AA$1:$AA$11201,FCs!$A$1:$A$11201,stats!$B44,FCs!$V$1:$V$11201,stats!J$2,FCs!$W$1:$W$11201,stats!J$1)","v":3.25},{"$f":"SUMIFS(FCs!$AA$1:$AA$11201,FCs!$A$1:$A$11201,stats!$B44,FCs!$V$1:$V$11201,stats!K$2,FCs!$W$1:$W$11201,stats!K$1)","v":0},{"$f":"SUMIFS(FCs!$AA$1:$AA$11201,FCs!$A$1:$A$11201,stats!$B44,FCs!$V$1:$V$11201,stats!L$2,FCs!$W$1:$W$11201,stats!L$1)","v":5.75},{"$f":"SUMIFS(FCs!$AA$1:$AA$11201,FCs!$A$1:$A$11201,stats!$B44,FCs!$V$1:$V$11201,stats!M$2,FCs!$W$1:$W$11201,stats!M$1)","v":0},{"$f":"SUMIFS(FCs!$AA$1:$AA$11201,FCs!$A$1:$A$11201,stats!$B44,FCs!$V$1:$V$11201,stats!N$2,FCs!$W$1:$W$11201,stats!N$1)","v":2.625},{"$f":"SUMIFS(FCs!$AA$1:$AA$11201,FCs!$A$1:$A$11201,stats!$B44,FCs!$V$1:$V$11201,stats!O$2,FCs!$W$1:$W$11201,stats!O$1)","v":0},{"$f":"SUMIFS(FCs!$AA$1:$AA$11201,FCs!$A$1:$A$11201,stats!$B44,FCs!$V$1:$V$11201,stats!P$2,FCs!$W$1:$W$11201,stats!P$1)","v":4.25},{"$f":"SUMIFS(FCs!$AA$1:$AA$11201,FCs!$A$1:$A$11201,stats!$B44,FCs!$V$1:$V$11201,stats!Q$2,FCs!$W$1:$W$11201,stats!Q$1)","v":1.5},null,22.78125,4.0749021799888208E-2,null,6]
[{"$f":"syllabus!A44","v":390},"Odomirok.10-Notes",null,0,null,{"$f":"SUMIFS(FCs!$AA$1:$AA$11201,FCs!$A$1:$A$11201,stats!$B45,FCs!$V$1:$V$11201,stats!F$2,FCs!$W$1:$W$11201,stats!F$1)","v":0},{"$f":"SUMIFS(FCs!$AA$1:$AA$11201,FCs!$A$1:$A$11201,stats!$B45,FCs!$V$1:$V$11201,stats!G$2,FCs!$W$1:$W$11201,stats!G$1)","v":0},{"$f":"SUMIFS(FCs!$AA$1:$AA$11201,FCs!$A$1:$A$11201,stats!$B45,FCs!$V$1:$V$11201,stats!H$2,FCs!$W$1:$W$11201,stats!H$1)","v":0},{"$f":"SUMIFS(FCs!$AA$1:$AA$11201,FCs!$A$1:$A$11201,stats!$B45,FCs!$V$1:$V$11201,stats!I$2,FCs!$W$1:$W$11201,stats!I$1)","v":2.5},{"$f":"SUMIFS(FCs!$AA$1:$AA$11201,FCs!$A$1:$A$11201,stats!$B45,FCs!$V$1:$V$11201,stats!J$2,FCs!$W$1:$W$11201,stats!J$1)","v":0},{"$f":"SUMIFS(FCs!$AA$1:$AA$11201,FCs!$A$1:$A$11201,stats!$B45,FCs!$V$1:$V$11201,stats!K$2,FCs!$W$1:$W$11201,stats!K$1)","v":0},{"$f":"SUMIFS(FCs!$AA$1:$AA$11201,FCs!$A$1:$A$11201,stats!$B45,FCs!$V$1:$V$11201,stats!L$2,FCs!$W$1:$W$11201,stats!L$1)","v":4.25},{"$f":"SUMIFS(FCs!$AA$1:$AA$11201,FCs!$A$1:$A$11201,stats!$B45,FCs!$V$1:$V$11201,stats!M$2,FCs!$W$1:$W$11201,stats!M$1)","v":3},{"$f":"SUMIFS(FCs!$AA$1:$AA$11201,FCs!$A$1:$A$11201,stats!$B45,FCs!$V$1:$V$11201,stats!N$2,FCs!$W$1:$W$11201,stats!N$1)","v":0.75},{"$f":"SUMIFS(FCs!$AA$1:$AA$11201,FCs!$A$1:$A$11201,stats!$B45,FCs!$V$1:$V$11201,stats!O$2,FCs!$W$1:$W$11201,stats!O$1)","v":2.5},{"$f":"SUMIFS(FCs!$AA$1:$AA$11201,FCs!$A$1:$A$11201,stats!$B45,FCs!$V$1:$V$11201,stats!P$2,FCs!$W$1:$W$11201,stats!P$1)","v":3},{"$f":"SUMIFS(FCs!$AA$1:$AA$11201,FCs!$A$1:$A$11201,stats!$B45,FCs!$V$1:$V$11201,stats!Q$2,FCs!$W$1:$W$11201,stats!Q$1)","v":0},null,6.9375,1.2409167132476244E-2,null,22]
[{"$f":"syllabus!A45","v":400},"Odomirok.11-GenInt",null,0,null,{"$f":"SUMIFS(FCs!$AA$1:$AA$11201,FCs!$A$1:$A$11201,stats!$B46,FCs!$V$1:$V$11201,stats!F$2,FCs!$W$1:$W$11201,stats!F$1)","v":0},{"$f":"SUMIFS(FCs!$AA$1:$AA$11201,FCs!$A$1:$A$11201,stats!$B46,FCs!$V$1:$V$11201,stats!G$2,FCs!$W$1:$W$11201,stats!G$1)","v":0},{"$f":"SUMIFS(FCs!$AA$1:$AA$11201,FCs!$A$1:$A$11201,stats!$B46,FCs!$V$1:$V$11201,stats!H$2,FCs!$W$1:$W$11201,stats!H$1)","v":0},{"$f":"SUMIFS(FCs!$AA$1:$AA$11201,FCs!$A$1:$A$11201,stats!$B46,FCs!$V$1:$V$11201,stats!I$2,FCs!$W$1:$W$11201,stats!I$1)","v":0},{"$f":"SUMIFS(FCs!$AA$1:$AA$11201,FCs!$A$1:$A$11201,stats!$B46,FCs!$V$1:$V$11201,stats!J$2,FCs!$W$1:$W$11201,stats!J$1)","v":0},{"$f":"SUMIFS(FCs!$AA$1:$AA$11201,FCs!$A$1:$A$11201,stats!$B46,FCs!$V$1:$V$11201,stats!K$2,FCs!$W$1:$W$11201,stats!K$1)","v":0},{"$f":"SUMIFS(FCs!$AA$1:$AA$11201,FCs!$A$1:$A$11201,stats!$B46,FCs!$V$1:$V$11201,stats!L$2,FCs!$W$1:$W$11201,stats!L$1)","v":0},{"$f":"SUMIFS(FCs!$AA$1:$AA$11201,FCs!$A$1:$A$11201,stats!$B46,FCs!$V$1:$V$11201,stats!M$2,FCs!$W$1:$W$11201,stats!M$1)","v":0},{"$f":"SUMIFS(FCs!$AA$1:$AA$11201,FCs!$A$1:$A$11201,stats!$B46,FCs!$V$1:$V$11201,stats!N$2,FCs!$W$1:$W$11201,stats!N$1)","v":0},{"$f":"SUMIFS(FCs!$AA$1:$AA$11201,FCs!$A$1:$A$11201,stats!$B46,FCs!$V$1:$V$11201,stats!O$2,FCs!$W$1:$W$11201,stats!O$1)","v":0},{"$f":"SUMIFS(FCs!$AA$1:$AA$11201,FCs!$A$1:$A$11201,stats!$B46,FCs!$V$1:$V$11201,stats!P$2,FCs!$W$1:$W$11201,stats!P$1)","v":0},{"$f":"SUMIFS(FCs!$AA$1:$AA$11201,FCs!$A$1:$A$11201,stats!$B46,FCs!$V$1:$V$11201,stats!Q$2,FCs!$W$1:$W$11201,stats!Q$1)","v":0},null,0,0,null,52]
[{"$f":"syllabus!A46","v":410},"Odomirok.12-5yr",null,0,null,{"$f":"SUMIFS(FCs!$AA$1:$AA$11201,FCs!$A$1:$A$11201,stats!$B47,FCs!$V$1:$V$11201,stats!F$2,FCs!$W$1:$W$11201,stats!F$1)","v":0},{"$f":"SUMIFS(FCs!$AA$1:$AA$11201,FCs!$A$1:$A$11201,stats!$B47,FCs!$V$1:$V$11201,stats!G$2,FCs!$W$1:$W$11201,stats!G$1)","v":4},{"$f":"SUMIFS(FCs!$AA$1:$AA$11201,FCs!$A$1:$A$11201,stats!$B47,FCs!$V$1:$V$11201,stats!H$2,FCs!$W$1:$W$11201,stats!H$1)","v":0},{"$f":"SUMIFS(FCs!$AA$1:$AA$11201,FCs!$A$1:$A$11201,stats!$B47,FCs!$V$1:$V$11201,stats!I$2,FCs!$W$1:$W$11201,stats!I$1)","v":0},{"$f":"SUMIFS(FCs!$AA$1:$AA$11201,FCs!$A$1:$A$11201,stats!$B47,FCs!$V$1:$V$11201,stats!J$2,FCs!$W$1:$W$11201,stats!J$1)","v":0},{"$f":"SUMIFS(FCs!$AA$1:$AA$11201,FCs!$A$1:$A$11201,stats!$B47,FCs!$V$1:$V$11201,stats!K$2,FCs!$W$1:$W$11201,stats!K$1)","v":0},{"$f":"SUMIFS(FCs!$AA$1:$AA$11201,FCs!$A$1:$A$11201,stats!$B47,FCs!$V$1:$V$11201,stats!L$2,FCs!$W$1:$W$11201,stats!L$1)","v":0},{"$f":"SUMIFS(FCs!$AA$1:$AA$11201,FCs!$A$1:$A$11201,stats!$B47,FCs!$V$1:$V$11201,stats!M$2,FCs!$W$1:$W$11201,stats!M$1)","v":0},{"$f":"SUMIFS(FCs!$AA$1:$AA$11201,FCs!$A$1:$A$11201,stats!$B47,FCs!$V$1:$V$11201,stats!N$2,FCs!$W$1:$W$11201,stats!N$1)","v":0},{"$f":"SUMIFS(FCs!$AA$1:$AA$11201,FCs!$A$1:$A$11201,stats!$B47,FCs!$V$1:$V$11201,stats!O$2,FCs!$W$1:$W$11201,stats!O$1)","v":0},{"$f":"SUMIFS(FCs!$AA$1:$AA$11201,FCs!$A$1:$A$11201,stats!$B47,FCs!$V$1:$V$11201,stats!P$2,FCs!$W$1:$W$11201,stats!P$1)","v":0},{"$f":"SUMIFS(FCs!$AA$1:$AA$11201,FCs!$A$1:$A$11201,stats!$B47,FCs!$V$1:$V$11201,stats!Q$2,FCs!$W$1:$W$11201,stats!Q$1)","v":0},null,4,7.1548351034097261E-3,null,30]
[{"$f":"syllabus!A47","v":420},"Odomirok.13",null,0,null,{"$f":"SUMIFS(FCs!$AA$1:$AA$11201,FCs!$A$1:$A$11201,stats!$B48,FCs!$V$1:$V$11201,stats!F$2,FCs!$W$1:$W$11201,stats!F$1)","v":0},{"$f":"SUMIFS(FCs!$AA$1:$AA$11201,FCs!$A$1:$A$11201,stats!$B48,FCs!$V$1:$V$11201,stats!G$2,FCs!$W$1:$W$11201,stats!G$1)","v":0},{"$f":"SUMIFS(FCs!$AA$1:$AA$11201,FCs!$A$1:$A$11201,stats!$B48,FCs!$V$1:$V$11201,stats!H$2,FCs!$W$1:$W$11201,stats!H$1)","v":0},{"$f":"SUMIFS(FCs!$AA$1:$AA$11201,FCs!$A$1:$A$11201,stats!$B48,FCs!$V$1:$V$11201,stats!I$2,FCs!$W$1:$W$11201,stats!I$1)","v":0},{"$f":"SUMIFS(FCs!$AA$1:$AA$11201,FCs!$A$1:$A$11201,stats!$B48,FCs!$V$1:$V$11201,stats!J$2,FCs!$W$1:$W$11201,stats!J$1)","v":0},{"$f":"SUMIFS(FCs!$AA$1:$AA$11201,FCs!$A$1:$A$11201,stats!$B48,FCs!$V$1:$V$11201,stats!K$2,FCs!$W$1:$W$11201,stats!K$1)","v":0},{"$f":"SUMIFS(FCs!$AA$1:$AA$11201,FCs!$A$1:$A$11201,stats!$B48,FCs!$V$1:$V$11201,stats!L$2,FCs!$W$1:$W$11201,stats!L$1)","v":0},{"$f":"SUMIFS(FCs!$AA$1:$AA$11201,FCs!$A$1:$A$11201,stats!$B48,FCs!$V$1:$V$11201,stats!M$2,FCs!$W$1:$W$11201,stats!M$1)","v":0},{"$f":"SUMIFS(FCs!$AA$1:$AA$11201,FCs!$A$1:$A$11201,stats!$B48,FCs!$V$1:$V$11201,stats!N$2,FCs!$W$1:$W$11201,stats!N$1)","v":0},{"$f":"SUMIFS(FCs!$AA$1:$AA$11201,FCs!$A$1:$A$11201,stats!$B48,FCs!$V$1:$V$11201,stats!O$2,FCs!$W$1:$W$11201,stats!O$1)","v":0},{"$f":"SUMIFS(FCs!$AA$1:$AA$11201,FCs!$A$1:$A$11201,stats!$B48,FCs!$V$1:$V$11201,stats!P$2,FCs!$W$1:$W$11201,stats!P$1)","v":0},{"$f":"SUMIFS(FCs!$AA$1:$AA$11201,FCs!$A$1:$A$11201,stats!$B48,FCs!$V$1:$V$11201,stats!Q$2,FCs!$W$1:$W$11201,stats!Q$1)","v":0},null,0,0,null,52]
[{"$f":"syllabus!A48","v":430},{"$f":"VLOOKUP(A49,Syllabus,2,FALSE)","v":"Odomirok.14-F"},null,0,null,{"$f":"SUMIFS(FCs!$AA$1:$AA$11201,FCs!$A$1:$A$11201,stats!$B49,FCs!$V$1:$V$11201,stats!F$2,FCs!$W$1:$W$11201,stats!F$1)","v":3},{"$f":"SUMIFS(FCs!$AA$1:$AA$11201,FCs!$A$1:$A$11201,stats!$B49,FCs!$V$1:$V$11201,stats!G$2,FCs!$W$1:$W$11201,stats!G$1)","v":2},{"$f":"SUMIFS(FCs!$AA$1:$AA$11201,FCs!$A$1:$A$11201,stats!$B49,FCs!$V$1:$V$11201,stats!H$2,FCs!$W$1:$W$11201,stats!H$1)","v":2.5},{"$f":"SUMIFS(FCs!$AA$1:$AA$11201,FCs!$A$1:$A$11201,stats!$B49,FCs!$V$1:$V$11201,stats!I$2,FCs!$W$1:$W$11201,stats!I$1)","v":3.75},{"$f":"SUMIFS(FCs!$AA$1:$AA$11201,FCs!$A$1:$A$11201,stats!$B49,FCs!$V$1:$V$11201,stats!J$2,FCs!$W$1:$W$11201,stats!J$1)","v":3.75},{"$f":"SUMIFS(FCs!$AA$1:$AA$11201,FCs!$A$1:$A$11201,stats!$B49,FCs!$V$1:$V$11201,stats!K$2,FCs!$W$1:$W$11201,stats!K$1)","v":4.25},{"$f":"SUMIFS(FCs!$AA$1:$AA$11201,FCs!$A$1:$A$11201,stats!$B49,FCs!$V$1:$V$11201,stats!L$2,FCs!$W$1:$W$11201,stats!L$1)","v":0},{"$f":"SUMIFS(FCs!$AA$1:$AA$11201,FCs!$A$1:$A$11201,stats!$B49,FCs!$V$1:$V$11201,stats!M$2,FCs!$W$1:$W$11201,stats!M$1)","v":4},{"$f":"SUMIFS(FCs!$AA$1:$AA$11201,FCs!$A$1:$A$11201,stats!$B49,FCs!$V$1:$V$11201,stats!N$2,FCs!$W$1:$W$11201,stats!N$1)","v":0},{"$f":"SUMIFS(FCs!$AA$1:$AA$11201,FCs!$A$1:$A$11201,stats!$B49,FCs!$V$1:$V$11201,stats!O$2,FCs!$W$1:$W$11201,stats!O$1)","v":0},{"$f":"SUMIFS(FCs!$AA$1:$AA$11201,FCs!$A$1:$A$11201,stats!$B49,FCs!$V$1:$V$11201,stats!P$2,FCs!$W$1:$W$11201,stats!P$1)","v":3.5},{"$f":"SUMIFS(FCs!$AA$1:$AA$11201,FCs!$A$1:$A$11201,stats!$B49,FCs!$V$1:$V$11201,stats!Q$2,FCs!$W$1:$W$11201,stats!Q$1)","v":5.75},null,21.25,3.8010061486864172E-2,null,7]
[{"$f":"syllabus!A49","v":440},"Odomirok.15-P",null,0,null,{"$f":"SUMIFS(FCs!$AA$1:$AA$11201,FCs!$A$1:$A$11201,stats!$B50,FCs!$V$1:$V$11201,stats!F$2,FCs!$W$1:$W$11201,stats!F$1)","v":4.75},{"$f":"SUMIFS(FCs!$AA$1:$AA$11201,FCs!$A$1:$A$11201,stats!$B50,FCs!$V$1:$V$11201,stats!G$2,FCs!$W$1:$W$11201,stats!G$1)","v":3.5},{"$f":"SUMIFS(FCs!$AA$1:$AA$11201,FCs!$A$1:$A$11201,stats!$B50,FCs!$V$1:$V$11201,stats!H$2,FCs!$W$1:$W$11201,stats!H$1)","v":2},{"$f":"SUMIFS(FCs!$AA$1:$AA$11201,FCs!$A$1:$A$11201,stats!$B50,FCs!$V$1:$V$11201,stats!I$2,FCs!$W$1:$W$11201,stats!I$1)","v":2.75},{"$f":"SUMIFS(FCs!$AA$1:$AA$11201,FCs!$A$1:$A$11201,stats!$B50,FCs!$V$1:$V$11201,stats!J$2,FCs!$W$1:$W$11201,stats!J$1)","v":5},{"$f":"SUMIFS(FCs!$AA$1:$AA$11201,FCs!$A$1:$A$11201,stats!$B50,FCs!$V$1:$V$11201,stats!K$2,FCs!$W$1:$W$11201,stats!K$1)","v":6},{"$f":"SUMIFS(FCs!$AA$1:$AA$11201,FCs!$A$1:$A$11201,stats!$B50,FCs!$V$1:$V$11201,stats!L$2,FCs!$W$1:$W$11201,stats!L$1)","v":5},{"$f":"SUMIFS(FCs!$AA$1:$AA$11201,FCs!$A$1:$A$11201,stats!$B50,FCs!$V$1:$V$11201,stats!M$2,FCs!$W$1:$W$11201,stats!M$1)","v":3},{"$f":"SUMIFS(FCs!$AA$1:$AA$11201,FCs!$A$1:$A$11201,stats!$B50,FCs!$V$1:$V$11201,stats!N$2,FCs!$W$1:$W$11201,stats!N$1)","v":4},{"$f":"SUMIFS(FCs!$AA$1:$AA$11201,FCs!$A$1:$A$11201,stats!$B50,FCs!$V$1:$V$11201,stats!O$2,FCs!$W$1:$W$11201,stats!O$1)","v":8.5},{"$f":"SUMIFS(FCs!$AA$1:$AA$11201,FCs!$A$1:$A$11201,stats!$B50,FCs!$V$1:$V$11201,stats!P$2,FCs!$W$1:$W$11201,stats!P$1)","v":2.75},{"$f":"SUMIFS(FCs!$AA$1:$AA$11201,FCs!$A$1:$A$11201,stats!$B50,FCs!$V$1:$V$11201,stats!Q$2,FCs!$W$1:$W$11201,stats!Q$1)","v":0},null,31.125,5.5673560648406929E-2,null,3]
[{"$f":"syllabus!A50","v":450},"Odomirok.16-17-SAO",null,0,null,{"$f":"SUMIFS(FCs!$AA$1:$AA$11201,FCs!$A$1:$A$11201,stats!$B51,FCs!$V$1:$V$11201,stats!F$2,FCs!$W$1:$W$11201,stats!F$1)","v":0},{"$f":"SUMIFS(FCs!$AA$1:$AA$11201,FCs!$A$1:$A$11201,stats!$B51,FCs!$V$1:$V$11201,stats!G$2,FCs!$W$1:$W$11201,stats!G$1)","v":0},{"$f":"SUMIFS(FCs!$AA$1:$AA$11201,FCs!$A$1:$A$11201,stats!$B51,FCs!$V$1:$V$11201,stats!H$2,FCs!$W$1:$W$11201,stats!H$1)","v":0},{"$f":"SUMIFS(FCs!$AA$1:$AA$11201,FCs!$A$1:$A$11201,stats!$B51,FCs!$V$1:$V$11201,stats!I$2,FCs!$W$1:$W$11201,stats!I$1)","v":0},{"$f":"SUMIFS(FCs!$AA$1:$AA$11201,FCs!$A$1:$A$11201,stats!$B51,FCs!$V$1:$V$11201,stats!J$2,FCs!$W$1:$W$11201,stats!J$1)","v":0},{"$f":"SUMIFS(FCs!$AA$1:$AA$11201,FCs!$A$1:$A$11201,stats!$B51,FCs!$V$1:$V$11201,stats!K$2,FCs!$W$1:$W$11201,stats!K$1)","v":0},{"$f":"SUMIFS(FCs!$AA$1:$AA$11201,FCs!$A$1:$A$11201,stats!$B51,FCs!$V$1:$V$11201,stats!L$2,FCs!$W$1:$W$11201,stats!L$1)","v":0},{"$f":"SUMIFS(FCs!$AA$1:$AA$11201,FCs!$A$1:$A$11201,stats!$B51,FCs!$V$1:$V$11201,stats!M$2,FCs!$W$1:$W$11201,stats!M$1)","v":0},{"$f":"SUMIFS(FCs!$AA$1:$AA$11201,FCs!$A$1:$A$11201,stats!$B51,FCs!$V$1:$V$11201,stats!N$2,FCs!$W$1:$W$11201,stats!N$1)","v":0},{"$f":"SUMIFS(FCs!$AA$1:$AA$11201,FCs!$A$1:$A$11201,stats!$B51,FCs!$V$1:$V$11201,stats!O$2,FCs!$W$1:$W$11201,stats!O$1)","v":0},{"$f":"SUMIFS(FCs!$AA$1:$AA$11201,FCs!$A$1:$A$11201,stats!$B51,FCs!$V$1:$V$11201,stats!P$2,FCs!$W$1:$W$11201,stats!P$1)","v":0},{"$f":"SUMIFS(FCs!$AA$1:$AA$11201,FCs!$A$1:$A$11201,stats!$B51,FCs!$V$1:$V$11201,stats!Q$2,FCs!$W$1:$W$11201,stats!Q$1)","v":0},null,0,0,null,52]
[{"$f":"syllabus!A51","v":460},"Odomirok.18-IEE",null,0,null,{"$f":"SUMIFS(FCs!$AA$1:$AA$11201,FCs!$A$1:$A$11201,stats!$B52,FCs!$V$1:$V$11201,stats!F$2,FCs!$W$1:$W$11201,stats!F$1)","v":0},{"$f":"SUMIFS(FCs!$AA$1:$AA$11201,FCs!$A$1:$A$11201,stats!$B52,FCs!$V$1:$V$11201,stats!G$2,FCs!$W$1:$W$11201,stats!G$1)","v":0},{"$f":"SUMIFS(FCs!$AA$1:$AA$11201,FCs!$A$1:$A$11201,stats!$B52,FCs!$V$1:$V$11201,stats!H$2,FCs!$W$1:$W$11201,stats!H$1)","v":0},{"$f":"SUMIFS(FCs!$AA$1:$AA$11201,FCs!$A$1:$A$11201,stats!$B52,FCs!$V$1:$V$11201,stats!I$2,FCs!$W$1:$W$11201,stats!I$1)","v":3.5},{"$f":"SUMIFS(FCs!$AA$1:$AA$11201,FCs!$A$1:$A$11201,stats!$B52,FCs!$V$1:$V$11201,stats!J$2,FCs!$W$1:$W$11201,stats!J$1)","v":4},{"$f":"SUMIFS(FCs!$AA$1:$AA$11201,FCs!$A$1:$A$11201,stats!$B52,FCs!$V$1:$V$11201,stats!K$2,FCs!$W$1:$W$11201,stats!K$1)","v":2.75},{"$f":"SUMIFS(FCs!$AA$1:$AA$11201,FCs!$A$1:$A$11201,stats!$B52,FCs!$V$1:$V$11201,stats!L$2,FCs!$W$1:$W$11201,stats!L$1)","v":2.5},{"$f":"SUMIFS(FCs!$AA$1:$AA$11201,FCs!$A$1:$A$11201,stats!$B52,FCs!$V$1:$V$11201,stats!M$2,FCs!$W$1:$W$11201,stats!M$1)","v":4.25},{"$f":"SUMIFS(FCs!$AA$1:$AA$11201,FCs!$A$1:$A$11201,stats!$B52,FCs!$V$1:$V$11201,stats!N$2,FCs!$W$1:$W$11201,stats!N$1)","v":2.5},{"$f":"SUMIFS(FCs!$AA$1:$AA$11201,FCs!$A$1:$A$11201,stats!$B52,FCs!$V$1:$V$11201,stats!O$2,FCs!$W$1:$W$11201,stats!O$1)","v":2},{"$f":"SUMIFS(FCs!$AA$1:$AA$11201,FCs!$A$1:$A$11201,stats!$B52,FCs!$V$1:$V$11201,stats!P$2,FCs!$W$1:$W$11201,stats!P$1)","v":3},{"$f":"SUMIFS(FCs!$AA$1:$AA$11201,FCs!$A$1:$A$11201,stats!$B52,FCs!$V$1:$V$11201,stats!Q$2,FCs!$W$1:$W$11201,stats!Q$1)","v":2.75},null,14.75,2.6383454443823364E-2,null,12]
[{"$f":"syllabus!A52","v":470},"Odomirok.19-RBC",null,0,null,{"$f":"SUMIFS(FCs!$AA$1:$AA$11201,FCs!$A$1:$A$11201,stats!$B53,FCs!$V$1:$V$11201,stats!F$2,FCs!$W$1:$W$11201,stats!F$1)","v":3.5},{"$f":"SUMIFS(FCs!$AA$1:$AA$11201,FCs!$A$1:$A$11201,stats!$B53,FCs!$V$1:$V$11201,stats!G$2,FCs!$W$1:$W$11201,stats!G$1)","v":3.75},{"$f":"SUMIFS(FCs!$AA$1:$AA$11201,FCs!$A$1:$A$11201,stats!$B53,FCs!$V$1:$V$11201,stats!H$2,FCs!$W$1:$W$11201,stats!H$1)","v":3.75},{"$f":"SUMIFS(FCs!$AA$1:$AA$11201,FCs!$A$1:$A$11201,stats!$B53,FCs!$V$1:$V$11201,stats!I$2,FCs!$W$1:$W$11201,stats!I$1)","v":4},{"$f":"SUMIFS(FCs!$AA$1:$AA$11201,FCs!$A$1:$A$11201,stats!$B53,FCs!$V$1:$V$11201,stats!J$2,FCs!$W$1:$W$11201,stats!J$1)","v":4.25},{"$f":"SUMIFS(FCs!$AA$1:$AA$11201,FCs!$A$1:$A$11201,stats!$B53,FCs!$V$1:$V$11201,stats!K$2,FCs!$W$1:$W$11201,stats!K$1)","v":3},{"$f":"SUMIFS(FCs!$AA$1:$AA$11201,FCs!$A$1:$A$11201,stats!$B53,FCs!$V$1:$V$11201,stats!L$2,FCs!$W$1:$W$11201,stats!L$1)","v":4.5},{"$f":"SUMIFS(FCs!$AA$1:$AA$11201,FCs!$A$1:$A$11201,stats!$B53,FCs!$V$1:$V$11201,stats!M$2,FCs!$W$1:$W$11201,stats!M$1)","v":6.5},{"$f":"SUMIFS(FCs!$AA$1:$AA$11201,FCs!$A$1:$A$11201,stats!$B53,FCs!$V$1:$V$11201,stats!N$2,FCs!$W$1:$W$11201,stats!N$1)","v":4.5},{"$f":"SUMIFS(FCs!$AA$1:$AA$11201,FCs!$A$1:$A$11201,stats!$B53,FCs!$V$1:$V$11201,stats!O$2,FCs!$W$1:$W$11201,stats!O$1)","v":5.25},{"$f":"SUMIFS(FCs!$AA$1:$AA$11201,FCs!$A$1:$A$11201,stats!$B53,FCs!$V$1:$V$11201,stats!P$2,FCs!$W$1:$W$11201,stats!P$1)","v":3.25},{"$f":"SUMIFS(FCs!$AA$1:$AA$11201,FCs!$A$1:$A$11201,stats!$B53,FCs!$V$1:$V$11201,stats!Q$2,FCs!$W$1:$W$11201,stats!Q$1)","v":8.75},null,30.1875,5.3996646171045277E-2,null,4]
[{"$f":"syllabus!A53","v":480},"Odomirok.20-IRIS",null,0,null,{"$f":"SUMIFS(FCs!$AA$1:$AA$11201,FCs!$A$1:$A$11201,stats!$B54,FCs!$V$1:$V$11201,stats!F$2,FCs!$W$1:$W$11201,stats!F$1)","v":0},{"$f":"SUMIFS(FCs!$AA$1:$AA$11201,FCs!$A$1:$A$11201,stats!$B54,FCs!$V$1:$V$11201,stats!G$2,FCs!$W$1:$W$11201,stats!G$1)","v":0},{"$f":"SUMIFS(FCs!$AA$1:$AA$11201,FCs!$A$1:$A$11201,stats!$B54,FCs!$V$1:$V$11201,stats!H$2,FCs!$W$1:$W$11201,stats!H$1)","v":0},{"$f":"SUMIFS(FCs!$AA$1:$AA$11201,FCs!$A$1:$A$11201,stats!$B54,FCs!$V$1:$V$11201,stats!I$2,FCs!$W$1:$W$11201,stats!I$1)","v":0},{"$f":"SUMIFS(FCs!$AA$1:$AA$11201,FCs!$A$1:$A$11201,stats!$B54,FCs!$V$1:$V$11201,stats!J$2,FCs!$W$1:$W$11201,stats!J$1)","v":0},{"$f":"SUMIFS(FCs!$AA$1:$AA$11201,FCs!$A$1:$A$11201,stats!$B54,FCs!$V$1:$V$11201,stats!K$2,FCs!$W$1:$W$11201,stats!K$1)","v":0},{"$f":"SUMIFS(FCs!$AA$1:$AA$11201,FCs!$A$1:$A$11201,stats!$B54,FCs!$V$1:$V$11201,stats!L$2,FCs!$W$1:$W$11201,stats!L$1)","v":0},{"$f":"SUMIFS(FCs!$AA$1:$AA$11201,FCs!$A$1:$A$11201,stats!$B54,FCs!$V$1:$V$11201,stats!M$2,FCs!$W$1:$W$11201,stats!M$1)","v":0},{"$f":"SUMIFS(FCs!$AA$1:$AA$11201,FCs!$A$1:$A$11201,stats!$B54,FCs!$V$1:$V$11201,stats!N$2,FCs!$W$1:$W$11201,stats!N$1)","v":0},{"$f":"SUMIFS(FCs!$AA$1:$AA$11201,FCs!$A$1:$A$11201,stats!$B54,FCs!$V$1:$V$11201,stats!O$2,FCs!$W$1:$W$11201,stats!O$1)","v":0},{"$f":"SUMIFS(FCs!$AA$1:$AA$11201,FCs!$A$1:$A$11201,stats!$B54,FCs!$V$1:$V$11201,stats!P$2,FCs!$W$1:$W$11201,stats!P$1)","v":0},{"$f":"SUMIFS(FCs!$AA$1:$AA$11201,FCs!$A$1:$A$11201,stats!$B54,FCs!$V$1:$V$11201,stats!Q$2,FCs!$W$1:$W$11201,stats!Q$1)","v":0},null,0,0,null,52]
[{"$f":"syllabus!A54","v":490},"Odomirok.21-Tools",null,{"$f":"C55/C$3","v":0},null,{"$f":"SUMIFS(FCs!$AA$1:$AA$11201,FCs!$A$1:$A$11201,stats!$B55,FCs!$V$1:$V$11201,stats!F$2,FCs!$W$1:$W$11201,stats!F$1)","v":0},{"$f":"SUMIFS(FCs!$AA$1:$AA$11201,FCs!$A$1:$A$11201,stats!$B55,FCs!$V$1:$V$11201,stats!G$2,FCs!$W$1:$W$11201,stats!G$1)","v":0},{"$f":"SUMIFS(FCs!$AA$1:$AA$11201,FCs!$A$1:$A$11201,stats!$B55,FCs!$V$1:$V$11201,stats!H$2,FCs!$W$1:$W$11201,stats!H$1)","v":0},{"$f":"SUMIFS(FCs!$AA$1:$AA$11201,FCs!$A$1:$A$11201,stats!$B55,FCs!$V$1:$V$11201,stats!I$2,FCs!$W$1:$W$11201,stats!I$1)","v":0},{"$f":"SUMIFS(FCs!$AA$1:$AA$11201,FCs!$A$1:$A$11201,stats!$B55,FCs!$V$1:$V$11201,stats!J$2,FCs!$W$1:$W$11201,stats!J$1)","v":0},{"$f":"SUMIFS(FCs!$AA$1:$AA$11201,FCs!$A$1:$A$11201,stats!$B55,FCs!$V$1:$V$11201,stats!K$2,FCs!$W$1:$W$11201,stats!K$1)","v":0},{"$f":"SUMIFS(FCs!$AA$1:$AA$11201,FCs!$A$1:$A$11201,stats!$B55,FCs!$V$1:$V$11201,stats!L$2,FCs!$W$1:$W$11201,stats!L$1)","v":0},{"$f":"SUMIFS(FCs!$AA$1:$AA$11201,FCs!$A$1:$A$11201,stats!$B55,FCs!$V$1:$V$11201,stats!M$2,FCs!$W$1:$W$11201,stats!M$1)","v":0},{"$f":"SUMIFS(FCs!$AA$1:$AA$11201,FCs!$A$1:$A$11201,stats!$B55,FCs!$V$1:$V$11201,stats!N$2,FCs!$W$1:$W$11201,stats!N$1)","v":0},{"$f":"SUMIFS(FCs!$AA$1:$AA$11201,FCs!$A$1:$A$11201,stats!$B55,FCs!$V$1:$V$11201,stats!O$2,FCs!$W$1:$W$11201,stats!O$1)","v":0},{"$f":"SUMIFS(FCs!$AA$1:$AA$11201,FCs!$A$1:$A$11201,stats!$B55,FCs!$V$1:$V$11201,stats!P$2,FCs!$W$1:$W$11201,stats!P$1)","v":0},{"$f":"SUMIFS(FCs!$AA$1:$AA$11201,FCs!$A$1:$A$11201,stats!$B55,FCs!$V$1:$V$11201,stats!Q$2,FCs!$W$1:$W$11201,stats!Q$1)","v":0},null,0,0,null,52]
[{"$f":"syllabus!A55","v":500},"Odomirok.22-23-GAAP",null,0,null,{"$f":"SUMIFS(FCs!$AA$1:$AA$11201,FCs!$A$1:$A$11201,stats!$B56,FCs!$V$1:$V$11201,stats!F$2,FCs!$W$1:$W$11201,stats!F$1)","v":3.5},{"$f":"SUMIFS(FCs!$AA$1:$AA$11201,FCs!$A$1:$A$11201,stats!$B56,FCs!$V$1:$V$11201,stats!G$2,FCs!$W$1:$W$11201,stats!G$1)","v":2.75},{"$f":"SUMIFS(FCs!$AA$1:$AA$11201,FCs!$A$1:$A$11201,stats!$B56,FCs!$V$1:$V$11201,stats!H$2,FCs!$W$1:$W$11201,stats!H$1)","v":7},{"$f":"SUMIFS(FCs!$AA$1:$AA$11201,FCs!$A$1:$A$11201,stats!$B56,FCs!$V$1:$V$11201,stats!I$2,FCs!$W$1:$W$11201,stats!I$1)","v":0},{"$f":"SUMIFS(FCs!$AA$1:$AA$11201,FCs!$A$1:$A$11201,stats!$B56,FCs!$V$1:$V$11201,stats!J$2,FCs!$W$1:$W$11201,stats!J$1)","v":3.75},{"$f":"SUMIFS(FCs!$AA$1:$AA$11201,FCs!$A$1:$A$11201,stats!$B56,FCs!$V$1:$V$11201,stats!K$2,FCs!$W$1:$W$11201,stats!K$1)","v":5.5},{"$f":"SUMIFS(FCs!$AA$1:$AA$11201,FCs!$A$1:$A$11201,stats!$B56,FCs!$V$1:$V$11201,stats!L$2,FCs!$W$1:$W$11201,stats!L$1)","v":0},{"$f":"SUMIFS(FCs!$AA$1:$AA$11201,FCs!$A$1:$A$11201,stats!$B56,FCs!$V$1:$V$11201,stats!M$2,FCs!$W$1:$W$11201,stats!M$1)","v":0},{"$f":"SUMIFS(FCs!$AA$1:$AA$11201,FCs!$A$1:$A$11201,stats!$B56,FCs!$V$1:$V$11201,stats!N$2,FCs!$W$1:$W$11201,stats!N$1)","v":9.25},{"$f":"SUMIFS(FCs!$AA$1:$AA$11201,FCs!$A$1:$A$11201,stats!$B56,FCs!$V$1:$V$11201,stats!O$2,FCs!$W$1:$W$11201,stats!O$1)","v":8},{"$f":"SUMIFS(FCs!$AA$1:$AA$11201,FCs!$A$1:$A$11201,stats!$B56,FCs!$V$1:$V$11201,stats!P$2,FCs!$W$1:$W$11201,stats!P$1)","v":0},{"$f":"SUMIFS(FCs!$AA$1:$AA$11201,FCs!$A$1:$A$11201,stats!$B56,FCs!$V$1:$V$11201,stats!Q$2,FCs!$W$1:$W$11201,stats!Q$1)","v":0.5},null,26.8125,4.7959754052543317E-2,null,5]
[{"$f":"syllabus!A56","v":510},"Odomirok.24-IFRS",null,0,null,{"$f":"SUMIFS(FCs!$AA$1:$AA$11201,FCs!$A$1:$A$11201,stats!$B57,FCs!$V$1:$V$11201,stats!F$2,FCs!$W$1:$W$11201,stats!F$1)","v":0},{"$f":"SUMIFS(FCs!$AA$1:$AA$11201,FCs!$A$1:$A$11201,stats!$B57,FCs!$V$1:$V$11201,stats!G$2,FCs!$W$1:$W$11201,stats!G$1)","v":0},{"$f":"SUMIFS(FCs!$AA$1:$AA$11201,FCs!$A$1:$A$11201,stats!$B57,FCs!$V$1:$V$11201,stats!H$2,FCs!$W$1:$W$11201,stats!H$1)","v":0},{"$f":"SUMIFS(FCs!$AA$1:$AA$11201,FCs!$A$1:$A$11201,stats!$B57,FCs!$V$1:$V$11201,stats!I$2,FCs!$W$1:$W$11201,stats!I$1)","v":0},{"$f":"SUMIFS(FCs!$AA$1:$AA$11201,FCs!$A$1:$A$11201,stats!$B57,FCs!$V$1:$V$11201,stats!J$2,FCs!$W$1:$W$11201,stats!J$1)","v":0},{"$f":"SUMIFS(FCs!$AA$1:$AA$11201,FCs!$A$1:$A$11201,stats!$B57,FCs!$V$1:$V$11201,stats!K$2,FCs!$W$1:$W$11201,stats!K$1)","v":0},{"$f":"SUMIFS(FCs!$AA$1:$AA$11201,FCs!$A$1:$A$11201,stats!$B57,FCs!$V$1:$V$11201,stats!L$2,FCs!$W$1:$W$11201,stats!L$1)","v":0},{"$f":"SUMIFS(FCs!$AA$1:$AA$11201,FCs!$A$1:$A$11201,stats!$B57,FCs!$V$1:$V$11201,stats!M$2,FCs!$W$1:$W$11201,stats!M$1)","v":0},{"$f":"SUMIFS(FCs!$AA$1:$AA$11201,FCs!$A$1:$A$11201,stats!$B57,FCs!$V$1:$V$11201,stats!N$2,FCs!$W$1:$W$11201,stats!N$1)","v":0},{"$f":"SUMIFS(FCs!$AA$1:$AA$11201,FCs!$A$1:$A$11201,stats!$B57,FCs!$V$1:$V$11201,stats!O$2,FCs!$W$1:$W$11201,stats!O$1)","v":0},{"$f":"SUMIFS(FCs!$AA$1:$AA$11201,FCs!$A$1:$A$11201,stats!$B57,FCs!$V$1:$V$11201,stats!P$2,FCs!$W$1:$W$11201,stats!P$1)","v":0},{"$f":"SUMIFS(FCs!$AA$1:$AA$11201,FCs!$A$1:$A$11201,stats!$B57,FCs!$V$1:$V$11201,stats!Q$2,FCs!$W$1:$W$11201,stats!Q$1)","v":0},null,0,0,null,52]
[{"$f":"syllabus!A57","v":520},"Odomirok.25-Solv2",null,0,null,{"$f":"SUMIFS(FCs!$AA$1:$AA$11201,FCs!$A$1:$A$11201,stats!$B58,FCs!$V$1:$V$11201,stats!F$2,FCs!$W$1:$W$11201,stats!F$1)","v":1.5},{"$f":"SUMIFS(FCs!$AA$1:$AA$11201,FCs!$A$1:$A$11201,stats!$B58,FCs!$V$1:$V$11201,stats!G$2,FCs!$W$1:$W$11201,stats!G$1)","v":2},{"$f":"SUMIFS(FCs!$AA$1:$AA$11201,FCs!$A$1:$A$11201,stats!$B58,FCs!$V$1:$V$11201,stats!H$2,FCs!$W$1:$W$11201,stats!H$1)","v":0},{"$f":"SUMIFS(FCs!$AA$1:$AA$11201,FCs!$A$1:$A$11201,stats!$B58,FCs!$V$1:$V$11201,stats!I$2,FCs!$W$1:$W$11201,stats!I$1)","v":3},{"$f":"SUMIFS(FCs!$AA$1:$AA$11201,FCs!$A$1:$A$11201,stats!$B58,FCs!$V$1:$V$11201,stats!J$2,FCs!$W$1:$W$11201,stats!J$1)","v":0},{"$f":"SUMIFS(FCs!$AA$1:$AA$11201,FCs!$A$1:$A$11201,stats!$B58,FCs!$V$1:$V$11201,stats!K$2,FCs!$W$1:$W$11201,stats!K$1)","v":0},{"$f":"SUMIFS(FCs!$AA$1:$AA$11201,FCs!$A$1:$A$11201,stats!$B58,FCs!$V$1:$V$11201,stats!L$2,FCs!$W$1:$W$11201,stats!L$1)","v":3.75},{"$f":"SUMIFS(FCs!$AA$1:$AA$11201,FCs!$A$1:$A$11201,stats!$B58,FCs!$V$1:$V$11201,stats!M$2,FCs!$W$1:$W$11201,stats!M$1)","v":0},{"$f":"SUMIFS(FCs!$AA$1:$AA$11201,FCs!$A$1:$A$11201,stats!$B58,FCs!$V$1:$V$11201,stats!N$2,FCs!$W$1:$W$11201,stats!N$1)","v":0},{"$f":"SUMIFS(FCs!$AA$1:$AA$11201,FCs!$A$1:$A$11201,stats!$B58,FCs!$V$1:$V$11201,stats!O$2,FCs!$W$1:$W$11201,stats!O$1)","v":0},{"$f":"SUMIFS(FCs!$AA$1:$AA$11201,FCs!$A$1:$A$11201,stats!$B58,FCs!$V$1:$V$11201,stats!P$2,FCs!$W$1:$W$11201,stats!P$1)","v":3.75},{"$f":"SUMIFS(FCs!$AA$1:$AA$11201,FCs!$A$1:$A$11201,stats!$B58,FCs!$V$1:$V$11201,stats!Q$2,FCs!$W$1:$W$11201,stats!Q$1)","v":0},null,8.375,1.4980435997764115E-2,null,20]
[{"$f":"syllabus!A58","v":530},"Odomirok.26-Taxes",null,0,null,{"$f":"SUMIFS(FCs!$AA$1:$AA$11201,FCs!$A$1:$A$11201,stats!$B59,FCs!$V$1:$V$11201,stats!F$2,FCs!$W$1:$W$11201,stats!F$1)","v":0},{"$f":"SUMIFS(FCs!$AA$1:$AA$11201,FCs!$A$1:$A$11201,stats!$B59,FCs!$V$1:$V$11201,stats!G$2,FCs!$W$1:$W$11201,stats!G$1)","v":2},{"$f":"SUMIFS(FCs!$AA$1:$AA$11201,FCs!$A$1:$A$11201,stats!$B59,FCs!$V$1:$V$11201,stats!H$2,FCs!$W$1:$W$11201,stats!H$1)","v":2.5},{"$f":"SUMIFS(FCs!$AA$1:$AA$11201,FCs!$A$1:$A$11201,stats!$B59,FCs!$V$1:$V$11201,stats!I$2,FCs!$W$1:$W$11201,stats!I$1)","v":0},{"$f":"SUMIFS(FCs!$AA$1:$AA$11201,FCs!$A$1:$A$11201,stats!$B59,FCs!$V$1:$V$11201,stats!J$2,FCs!$W$1:$W$11201,stats!J$1)","v":3.25},{"$f":"SUMIFS(FCs!$AA$1:$AA$11201,FCs!$A$1:$A$11201,stats!$B59,FCs!$V$1:$V$11201,stats!K$2,FCs!$W$1:$W$11201,stats!K$1)","v":4.75},{"$f":"SUMIFS(FCs!$AA$1:$AA$11201,FCs!$A$1:$A$11201,stats!$B59,FCs!$V$1:$V$11201,stats!L$2,FCs!$W$1:$W$11201,stats!L$1)","v":0},{"$f":"SUMIFS(FCs!$AA$1:$AA$11201,FCs!$A$1:$A$11201,stats!$B59,FCs!$V$1:$V$11201,stats!M$2,FCs!$W$1:$W$11201,stats!M$1)","v":3.25},{"$f":"SUMIFS(FCs!$AA$1:$AA$11201,FCs!$A$1:$A$11201,stats!$B59,FCs!$V$1:$V$11201,stats!N$2,FCs!$W$1:$W$11201,stats!N$1)","v":0},{"$f":"SUMIFS(FCs!$AA$1:$AA$11201,FCs!$A$1:$A$11201,stats!$B59,FCs!$V$1:$V$11201,stats!O$2,FCs!$W$1:$W$11201,stats!O$1)","v":0},{"$f":"SUMIFS(FCs!$AA$1:$AA$11201,FCs!$A$1:$A$11201,stats!$B59,FCs!$V$1:$V$11201,stats!P$2,FCs!$W$1:$W$11201,stats!P$1)","v":7},{"$f":"SUMIFS(FCs!$AA$1:$AA$11201,FCs!$A$1:$A$11201,stats!$B59,FCs!$V$1:$V$11201,stats!Q$2,FCs!$W$1:$W$11201,stats!Q$1)","v":0},null,14.125,2.5265511458915594E-2,null,13.5]
[{"$f":"syllabus!A59","v":540},"Odomirok.30-Future",null,0,null,{"$f":"SUMIFS(FCs!$AA$1:$AA$11201,FCs!$A$1:$A$11201,stats!$B60,FCs!$V$1:$V$11201,stats!F$2,FCs!$W$1:$W$11201,stats!F$1)","v":0},{"$f":"SUMIFS(FCs!$AA$1:$AA$11201,FCs!$A$1:$A$11201,stats!$B60,FCs!$V$1:$V$11201,stats!G$2,FCs!$W$1:$W$11201,stats!G$1)","v":0},{"$f":"SUMIFS(FCs!$AA$1:$AA$11201,FCs!$A$1:$A$11201,stats!$B60,FCs!$V$1:$V$11201,stats!H$2,FCs!$W$1:$W$11201,stats!H$1)","v":0},{"$f":"SUMIFS(FCs!$AA$1:$AA$11201,FCs!$A$1:$A$11201,stats!$B60,FCs!$V$1:$V$11201,stats!I$2,FCs!$W$1:$W$11201,stats!I$1)","v":0},{"$f":"SUMIFS(FCs!$AA$1:$AA$11201,FCs!$A$1:$A$11201,stats!$B60,FCs!$V$1:$V$11201,stats!J$2,FCs!$W$1:$W$11201,stats!J$1)","v":0},{"$f":"SUMIFS(FCs!$AA$1:$AA$11201,FCs!$A$1:$A$11201,stats!$B60,FCs!$V$1:$V$11201,stats!K$2,FCs!$W$1:$W$11201,stats!K$1)","v":0},{"$f":"SUMIFS(FCs!$AA$1:$AA$11201,FCs!$A$1:$A$11201,stats!$B60,FCs!$V$1:$V$11201,stats!L$2,FCs!$W$1:$W$11201,stats!L$1)","v":0},{"$f":"SUMIFS(FCs!$AA$1:$AA$11201,FCs!$A$1:$A$11201,stats!$B60,FCs!$V$1:$V$11201,stats!M$2,FCs!$W$1:$W$11201,stats!M$1)","v":0},{"$f":"SUMIFS(FCs!$AA$1:$AA$11201,FCs!$A$1:$A$11201,stats!$B60,FCs!$V$1:$V$11201,stats!N$2,FCs!$W$1:$W$11201,stats!N$1)","v":0},{"$f":"SUMIFS(FCs!$AA$1:$AA$11201,FCs!$A$1:$A$11201,stats!$B60,FCs!$V$1:$V$11201,stats!O$2,FCs!$W$1:$W$11201,stats!O$1)","v":0},{"$f":"SUMIFS(FCs!$AA$1:$AA$11201,FCs!$A$1:$A$11201,stats!$B60,FCs!$V$1:$V$11201,stats!P$2,FCs!$W$1:$W$11201,stats!P$1)","v":0},{"$f":"SUMIFS(FCs!$AA$1:$AA$11201,FCs!$A$1:$A$11201,stats!$B60,FCs!$V$1:$V$11201,stats!Q$2,FCs!$W$1:$W$11201,stats!Q$1)","v":0},null,0,0,null,52]
[{"$f":"syllabus!A60","v":550},"Porter.Regs-1",null,0,null,null,null,null,null,null,null,null,null,null,null,null,null,null,0,-1E-8,null,65.5,null,null,null,{"$f":"SUM(H61:M69)","v":34.75},{"$f":"Z61/T$1","v":7.9793340987370842E-2}]
[{"$f":"syllabus!A61","v":560},"Porter.2-Devlpt",null,0,null,{"$f":"SUMIFS(FCs!$AA$1:$AA$11201,FCs!$A$1:$A$11201,stats!$B62,FCs!$V$1:$V$11201,stats!F$2,FCs!$W$1:$W$11201,stats!F$1)","v":1.5},{"$f":"SUMIFS(FCs!$AA$1:$AA$11201,FCs!$A$1:$A$11201,stats!$B62,FCs!$V$1:$V$11201,stats!G$2,FCs!$W$1:$W$11201,stats!G$1)","v":7},{"$f":"SUMIFS(FCs!$AA$1:$AA$11201,FCs!$A$1:$A$11201,stats!$B62,FCs!$V$1:$V$11201,stats!H$2,FCs!$W$1:$W$11201,stats!H$1)","v":0},{"$f":"SUMIFS(FCs!$AA$1:$AA$11201,FCs!$A$1:$A$11201,stats!$B62,FCs!$V$1:$V$11201,stats!I$2,FCs!$W$1:$W$11201,stats!I$1)","v":0},{"$f":"SUMIFS(FCs!$AA$1:$AA$11201,FCs!$A$1:$A$11201,stats!$B62,FCs!$V$1:$V$11201,stats!J$2,FCs!$W$1:$W$11201,stats!J$1)","v":3.25},{"$f":"SUMIFS(FCs!$AA$1:$AA$11201,FCs!$A$1:$A$11201,stats!$B62,FCs!$V$1:$V$11201,stats!K$2,FCs!$W$1:$W$11201,stats!K$1)","v":0},{"$f":"SUMIFS(FCs!$AA$1:$AA$11201,FCs!$A$1:$A$11201,stats!$B62,FCs!$V$1:$V$11201,stats!L$2,FCs!$W$1:$W$11201,stats!L$1)","v":0},{"$f":"SUMIFS(FCs!$AA$1:$AA$11201,FCs!$A$1:$A$11201,stats!$B62,FCs!$V$1:$V$11201,stats!M$2,FCs!$W$1:$W$11201,stats!M$1)","v":2.25},{"$f":"SUMIFS(FCs!$AA$1:$AA$11201,FCs!$A$1:$A$11201,stats!$B62,FCs!$V$1:$V$11201,stats!N$2,FCs!$W$1:$W$11201,stats!N$1)","v":3},{"$f":"SUMIFS(FCs!$AA$1:$AA$11201,FCs!$A$1:$A$11201,stats!$B62,FCs!$V$1:$V$11201,stats!O$2,FCs!$W$1:$W$11201,stats!O$1)","v":2},{"$f":"SUMIFS(FCs!$AA$1:$AA$11201,FCs!$A$1:$A$11201,stats!$B62,FCs!$V$1:$V$11201,stats!P$2,FCs!$W$1:$W$11201,stats!P$1)","v":2},{"$f":"SUMIFS(FCs!$AA$1:$AA$11201,FCs!$A$1:$A$11201,stats!$B62,FCs!$V$1:$V$11201,stats!Q$2,FCs!$W$1:$W$11201,stats!Q$1)","v":3.5},null,{"$f":"SUM(F62:K62)+0.5*SUM(L62:M62)+0.25*SUM(N62:O62)","v":14.125},{"$f":"S62/S$3","v":2.5265511458915594E-2},null,13.5]
[{"$f":"syllabus!A62","v":570},"Porter.3-Roles-Fed",null,0,null,{"$f":"SUMIFS(FCs!$AA$1:$AA$11201,FCs!$A$1:$A$11201,stats!$B63,FCs!$V$1:$V$11201,stats!F$2,FCs!$W$1:$W$11201,stats!F$1)","v":0},{"$f":"SUMIFS(FCs!$AA$1:$AA$11201,FCs!$A$1:$A$11201,stats!$B63,FCs!$V$1:$V$11201,stats!G$2,FCs!$W$1:$W$11201,stats!G$1)","v":0},{"$f":"SUMIFS(FCs!$AA$1:$AA$11201,FCs!$A$1:$A$11201,stats!$B63,FCs!$V$1:$V$11201,stats!H$2,FCs!$W$1:$W$11201,stats!H$1)","v":2.25},{"$f":"SUMIFS(FCs!$AA$1:$AA$11201,FCs!$A$1:$A$11201,stats!$B63,FCs!$V$1:$V$11201,stats!I$2,FCs!$W$1:$W$11201,stats!I$1)","v":0},{"$f":"SUMIFS(FCs!$AA$1:$AA$11201,FCs!$A$1:$A$11201,stats!$B63,FCs!$V$1:$V$11201,stats!J$2,FCs!$W$1:$W$11201,stats!J$1)","v":0},{"$f":"SUMIFS(FCs!$AA$1:$AA$11201,FCs!$A$1:$A$11201,stats!$B63,FCs!$V$1:$V$11201,stats!K$2,FCs!$W$1:$W$11201,stats!K$1)","v":1.25},{"$f":"SUMIFS(FCs!$AA$1:$AA$11201,FCs!$A$1:$A$11201,stats!$B63,FCs!$V$1:$V$11201,stats!L$2,FCs!$W$1:$W$11201,stats!L$1)","v":0},{"$f":"SUMIFS(FCs!$AA$1:$AA$11201,FCs!$A$1:$A$11201,stats!$B63,FCs!$V$1:$V$11201,stats!M$2,FCs!$W$1:$W$11201,stats!M$1)","v":0},{"$f":"SUMIFS(FCs!$AA$1:$AA$11201,FCs!$A$1:$A$11201,stats!$B63,FCs!$V$1:$V$11201,stats!N$2,FCs!$W$1:$W$11201,stats!N$1)","v":0},{"$f":"SUMIFS(FCs!$AA$1:$AA$11201,FCs!$A$1:$A$11201,stats!$B63,FCs!$V$1:$V$11201,stats!O$2,FCs!$W$1:$W$11201,stats!O$1)","v":0},{"$f":"SUMIFS(FCs!$AA$1:$AA$11201,FCs!$A$1:$A$11201,stats!$B63,FCs!$V$1:$V$11201,stats!P$2,FCs!$W$1:$W$11201,stats!P$1)","v":0},{"$f":"SUMIFS(FCs!$AA$1:$AA$11201,FCs!$A$1:$A$11201,stats!$B63,FCs!$V$1:$V$11201,stats!Q$2,FCs!$W$1:$W$11201,stats!Q$1)","v":0},null,3.5,6.2604807154835107E-3,null,33]
[{"$f":"syllabus!A63","v":580},"Porter.4-Roles-State",null,0,null,{"$f":"SUMIFS(FCs!$AA$1:$AA$11201,FCs!$A$1:$A$11201,stats!$B64,FCs!$V$1:$V$11201,stats!F$2,FCs!$W$1:$W$11201,stats!F$1)","v":0},{"$f":"SUMIFS(FCs!$AA$1:$AA$11201,FCs!$A$1:$A$11201,stats!$B64,FCs!$V$1:$V$11201,stats!G$2,FCs!$W$1:$W$11201,stats!G$1)","v":0},{"$f":"SUMIFS(FCs!$AA$1:$AA$11201,FCs!$A$1:$A$11201,stats!$B64,FCs!$V$1:$V$11201,stats!H$2,FCs!$W$1:$W$11201,stats!H$1)","v":0},{"$f":"SUMIFS(FCs!$AA$1:$AA$11201,FCs!$A$1:$A$11201,stats!$B64,FCs!$V$1:$V$11201,stats!I$2,FCs!$W$1:$W$11201,stats!I$1)","v":0},{"$f":"SUMIFS(FCs!$AA$1:$AA$11201,FCs!$A$1:$A$11201,stats!$B64,FCs!$V$1:$V$11201,stats!J$2,FCs!$W$1:$W$11201,stats!J$1)","v":0},{"$f":"SUMIFS(FCs!$AA$1:$AA$11201,FCs!$A$1:$A$11201,stats!$B64,FCs!$V$1:$V$11201,stats!K$2,FCs!$W$1:$W$11201,stats!K$1)","v":0},{"$f":"SUMIFS(FCs!$AA$1:$AA$11201,FCs!$A$1:$A$11201,stats!$B64,FCs!$V$1:$V$11201,stats!L$2,FCs!$W$1:$W$11201,stats!L$1)","v":3.25},{"$f":"SUMIFS(FCs!$AA$1:$AA$11201,FCs!$A$1:$A$11201,stats!$B64,FCs!$V$1:$V$11201,stats!M$2,FCs!$W$1:$W$11201,stats!M$1)","v":3.25},{"$f":"SUMIFS(FCs!$AA$1:$AA$11201,FCs!$A$1:$A$11201,stats!$B64,FCs!$V$1:$V$11201,stats!N$2,FCs!$W$1:$W$11201,stats!N$1)","v":0},{"$f":"SUMIFS(FCs!$AA$1:$AA$11201,FCs!$A$1:$A$11201,stats!$B64,FCs!$V$1:$V$11201,stats!O$2,FCs!$W$1:$W$11201,stats!O$1)","v":1.75},{"$f":"SUMIFS(FCs!$AA$1:$AA$11201,FCs!$A$1:$A$11201,stats!$B64,FCs!$V$1:$V$11201,stats!P$2,FCs!$W$1:$W$11201,stats!P$1)","v":0},{"$f":"SUMIFS(FCs!$AA$1:$AA$11201,FCs!$A$1:$A$11201,stats!$B64,FCs!$V$1:$V$11201,stats!Q$2,FCs!$W$1:$W$11201,stats!Q$1)","v":2},null,3.6875,6.595863610955841E-3,null,31]
[{"$f":"syllabus!A64","v":590},"Porter.5-Opns-State",null,0,null,{"$f":"SUMIFS(FCs!$AA$1:$AA$11201,FCs!$A$1:$A$11201,stats!$B65,FCs!$V$1:$V$11201,stats!F$2,FCs!$W$1:$W$11201,stats!F$1)","v":1.5},{"$f":"SUMIFS(FCs!$AA$1:$AA$11201,FCs!$A$1:$A$11201,stats!$B65,FCs!$V$1:$V$11201,stats!G$2,FCs!$W$1:$W$11201,stats!G$1)","v":0},{"$f":"SUMIFS(FCs!$AA$1:$AA$11201,FCs!$A$1:$A$11201,stats!$B65,FCs!$V$1:$V$11201,stats!H$2,FCs!$W$1:$W$11201,stats!H$1)","v":0},{"$f":"SUMIFS(FCs!$AA$1:$AA$11201,FCs!$A$1:$A$11201,stats!$B65,FCs!$V$1:$V$11201,stats!I$2,FCs!$W$1:$W$11201,stats!I$1)","v":0},{"$f":"SUMIFS(FCs!$AA$1:$AA$11201,FCs!$A$1:$A$11201,stats!$B65,FCs!$V$1:$V$11201,stats!J$2,FCs!$W$1:$W$11201,stats!J$1)","v":0},{"$f":"SUMIFS(FCs!$AA$1:$AA$11201,FCs!$A$1:$A$11201,stats!$B65,FCs!$V$1:$V$11201,stats!K$2,FCs!$W$1:$W$11201,stats!K$1)","v":0},{"$f":"SUMIFS(FCs!$AA$1:$AA$11201,FCs!$A$1:$A$11201,stats!$B65,FCs!$V$1:$V$11201,stats!L$2,FCs!$W$1:$W$11201,stats!L$1)","v":2.5},{"$f":"SUMIFS(FCs!$AA$1:$AA$11201,FCs!$A$1:$A$11201,stats!$B65,FCs!$V$1:$V$11201,stats!M$2,FCs!$W$1:$W$11201,stats!M$1)","v":0},{"$f":"SUMIFS(FCs!$AA$1:$AA$11201,FCs!$A$1:$A$11201,stats!$B65,FCs!$V$1:$V$11201,stats!N$2,FCs!$W$1:$W$11201,stats!N$1)","v":0},{"$f":"SUMIFS(FCs!$AA$1:$AA$11201,FCs!$A$1:$A$11201,stats!$B65,FCs!$V$1:$V$11201,stats!O$2,FCs!$W$1:$W$11201,stats!O$1)","v":0},{"$f":"SUMIFS(FCs!$AA$1:$AA$11201,FCs!$A$1:$A$11201,stats!$B65,FCs!$V$1:$V$11201,stats!P$2,FCs!$W$1:$W$11201,stats!P$1)","v":0},{"$f":"SUMIFS(FCs!$AA$1:$AA$11201,FCs!$A$1:$A$11201,stats!$B65,FCs!$V$1:$V$11201,stats!Q$2,FCs!$W$1:$W$11201,stats!Q$1)","v":0},null,2.75,4.9189491335941866E-3,null,36]
[{"$f":"syllabus!A65","v":600},"Porter.6-Formation",null,0,null,{"$f":"SUMIFS(FCs!$AA$1:$AA$11201,FCs!$A$1:$A$11201,stats!$B66,FCs!$V$1:$V$11201,stats!F$2,FCs!$W$1:$W$11201,stats!F$1)","v":0},{"$f":"SUMIFS(FCs!$AA$1:$AA$11201,FCs!$A$1:$A$11201,stats!$B66,FCs!$V$1:$V$11201,stats!G$2,FCs!$W$1:$W$11201,stats!G$1)","v":0},{"$f":"SUMIFS(FCs!$AA$1:$AA$11201,FCs!$A$1:$A$11201,stats!$B66,FCs!$V$1:$V$11201,stats!H$2,FCs!$W$1:$W$11201,stats!H$1)","v":0},{"$f":"SUMIFS(FCs!$AA$1:$AA$11201,FCs!$A$1:$A$11201,stats!$B66,FCs!$V$1:$V$11201,stats!I$2,FCs!$W$1:$W$11201,stats!I$1)","v":0},{"$f":"SUMIFS(FCs!$AA$1:$AA$11201,FCs!$A$1:$A$11201,stats!$B66,FCs!$V$1:$V$11201,stats!J$2,FCs!$W$1:$W$11201,stats!J$1)","v":0},{"$f":"SUMIFS(FCs!$AA$1:$AA$11201,FCs!$A$1:$A$11201,stats!$B66,FCs!$V$1:$V$11201,stats!K$2,FCs!$W$1:$W$11201,stats!K$1)","v":0},{"$f":"SUMIFS(FCs!$AA$1:$AA$11201,FCs!$A$1:$A$11201,stats!$B66,FCs!$V$1:$V$11201,stats!L$2,FCs!$W$1:$W$11201,stats!L$1)","v":0},{"$f":"SUMIFS(FCs!$AA$1:$AA$11201,FCs!$A$1:$A$11201,stats!$B66,FCs!$V$1:$V$11201,stats!M$2,FCs!$W$1:$W$11201,stats!M$1)","v":0},{"$f":"SUMIFS(FCs!$AA$1:$AA$11201,FCs!$A$1:$A$11201,stats!$B66,FCs!$V$1:$V$11201,stats!N$2,FCs!$W$1:$W$11201,stats!N$1)","v":0},{"$f":"SUMIFS(FCs!$AA$1:$AA$11201,FCs!$A$1:$A$11201,stats!$B66,FCs!$V$1:$V$11201,stats!O$2,FCs!$W$1:$W$11201,stats!O$1)","v":0},{"$f":"SUMIFS(FCs!$AA$1:$AA$11201,FCs!$A$1:$A$11201,stats!$B66,FCs!$V$1:$V$11201,stats!P$2,FCs!$W$1:$W$11201,stats!P$1)","v":0},{"$f":"SUMIFS(FCs!$AA$1:$AA$11201,FCs!$A$1:$A$11201,stats!$B66,FCs!$V$1:$V$11201,stats!Q$2,FCs!$W$1:$W$11201,stats!Q$1)","v":0},null,0,0,null,52]
[{"$f":"syllabus!A66","v":610},"Porter.8-Rates",null,0,null,{"$f":"SUMIFS(FCs!$AA$1:$AA$11201,FCs!$A$1:$A$11201,stats!$B67,FCs!$V$1:$V$11201,stats!F$2,FCs!$W$1:$W$11201,stats!F$1)","v":0},{"$f":"SUMIFS(FCs!$AA$1:$AA$11201,FCs!$A$1:$A$11201,stats!$B67,FCs!$V$1:$V$11201,stats!G$2,FCs!$W$1:$W$11201,stats!G$1)","v":0},{"$f":"SUMIFS(FCs!$AA$1:$AA$11201,FCs!$A$1:$A$11201,stats!$B67,FCs!$V$1:$V$11201,stats!H$2,FCs!$W$1:$W$11201,stats!H$1)","v":0},{"$f":"SUMIFS(FCs!$AA$1:$AA$11201,FCs!$A$1:$A$11201,stats!$B67,FCs!$V$1:$V$11201,stats!I$2,FCs!$W$1:$W$11201,stats!I$1)","v":0},{"$f":"SUMIFS(FCs!$AA$1:$AA$11201,FCs!$A$1:$A$11201,stats!$B67,FCs!$V$1:$V$11201,stats!J$2,FCs!$W$1:$W$11201,stats!J$1)","v":0},{"$f":"SUMIFS(FCs!$AA$1:$AA$11201,FCs!$A$1:$A$11201,stats!$B67,FCs!$V$1:$V$11201,stats!K$2,FCs!$W$1:$W$11201,stats!K$1)","v":3.75},{"$f":"SUMIFS(FCs!$AA$1:$AA$11201,FCs!$A$1:$A$11201,stats!$B67,FCs!$V$1:$V$11201,stats!L$2,FCs!$W$1:$W$11201,stats!L$1)","v":0},{"$f":"SUMIFS(FCs!$AA$1:$AA$11201,FCs!$A$1:$A$11201,stats!$B67,FCs!$V$1:$V$11201,stats!M$2,FCs!$W$1:$W$11201,stats!M$1)","v":2.75},{"$f":"SUMIFS(FCs!$AA$1:$AA$11201,FCs!$A$1:$A$11201,stats!$B67,FCs!$V$1:$V$11201,stats!N$2,FCs!$W$1:$W$11201,stats!N$1)","v":0},{"$f":"SUMIFS(FCs!$AA$1:$AA$11201,FCs!$A$1:$A$11201,stats!$B67,FCs!$V$1:$V$11201,stats!O$2,FCs!$W$1:$W$11201,stats!O$1)","v":0},{"$f":"SUMIFS(FCs!$AA$1:$AA$11201,FCs!$A$1:$A$11201,stats!$B67,FCs!$V$1:$V$11201,stats!P$2,FCs!$W$1:$W$11201,stats!P$1)","v":5.5},{"$f":"SUMIFS(FCs!$AA$1:$AA$11201,FCs!$A$1:$A$11201,stats!$B67,FCs!$V$1:$V$11201,stats!Q$2,FCs!$W$1:$W$11201,stats!Q$1)","v":0},null,5.125,9.1671324762437108E-3,null,27]
[{"$f":"syllabus!A67","v":620},"Porter.12-Insolvency",null,0,null,{"$f":"SUMIFS(FCs!$AA$1:$AA$11201,FCs!$A$1:$A$11201,stats!$B68,FCs!$V$1:$V$11201,stats!F$2,FCs!$W$1:$W$11201,stats!F$1)","v":1},{"$f":"SUMIFS(FCs!$AA$1:$AA$11201,FCs!$A$1:$A$11201,stats!$B68,FCs!$V$1:$V$11201,stats!G$2,FCs!$W$1:$W$11201,stats!G$1)","v":2.25},{"$f":"SUMIFS(FCs!$AA$1:$AA$11201,FCs!$A$1:$A$11201,stats!$B68,FCs!$V$1:$V$11201,stats!H$2,FCs!$W$1:$W$11201,stats!H$1)","v":2.25},{"$f":"SUMIFS(FCs!$AA$1:$AA$11201,FCs!$A$1:$A$11201,stats!$B68,FCs!$V$1:$V$11201,stats!I$2,FCs!$W$1:$W$11201,stats!I$1)","v":0},{"$f":"SUMIFS(FCs!$AA$1:$AA$11201,FCs!$A$1:$A$11201,stats!$B68,FCs!$V$1:$V$11201,stats!J$2,FCs!$W$1:$W$11201,stats!J$1)","v":3.5},{"$f":"SUMIFS(FCs!$AA$1:$AA$11201,FCs!$A$1:$A$11201,stats!$B68,FCs!$V$1:$V$11201,stats!K$2,FCs!$W$1:$W$11201,stats!K$1)","v":0},{"$f":"SUMIFS(FCs!$AA$1:$AA$11201,FCs!$A$1:$A$11201,stats!$B68,FCs!$V$1:$V$11201,stats!L$2,FCs!$W$1:$W$11201,stats!L$1)","v":0.75},{"$f":"SUMIFS(FCs!$AA$1:$AA$11201,FCs!$A$1:$A$11201,stats!$B68,FCs!$V$1:$V$11201,stats!M$2,FCs!$W$1:$W$11201,stats!M$1)","v":0},{"$f":"SUMIFS(FCs!$AA$1:$AA$11201,FCs!$A$1:$A$11201,stats!$B68,FCs!$V$1:$V$11201,stats!N$2,FCs!$W$1:$W$11201,stats!N$1)","v":0},{"$f":"SUMIFS(FCs!$AA$1:$AA$11201,FCs!$A$1:$A$11201,stats!$B68,FCs!$V$1:$V$11201,stats!O$2,FCs!$W$1:$W$11201,stats!O$1)","v":0},{"$f":"SUMIFS(FCs!$AA$1:$AA$11201,FCs!$A$1:$A$11201,stats!$B68,FCs!$V$1:$V$11201,stats!P$2,FCs!$W$1:$W$11201,stats!P$1)","v":0},{"$f":"SUMIFS(FCs!$AA$1:$AA$11201,FCs!$A$1:$A$11201,stats!$B68,FCs!$V$1:$V$11201,stats!Q$2,FCs!$W$1:$W$11201,stats!Q$1)","v":3},null,9.375,1.6769144773616546E-2,null,{"$f":"_xlfn.RANK.AVG(T68,T$5:T$74)","v":18}]
[{"$f":"syllabus!A68","v":630},"Porter.Reg-2",null,0,null,{"$f":"SUMIFS(FCs!$AA$1:$AA$11201,FCs!$A$1:$A$11201,stats!$B69,FCs!$V$1:$V$11201,stats!F$2,FCs!$W$1:$W$11201,stats!F$1)","v":0},{"$f":"SUMIFS(FCs!$AA$1:$AA$11201,FCs!$A$1:$A$11201,stats!$B69,FCs!$V$1:$V$11201,stats!G$2,FCs!$W$1:$W$11201,stats!G$1)","v":0},{"$f":"SUMIFS(FCs!$AA$1:$AA$11201,FCs!$A$1:$A$11201,stats!$B69,FCs!$V$1:$V$11201,stats!H$2,FCs!$W$1:$W$11201,stats!H$1)","v":0},{"$f":"SUMIFS(FCs!$AA$1:$AA$11201,FCs!$A$1:$A$11201,stats!$B69,FCs!$V$1:$V$11201,stats!I$2,FCs!$W$1:$W$11201,stats!I$1)","v":2.25},{"$f":"SUMIFS(FCs!$AA$1:$AA$11201,FCs!$A$1:$A$11201,stats!$B69,FCs!$V$1:$V$11201,stats!J$2,FCs!$W$1:$W$11201,stats!J$1)","v":0},{"$f":"SUMIFS(FCs!$AA$1:$AA$11201,FCs!$A$1:$A$11201,stats!$B69,FCs!$V$1:$V$11201,stats!K$2,FCs!$W$1:$W$11201,stats!K$1)","v":0},{"$f":"SUMIFS(FCs!$AA$1:$AA$11201,FCs!$A$1:$A$11201,stats!$B69,FCs!$V$1:$V$11201,stats!L$2,FCs!$W$1:$W$11201,stats!L$1)","v":1.5},{"$f":"SUMIFS(FCs!$AA$1:$AA$11201,FCs!$A$1:$A$11201,stats!$B69,FCs!$V$1:$V$11201,stats!M$2,FCs!$W$1:$W$11201,stats!M$1)","v":0},{"$f":"SUMIFS(FCs!$AA$1:$AA$11201,FCs!$A$1:$A$11201,stats!$B69,FCs!$V$1:$V$11201,stats!N$2,FCs!$W$1:$W$11201,stats!N$1)","v":0},{"$f":"SUMIFS(FCs!$AA$1:$AA$11201,FCs!$A$1:$A$11201,stats!$B69,FCs!$V$1:$V$11201,stats!O$2,FCs!$W$1:$W$11201,stats!O$1)","v":2},{"$f":"SUMIFS(FCs!$AA$1:$AA$11201,FCs!$A$1:$A$11201,stats!$B69,FCs!$V$1:$V$11201,stats!P$2,FCs!$W$1:$W$11201,stats!P$1)","v":2.5},{"$f":"SUMIFS(FCs!$AA$1:$AA$11201,FCs!$A$1:$A$11201,stats!$B69,FCs!$V$1:$V$11201,stats!Q$2,FCs!$W$1:$W$11201,stats!Q$1)","v":0},null,3.5,6.2604807154835107E-3,null,33]
[{"$f":"syllabus!A69","v":640},"Vaughan.Crisis",null,0,null,{"$f":"SUMIFS(FCs!$AA$1:$AA$11201,FCs!$A$1:$A$11201,stats!$B70,FCs!$V$1:$V$11201,stats!F$2,FCs!$W$1:$W$11201,stats!F$1)","v":0},{"$f":"SUMIFS(FCs!$AA$1:$AA$11201,FCs!$A$1:$A$11201,stats!$B70,FCs!$V$1:$V$11201,stats!G$2,FCs!$W$1:$W$11201,stats!G$1)","v":0},{"$f":"SUMIFS(FCs!$AA$1:$AA$11201,FCs!$A$1:$A$11201,stats!$B70,FCs!$V$1:$V$11201,stats!H$2,FCs!$W$1:$W$11201,stats!H$1)","v":2},{"$f":"SUMIFS(FCs!$AA$1:$AA$11201,FCs!$A$1:$A$11201,stats!$B70,FCs!$V$1:$V$11201,stats!I$2,FCs!$W$1:$W$11201,stats!I$1)","v":0},{"$f":"SUMIFS(FCs!$AA$1:$AA$11201,FCs!$A$1:$A$11201,stats!$B70,FCs!$V$1:$V$11201,stats!J$2,FCs!$W$1:$W$11201,stats!J$1)","v":0},{"$f":"SUMIFS(FCs!$AA$1:$AA$11201,FCs!$A$1:$A$11201,stats!$B70,FCs!$V$1:$V$11201,stats!K$2,FCs!$W$1:$W$11201,stats!K$1)","v":3.75},{"$f":"SUMIFS(FCs!$AA$1:$AA$11201,FCs!$A$1:$A$11201,stats!$B70,FCs!$V$1:$V$11201,stats!L$2,FCs!$W$1:$W$11201,stats!L$1)","v":0},{"$f":"SUMIFS(FCs!$AA$1:$AA$11201,FCs!$A$1:$A$11201,stats!$B70,FCs!$V$1:$V$11201,stats!M$2,FCs!$W$1:$W$11201,stats!M$1)","v":0},{"$f":"SUMIFS(FCs!$AA$1:$AA$11201,FCs!$A$1:$A$11201,stats!$B70,FCs!$V$1:$V$11201,stats!N$2,FCs!$W$1:$W$11201,stats!N$1)","v":0},{"$f":"SUMIFS(FCs!$AA$1:$AA$11201,FCs!$A$1:$A$11201,stats!$B70,FCs!$V$1:$V$11201,stats!O$2,FCs!$W$1:$W$11201,stats!O$1)","v":0},{"$f":"SUMIFS(FCs!$AA$1:$AA$11201,FCs!$A$1:$A$11201,stats!$B70,FCs!$V$1:$V$11201,stats!P$2,FCs!$W$1:$W$11201,stats!P$1)","v":6.75},{"$f":"SUMIFS(FCs!$AA$1:$AA$11201,FCs!$A$1:$A$11201,stats!$B70,FCs!$V$1:$V$11201,stats!Q$2,FCs!$W$1:$W$11201,stats!Q$1)","v":0},null,5.75,-0.01,null,68.5]
[{"$f":"syllabus!A70","v":650},"Webel.TRIA-1",null,0,null,{"$f":"SUMIFS(FCs!$AA$1:$AA$11201,FCs!$A$1:$A$11201,stats!$B71,FCs!$V$1:$V$11201,stats!F$2,FCs!$W$1:$W$11201,stats!F$1)","v":2.25},{"$f":"SUMIFS(FCs!$AA$1:$AA$11201,FCs!$A$1:$A$11201,stats!$B71,FCs!$V$1:$V$11201,stats!G$2,FCs!$W$1:$W$11201,stats!G$1)","v":0},{"$f":"SUMIFS(FCs!$AA$1:$AA$11201,FCs!$A$1:$A$11201,stats!$B71,FCs!$V$1:$V$11201,stats!H$2,FCs!$W$1:$W$11201,stats!H$1)","v":0},{"$f":"SUMIFS(FCs!$AA$1:$AA$11201,FCs!$A$1:$A$11201,stats!$B71,FCs!$V$1:$V$11201,stats!I$2,FCs!$W$1:$W$11201,stats!I$1)","v":2.25},{"$f":"SUMIFS(FCs!$AA$1:$AA$11201,FCs!$A$1:$A$11201,stats!$B71,FCs!$V$1:$V$11201,stats!J$2,FCs!$W$1:$W$11201,stats!J$1)","v":3},{"$f":"SUMIFS(FCs!$AA$1:$AA$11201,FCs!$A$1:$A$11201,stats!$B71,FCs!$V$1:$V$11201,stats!K$2,FCs!$W$1:$W$11201,stats!K$1)","v":3},{"$f":"SUMIFS(FCs!$AA$1:$AA$11201,FCs!$A$1:$A$11201,stats!$B71,FCs!$V$1:$V$11201,stats!L$2,FCs!$W$1:$W$11201,stats!L$1)","v":1.75},{"$f":"SUMIFS(FCs!$AA$1:$AA$11201,FCs!$A$1:$A$11201,stats!$B71,FCs!$V$1:$V$11201,stats!M$2,FCs!$W$1:$W$11201,stats!M$1)","v":1.25},{"$f":"SUMIFS(FCs!$AA$1:$AA$11201,FCs!$A$1:$A$11201,stats!$B71,FCs!$V$1:$V$11201,stats!N$2,FCs!$W$1:$W$11201,stats!N$1)","v":3.25},{"$f":"SUMIFS(FCs!$AA$1:$AA$11201,FCs!$A$1:$A$11201,stats!$B71,FCs!$V$1:$V$11201,stats!O$2,FCs!$W$1:$W$11201,stats!O$1)","v":1.75},{"$f":"SUMIFS(FCs!$AA$1:$AA$11201,FCs!$A$1:$A$11201,stats!$B71,FCs!$V$1:$V$11201,stats!P$2,FCs!$W$1:$W$11201,stats!P$1)","v":0},{"$f":"SUMIFS(FCs!$AA$1:$AA$11201,FCs!$A$1:$A$11201,stats!$B71,FCs!$V$1:$V$11201,stats!Q$2,FCs!$W$1:$W$11201,stats!Q$1)","v":0},null,13.25,{"$f":"S71/S$3","v":2.3700391280044718E-2},null,15]
[{"$f":"syllabus!A71","v":660},"Webel.TRIA-2",0,0,null,{"$f":"SUMIFS(FCs!$AA$1:$AA$11201,FCs!$A$1:$A$11201,stats!$B72,FCs!$V$1:$V$11201,stats!F$2,FCs!$W$1:$W$11201,stats!F$1)","v":0},{"$f":"SUMIFS(FCs!$AA$1:$AA$11201,FCs!$A$1:$A$11201,stats!$B72,FCs!$V$1:$V$11201,stats!G$2,FCs!$W$1:$W$11201,stats!G$1)","v":0},{"$f":"SUMIFS(FCs!$AA$1:$AA$11201,FCs!$A$1:$A$11201,stats!$B72,FCs!$V$1:$V$11201,stats!H$2,FCs!$W$1:$W$11201,stats!H$1)","v":0},{"$f":"SUMIFS(FCs!$AA$1:$AA$11201,FCs!$A$1:$A$11201,stats!$B72,FCs!$V$1:$V$11201,stats!I$2,FCs!$W$1:$W$11201,stats!I$1)","v":0},{"$f":"SUMIFS(FCs!$AA$1:$AA$11201,FCs!$A$1:$A$11201,stats!$B72,FCs!$V$1:$V$11201,stats!J$2,FCs!$W$1:$W$11201,stats!J$1)","v":0},{"$f":"SUMIFS(FCs!$AA$1:$AA$11201,FCs!$A$1:$A$11201,stats!$B72,FCs!$V$1:$V$11201,stats!K$2,FCs!$W$1:$W$11201,stats!K$1)","v":0},{"$f":"SUMIFS(FCs!$AA$1:$AA$11201,FCs!$A$1:$A$11201,stats!$B72,FCs!$V$1:$V$11201,stats!L$2,FCs!$W$1:$W$11201,stats!L$1)","v":0},{"$f":"SUMIFS(FCs!$AA$1:$AA$11201,FCs!$A$1:$A$11201,stats!$B72,FCs!$V$1:$V$11201,stats!M$2,FCs!$W$1:$W$11201,stats!M$1)","v":0},{"$f":"SUMIFS(FCs!$AA$1:$AA$11201,FCs!$A$1:$A$11201,stats!$B72,FCs!$V$1:$V$11201,stats!N$2,FCs!$W$1:$W$11201,stats!N$1)","v":0},{"$f":"SUMIFS(FCs!$AA$1:$AA$11201,FCs!$A$1:$A$11201,stats!$B72,FCs!$V$1:$V$11201,stats!O$2,FCs!$W$1:$W$11201,stats!O$1)","v":0},{"$f":"SUMIFS(FCs!$AA$1:$AA$11201,FCs!$A$1:$A$11201,stats!$B72,FCs!$V$1:$V$11201,stats!P$2,FCs!$W$1:$W$11201,stats!P$1)","v":0},{"$f":"SUMIFS(FCs!$AA$1:$AA$11201,FCs!$A$1:$A$11201,stats!$B72,FCs!$V$1:$V$11201,stats!Q$2,FCs!$W$1:$W$11201,stats!Q$1)","v":0},null,0,{"$f":"S72/S$3","v":0},null,52]
[{"$f":"syllabus!A72","v":670},"outdated.",0,0,null,{"$f":"SUMIFS(FCs!$AA$1:$AA$11201,FCs!$A$1:$A$11201,stats!$B73,FCs!$V$1:$V$11201,stats!F$2,FCs!$W$1:$W$11201,stats!F$1)","v":0},{"$f":"SUMIFS(FCs!$AA$1:$AA$11201,FCs!$A$1:$A$11201,stats!$B73,FCs!$V$1:$V$11201,stats!G$2,FCs!$W$1:$W$11201,stats!G$1)","v":0},{"$f":"SUMIFS(FCs!$AA$1:$AA$11201,FCs!$A$1:$A$11201,stats!$B73,FCs!$V$1:$V$11201,stats!H$2,FCs!$W$1:$W$11201,stats!H$1)","v":0},{"$f":"SUMIFS(FCs!$AA$1:$AA$11201,FCs!$A$1:$A$11201,stats!$B73,FCs!$V$1:$V$11201,stats!I$2,FCs!$W$1:$W$11201,stats!I$1)","v":0},{"$f":"SUMIFS(FCs!$AA$1:$AA$11201,FCs!$A$1:$A$11201,stats!$B73,FCs!$V$1:$V$11201,stats!J$2,FCs!$W$1:$W$11201,stats!J$1)","v":0},{"$f":"SUMIFS(FCs!$AA$1:$AA$11201,FCs!$A$1:$A$11201,stats!$B73,FCs!$V$1:$V$11201,stats!K$2,FCs!$W$1:$W$11201,stats!K$1)","v":0},{"$f":"SUMIFS(FCs!$AA$1:$AA$11201,FCs!$A$1:$A$11201,stats!$B73,FCs!$V$1:$V$11201,stats!L$2,FCs!$W$1:$W$11201,stats!L$1)","v":0},{"$f":"SUMIFS(FCs!$AA$1:$AA$11201,FCs!$A$1:$A$11201,stats!$B73,FCs!$V$1:$V$11201,stats!M$2,FCs!$W$1:$W$11201,stats!M$1)","v":9},{"$f":"SUMIFS(FCs!$AA$1:$AA$11201,FCs!$A$1:$A$11201,stats!$B73,FCs!$V$1:$V$11201,stats!N$2,FCs!$W$1:$W$11201,stats!N$1)","v":8.25},{"$f":"SUMIFS(FCs!$AA$1:$AA$11201,FCs!$A$1:$A$11201,stats!$B73,FCs!$V$1:$V$11201,stats!O$2,FCs!$W$1:$W$11201,stats!O$1)","v":12.5},{"$f":"SUMIFS(FCs!$AA$1:$AA$11201,FCs!$A$1:$A$11201,stats!$B73,FCs!$V$1:$V$11201,stats!P$2,FCs!$W$1:$W$11201,stats!P$1)","v":11.75},{"$f":"SUMIFS(FCs!$AA$1:$AA$11201,FCs!$A$1:$A$11201,stats!$B73,FCs!$V$1:$V$11201,stats!Q$2,FCs!$W$1:$W$11201,stats!Q$1)","v":18.5},null,-1,-0.01,null,68.5]
[{"$f":"syllabus!A73","v":680},"unknown.",0,0,null,{"$f":"SUMIFS(FCs!$AA$1:$AA$11201,FCs!$A$1:$A$11201,stats!$B74,FCs!$V$1:$V$11201,stats!F$2,FCs!$W$1:$W$11201,stats!F$1)","v":0},{"$f":"SUMIFS(FCs!$AA$1:$AA$11201,FCs!$A$1:$A$11201,stats!$B74,FCs!$V$1:$V$11201,stats!G$2,FCs!$W$1:$W$11201,stats!G$1)","v":0},{"$f":"SUMIFS(FCs!$AA$1:$AA$11201,FCs!$A$1:$A$11201,stats!$B74,FCs!$V$1:$V$11201,stats!H$2,FCs!$W$1:$W$11201,stats!H$1)","v":0},{"$f":"SUMIFS(FCs!$AA$1:$AA$11201,FCs!$A$1:$A$11201,stats!$B74,FCs!$V$1:$V$11201,stats!I$2,FCs!$W$1:$W$11201,stats!I$1)","v":0},{"$f":"SUMIFS(FCs!$AA$1:$AA$11201,FCs!$A$1:$A$11201,stats!$B74,FCs!$V$1:$V$11201,stats!J$2,FCs!$W$1:$W$11201,stats!J$1)","v":0},{"$f":"SUMIFS(FCs!$AA$1:$AA$11201,FCs!$A$1:$A$11201,stats!$B74,FCs!$V$1:$V$11201,stats!K$2,FCs!$W$1:$W$11201,stats!K$1)","v":4.75},{"$f":"SUMIFS(FCs!$AA$1:$AA$11201,FCs!$A$1:$A$11201,stats!$B74,FCs!$V$1:$V$11201,stats!L$2,FCs!$W$1:$W$11201,stats!L$1)","v":5.75},{"$f":"SUMIFS(FCs!$AA$1:$AA$11201,FCs!$A$1:$A$11201,stats!$B74,FCs!$V$1:$V$11201,stats!M$2,FCs!$W$1:$W$11201,stats!M$1)","v":0},{"$f":"SUMIFS(FCs!$AA$1:$AA$11201,FCs!$A$1:$A$11201,stats!$B74,FCs!$V$1:$V$11201,stats!N$2,FCs!$W$1:$W$11201,stats!N$1)","v":0},{"$f":"SUMIFS(FCs!$AA$1:$AA$11201,FCs!$A$1:$A$11201,stats!$B74,FCs!$V$1:$V$11201,stats!O$2,FCs!$W$1:$W$11201,stats!O$1)","v":0},{"$f":"SUMIFS(FCs!$AA$1:$AA$11201,FCs!$A$1:$A$11201,stats!$B74,FCs!$V$1:$V$11201,stats!P$2,FCs!$W$1:$W$11201,stats!P$1)","v":0},{"$f":"SUMIFS(FCs!$AA$1:$AA$11201,FCs!$A$1:$A$11201,stats!$B74,FCs!$V$1:$V$11201,stats!Q$2,FCs!$W$1:$W$11201,stats!Q$1)","v":0},null,-1,-0.01,null,68.5]

{"sheet":"rank","index":3,"n_rows":72,"n_cols":40,"rows_kept":72,"cut":false,"hidden":false,"merged":[]}
[null,null,null,null,null,"2-Fall","1-Spring","2-Fall","1-Spring","2-Fall","1-Spring","2-Fall","1-Spring","2-Fall","1-Spring","2-Fall","2-Fall",null,null,null,null,null,null,null,"* this multiplier is tentative…"]
["ref","BA100_abbreviation","# pgs","prop",null,18,18,17,17,16,16,15,15,14,14,13,12,null,"last 5","% last 5",null,"rank",null,null,"calc multiplier:",null,2.5]
[0,"Exam.Total",323,1,null,null,null,{"$f":"SUM(H4:H73)","v":70},73.5,73.5,81.25,77.5,81.25,81.75,87,87,87,null,null,0.9999999799999999,null,null,""]
[450,"Odomirok.16-17-SAO",null,0,null,null,null,0,0,0,0,0,0,0,0,0,0,null,0,0,null,1,5,null,{"$f":"SUM(T4:T$4)","v":0},null,{"$f":"SUM(T4:T9)","v":0.33739837398373984},null,{"$f":"\"| style='background-color: ;'\" & \"| [[\"&B4&\"]]\"","v":"| style='background-color: ;'| [[Odomirok.16-17-SAO]]"},null,null,null,null,null,1,5,null,{"$f":"SUM(AG4:AG$4)","v":0},null,{"$f":"SUM(AG4:AG9)","v":0}]
[90,"COPLFR.SAO",null,0,null,null,null,14,10.75,11.5,14,12.75,8,11.75,9.5,12.75,11.75,null,71,0.16492450638792103,null,2,5,null,{"$f":"SUM(T$4:T5)","v":0.16492450638792103},null,null,null,"| style='background-color: ;'| [[COPLFR.SAO]]",null,null,null,null,null,2,5,null,{"$f":"SUM(AG$4:AG5)","v":0}]
[30,"ASOP.36",22,6.8111455108359129E-2,null,null,null,0,0,0,0,0,0,0,0,0,0,null,0,0,null,3,5,null,{"$f":"SUM(T$4:T6)","v":0.16492450638792103},null,null,null,"| style='background-color: ;'| [[ASOP.36]]",null,null,null,null,null,3,5,null,{"$f":"SUM(AG$4:AG6)","v":0}]
[300,"NAIC.IRIS",null,0,null,null,null,6,8.75,3.75,6,0,5,5.25,9.25,3.5,5.5,null,29.5,6.852497096399536E-2,null,4,5,null,{"$f":"SUM(T$4:T7)","v":0.2334494773519164},null,null,null,"| style='background-color: ;'| [[NAIC.IRIS]]",null,null,null,null,null,4,5,null,{"$f":"SUM(AG$4:AG7)","v":0}]
[440,"Odomirok.15-P",null,0,null,null,null,2,2.75,5,6,5,3,4,8.5,2.75,0,null,23.75,5.516840882694541E-2,null,5,5,null,{"$f":"SUM(T$4:T8)","v":0.2886178861788618},null,null,null,"| style='background-color: ;'| [[Odomirok.15-P]]",null,null,null,null,null,5,5,null,{"$f":"SUM(AG$4:AG8)","v":0}]
[200,"Klann.ReinsComm",null,0,null,null,null,3,3,4.25,3.5,4.25,3,0,0,3.25,0,null,21,4.878048780487805E-2,null,6,5,null,{"$f":"SUM(T$4:T9)","v":0.33739837398373984},null,null,null,"| style='background-color: ;'| [[Klann.ReinsComm]]",null,null,null,null,null,6,5,null,{"$f":"SUM(AG$4:AG9)","v":0}]
[470,"Odomirok.19-RBC",null,0,null,null,null,3.75,4,4.25,0,5,2.5,4.5,5.25,3.25,8.75,null,19.5,4.5296167247386762E-2,null,7,4,null,{"$f":"SUM(T$4:T10)","v":0.38269454123112662},null,{"$f":"SUM(T10:T15)","v":0.24796747967479676},null,{"$f":"\"| style='background-color: ;'\" & \"| [[\"&B10&\"]]\"","v":"| style='background-color: ;'| [[Odomirok.19-RBC]]"},null,null,null,null,null,7,4,null,{"$f":"SUM(AG$4:AG10)","v":0},null,{"$f":"SUM(AG10:AG15)","v":0}]
[380,"Odomirok.8-9-IS",null,0,null,null,null,8.25,0,3.25,0,5.75,0,3,0,4.25,1.5,null,17.25,4.0069686411149823E-2,null,8,4,null,{"$f":"SUM(T$4:T11)","v":0.42276422764227645},null,null,null,{"$f":"\"| style='background-color: ;'\" & \"| [[\"&B11&\"]]\"","v":"| style='background-color: ;'| [[Odomirok.8-9-IS]]"},null,null,null,null,null,8,4,null,{"$f":"SUM(AG$4:AG11)","v":0}]
[170,"Germani.GovtIns",18,5.5727554179566562E-2,null,null,null,3,2.5,3,2.5,5,1.5,2.5,4.75,2.75,3,null,17.5,4.065040650406504E-2,null,9,4,null,{"$f":"SUM(T$4:T12)","v":0.46341463414634149},null,null,null,"| style='background-color: ;'| [[Germani.GovtIns]]",null,null,null,null,null,9,4,null,{"$f":"SUM(AG$4:AG12)","v":0}]
[460,"Odomirok.18-IEE",null,0,null,null,null,0,3.5,4,2.75,2.5,4.25,2.5,2,3,2.75,null,17,3.9488966318234613E-2,null,10,4,null,{"$f":"SUM(T$4:T13)","v":0.50290360046457605},null,null,null,"| style='background-color: ;'| [[Odomirok.18-IEE]]",null,null,null,null,null,10,4,null,{"$f":"SUM(AG$4:AG13)","v":0}]
[430,"Odomirok.14-F",null,0,null,null,null,2.5,3.75,3.75,4.25,0,4,0,0,3.5,5.75,null,18.25,4.2392566782810684E-2,null,11,4,null,{"$f":"SUM(T$4:T14)","v":0.54529616724738672},null,null,null,"| style='background-color: ;'| [[Odomirok.14-F]]",null,null,null,null,null,11,4,null,{"$f":"SUM(AG$4:AG14)","v":0}]
[150,"Freihaut.Reins",null,0,null,null,null,0,2.75,1.5,4.25,2.5,6.25,0,4.25,2.25,1.5,null,17.25,4.0069686411149823E-2,null,12,4,null,{"$f":"SUM(T$4:T15)","v":0.58536585365853655},null,null,null,"| style='background-color: ;'| [[Freihaut.Reins]]",null,null,null,null,null,12,4,null,{"$f":"SUM(AG$4:AG15)","v":0}]
[500,"Odomirok.22-23-GAAP",null,0,null,null,null,7,0,3.75,5.5,0,0,9.25,7,0,1.75,null,16.25,3.7746806039488968E-2,null,13,3,null,{"$f":"SUM(T$4:T16)","v":0.62311265969802554},null,{"$f":"SUM(T16:T21)","v":0.15356445993031359},null,"| style='background-color: ;'| [[Odomirok.22-23-GAAP]]",null,null,null,null,null,13,3,null,{"$f":"SUM(AG$4:AG16)","v":0},null,{"$f":"SUM(AG16:AG21)","v":0}]
[100,"Cook.Personal",null,0,null,null,null,1.75,4.75,2.5,2.5,0,3.25,0,4,2,3,null,14.75,3.426248548199768E-2,null,14,3,null,{"$f":"SUM(T$4:T17)","v":0.65737514518002327},null,null,null,"| style='background-color: ;'| [[Cook.Personal]]",null,null,null,null,null,14,3,null,{"$f":"SUM(AG$4:AG17)","v":0}]
[175,"Horn.Flood",86,0.26625386996904027,null,null,null,0,0,0,0,0,0,0,0,0,0,null,0,2.9000000000000001E-2,null,15,3,null,{"$f":"SUM(T$4:T18)","v":0.68637514518002329},null,null,null,"| style='background-color: ;'| [[Horn.Flood]]",null,null,null,null,null,15,3,null,{"$f":"SUM(AG$4:AG18)","v":0}]
[530,"Odomirok.26-Taxes",null,0,null,null,null,2.5,0,3.25,2.375,0,3.25,0,0,7,0,null,11.375,2.6422764227642278E-2,null,16,3,null,{"$f":"SUM(T$4:T19)","v":0.71279790940766552},null,null,null,"| style='background-color: ;'| [[Odomirok.26-Taxes]]",null,null,null,null,null,16,3,null,{"$f":"SUM(AG$4:AG19)","v":0}]
[650,"Webel.TRIA-1",null,0,null,null,null,0,2.25,3,3,1.75,1.25,3.25,1.75,0,0,null,11.25,2.6132404181184669E-2,null,17,3,null,{"$f":"SUM(T$4:T20)","v":0.7389303135888502},null,null,null,"| style='background-color: ;'| [[Webel.TRIA-1]]",null,null,null,null,null,17,3,null,{"$f":"SUM(AG$4:AG20)","v":0}]
[660,"Webel.TRIA-2",0,0,null,null,null,0,0,0,0,0,0,0,0,0,0,null,0,0,null,18,3,null,{"$f":"SUM(T$4:T21)","v":0.7389303135888502},null,null,null,"| style='background-color: ;'| [[Webel.TRIA-2]]",null,null,null,null,null,18,3,null,{"$f":"SUM(AG$4:AG21)","v":0}]
[120,"Feldblum.Ratings",null,0,null,null,null,0,2.5,0,0,3,5,0,0,2.75,3,null,10.5,2.4390243902439025E-2,null,19,2,null,{"$f":"SUM(T$4:T22)","v":0.76332055749128924},null,{"$f":"SUM(T22:T27)","v":0.11382113821138212},null,"| style='background-color: ;'| [[Feldblum.Ratings]]",null,null,null,null,null,19,2,null,{"$f":"SUM(AG$4:AG22)","v":0},null,{"$f":"SUM(AG22:AG27)","v":0}]
[390,"Odomirok.10-Notes",null,0,null,null,null,0,2.5,0,0,4.25,3,0,2.5,3,0,null,9.75,2.2648083623693381E-2,null,20,2,null,{"$f":"SUM(T$4:T23)","v":0.78596864111498266},null,null,null,"| style='background-color: ;'| [[Odomirok.10-Notes]]",null,null,null,null,null,20,2,null,{"$f":"SUM(AG$4:AG23)","v":0}]
[130,"Feldblum.Surplus",null,0,null,null,null,0,4.25,0,0,0,3.5,0,0,0,0,null,7.75,1.8002322880371662E-2,null,21,2,null,{"$f":"SUM(T$4:T24)","v":0.80397096399535428},null,null,null,"| style='background-color: ;'| [[Feldblum.Surplus]]",null,null,null,null,null,21,2,null,{"$f":"SUM(AG$4:AG24)","v":0}]
[340,"NAIC.Solvency",null,0,null,null,null,0,2.5,2.5,0,2.5,0,5,7.5,0,0,null,7.5,1.7421602787456445E-2,null,22,2,null,{"$f":"SUM(T$4:T25)","v":0.8213925667828107},null,null,null,"| style='background-color: ;'| [[NAIC.Solvency]]",null,null,null,null,null,22,2,null,{"$f":"SUM(AG$4:AG25)","v":0}]
[160,"GAO.Report",58,0.17956656346749225,null,null,null,2,0,0,3,2,0,2.75,0,0,0,null,7,1.6260162601626018E-2,null,23,2,null,{"$f":"SUM(T$4:T26)","v":0.83765272938443669},null,null,null,"| style='background-color: ;'| [[GAO.Report]]",null,null,null,null,null,23,2,null,{"$f":"SUM(AG$4:AG26)","v":0}]
[610,"Porter.8-Rates",null,0,null,null,null,0,0,0,3.75,0,2.75,0,0,2.5,0,null,6.5,1.5098722415795587E-2,null,24,2,null,{"$f":"SUM(T$4:T27)","v":0.85275145180023226},null,null,null,"| style='background-color: ;'| [[Porter.8-Rates]]",null,null,null,null,null,24,2,null,{"$f":"SUM(AG$4:AG27)","v":0}]
[520,"Odomirok.25-Solv2",null,0,null,null,null,0,3,0,0,3.25,0,0,0,3.75,0,null,6.25,1.4518002322880372E-2,null,25,1,null,{"$f":"SUM(T$4:T28)","v":0.86726945412311263},null,{"$f":"SUM(T28:T33)","v":7.5493612078977923E-2},null,"| style='background-color: ;'| [[Odomirok.25-Solv2]]",null,null,null,null,null,25,1,null,{"$f":"SUM(AG$4:AG28)","v":0},null,{"$f":"SUM(AG28:AG33)","v":0}]
[560,"Porter.2-Devlpt",null,0,null,null,null,0,0,3.25,0,0,2.75,4,3,2,3.5,null,6,1.3937282229965157E-2,null,26,1,null,{"$f":"SUM(T$4:T29)","v":0.88120673635307778},null,null,null,"| style='background-color: ;'| [[Porter.2-Devlpt]]",null,null,null,null,null,26,1,null,{"$f":"SUM(AG$4:AG29)","v":0}]
[620,"Porter.12-Insolvency",null,0,null,null,null,2.25,0,3.5,0,0,0,0,0,0,3,null,5.75,1.3356562137049941E-2,null,27,1,null,{"$f":"SUM(T$4:T30)","v":0.89456329849012772},null,null,null,"| style='background-color: ;'| [[Porter.12-Insolvency]]",null,null,null,null,null,27,1,null,{"$f":"SUM(AG$4:AG30)","v":0}]
[70,"Baribeau.Regs",null,0,null,null,null,1,1.5,2.5,0,0,0,0,0,0,0,null,5,1.1614401858304297E-2,null,28,1,null,{"$f":"SUM(T$4:T31)","v":0.90617770034843204},null,null,null,"| style='background-color: ;'| [[Baribeau.Regs]]",null,null,null,null,null,28,1,null,{"$f":"SUM(AG$4:AG31)","v":0}]
[210,"Kucera.Credit",7,2.1671826625386997E-2,null,null,null,2.25,0,2.5,0,0,0,0,2.75,0,0,null,4.75,1.1033681765389082E-2,null,29,1,null,{"$f":"SUM(T$4:T32)","v":0.91721138211382114},null,null,null,"| style='background-color: ;'| [[Kucera.Credit]]",null,null,null,null,null,29,1,null,{"$f":"SUM(AG$4:AG32)","v":0}]
[220,"McCarty.Credit",57,0.17647058823529413,null,null,null,0,0,0,2.5,2.25,0,3.75,0,0,0,null,4.75,1.1033681765389082E-2,null,30,1,null,{"$f":"SUM(T$4:T33)","v":0.92824506387921024},null,null,null,"| style='background-color: ;'| [[McCarty.Credit]]",null,null,null,null,null,30,1,null,{"$f":"SUM(AG$4:AG33)","v":0}]
[180,"NAIC.Telematics",null,0,null,null,null,2,3,0,0,0,0,0,0,0,0,null,5,1.1614401858304297E-2,null,31,1,null,{"$f":"SUM(T$4:T34)","v":0.93985946573751455},null,{"$f":"SUM(T34:T39)","v":5.6039488966318239E-2},null,"| style='background-color: ;'| [[NAIC.Telematics]]",null,null,null,null,null,31,1,null,{"$f":"SUM(AG$4:AG34)","v":0},null,{"$f":"SUM(AG34:AG39)","v":0}]
[110,"Feldblum.Discount",null,0,null,null,null,0,2.25,0,2.375,0,0,2.75,0,0,0,null,4.625,1.0743321718931475E-2,null,32,1,null,{"$f":"SUM(T$4:T35)","v":0.950602787456446},null,null,null,"| style='background-color: ;'| [[Feldblum.Discount]]",null,null,null,null,null,32,1,null,{"$f":"SUM(AG$4:AG35)","v":0}]
[630,"Porter.Reg-2",null,0,null,null,null,0,2.25,0,0,2.25,0,0,2,2.5,0,null,4.5,1.0452961672473868E-2,null,33,1,null,{"$f":"SUM(T$4:T36)","v":0.96105574912891989},null,null,null,"| style='background-color: ;'| [[Porter.Reg-2]]",null,null,null,null,null,33,1,null,{"$f":"SUM(AG$4:AG36)","v":0}]
[570,"Porter.3-Roles-Fed",null,0,null,null,null,1.75,0,0,2.25,0,0,0,0,0,0,null,4,9.2915214866434379E-3,null,34,1,null,{"$f":"SUM(T$4:T37)","v":0.97034727061556336},null,null,null,"| style='background-color: ;'| [[Porter.3-Roles-Fed]]",null,null,null,null,null,34,1,null,{"$f":"SUM(AG$4:AG37)","v":0}]
[580,"Porter.4-Roles-State",null,0,null,null,null,0,0,0,0,3.25,0,0,1.75,0,2,null,3.25,7.5493612078977937E-3,null,35,1,null,{"$f":"SUM(T$4:T38)","v":0.9778966318234612},null,null,null,"| style='background-color: ;'| [[Porter.4-Roles-State]]",null,null,null,null,null,35,1,null,{"$f":"SUM(AG$4:AG38)","v":0}]
[40,"ASOP.41",27,8.3591331269349839E-2,null,null,null,0,0,0,0,0,2.75,0,0,0,0,null,2.75,6.387921022067364E-3,null,36,1,null,{"$f":"SUM(T$4:T39)","v":0.98428455284552852},null,null,null,"| style='background-color: ;'| [[ASOP.41]]",null,null,null,null,null,36,1,null,{"$f":"SUM(AG$4:AG39)","v":0}]
[590,"Porter.5-Opns-State",null,0,null,null,null,0,0,0,0,2.5,0,0,0,0,0,null,2.5,5.8072009291521487E-3,null,37,1,null,{"$f":"SUM(T$4:T40)","v":0.99009175377468062},null,{"$f":"SUM(T40:T45)","v":1.5679442508710804E-2},null,"| style='background-color: ;'| [[Porter.5-Opns-State]]",null,null,null,null,null,37,1,null,{"$f":"SUM(AG$4:AG40)","v":0},null,{"$f":"SUM(AG40:AG45)","v":0}]
[230,"NAIC.APPM",null,0,null,null,null,0,0,0,0,0,2,0,0,0,0,null,2,4.6457607433217189E-3,null,38,1,null,{"$f":"SUM(T$4:T41)","v":0.9947375145180023},null,null,null,"| style='background-color: ;'| [[NAIC.APPM]]",null,null,null,null,null,38,1,null,{"$f":"SUM(AG$4:AG41)","v":0}]
[280,"NAIC.SSAP-62R",null,0,null,null,null,1.75,0,0,0,0,0,6,0,0,1.5,null,1.75,4.0650406504065045E-3,null,39,1,null,{"$f":"SUM(T$4:T42)","v":0.99880255516840877},null,null,null,"| style='background-color: ;'| [[NAIC.SSAP-62R]]",null,null,null,null,null,39,1,null,{"$f":"SUM(AG$4:AG42)","v":0}]
[330,"NAIC.Price",null,0,null,null,null,0.5,0,0,0,0,0,0,0,0,0,null,0.5,1.1614401858304297E-3,null,40,1,null,{"$f":"SUM(T$4:T43)","v":0.99996399535423919},null,null,null,"| style='background-color: ;'| [[NAIC.Price]]",null,null,null,null,null,40,1,null,{"$f":"SUM(AG$4:AG43)","v":0}]
[10,"IEE.2016",null,0,null,null,null,0,0,0,0,0,0,0,0,0,0,null,0,0,null,41,1,null,{"$f":"SUM(T$4:T44)","v":0.99996399535423919},null,null,null,"| style='background-color: ;'| [[IEE.2016]]",null,null,null,null,null,41,1,null,{"$f":"SUM(AG$4:AG44)","v":0}]
[20,"ASOP.20",17,5.2631578947368418E-2,null,null,null,0,0,0,0,0,0,0,0,0,0,null,0,0,null,42,1,null,{"$f":"SUM(T$4:T45)","v":0.99996399535423919},null,null,null,"| style='background-color: ;'| [[ASOP.20]]",null,null,null,null,null,42,1,null,{"$f":"SUM(AG$4:AG45)","v":0}]
[50,"ASOP.43",31,9.5975232198142413E-2,null,null,null,0,0,0,0,0,0,0,0,0,0,null,0,0,null,43,1,null,{"$f":"SUM(T$4:T46)","v":0.99996399535423919},null,{"$f":"SUM(T46:T51)","v":0},null,"| style='background-color: ;'| [[ASOP.43]]",null,null,null,null,null,43,1,null,{"$f":"SUM(AG$4:AG46)","v":0},null,{"$f":"SUM(AG46:AG51)","v":0}]
[60,"AAA.Materiality",null,0,null,null,null,0,0,0,0,0,0,0,0,0,0,null,0,0,null,44,1,null,{"$f":"SUM(T$4:T47)","v":0.99996399535423919},null,null,null,"| style='background-color: ;'| [[AAA.Materiality]]",null,null,null,null,null,44,1,null,{"$f":"SUM(AG$4:AG47)","v":0}]
[80,"BK.Reins",null,0,null,null,null,0,0,0,0,0,0,0,0,0,0,null,0,0,null,45,1,null,{"$f":"SUM(T$4:T48)","v":0.99996399535423919},null,null,null,"| style='background-color: ;'| [[BK.Reins]]",null,null,null,null,null,45,1,null,{"$f":"SUM(AG$4:AG48)","v":0}]
[140,"FASB.944",null,0,null,null,null,0,0,0,0,0,0,0,0,0,0,null,0,0,null,46,1,null,{"$f":"SUM(T$4:T49)","v":0.99996399535423919},null,null,null,"| style='background-color: ;'| [[FASB.944]]",null,null,null,null,null,46,1,null,{"$f":"SUM(AG$4:AG49)","v":0}]
[240,"NAIC.SSAP-5R",null,0,null,null,null,0,0,0,0,0,0,0,0,0,0,null,0,0,null,47,1,null,{"$f":"SUM(T$4:T50)","v":0.99996399535423919},null,null,null,"| style='background-color: ;'| [[NAIC.SSAP-5R]]",null,null,null,null,null,47,1,null,{"$f":"SUM(AG$4:AG50)","v":0}]
[250,"NAIC.SSAP-9",null,0,null,null,null,0,0,0,0,0,0,2,0,0,0,null,0,0,null,48,1,null,{"$f":"SUM(T$4:T51)","v":0.99996399535423919},null,null,null,"| style='background-color: ;'| [[NAIC.SSAP-9]]",null,null,null,null,null,48,1,null,{"$f":"SUM(AG$4:AG51)","v":0}]
[260,"NAIC.SSAP-53",null,0,null,null,null,0,0,0,0,0,0,0,0,0,0,null,0,0,null,49,1,null,{"$f":"SUM(T$4:T52)","v":0.99996399535423919},null,{"$f":"SUM(T52:T57)","v":0},null,"| style='background-color: ;'| [[NAIC.SSAP-53]]",null,null,null,null,null,49,1,null,{"$f":"SUM(AG$4:AG52)","v":0},null,{"$f":"SUM(AG52:AG57)","v":0}]
[270,"NAIC.SSAP-55",null,0,null,null,null,0,0,0,0,0,0,0,0,0,0,null,0,0,null,50,1,null,{"$f":"SUM(T$4:T53)","v":0.99996399535423919},null,null,null,"| style='background-color: ;'| [[NAIC.SSAP-55]]",null,null,null,null,null,50,1,null,{"$f":"SUM(AG$4:AG53)","v":0}]
[290,"NAIC.SSAP-65",null,0,null,null,null,0,0,0,0,0,0,0,0,0,3.5,null,0,0,null,51,1,null,{"$f":"SUM(T$4:T54)","v":0.99996399535423919},null,null,null,"| style='background-color: ;'| [[NAIC.SSAP-65]]",null,null,null,null,null,51,1,null,{"$f":"SUM(AG$4:AG54)","v":0}]
[310,"NAIC.Annual",null,0,null,null,null,0,0,0,0,0,0,0,0,0,0,null,0,0,null,52,1,null,{"$f":"SUM(T$4:T55)","v":0.99996399535423919},null,null,null,"| style='background-color: ;'| [[NAIC.Annual]]",null,null,null,null,null,52,1,null,{"$f":"SUM(AG$4:AG55)","v":0}]
[320,"NAIC.AnnualExs",null,0,null,null,null,0,0,0,0,0,0,0,0,0,0,null,0,0,null,53,1,null,{"$f":"SUM(T$4:T56)","v":0.99996399535423919},null,null,null,"| style='background-color: ;'| [[NAIC.AnnualExs]]",null,null,null,null,null,53,1,null,{"$f":"SUM(AG$4:AG56)","v":0}]
[360,"Odomirok.1-5-Intro",null,0,null,null,null,0,0,0,0,0,0,0,0,0,0,null,0,0,null,54,1,null,{"$f":"SUM(T$4:T57)","v":0.99996399535423919},null,null,null,"| style='background-color: ;'| [[Odomirok.1-5-Intro]]",null,null,null,null,null,54,1,null,{"$f":"SUM(AG$4:AG57)","v":0}]
[370,"Odomirok.6-7-BS",null,0,null,null,null,0,0,0,0,0,0,0,0,0,5,null,0,0,null,55,1,null,{"$f":"SUM(T$4:T58)","v":0.99996399535423919},null,{"$f":"SUM(T58:T63)","v":0},null,"| style='background-color: ;'| [[Odomirok.6-7-BS]]",null,null,null,null,null,55,1,null,{"$f":"SUM(AG$4:AG58)","v":0},null,{"$f":"SUM(AG58:AG63)","v":0}]
[400,"Odomirok.11-GenInt",null,0,null,null,null,0,0,0,0,0,0,0,0,0,0,null,0,0,null,56,1,null,{"$f":"SUM(T$4:T59)","v":0.99996399535423919},null,null,null,"| style='background-color: ;'| [[Odomirok.11-GenInt]]",null,null,null,null,null,56,1,null,{"$f":"SUM(AG$4:AG59)","v":0}]
[410,"Odomirok.12-5yr",null,0,null,null,null,0,0,0,0,0,0,0,0,0,0,null,0,0,null,57,1,null,{"$f":"SUM(T$4:T60)","v":0.99996399535423919},null,null,null,"| style='background-color: ;'| [[Odomirok.12-5yr]]",null,null,null,null,null,57,1,null,{"$f":"SUM(AG$4:AG60)","v":0}]
[420,"Odomirok.13",null,0,null,null,null,0,0,0,0,0,0,0,0,0,0,null,0,0,null,58,1,null,{"$f":"SUM(T$4:T61)","v":0.99996399535423919},null,null,null,"| style='background-color: ;'| [[Odomirok.13]]",null,null,null,null,null,58,1,null,{"$f":"SUM(AG$4:AG61)","v":0}]
[480,"Odomirok.20-IRIS",null,0,null,null,null,0,0,0,0,0,0,0,0,0,0,null,0,0,null,59,1,null,{"$f":"SUM(T$4:T62)","v":0.99996399535423919},null,null,null,"| style='background-color: ;'| [[Odomirok.20-IRIS]]",null,null,null,null,null,59,1,null,{"$f":"SUM(AG$4:AG62)","v":0}]
[490,"Odomirok.21-Tools",null,0,null,null,null,0,0,0,0,0,0,0,0,0,0,null,0,0,null,60,1,null,{"$f":"SUM(T$4:T63)","v":0.99996399535423919},null,null,null,"| style='background-color: ;'| [[Odomirok.21-Tools]]",null,null,null,null,null,60,1,null,{"$f":"SUM(AG$4:AG63)","v":0}]
[510,"Odomirok.24-IFRS",null,0,null,null,null,0,0,0,0,0,0,0,0,0,0,null,0,0,null,61,1,null,{"$f":"SUM(T$4:T64)","v":0.99996399535423919},null,{"$f":"SUM(T64:T69)","v":-1.000002E-2},null,"| style='background-color: ;'| [[Odomirok.24-IFRS]]",null,null,null,null,null,61,1,null,{"$f":"SUM(AG$4:AG64)","v":0},null,{"$f":"SUM(AG64:AG69)","v":0}]
[540,"Odomirok.30-Future",null,0,null,null,null,0,0,0,0,0,0,0,0,0,0,null,0,0,null,62,1,null,{"$f":"SUM(T$4:T65)","v":0.99996399535423919},null,null,null,"| style='background-color: ;'| [[Odomirok.30-Future]]",null,null,null,null,null,62,1,null,{"$f":"SUM(AG$4:AG65)","v":0}]
[600,"Porter.6-Formation",null,0,null,null,null,0,0,0,0,0,0,0,0,0,0,null,0,0,null,63,1,null,{"$f":"SUM(T$4:T66)","v":0.99996399535423919},null,null,null,"| style='background-color: ;'| [[Porter.6-Formation]]",null,null,null,null,null,63,1,null,{"$f":"SUM(AG$4:AG66)","v":0}]
[350,"Odomirok.Reporting",null,0,null,null,null,null,null,null,null,null,null,null,null,null,null,null,0,-1E-8,null,null,0,null,null,null,null,null,"| style='background-color: ;'| [[Odomirok.Reporting]]",null,null,null,null,null,64,1,null,{"$f":"SUM(AG$4:AG67)","v":0}]
[550,"Porter.Regs-1",null,0,null,null,null,null,null,null,null,null,null,null,null,null,null,null,0,-1E-8,null,null,0]
[190,"King.Flood",null,0,null,null,null,2.75,1,2.5,2.25,2,2,2.25,0,1.75,0,null,12.5,-0.01,null,null,0]
[640,"Vaughan.Crisis",null,0,null,null,null,0,0,0,3.75,0,3.25,0,0,6.75,0,null,7,-0.01,null,null,0]
[670,"outdated.",0,0,null,null,null,0,0,0,0,0,9,7.25,11.25,11.75,20.25,null,-1,-0.01,null,65,0]
[680,"unknown.",0,0,null,null,null,0,0,0,4.75,5.75,0,0,0,0,0,null,-1,-0.01,null,66,0]

{"sheet":"rank_v_beta","index":4,"n_rows":72,"n_cols":40,"rows_kept":72,"cut":false,"hidden":false,"merged":[]}
[null,null,null,null,null,"2-Fall","1-Spring","2-Fall","1-Spring","2-Fall","1-Spring","2-Fall","1-Spring","2-Fall","1-Spring","2-Fall","2-Fall",null,null,null,null,null,null,null,"* this multiplier is tentative…"]
["ref","BA100_abbreviation","# pgs","prop",null,18,18,17,17,16,16,15,15,14,14,13,12,null,"last 5","% last 5",null,"rank",null,null,"calc multiplier:",null,2.5]
[0,"Exam.Total",323,1,null,null,null,{"$f":"SUM(H4:H73)","v":70},73.5,73.5,81.25,77.5,81.25,81.75,87,87,87,null,null,0.9999999799999999,null,null,""]
[450,"Odomirok.16-17-SAO",null,0,null,null,null,0,0,0,0,0,0,0,0,0,0,null,0,0,null,1,5,null,{"$f":"SUM(T4:T$4)","v":0},null,{"$f":"SUM(T4:T9)","v":0.33739837398373984},null,{"$f":"\"| style='background-color: ;'\" & \"| [[\"&B4&\"]]\"","v":"| style='background-color: ;'| [[Odomirok.16-17-SAO]]"},null,null,null,null,null,1,5,null,{"$f":"SUM(AG4:AG$4)","v":0},null,{"$f":"SUM(AG4:AG9)","v":0}]
[90,"COPLFR.SAO",null,0,null,null,null,14,10.75,11.5,14,12.75,8,11.75,9.5,12.75,11.75,null,71,0.16492450638792103,null,2,5,null,{"$f":"SUM(T$4:T5)","v":0.16492450638792103},null,null,null,"| style='background-color: ;'| [[COPLFR.SAO]]",null,null,null,null,null,2,5,null,{"$f":"SUM(AG$4:AG5)","v":0}]
[30,"ASOP.36",22,6.8111455108359129E-2,null,null,null,0,0,0,0,0,0,0,0,0,0,null,0,0,null,3,5,null,{"$f":"SUM(T$4:T6)","v":0.16492450638792103},null,null,null,"| style='background-color: ;'| [[ASOP.36]]",null,null,null,null,null,3,5,null,{"$f":"SUM(AG$4:AG6)","v":0}]
[300,"NAIC.IRIS",null,0,null,null,null,6,8.75,3.75,6,0,5,5.25,9.25,3.5,5.5,null,29.5,6.852497096399536E-2,null,4,5,null,{"$f":"SUM(T$4:T7)","v":0.2334494773519164},null,null,null,"| style='background-color: ;'| [[NAIC.IRIS]]",null,null,null,null,null,4,5,null,{"$f":"SUM(AG$4:AG7)","v":0}]
[440,"Odomirok.15-P",null,0,null,null,null,2,2.75,5,6,5,3,4,8.5,2.75,0,null,23.75,5.516840882694541E-2,null,5,5,null,{"$f":"SUM(T$4:T8)","v":0.2886178861788618},null,null,null,"| style='background-color: ;'| [[Odomirok.15-P]]",null,null,null,null,null,5,5,null,{"$f":"SUM(AG$4:AG8)","v":0}]
[200,"Klann.ReinsComm",null,0,null,null,null,3,3,4.25,3.5,4.25,3,0,0,3.25,0,null,21,4.878048780487805E-2,null,6,5,null,{"$f":"SUM(T$4:T9)","v":0.33739837398373984},null,null,null,"| style='background-color: ;'| [[Klann.ReinsComm]]",null,null,null,null,null,6,5,null,{"$f":"SUM(AG$4:AG9)","v":0}]
[470,"Odomirok.19-RBC",null,0,null,null,null,3.75,4,4.25,0,5,2.5,4.5,5.25,3.25,8.75,null,19.5,4.5296167247386762E-2,null,7,4,null,{"$f":"SUM(T$4:T10)","v":0.38269454123112662},null,{"$f":"SUM(T10:T15)","v":0.24796747967479676},null,{"$f":"\"| style='background-color: ;'\" & \"| [[\"&B10&\"]]\"","v":"| style='background-color: ;'| [[Odomirok.19-RBC]]"},null,null,null,null,null,7,4,null,{"$f":"SUM(AG$4:AG10)","v":0},null,{"$f":"SUM(AG10:AG15)","v":0}]
[380,"Odomirok.8-9-IS",null,0,null,null,null,8.25,0,3.25,0,5.75,0,3,0,4.25,1.5,null,17.25,4.0069686411149823E-2,null,8,4,null,{"$f":"SUM(T$4:T11)","v":0.42276422764227645},null,null,null,{"$f":"\"| style='background-color: ;'\" & \"| [[\"&B11&\"]]\"","v":"| style='background-color: ;'| [[Odomirok.8-9-IS]]"},null,null,null,null,null,8,4,null,{"$f":"SUM(AG$4:AG11)","v":0}]
[170,"Germani.GovtIns",18,5.5727554179566562E-2,null,null,null,3,2.5,3,2.5,5,1.5,2.5,4.75,2.75,3,null,17.5,4.065040650406504E-2,null,9,4,null,{"$f":"SUM(T$4:T12)","v":0.46341463414634149},null,null,null,"| style='background-color: ;'| [[Germani.GovtIns]]",null,null,null,null,null,9,4,null,{"$f":"SUM(AG$4:AG12)","v":0}]
[460,"Odomirok.18-IEE",null,0,null,null,null,0,3.5,4,2.75,2.5,4.25,2.5,2,3,2.75,null,17,3.9488966318234613E-2,null,10,4,null,{"$f":"SUM(T$4:T13)","v":0.50290360046457605},null,null,null,"| style='background-color: ;'| [[Odomirok.18-IEE]]",null,null,null,null,null,10,4,null,{"$f":"SUM(AG$4:AG13)","v":0}]
[430,"Odomirok.14-F",null,0,null,null,null,2.5,3.75,3.75,4.25,0,4,0,0,3.5,5.75,null,18.25,4.2392566782810684E-2,null,11,4,null,{"$f":"SUM(T$4:T14)","v":0.54529616724738672},null,null,null,"| style='background-color: ;'| [[Odomirok.14-F]]",null,null,null,null,null,11,4,null,{"$f":"SUM(AG$4:AG14)","v":0}]
[150,"Freihaut.Reins",null,0,null,null,null,0,2.75,1.5,4.25,2.5,6.25,0,4.25,2.25,1.5,null,17.25,4.0069686411149823E-2,null,12,4,null,{"$f":"SUM(T$4:T15)","v":0.58536585365853655},null,null,null,"| style='background-color: ;'| [[Freihaut.Reins]]",null,null,null,null,null,12,4,null,{"$f":"SUM(AG$4:AG15)","v":0}]
[500,"Odomirok.22-23-GAAP",null,0,null,null,null,7,0,3.75,5.5,0,0,9.25,7,0,1.75,null,16.25,3.7746806039488968E-2,null,13,3,null,{"$f":"SUM(T$4:T16)","v":0.62311265969802554},null,{"$f":"SUM(T16:T21)","v":0.15356445993031359},null,"| style='background-color: ;'| [[Odomirok.22-23-GAAP]]",null,null,null,null,null,13,3,null,{"$f":"SUM(AG$4:AG16)","v":0},null,{"$f":"SUM(AG16:AG21)","v":0}]
[100,"Cook.Personal",null,0,null,null,null,1.75,4.75,2.5,2.5,0,3.25,0,4,2,3,null,14.75,3.426248548199768E-2,null,14,3,null,{"$f":"SUM(T$4:T17)","v":0.65737514518002327},null,null,null,"| style='background-color: ;'| [[Cook.Personal]]",null,null,null,null,null,14,3,null,{"$f":"SUM(AG$4:AG17)","v":0}]
[175,"Horn.Flood",86,0.26625386996904027,null,null,null,0,0,0,0,0,0,0,0,0,0,null,0,2.9000000000000001E-2,null,15,3,null,{"$f":"SUM(T$4:T18)","v":0.68637514518002329},null,null,null,"| style='background-color: ;'| [[Horn.Flood]]",null,null,null,null,null,15,3,null,{"$f":"SUM(AG$4:AG18)","v":0}]
[530,"Odomirok.26-Taxes",null,0,null,null,null,2.5,0,3.25,2.375,0,3.25,0,0,7,0,null,11.375,2.6422764227642278E-2,null,16,3,null,{"$f":"SUM(T$4:T19)","v":0.71279790940766552},null,null,null,"| style='background-color: ;'| [[Odomirok.26-Taxes]]",null,null,null,null,null,16,3,null,{"$f":"SUM(AG$4:AG19)","v":0}]
[650,"Webel.TRIA-1",null,0,null,null,null,0,2.25,3,3,1.75,1.25,3.25,1.75,0,0,null,11.25,2.6132404181184669E-2,null,17,3,null,{"$f":"SUM(T$4:T20)","v":0.7389303135888502},null,null,null,"| style='background-color: ;'| [[Webel.TRIA-1]]",null,null,null,null,null,17,3,null,{"$f":"SUM(AG$4:AG20)","v":0}]
[660,"Webel.TRIA-2",0,0,null,null,null,0,0,0,0,0,0,0,0,0,0,null,0,0,null,18,3,null,{"$f":"SUM(T$4:T21)","v":0.7389303135888502},null,null,null,"| style='background-color: ;'| [[Webel.TRIA-2]]",null,null,null,null,null,18,3,null,{"$f":"SUM(AG$4:AG21)","v":0}]
[120,"Feldblum.Ratings",null,0,null,null,null,0,2.5,0,0,3,5,0,0,2.75,3,null,10.5,2.4390243902439025E-2,null,19,2,null,{"$f":"SUM(T$4:T22)","v":0.76332055749128924},null,{"$f":"SUM(T22:T27)","v":0.11382113821138212},null,"| style='background-color: ;'| [[Feldblum.Ratings]]",null,null,null,null,null,19,2,null,{"$f":"SUM(AG$4:AG22)","v":0},null,{"$f":"SUM(AG22:AG27)","v":0}]
[390,"Odomirok.10-Notes",null,0,null,null,null,0,2.5,0,0,4.25,3,0,2.5,3,0,null,9.75,2.2648083623693381E-2,null,20,2,null,{"$f":"SUM(T$4:T23)","v":0.78596864111498266},null,null,null,"| style='background-color: ;'| [[Odomirok.10-Notes]]",null,null,null,null,null,20,2,null,{"$f":"SUM(AG$4:AG23)","v":0}]
[130,"Feldblum.Surplus",null,0,null,null,null,0,4.25,0,0,0,3.5,0,0,0,0,null,7.75,1.8002322880371662E-2,null,21,2,null,{"$f":"SUM(T$4:T24)","v":0.80397096399535428},null,null,null,"| style='background-color: ;'| [[Feldblum.Surplus]]",null,null,null,null,null,21,2,null,{"$f":"SUM(AG$4:AG24)","v":0}]
[340,"NAIC.Solvency",null,0,null,null,null,0,2.5,2.5,0,2.5,0,5,7.5,0,0,null,7.5,1.7421602787456445E-2,null,22,2,null,{"$f":"SUM(T$4:T25)","v":0.8213925667828107},null,null,null,"| style='background-color: ;'| [[NAIC.Solvency]]",null,null,null,null,null,22,2,null,{"$f":"SUM(AG$4:AG25)","v":0}]
[160,"GAO.Report",58,0.17956656346749225,null,null,null,2,0,0,3,2,0,2.75,0,0,0,null,7,1.6260162601626018E-2,null,23,2,null,{"$f":"SUM(T$4:T26)","v":0.83765272938443669},null,null,null,"| style='background-color: ;'| [[GAO.Report]]",null,null,null,null,null,23,2,null,{"$f":"SUM(AG$4:AG26)","v":0}]
[610,"Porter.8-Rates",null,0,null,null,null,0,0,0,3.75,0,2.75,0,0,2.5,0,null,6.5,1.5098722415795587E-2,null,24,2,null,{"$f":"SUM(T$4:T27)","v":0.85275145180023226},null,null,null,"| style='background-color: ;'| [[Porter.8-Rates]]",null,null,null,null,null,24,2,null,{"$f":"SUM(AG$4:AG27)","v":0}]
[520,"Odomirok.25-Solv2",null,0,null,null,null,0,3,0,0,3.25,0,0,0,3.75,0,null,6.25,1.4518002322880372E-2,null,25,1,null,{"$f":"SUM(T$4:T28)","v":0.86726945412311263},null,{"$f":"SUM(T28:T33)","v":7.5493612078977923E-2},null,"| style='background-color: ;'| [[Odomirok.25-Solv2]]",null,null,null,null,null,25,1,null,{"$f":"SUM(AG$4:AG28)","v":0},null,{"$f":"SUM(AG28:AG33)","v":0}]
[560,"Porter.2-Devlpt",null,0,null,null,null,0,0,3.25,0,0,2.75,4,3,2,3.5,null,6,1.3937282229965157E-2,null,26,1,null,{"$f":"SUM(T$4:T29)","v":0.88120673635307778},null,null,null,"| style='background-color: ;'| [[Porter.2-Devlpt]]",null,null,null,null,null,26,1,null,{"$f":"SUM(AG$4:AG29)","v":0}]
[620,"Porter.12-Insolvency",null,0,null,null,null,2.25,0,3.5,0,0,0,0,0,0,3,null,5.75,1.3356562137049941E-2,null,27,1,null,{"$f":"SUM(T$4:T30)","v":0.89456329849012772},null,null,null,"| style='background-color: ;'| [[Porter.12-Insolvency]]",null,null,null,null,null,27,1,null,{"$f":"SUM(AG$4:AG30)","v":0}]
[70,"Baribeau.Regs",null,0,null,null,null,1,1.5,2.5,0,0,0,0,0,0,0,null,5,1.1614401858304297E-2,null,28,1,null,{"$f":"SUM(T$4:T31)","v":0.90617770034843204},null,null,null,"| style='background-color: ;'| [[Baribeau.Regs]]",null,null,null,null,null,28,1,null,{"$f":"SUM(AG$4:AG31)","v":0}]
[210,"Kucera.Credit",7,2.1671826625386997E-2,null,null,null,2.25,0,2.5,0,0,0,0,2.75,0,0,null,4.75,1.1033681765389082E-2,null,29,1,null,{"$f":"SUM(T$4:T32)","v":0.91721138211382114},null,null,null,"| style='background-color: ;'| [[Kucera.Credit]]",null,null,null,null,null,29,1,null,{"$f":"SUM(AG$4:AG32)","v":0}]
[220,"McCarty.Credit",57,0.17647058823529413,null,null,null,0,0,0,2.5,2.25,0,3.75,0,0,0,null,4.75,1.1033681765389082E-2,null,30,1,null,{"$f":"SUM(T$4:T33)","v":0.92824506387921024},null,null,null,"| style='background-color: ;'| [[McCarty.Credit]]",null,null,null,null,null,30,1,null,{"$f":"SUM(AG$4:AG33)","v":0}]
[180,"NAIC.Telematics",null,0,null,null,null,2,3,0,0,0,0,0,0,0,0,null,5,1.1614401858304297E-2,null,31,1,null,{"$f":"SUM(T$4:T34)","v":0.93985946573751455},null,{"$f":"SUM(T34:T39)","v":5.6039488966318239E-2},null,"| style='background-color: ;'| [[NAIC.Telematics]]",null,null,null,null,null,31,1,null,{"$f":"SUM(AG$4:AG34)","v":0},null,{"$f":"SUM(AG34:AG39)","v":0}]
[110,"Feldblum.Discount",null,0,null,null,null,0,2.25,0,2.375,0,0,2.75,0,0,0,null,4.625,1.0743321718931475E-2,null,32,1,null,{"$f":"SUM(T$4:T35)","v":0.950602787456446},null,null,null,"| style='background-color: ;'| [[Feldblum.Discount]]",null,null,null,null,null,32,1,null,{"$f":"SUM(AG$4:AG35)","v":0}]
[630,"Porter.Reg-2",null,0,null,null,null,0,2.25,0,0,2.25,0,0,2,2.5,0,null,4.5,1.0452961672473868E-2,null,33,1,null,{"$f":"SUM(T$4:T36)","v":0.96105574912891989},null,null,null,"| style='background-color: ;'| [[Porter.Reg-2]]",null,null,null,null,null,33,1,null,{"$f":"SUM(AG$4:AG36)","v":0}]
[570,"Porter.3-Roles-Fed",null,0,null,null,null,1.75,0,0,2.25,0,0,0,0,0,0,null,4,9.2915214866434379E-3,null,34,1,null,{"$f":"SUM(T$4:T37)","v":0.97034727061556336},null,null,null,"| style='background-color: ;'| [[Porter.3-Roles-Fed]]",null,null,null,null,null,34,1,null,{"$f":"SUM(AG$4:AG37)","v":0}]
[580,"Porter.4-Roles-State",null,0,null,null,null,0,0,0,0,3.25,0,0,1.75,0,2,null,3.25,7.5493612078977937E-3,null,35,1,null,{"$f":"SUM(T$4:T38)","v":0.9778966318234612},null,null,null,"| style='background-color: ;'| [[Porter.4-Roles-State]]",null,null,null,null,null,35,1,null,{"$f":"SUM(AG$4:AG38)","v":0}]
[40,"ASOP.41",27,8.3591331269349839E-2,null,null,null,0,0,0,0,0,2.75,0,0,0,0,null,2.75,6.387921022067364E-3,null,36,1,null,{"$f":"SUM(T$4:T39)","v":0.98428455284552852},null,null,null,"| style='background-color: ;'| [[ASOP.41]]",null,null,null,null,null,36,1,null,{"$f":"SUM(AG$4:AG39)","v":0}]
[590,"Porter.5-Opns-State",null,0,null,null,null,0,0,0,0,2.5,0,0,0,0,0,null,2.5,5.8072009291521487E-3,null,37,1,null,{"$f":"SUM(T$4:T40)","v":0.99009175377468062},null,{"$f":"SUM(T40:T45)","v":1.5679442508710804E-2},null,"| style='background-color: ;'| [[Porter.5-Opns-State]]",null,null,null,null,null,37,1,null,{"$f":"SUM(AG$4:AG40)","v":0},null,{"$f":"SUM(AG40:AG45)","v":0}]
[230,"NAIC.APPM",null,0,null,null,null,0,0,0,0,0,2,0,0,0,0,null,2,4.6457607433217189E-3,null,38,1,null,{"$f":"SUM(T$4:T41)","v":0.9947375145180023},null,null,null,"| style='background-color: ;'| [[NAIC.APPM]]",null,null,null,null,null,38,1,null,{"$f":"SUM(AG$4:AG41)","v":0}]
[280,"NAIC.SSAP-62R",null,0,null,null,null,1.75,0,0,0,0,0,6,0,0,1.5,null,1.75,4.0650406504065045E-3,null,39,1,null,{"$f":"SUM(T$4:T42)","v":0.99880255516840877},null,null,null,"| style='background-color: ;'| [[NAIC.SSAP-62R]]",null,null,null,null,null,39,1,null,{"$f":"SUM(AG$4:AG42)","v":0}]
[330,"NAIC.Price",null,0,null,null,null,0.5,0,0,0,0,0,0,0,0,0,null,0.5,1.1614401858304297E-3,null,40,1,null,{"$f":"SUM(T$4:T43)","v":0.99996399535423919},null,null,null,"| style='background-color: ;'| [[NAIC.Price]]",null,null,null,null,null,40,1,null,{"$f":"SUM(AG$4:AG43)","v":0}]
[10,"IEE.2016",null,0,null,null,null,0,0,0,0,0,0,0,0,0,0,null,0,0,null,41,1,null,{"$f":"SUM(T$4:T44)","v":0.99996399535423919},null,null,null,"| style='background-color: ;'| [[IEE.2016]]",null,null,null,null,null,41,1,null,{"$f":"SUM(AG$4:AG44)","v":0}]
[20,"ASOP.20",17,5.2631578947368418E-2,null,null,null,0,0,0,0,0,0,0,0,0,0,null,0,0,null,42,1,null,{"$f":"SUM(T$4:T45)","v":0.99996399535423919},null,null,null,"| style='background-color: ;'| [[ASOP.20]]",null,null,null,null,null,42,1,null,{"$f":"SUM(AG$4:AG45)","v":0}]
[50,"ASOP.43",31,9.5975232198142413E-2,null,null,null,0,0,0,0,0,0,0,0,0,0,null,0,0,null,43,1,null,{"$f":"SUM(T$4:T46)","v":0.99996399535423919},null,{"$f":"SUM(T46:T51)","v":0},null,"| style='background-color: ;'| [[ASOP.43]]",null,null,null,null,null,43,1,null,{"$f":"SUM(AG$4:AG46)","v":0},null,{"$f":"SUM(AG46:AG51)","v":0}]
[60,"AAA.Materiality",null,0,null,null,null,0,0,0,0,0,0,0,0,0,0,null,0,0,null,44,1,null,{"$f":"SUM(T$4:T47)","v":0.99996399535423919},null,null,null,"| style='background-color: ;'| [[AAA.Materiality]]",null,null,null,null,null,44,1,null,{"$f":"SUM(AG$4:AG47)","v":0}]
[80,"BK.Reins",null,0,null,null,null,0,0,0,0,0,0,0,0,0,0,null,0,0,null,45,1,null,{"$f":"SUM(T$4:T48)","v":0.99996399535423919},null,null,null,"| style='background-color: ;'| [[BK.Reins]]",null,null,null,null,null,45,1,null,{"$f":"SUM(AG$4:AG48)","v":0}]
[140,"FASB.944",null,0,null,null,null,0,0,0,0,0,0,0,0,0,0,null,0,0,null,46,1,null,{"$f":"SUM(T$4:T49)","v":0.99996399535423919},null,null,null,"| style='background-color: ;'| [[FASB.944]]",null,null,null,null,null,46,1,null,{"$f":"SUM(AG$4:AG49)","v":0}]
[240,"NAIC.SSAP-5R",null,0,null,null,null,0,0,0,0,0,0,0,0,0,0,null,0,0,null,47,1,null,{"$f":"SUM(T$4:T50)","v":0.99996399535423919},null,null,null,"| style='background-color: ;'| [[NAIC.SSAP-5R]]",null,null,null,null,null,47,1,null,{"$f":"SUM(AG$4:AG50)","v":0}]
[250,"NAIC.SSAP-9",null,0,null,null,null,0,0,0,0,0,0,2,0,0,0,null,0,0,null,48,1,null,{"$f":"SUM(T$4:T51)","v":0.99996399535423919},null,null,null,"| style='background-color: ;'| [[NAIC.SSAP-9]]",null,null,null,null,null,48,1,null,{"$f":"SUM(AG$4:AG51)","v":0}]
[260,"NAIC.SSAP-53",null,0,null,null,null,0,0,0,0,0,0,0,0,0,0,null,0,0,null,49,1,null,{"$f":"SUM(T$4:T52)","v":0.99996399535423919},null,{"$f":"SUM(T52:T57)","v":0},null,"| style='background-color: ;'| [[NAIC.SSAP-53]]",null,null,null,null,null,49,1,null,{"$f":"SUM(AG$4:AG52)","v":0},null,{"$f":"SUM(AG52:AG57)","v":0}]
[270,"NAIC.SSAP-55",null,0,null,null,null,0,0,0,0,0,0,0,0,0,0,null,0,0,null,50,1,null,{"$f":"SUM(T$4:T53)","v":0.99996399535423919},null,null,null,"| style='background-color: ;'| [[NAIC.SSAP-55]]",null,null,null,null,null,50,1,null,{"$f":"SUM(AG$4:AG53)","v":0}]
[290,"NAIC.SSAP-65",null,0,null,null,null,0,0,0,0,0,0,0,0,0,3.5,null,0,0,null,51,1,null,{"$f":"SUM(T$4:T54)","v":0.99996399535423919},null,null,null,"| style='background-color: ;'| [[NAIC.SSAP-65]]",null,null,null,null,null,51,1,null,{"$f":"SUM(AG$4:AG54)","v":0}]
[310,"NAIC.Annual",null,0,null,null,null,0,0,0,0,0,0,0,0,0,0,null,0,0,null,52,1,null,{"$f":"SUM(T$4:T55)","v":0.99996399535423919},null,null,null,"| style='background-color: ;'| [[NAIC.Annual]]",null,null,null,null,null,52,1,null,{"$f":"SUM(AG$4:AG55)","v":0}]
[320,"NAIC.AnnualExs",null,0,null,null,null,0,0,0,0,0,0,0,0,0,0,null,0,0,null,53,1,null,{"$f":"SUM(T$4:T56)","v":0.99996399535423919},null,null,null,"| style='background-color: ;'| [[NAIC.AnnualExs]]",null,null,null,null,null,53,1,null,{"$f":"SUM(AG$4:AG56)","v":0}]
[360,"Odomirok.1-5-Intro",null,0,null,null,null,0,0,0,0,0,0,0,0,0,0,null,0,0,null,54,1,null,{"$f":"SUM(T$4:T57)","v":0.99996399535423919},null,null,null,"| style='background-color: ;'| [[Odomirok.1-5-Intro]]",null,null,null,null,null,54,1,null,{"$f":"SUM(AG$4:AG57)","v":0}]
[370,"Odomirok.6-7-BS",null,0,null,null,null,0,0,0,0,0,0,0,0,0,5,null,0,0,null,55,1,null,{"$f":"SUM(T$4:T58)","v":0.99996399535423919},null,{"$f":"SUM(T58:T63)","v":0},null,"| style='background-color: ;'| [[Odomirok.6-7-BS]]",null,null,null,null,null,55,1,null,{"$f":"SUM(AG$4:AG58)","v":0},null,{"$f":"SUM(AG58:AG63)","v":0}]
[400,"Odomirok.11-GenInt",null,0,null,null,null,0,0,0,0,0,0,0,0,0,0,null,0,0,null,56,1,null,{"$f":"SUM(T$4:T59)","v":0.99996399535423919},null,null,null,"| style='background-color: ;'| [[Odomirok.11-GenInt]]",null,null,null,null,null,56,1,null,{"$f":"SUM(AG$4:AG59)","v":0}]
[410,"Odomirok.12-5yr",null,0,null,null,null,0,0,0,0,0,0,0,0,0,0,null,0,0,null,57,1,null,{"$f":"SUM(T$4:T60)","v":0.99996399535423919},null,null,null,"| style='background-color: ;'| [[Odomirok.12-5yr]]",null,null,null,null,null,57,1,null,{"$f":"SUM(AG$4:AG60)","v":0}]
[420,"Odomirok.13",null,0,null,null,null,0,0,0,0,0,0,0,0,0,0,null,0,0,null,58,1,null,{"$f":"SUM(T$4:T61)","v":0.99996399535423919},null,null,null,"| style='background-color: ;'| [[Odomirok.13]]",null,null,null,null,null,58,1,null,{"$f":"SUM(AG$4:AG61)","v":0}]
[480,"Odomirok.20-IRIS",null,0,null,null,null,0,0,0,0,0,0,0,0,0,0,null,0,0,null,59,1,null,{"$f":"SUM(T$4:T62)","v":0.99996399535423919},null,null,null,"| style='background-color: ;'| [[Odomirok.20-IRIS]]",null,null,null,null,null,59,1,null,{"$f":"SUM(AG$4:AG62)","v":0}]
[490,"Odomirok.21-Tools",null,0,null,null,null,0,0,0,0,0,0,0,0,0,0,null,0,0,null,60,1,null,{"$f":"SUM(T$4:T63)","v":0.99996399535423919},null,null,null,"| style='background-color: ;'| [[Odomirok.21-Tools]]",null,null,null,null,null,60,1,null,{"$f":"SUM(AG$4:AG63)","v":0}]
[510,"Odomirok.24-IFRS",null,0,null,null,null,0,0,0,0,0,0,0,0,0,0,null,0,0,null,61,1,null,{"$f":"SUM(T$4:T64)","v":0.99996399535423919},null,{"$f":"SUM(T64:T69)","v":-1.000002E-2},null,"| style='background-color: ;'| [[Odomirok.24-IFRS]]",null,null,null,null,null,61,1,null,{"$f":"SUM(AG$4:AG64)","v":0},null,{"$f":"SUM(AG64:AG69)","v":0}]
[540,"Odomirok.30-Future",null,0,null,null,null,0,0,0,0,0,0,0,0,0,0,null,0,0,null,62,1,null,{"$f":"SUM(T$4:T65)","v":0.99996399535423919},null,null,null,"| style='background-color: ;'| [[Odomirok.30-Future]]",null,null,null,null,null,62,1,null,{"$f":"SUM(AG$4:AG65)","v":0}]
[600,"Porter.6-Formation",null,0,null,null,null,0,0,0,0,0,0,0,0,0,0,null,0,0,null,63,1,null,{"$f":"SUM(T$4:T66)","v":0.99996399535423919},null,null,null,"| style='background-color: ;'| [[Porter.6-Formation]]",null,null,null,null,null,63,1,null,{"$f":"SUM(AG$4:AG66)","v":0}]
[350,"Odomirok.Reporting",null,0,null,null,null,null,null,null,null,null,null,null,null,null,null,null,0,-1E-8,null,null,0,null,null,null,null,null,"| style='background-color: ;'| [[Odomirok.Reporting]]",null,null,null,null,null,64,1,null,{"$f":"SUM(AG$4:AG67)","v":0}]
[550,"Porter.Regs-1",null,0,null,null,null,null,null,null,null,null,null,null,null,null,null,null,0,-1E-8,null,null,0]
[190,"King.Flood",null,0,null,null,null,2.75,1,2.5,2.25,2,2,2.25,0,1.75,0,null,12.5,-0.01,null,null,0]
[640,"Vaughan.Crisis",null,0,null,null,null,0,0,0,3.75,0,3.25,0,0,6.75,0,null,7,-0.01,null,null,0]
[670,"outdated.",0,0,null,null,null,0,0,0,0,0,9,7.25,11.25,11.75,20.25,null,-1,-0.01,null,65,0]
[680,"unknown.",0,0,null,null,null,0,0,0,4.75,5.75,0,0,0,0,0,null,-1,-0.01,null,66,0]

{"sheet":"rank.19F","index":5,"n_rows":156,"n_cols":43,"rows_kept":156,"cut":false,"hidden":false,"merged":[]}
[null,null,null,null,null,"2-Fall","1-Spring","2-Fall","1-Spring","2-Fall","1-Spring","2-Fall","1-Spring","2-Fall","1-Spring","2-Fall","2-Fall",null,null,null,null,null,null,null,null,null,null,"* this multiplier is tentative…"]
["ref","BA100_abbreviation","# pgs","prop",null,18,18,17,17,16,16,15,15,14,14,13,12,null,"last 5","% last 5",null,"rank",null,null,null,null,null,"calc multiplier:",null,2.5]
[0,"Exam.Total",323,1,null,{"$f":"SUM(F4:F69)","v":67},67.25,67.25,70.25,71.75,79,78.5,79.25,76.75,88,89.75,87,null,null,{"$f":"SUM(T4:T120)","v":0.99999999999999989},null,null,""]
[450,"Odomirok.16-17-SAO",null,0,null,{"$f":"VLOOKUP($B4,stats!$B$4:$Q$128,COLUMN(F4)-1,FALSE)","v":0},{"$f":"VLOOKUP($B4,stats!$B$4:$Q$128,COLUMN(G4)-1,FALSE)","v":0},{"$f":"VLOOKUP($B4,stats!$B$4:$Q$128,COLUMN(H4)-1,FALSE)","v":0},{"$f":"VLOOKUP($B4,stats!$B$4:$Q$128,COLUMN(I4)-1,FALSE)","v":0},{"$f":"VLOOKUP($B4,stats!$B$4:$Q$128,COLUMN(J4)-1,FALSE)","v":0},{"$f":"VLOOKUP($B4,stats!$B$4:$Q$128,COLUMN(K4)-1,FALSE)","v":0},{"$f":"VLOOKUP($B4,stats!$B$4:$Q$128,COLUMN(L4)-1,FALSE)","v":0},{"$f":"VLOOKUP($B4,stats!$B$4:$Q$128,COLUMN(M4)-1,FALSE)","v":0},{"$f":"VLOOKUP($B4,stats!$B$4:$Q$128,COLUMN(N4)-1,FALSE)","v":0},{"$f":"VLOOKUP($B4,stats!$B$4:$Q$128,COLUMN(O4)-1,FALSE)","v":0},{"$f":"VLOOKUP($B4,stats!$B$4:$Q$128,COLUMN(P4)-1,FALSE)","v":0},{"$f":"VLOOKUP($B4,stats!$B$4:$Q$128,COLUMN(Q4)-1,FALSE)","v":0},null,0,0,null,1,5,null,5,"Odomirok.16-17-SAO",1,{"$f":"SUM(T4:T$4)","v":0},null,{"$f":"SUM(T4:T9)","v":0.37303492139685585},null,{"$f":"\"| style='background-color: ;'\" & \"| [[\"&B4&\"]]\"","v":"| style='background-color: ;'| [[Odomirok.16-17-SAO]]"},null,null,null,null,null,1,5,null,{"$f":"SUM(AJ4:AJ$4)","v":0},null,{"$f":"SUM(AJ4:AJ9)","v":0}]
[90,"COPLFR.SAO",null,0,null,{"$f":"VLOOKUP($B5,stats!$B$4:$Q$128,COLUMN(F5)-1,FALSE)","v":11.25},{"$f":"VLOOKUP($B5,stats!$B$4:$Q$128,COLUMN(G5)-1,FALSE)","v":12.75},{"$f":"VLOOKUP($B5,stats!$B$4:$Q$128,COLUMN(H5)-1,FALSE)","v":14},{"$f":"VLOOKUP($B5,stats!$B$4:$Q$128,COLUMN(I5)-1,FALSE)","v":10.75},{"$f":"VLOOKUP($B5,stats!$B$4:$Q$128,COLUMN(J5)-1,FALSE)","v":11.5},{"$f":"VLOOKUP($B5,stats!$B$4:$Q$128,COLUMN(K5)-1,FALSE)","v":14},{"$f":"VLOOKUP($B5,stats!$B$4:$Q$128,COLUMN(L5)-1,FALSE)","v":12.75},{"$f":"VLOOKUP($B5,stats!$B$4:$Q$128,COLUMN(M5)-1,FALSE)","v":8},{"$f":"VLOOKUP($B5,stats!$B$4:$Q$128,COLUMN(N5)-1,FALSE)","v":11.75},{"$f":"VLOOKUP($B5,stats!$B$4:$Q$128,COLUMN(O5)-1,FALSE)","v":9.5},{"$f":"VLOOKUP($B5,stats!$B$4:$Q$128,COLUMN(P5)-1,FALSE)","v":12.75},{"$f":"VLOOKUP($B5,stats!$B$4:$Q$128,COLUMN(Q5)-1,FALSE)","v":11.75},null,89.9375,0.17268690747629906,null,2,5,null,10,"COPLFR.SAO",2,{"$f":"SUM(T$4:T5)","v":0.17268690747629906},null,null,null,"| style='background-color: ;'| [[COPLFR.SAO]]",null,null,null,null,null,2,5,null,{"$f":"SUM(AJ$4:AJ5)","v":0}]
[30,"ASOP.36",22,6.8111455108359129E-2,null,{"$f":"VLOOKUP($B6,stats!$B$4:$Q$128,COLUMN(F6)-1,FALSE)","v":0},{"$f":"VLOOKUP($B6,stats!$B$4:$Q$128,COLUMN(G6)-1,FALSE)","v":0},{"$f":"VLOOKUP($B6,stats!$B$4:$Q$128,COLUMN(H6)-1,FALSE)","v":0},{"$f":"VLOOKUP($B6,stats!$B$4:$Q$128,COLUMN(I6)-1,FALSE)","v":0},{"$f":"VLOOKUP($B6,stats!$B$4:$Q$128,COLUMN(J6)-1,FALSE)","v":0},{"$f":"VLOOKUP($B6,stats!$B$4:$Q$128,COLUMN(K6)-1,FALSE)","v":0},{"$f":"VLOOKUP($B6,stats!$B$4:$Q$128,COLUMN(L6)-1,FALSE)","v":0},{"$f":"VLOOKUP($B6,stats!$B$4:$Q$128,COLUMN(M6)-1,FALSE)","v":0},{"$f":"VLOOKUP($B6,stats!$B$4:$Q$128,COLUMN(N6)-1,FALSE)","v":0},{"$f":"VLOOKUP($B6,stats!$B$4:$Q$128,COLUMN(O6)-1,FALSE)","v":0},{"$f":"VLOOKUP($B6,stats!$B$4:$Q$128,COLUMN(P6)-1,FALSE)","v":0},{"$f":"VLOOKUP($B6,stats!$B$4:$Q$128,COLUMN(Q6)-1,FALSE)","v":0},null,0,0,null,3,5,null,12,"ASOP.36",3,{"$f":"SUM(T$4:T6)","v":0.17268690747629906},null,null,null,"| style='background-color: ;'| [[ASOP.36]]",null,null,null,null,null,3,5,null,{"$f":"SUM(AJ$4:AJ6)","v":0}]
[300,"NAIC.IRIS",null,0,null,{"$f":"VLOOKUP($B7,stats!$B$4:$Q$128,COLUMN(F7)-1,FALSE)","v":6.5},{"$f":"VLOOKUP($B7,stats!$B$4:$Q$128,COLUMN(G7)-1,FALSE)","v":6},{"$f":"VLOOKUP($B7,stats!$B$4:$Q$128,COLUMN(H7)-1,FALSE)","v":6},{"$f":"VLOOKUP($B7,stats!$B$4:$Q$128,COLUMN(I7)-1,FALSE)","v":8.75},{"$f":"VLOOKUP($B7,stats!$B$4:$Q$128,COLUMN(J7)-1,FALSE)","v":3.75},{"$f":"VLOOKUP($B7,stats!$B$4:$Q$128,COLUMN(K7)-1,FALSE)","v":6},{"$f":"VLOOKUP($B7,stats!$B$4:$Q$128,COLUMN(L7)-1,FALSE)","v":0},{"$f":"VLOOKUP($B7,stats!$B$4:$Q$128,COLUMN(M7)-1,FALSE)","v":5},{"$f":"VLOOKUP($B7,stats!$B$4:$Q$128,COLUMN(N7)-1,FALSE)","v":4.875},{"$f":"VLOOKUP($B7,stats!$B$4:$Q$128,COLUMN(O7)-1,FALSE)","v":9.25},{"$f":"VLOOKUP($B7,stats!$B$4:$Q$128,COLUMN(P7)-1,FALSE)","v":3.5},{"$f":"VLOOKUP($B7,stats!$B$4:$Q$128,COLUMN(Q7)-1,FALSE)","v":5.5},null,43.03125,8.2623304932197286E-2,null,4,5,null,20,"NAIC.IRIS",4,{"$f":"SUM(T$4:T7)","v":0.25531021240849633},null,null,null,"| style='background-color: ;'| [[NAIC.IRIS]]",null,null,null,null,null,4,5,null,{"$f":"SUM(AJ$4:AJ7)","v":0}]
[440,"Odomirok.15-P",null,0,null,{"$f":"VLOOKUP($B8,stats!$B$4:$Q$128,COLUMN(F8)-1,FALSE)","v":4.75},{"$f":"VLOOKUP($B8,stats!$B$4:$Q$128,COLUMN(G8)-1,FALSE)","v":3.5},{"$f":"VLOOKUP($B8,stats!$B$4:$Q$128,COLUMN(H8)-1,FALSE)","v":2},{"$f":"VLOOKUP($B8,stats!$B$4:$Q$128,COLUMN(I8)-1,FALSE)","v":2.75},{"$f":"VLOOKUP($B8,stats!$B$4:$Q$128,COLUMN(J8)-1,FALSE)","v":5},{"$f":"VLOOKUP($B8,stats!$B$4:$Q$128,COLUMN(K8)-1,FALSE)","v":6},{"$f":"VLOOKUP($B8,stats!$B$4:$Q$128,COLUMN(L8)-1,FALSE)","v":5},{"$f":"VLOOKUP($B8,stats!$B$4:$Q$128,COLUMN(M8)-1,FALSE)","v":3},{"$f":"VLOOKUP($B8,stats!$B$4:$Q$128,COLUMN(N8)-1,FALSE)","v":4},{"$f":"VLOOKUP($B8,stats!$B$4:$Q$128,COLUMN(O8)-1,FALSE)","v":8.5},{"$f":"VLOOKUP($B8,stats!$B$4:$Q$128,COLUMN(P8)-1,FALSE)","v":2.75},{"$f":"VLOOKUP($B8,stats!$B$4:$Q$128,COLUMN(Q8)-1,FALSE)","v":0},null,31.125,5.9762390495619828E-2,null,5,5,null,30,"Odomirok.15-P",5,{"$f":"SUM(T$4:T8)","v":0.31507260290411615},null,null,null,"| style='background-color: ;'| [[Odomirok.15-P]]",null,null,null,null,null,5,5,null,{"$f":"SUM(AJ$4:AJ8)","v":0}]
[470,"Odomirok.19-RBC",null,0,null,{"$f":"VLOOKUP($B9,stats!$B$4:$Q$128,COLUMN(F9)-1,FALSE)","v":3.5},{"$f":"VLOOKUP($B9,stats!$B$4:$Q$128,COLUMN(G9)-1,FALSE)","v":3.75},{"$f":"VLOOKUP($B9,stats!$B$4:$Q$128,COLUMN(H9)-1,FALSE)","v":3.75},{"$f":"VLOOKUP($B9,stats!$B$4:$Q$128,COLUMN(I9)-1,FALSE)","v":4},{"$f":"VLOOKUP($B9,stats!$B$4:$Q$128,COLUMN(J9)-1,FALSE)","v":4.25},{"$f":"VLOOKUP($B9,stats!$B$4:$Q$128,COLUMN(K9)-1,FALSE)","v":3},{"$f":"VLOOKUP($B9,stats!$B$4:$Q$128,COLUMN(L9)-1,FALSE)","v":4.5},{"$f":"VLOOKUP($B9,stats!$B$4:$Q$128,COLUMN(M9)-1,FALSE)","v":6.5},{"$f":"VLOOKUP($B9,stats!$B$4:$Q$128,COLUMN(N9)-1,FALSE)","v":4.5},{"$f":"VLOOKUP($B9,stats!$B$4:$Q$128,COLUMN(O9)-1,FALSE)","v":5.25},{"$f":"VLOOKUP($B9,stats!$B$4:$Q$128,COLUMN(P9)-1,FALSE)","v":3.25},{"$f":"VLOOKUP($B9,stats!$B$4:$Q$128,COLUMN(Q9)-1,FALSE)","v":8.75},null,30.1875,5.7962318492739716E-2,null,6,5,null,40,"Odomirok.19-RBC",6,{"$f":"SUM(T$4:T9)","v":0.37303492139685585},null,null,null,"| style='background-color: ;'| [[Odomirok.19-RBC]]",null,null,null,null,null,6,5,null,{"$f":"SUM(AJ$4:AJ9)","v":0}]
[380,"Odomirok.8-9-IS",null,0,null,{"$f":"VLOOKUP($B10,stats!$B$4:$Q$128,COLUMN(F10)-1,FALSE)","v":7},{"$f":"VLOOKUP($B10,stats!$B$4:$Q$128,COLUMN(G10)-1,FALSE)","v":3},{"$f":"VLOOKUP($B10,stats!$B$4:$Q$128,COLUMN(H10)-1,FALSE)","v":6},{"$f":"VLOOKUP($B10,stats!$B$4:$Q$128,COLUMN(I10)-1,FALSE)","v":0},{"$f":"VLOOKUP($B10,stats!$B$4:$Q$128,COLUMN(J10)-1,FALSE)","v":3.25},{"$f":"VLOOKUP($B10,stats!$B$4:$Q$128,COLUMN(K10)-1,FALSE)","v":0},{"$f":"VLOOKUP($B10,stats!$B$4:$Q$128,COLUMN(L10)-1,FALSE)","v":5.75},{"$f":"VLOOKUP($B10,stats!$B$4:$Q$128,COLUMN(M10)-1,FALSE)","v":0},{"$f":"VLOOKUP($B10,stats!$B$4:$Q$128,COLUMN(N10)-1,FALSE)","v":2.625},{"$f":"VLOOKUP($B10,stats!$B$4:$Q$128,COLUMN(O10)-1,FALSE)","v":0},{"$f":"VLOOKUP($B10,stats!$B$4:$Q$128,COLUMN(P10)-1,FALSE)","v":4.25},{"$f":"VLOOKUP($B10,stats!$B$4:$Q$128,COLUMN(Q10)-1,FALSE)","v":1.5},null,22.78125,4.3741749669986806E-2,null,7,4,null,50,"Odomirok.8-9-IS",7,{"$f":"SUM(T$4:T10)","v":0.41677667106684263},null,{"$f":"SUM(T10:T15)","v":0.23022920916836676},null,{"$f":"\"| style='background-color: ;'\" & \"| [[\"&B10&\"]]\"","v":"| style='background-color: ;'| [[Odomirok.8-9-IS]]"},null,null,null,null,null,7,4,null,{"$f":"SUM(AJ$4:AJ10)","v":0},null,{"$f":"SUM(AJ10:AJ15)","v":0}]
[500,"Odomirok.22-23-GAAP",null,0,null,{"$f":"VLOOKUP($B11,stats!$B$4:$Q$128,COLUMN(F11)-1,FALSE)","v":3.5},{"$f":"VLOOKUP($B11,stats!$B$4:$Q$128,COLUMN(G11)-1,FALSE)","v":2.75},{"$f":"VLOOKUP($B11,stats!$B$4:$Q$128,COLUMN(H11)-1,FALSE)","v":7},{"$f":"VLOOKUP($B11,stats!$B$4:$Q$128,COLUMN(I11)-1,FALSE)","v":0},{"$f":"VLOOKUP($B11,stats!$B$4:$Q$128,COLUMN(J11)-1,FALSE)","v":3.75},{"$f":"VLOOKUP($B11,stats!$B$4:$Q$128,COLUMN(K11)-1,FALSE)","v":5.5},{"$f":"VLOOKUP($B11,stats!$B$4:$Q$128,COLUMN(L11)-1,FALSE)","v":0},{"$f":"VLOOKUP($B11,stats!$B$4:$Q$128,COLUMN(M11)-1,FALSE)","v":0},{"$f":"VLOOKUP($B11,stats!$B$4:$Q$128,COLUMN(N11)-1,FALSE)","v":9.25},{"$f":"VLOOKUP($B11,stats!$B$4:$Q$128,COLUMN(O11)-1,FALSE)","v":8},{"$f":"VLOOKUP($B11,stats!$B$4:$Q$128,COLUMN(P11)-1,FALSE)","v":0},{"$f":"VLOOKUP($B11,stats!$B$4:$Q$128,COLUMN(Q11)-1,FALSE)","v":0.5},null,26.8125,5.1482059282371297E-2,null,8,4,null,60,"Odomirok.22-23-GAAP",8,{"$f":"SUM(T$4:T11)","v":0.46825873034921395},null,null,null,{"$f":"\"| style='background-color: ;'\" & \"| [[\"&B11&\"]]\"","v":"| style='background-color: ;'| [[Odomirok.22-23-GAAP]]"},null,null,null,null,null,8,4,null,{"$f":"SUM(AJ$4:AJ11)","v":0}]
[430,"Odomirok.14-F",null,0,null,{"$f":"VLOOKUP($B12,stats!$B$4:$Q$128,COLUMN(F12)-1,FALSE)","v":3},{"$f":"VLOOKUP($B12,stats!$B$4:$Q$128,COLUMN(G12)-1,FALSE)","v":2},{"$f":"VLOOKUP($B12,stats!$B$4:$Q$128,COLUMN(H12)-1,FALSE)","v":2.5},{"$f":"VLOOKUP($B12,stats!$B$4:$Q$128,COLUMN(I12)-1,FALSE)","v":3.75},{"$f":"VLOOKUP($B12,stats!$B$4:$Q$128,COLUMN(J12)-1,FALSE)","v":3.75},{"$f":"VLOOKUP($B12,stats!$B$4:$Q$128,COLUMN(K12)-1,FALSE)","v":4.25},{"$f":"VLOOKUP($B12,stats!$B$4:$Q$128,COLUMN(L12)-1,FALSE)","v":0},{"$f":"VLOOKUP($B12,stats!$B$4:$Q$128,COLUMN(M12)-1,FALSE)","v":4},{"$f":"VLOOKUP($B12,stats!$B$4:$Q$128,COLUMN(N12)-1,FALSE)","v":0},{"$f":"VLOOKUP($B12,stats!$B$4:$Q$128,COLUMN(O12)-1,FALSE)","v":0},{"$f":"VLOOKUP($B12,stats!$B$4:$Q$128,COLUMN(P12)-1,FALSE)","v":3.5},{"$f":"VLOOKUP($B12,stats!$B$4:$Q$128,COLUMN(Q12)-1,FALSE)","v":5.75},null,21.25,4.0801632065282617E-2,null,9,4,null,80,"Odomirok.14-F",9,{"$f":"SUM(T$4:T12)","v":0.50906036241449659},null,null,null,"| style='background-color: ;'| [[Odomirok.14-F]]",null,null,null,null,null,9,4,null,{"$f":"SUM(AJ$4:AJ12)","v":0}]
[200,"Klann.ReinsComm",null,0,null,{"$f":"VLOOKUP($B13,stats!$B$4:$Q$128,COLUMN(F13)-1,FALSE)","v":2},{"$f":"VLOOKUP($B13,stats!$B$4:$Q$128,COLUMN(G13)-1,FALSE)","v":0},{"$f":"VLOOKUP($B13,stats!$B$4:$Q$128,COLUMN(H13)-1,FALSE)","v":3},{"$f":"VLOOKUP($B13,stats!$B$4:$Q$128,COLUMN(I13)-1,FALSE)","v":3},{"$f":"VLOOKUP($B13,stats!$B$4:$Q$128,COLUMN(J13)-1,FALSE)","v":4.25},{"$f":"VLOOKUP($B13,stats!$B$4:$Q$128,COLUMN(K13)-1,FALSE)","v":3.5},{"$f":"VLOOKUP($B13,stats!$B$4:$Q$128,COLUMN(L13)-1,FALSE)","v":4.25},{"$f":"VLOOKUP($B13,stats!$B$4:$Q$128,COLUMN(M13)-1,FALSE)","v":3},{"$f":"VLOOKUP($B13,stats!$B$4:$Q$128,COLUMN(N13)-1,FALSE)","v":0},{"$f":"VLOOKUP($B13,stats!$B$4:$Q$128,COLUMN(O13)-1,FALSE)","v":0},{"$f":"VLOOKUP($B13,stats!$B$4:$Q$128,COLUMN(P13)-1,FALSE)","v":3.25},{"$f":"VLOOKUP($B13,stats!$B$4:$Q$128,COLUMN(Q13)-1,FALSE)","v":0},null,19.375,3.7201488059522385E-2,null,10,4,null,90,"Klann.ReinsComm",10,{"$f":"SUM(T$4:T13)","v":0.54626185047401898},null,null,null,"| style='background-color: ;'| [[Klann.ReinsComm]]",null,null,null,null,null,10,4,null,{"$f":"SUM(AJ$4:AJ13)","v":0}]
[150,"Freihaut.Reins",null,0,null,{"$f":"VLOOKUP($B14,stats!$B$4:$Q$128,COLUMN(F14)-1,FALSE)","v":3.25},{"$f":"VLOOKUP($B14,stats!$B$4:$Q$128,COLUMN(G14)-1,FALSE)","v":2.75},{"$f":"VLOOKUP($B14,stats!$B$4:$Q$128,COLUMN(H14)-1,FALSE)","v":0},{"$f":"VLOOKUP($B14,stats!$B$4:$Q$128,COLUMN(I14)-1,FALSE)","v":2.75},{"$f":"VLOOKUP($B14,stats!$B$4:$Q$128,COLUMN(J14)-1,FALSE)","v":1.5},{"$f":"VLOOKUP($B14,stats!$B$4:$Q$128,COLUMN(K14)-1,FALSE)","v":1.25},{"$f":"VLOOKUP($B14,stats!$B$4:$Q$128,COLUMN(L14)-1,FALSE)","v":2.5},{"$f":"VLOOKUP($B14,stats!$B$4:$Q$128,COLUMN(M14)-1,FALSE)","v":2.25},{"$f":"VLOOKUP($B14,stats!$B$4:$Q$128,COLUMN(N14)-1,FALSE)","v":0},{"$f":"VLOOKUP($B14,stats!$B$4:$Q$128,COLUMN(O14)-1,FALSE)","v":4.25},{"$f":"VLOOKUP($B14,stats!$B$4:$Q$128,COLUMN(P14)-1,FALSE)","v":2.25},{"$f":"VLOOKUP($B14,stats!$B$4:$Q$128,COLUMN(Q14)-1,FALSE)","v":1.5},null,14.9375,2.8681147245889837E-2,null,11,4,null,95,"Freihaut.Reins",11,{"$f":"SUM(T$4:T14)","v":0.57494299771990887},null,null,null,"| style='background-color: ;'| [[Freihaut.Reins]]",null,null,null,null,null,11,4,null,{"$f":"SUM(AJ$4:AJ14)","v":0}]
[460,"Odomirok.18-IEE",null,0,null,{"$f":"VLOOKUP($B15,stats!$B$4:$Q$128,COLUMN(F15)-1,FALSE)","v":0},{"$f":"VLOOKUP($B15,stats!$B$4:$Q$128,COLUMN(G15)-1,FALSE)","v":0},{"$f":"VLOOKUP($B15,stats!$B$4:$Q$128,COLUMN(H15)-1,FALSE)","v":0},{"$f":"VLOOKUP($B15,stats!$B$4:$Q$128,COLUMN(I15)-1,FALSE)","v":3.5},{"$f":"VLOOKUP($B15,stats!$B$4:$Q$128,COLUMN(J15)-1,FALSE)","v":4},{"$f":"VLOOKUP($B15,stats!$B$4:$Q$128,COLUMN(K15)-1,FALSE)","v":2.75},{"$f":"VLOOKUP($B15,stats!$B$4:$Q$128,COLUMN(L15)-1,FALSE)","v":2.5},{"$f":"VLOOKUP($B15,stats!$B$4:$Q$128,COLUMN(M15)-1,FALSE)","v":4.25},{"$f":"VLOOKUP($B15,stats!$B$4:$Q$128,COLUMN(N15)-1,FALSE)","v":2.5},{"$f":"VLOOKUP($B15,stats!$B$4:$Q$128,COLUMN(O15)-1,FALSE)","v":2},{"$f":"VLOOKUP($B15,stats!$B$4:$Q$128,COLUMN(P15)-1,FALSE)","v":3},{"$f":"VLOOKUP($B15,stats!$B$4:$Q$128,COLUMN(Q15)-1,FALSE)","v":2.75},null,14.75,2.8321132845313814E-2,null,12,4,null,96,"Odomirok.18-IEE",12,{"$f":"SUM(T$4:T15)","v":0.60326413056522266},null,null,null,"| style='background-color: ;'| [[Odomirok.18-IEE]]",null,null,null,null,null,12,4,null,{"$f":"SUM(AJ$4:AJ15)","v":0}]
[100,"Cook.Personal",null,0,null,{"$f":"VLOOKUP($B16,stats!$B$4:$Q$128,COLUMN(F16)-1,FALSE)","v":2.75},{"$f":"VLOOKUP($B16,stats!$B$4:$Q$128,COLUMN(G16)-1,FALSE)","v":4.75},{"$f":"VLOOKUP($B16,stats!$B$4:$Q$128,COLUMN(H16)-1,FALSE)","v":1.75},{"$f":"VLOOKUP($B16,stats!$B$4:$Q$128,COLUMN(I16)-1,FALSE)","v":4},{"$f":"VLOOKUP($B16,stats!$B$4:$Q$128,COLUMN(J16)-1,FALSE)","v":2.5},{"$f":"VLOOKUP($B16,stats!$B$4:$Q$128,COLUMN(K16)-1,FALSE)","v":2.5},{"$f":"VLOOKUP($B16,stats!$B$4:$Q$128,COLUMN(L16)-1,FALSE)","v":0},{"$f":"VLOOKUP($B16,stats!$B$4:$Q$128,COLUMN(M16)-1,FALSE)","v":3.25},{"$f":"VLOOKUP($B16,stats!$B$4:$Q$128,COLUMN(N16)-1,FALSE)","v":0},{"$f":"VLOOKUP($B16,stats!$B$4:$Q$128,COLUMN(O16)-1,FALSE)","v":4},{"$f":"VLOOKUP($B16,stats!$B$4:$Q$128,COLUMN(P16)-1,FALSE)","v":2},{"$f":"VLOOKUP($B16,stats!$B$4:$Q$128,COLUMN(Q16)-1,FALSE)","v":3},null,20.875,4.0081603264130572E-2,null,13,3,null,97,"Cook.Personal",13,{"$f":"SUM(T$4:T16)","v":0.64334573382935323},null,{"$f":"SUM(T16:T21)","v":0.13092523700948039},null,"| style='background-color: ;'| [[Cook.Personal]]",null,null,null,null,null,13,3,null,{"$f":"SUM(AJ$4:AJ16)","v":0},null,{"$f":"SUM(AJ16:AJ21)","v":0}]
[170,"Germani.GovtIns",18,5.5727554179566562E-2,null,{"$f":"VLOOKUP($B17,stats!$B$4:$Q$128,COLUMN(F17)-1,FALSE)","v":2},{"$f":"VLOOKUP($B17,stats!$B$4:$Q$128,COLUMN(G17)-1,FALSE)","v":1},{"$f":"VLOOKUP($B17,stats!$B$4:$Q$128,COLUMN(H17)-1,FALSE)","v":3},{"$f":"VLOOKUP($B17,stats!$B$4:$Q$128,COLUMN(I17)-1,FALSE)","v":2.5},{"$f":"VLOOKUP($B17,stats!$B$4:$Q$128,COLUMN(J17)-1,FALSE)","v":3},{"$f":"VLOOKUP($B17,stats!$B$4:$Q$128,COLUMN(K17)-1,FALSE)","v":2.5},{"$f":"VLOOKUP($B17,stats!$B$4:$Q$128,COLUMN(L17)-1,FALSE)","v":5},{"$f":"VLOOKUP($B17,stats!$B$4:$Q$128,COLUMN(M17)-1,FALSE)","v":1.5},{"$f":"VLOOKUP($B17,stats!$B$4:$Q$128,COLUMN(N17)-1,FALSE)","v":2.5},{"$f":"VLOOKUP($B17,stats!$B$4:$Q$128,COLUMN(O17)-1,FALSE)","v":4.75},{"$f":"VLOOKUP($B17,stats!$B$4:$Q$128,COLUMN(P17)-1,FALSE)","v":2.75},{"$f":"VLOOKUP($B17,stats!$B$4:$Q$128,COLUMN(Q17)-1,FALSE)","v":6},null,19.0625,3.6601464058562343E-2,null,14,3,null,100,"Germani.GovtIns",14,{"$f":"SUM(T$4:T17)","v":0.67994719788791558},null,null,null,"| style='background-color: ;'| [[Germani.GovtIns]]",null,null,null,null,null,14,3,null,{"$f":"SUM(AJ$4:AJ17)","v":0}]
[190,"Horn2018.Flood",null,0,null,{"$f":"VLOOKUP($B18,stats!$B$4:$Q$128,COLUMN(F18)-1,FALSE)","v":0},{"$f":"VLOOKUP($B18,stats!$B$4:$Q$128,COLUMN(G18)-1,FALSE)","v":0},{"$f":"VLOOKUP($B18,stats!$B$4:$Q$128,COLUMN(H18)-1,FALSE)","v":0},{"$f":"VLOOKUP($B18,stats!$B$4:$Q$128,COLUMN(I18)-1,FALSE)","v":0},{"$f":"VLOOKUP($B18,stats!$B$4:$Q$128,COLUMN(J18)-1,FALSE)","v":0},{"$f":"VLOOKUP($B18,stats!$B$4:$Q$128,COLUMN(K18)-1,FALSE)","v":0},{"$f":"VLOOKUP($B18,stats!$B$4:$Q$128,COLUMN(L18)-1,FALSE)","v":0},{"$f":"VLOOKUP($B18,stats!$B$4:$Q$128,COLUMN(M18)-1,FALSE)","v":0},{"$f":"VLOOKUP($B18,stats!$B$4:$Q$128,COLUMN(N18)-1,FALSE)","v":0},{"$f":"VLOOKUP($B18,stats!$B$4:$Q$128,COLUMN(O18)-1,FALSE)","v":0},{"$f":"VLOOKUP($B18,stats!$B$4:$Q$128,COLUMN(P18)-1,FALSE)","v":0},{"$f":"VLOOKUP($B18,stats!$B$4:$Q$128,COLUMN(Q18)-1,FALSE)","v":0},null,0,0,null,15,3,null,102,"Horn2018.Flood",15,{"$f":"SUM(T$4:T18)","v":0.67994719788791558},null,null,null,"| style='background-color: ;'| [[Horn2018.Flood]]",null,null,null,null,null,15,3,null,{"$f":"SUM(AJ$4:AJ18)","v":0}]
[530,"Odomirok.26-Taxes",null,0,null,{"$f":"VLOOKUP($B19,stats!$B$4:$Q$128,COLUMN(F19)-1,FALSE)","v":0},{"$f":"VLOOKUP($B19,stats!$B$4:$Q$128,COLUMN(G19)-1,FALSE)","v":2},{"$f":"VLOOKUP($B19,stats!$B$4:$Q$128,COLUMN(H19)-1,FALSE)","v":2.5},{"$f":"VLOOKUP($B19,stats!$B$4:$Q$128,COLUMN(I19)-1,FALSE)","v":0},{"$f":"VLOOKUP($B19,stats!$B$4:$Q$128,COLUMN(J19)-1,FALSE)","v":3.25},{"$f":"VLOOKUP($B19,stats!$B$4:$Q$128,COLUMN(K19)-1,FALSE)","v":4.75},{"$f":"VLOOKUP($B19,stats!$B$4:$Q$128,COLUMN(L19)-1,FALSE)","v":0},{"$f":"VLOOKUP($B19,stats!$B$4:$Q$128,COLUMN(M19)-1,FALSE)","v":3.25},{"$f":"VLOOKUP($B19,stats!$B$4:$Q$128,COLUMN(N19)-1,FALSE)","v":0},{"$f":"VLOOKUP($B19,stats!$B$4:$Q$128,COLUMN(O19)-1,FALSE)","v":0},{"$f":"VLOOKUP($B19,stats!$B$4:$Q$128,COLUMN(P19)-1,FALSE)","v":7},{"$f":"VLOOKUP($B19,stats!$B$4:$Q$128,COLUMN(Q19)-1,FALSE)","v":0},null,14.125,2.7121084843393737E-2,null,16,3,null,130,"Odomirok.26-Taxes",16,{"$f":"SUM(T$4:T19)","v":0.70706828273130928},null,null,null,"| style='background-color: ;'| [[Odomirok.26-Taxes]]",null,null,null,null,null,16,3,null,{"$f":"SUM(AJ$4:AJ19)","v":0}]
[560,"Porter.2-Devlpt",null,0,null,{"$f":"VLOOKUP($B20,stats!$B$4:$Q$128,COLUMN(F20)-1,FALSE)","v":1.5},{"$f":"VLOOKUP($B20,stats!$B$4:$Q$128,COLUMN(G20)-1,FALSE)","v":7},{"$f":"VLOOKUP($B20,stats!$B$4:$Q$128,COLUMN(H20)-1,FALSE)","v":0},{"$f":"VLOOKUP($B20,stats!$B$4:$Q$128,COLUMN(I20)-1,FALSE)","v":0},{"$f":"VLOOKUP($B20,stats!$B$4:$Q$128,COLUMN(J20)-1,FALSE)","v":3.25},{"$f":"VLOOKUP($B20,stats!$B$4:$Q$128,COLUMN(K20)-1,FALSE)","v":0},{"$f":"VLOOKUP($B20,stats!$B$4:$Q$128,COLUMN(L20)-1,FALSE)","v":0},{"$f":"VLOOKUP($B20,stats!$B$4:$Q$128,COLUMN(M20)-1,FALSE)","v":2.25},{"$f":"VLOOKUP($B20,stats!$B$4:$Q$128,COLUMN(N20)-1,FALSE)","v":3},{"$f":"VLOOKUP($B20,stats!$B$4:$Q$128,COLUMN(O20)-1,FALSE)","v":2},{"$f":"VLOOKUP($B20,stats!$B$4:$Q$128,COLUMN(P20)-1,FALSE)","v":2},{"$f":"VLOOKUP($B20,stats!$B$4:$Q$128,COLUMN(Q20)-1,FALSE)","v":3.5},null,14.125,2.7121084843393737E-2,null,17,3,null,140,"Porter.2-Devlpt",17,{"$f":"SUM(T$4:T20)","v":0.73418936757470299},null,null,null,"| style='background-color: ;'| [[Porter.2-Devlpt]]",null,null,null,null,null,17,3,null,{"$f":"SUM(AJ$4:AJ20)","v":0}]
[640,"Vaughan.Crisis",null,0,null,{"$f":"VLOOKUP($B21,stats!$B$4:$Q$128,COLUMN(F21)-1,FALSE)","v":0},{"$f":"VLOOKUP($B21,stats!$B$4:$Q$128,COLUMN(G21)-1,FALSE)","v":0},{"$f":"VLOOKUP($B21,stats!$B$4:$Q$128,COLUMN(H21)-1,FALSE)","v":2},{"$f":"VLOOKUP($B21,stats!$B$4:$Q$128,COLUMN(I21)-1,FALSE)","v":0},{"$f":"VLOOKUP($B21,stats!$B$4:$Q$128,COLUMN(J21)-1,FALSE)","v":0},{"$f":"VLOOKUP($B21,stats!$B$4:$Q$128,COLUMN(K21)-1,FALSE)","v":3.75},{"$f":"VLOOKUP($B21,stats!$B$4:$Q$128,COLUMN(L21)-1,FALSE)","v":0},{"$f":"VLOOKUP($B21,stats!$B$4:$Q$128,COLUMN(M21)-1,FALSE)","v":0},{"$f":"VLOOKUP($B21,stats!$B$4:$Q$128,COLUMN(N21)-1,FALSE)","v":0},{"$f":"VLOOKUP($B21,stats!$B$4:$Q$128,COLUMN(O21)-1,FALSE)","v":0},{"$f":"VLOOKUP($B21,stats!$B$4:$Q$128,COLUMN(P21)-1,FALSE)","v":6.75},{"$f":"VLOOKUP($B21,stats!$B$4:$Q$128,COLUMN(Q21)-1,FALSE)","v":0},null,5.375,0,null,18,3,null,145,"Vaughan.Crisis",18,{"$f":"SUM(T$4:T21)","v":0.73418936757470299},null,null,null,"| style='background-color: ;'| [[Vaughan.Crisis]]",null,null,null,null,null,18,3,null,{"$f":"SUM(AJ$4:AJ21)","v":0}]
[650,"Webel.TRIA-1",null,0,null,{"$f":"VLOOKUP($B22,stats!$B$4:$Q$128,COLUMN(F22)-1,FALSE)","v":2.25},{"$f":"VLOOKUP($B22,stats!$B$4:$Q$128,COLUMN(G22)-1,FALSE)","v":0},{"$f":"VLOOKUP($B22,stats!$B$4:$Q$128,COLUMN(H22)-1,FALSE)","v":0},{"$f":"VLOOKUP($B22,stats!$B$4:$Q$128,COLUMN(I22)-1,FALSE)","v":2.25},{"$f":"VLOOKUP($B22,stats!$B$4:$Q$128,COLUMN(J22)-1,FALSE)","v":3},{"$f":"VLOOKUP($B22,stats!$B$4:$Q$128,COLUMN(K22)-1,FALSE)","v":3},{"$f":"VLOOKUP($B22,stats!$B$4:$Q$128,COLUMN(L22)-1,FALSE)","v":1.75},{"$f":"VLOOKUP($B22,stats!$B$4:$Q$128,COLUMN(M22)-1,FALSE)","v":1.25},{"$f":"VLOOKUP($B22,stats!$B$4:$Q$128,COLUMN(N22)-1,FALSE)","v":3.25},{"$f":"VLOOKUP($B22,stats!$B$4:$Q$128,COLUMN(O22)-1,FALSE)","v":1.75},{"$f":"VLOOKUP($B22,stats!$B$4:$Q$128,COLUMN(P22)-1,FALSE)","v":0},{"$f":"VLOOKUP($B22,stats!$B$4:$Q$128,COLUMN(Q22)-1,FALSE)","v":0},null,13.25,2.5441017640705631E-2,null,19,2,null,150,"Webel.TRIA-1",19,{"$f":"SUM(T$4:T22)","v":0.7596303852154086},null,{"$f":"SUM(T22:T27)","v":9.8043921756870295E-2},null,"| style='background-color: ;'| [[Webel.TRIA-1]]",null,null,null,null,null,19,2,null,{"$f":"SUM(AJ$4:AJ22)","v":0},null,{"$f":"SUM(AJ22:AJ27)","v":0}]
[660,"Webel.TRIA-2",0,0,null,{"$f":"VLOOKUP($B23,stats!$B$4:$Q$128,COLUMN(F23)-1,FALSE)","v":0},{"$f":"VLOOKUP($B23,stats!$B$4:$Q$128,COLUMN(G23)-1,FALSE)","v":0},{"$f":"VLOOKUP($B23,stats!$B$4:$Q$128,COLUMN(H23)-1,FALSE)","v":0},{"$f":"VLOOKUP($B23,stats!$B$4:$Q$128,COLUMN(I23)-1,FALSE)","v":0},{"$f":"VLOOKUP($B23,stats!$B$4:$Q$128,COLUMN(J23)-1,FALSE)","v":0},{"$f":"VLOOKUP($B23,stats!$B$4:$Q$128,COLUMN(K23)-1,FALSE)","v":0},{"$f":"VLOOKUP($B23,stats!$B$4:$Q$128,COLUMN(L23)-1,FALSE)","v":0},{"$f":"VLOOKUP($B23,stats!$B$4:$Q$128,COLUMN(M23)-1,FALSE)","v":0},{"$f":"VLOOKUP($B23,stats!$B$4:$Q$128,COLUMN(N23)-1,FALSE)","v":0},{"$f":"VLOOKUP($B23,stats!$B$4:$Q$128,COLUMN(O23)-1,FALSE)","v":0},{"$f":"VLOOKUP($B23,stats!$B$4:$Q$128,COLUMN(P23)-1,FALSE)","v":0},{"$f":"VLOOKUP($B23,stats!$B$4:$Q$128,COLUMN(Q23)-1,FALSE)","v":0},null,0,0,null,20,2,null,155,"Webel.TRIA-2",20,{"$f":"SUM(T$4:T23)","v":0.7596303852154086},null,null,null,"| style='background-color: ;'| [[Webel.TRIA-2]]",null,null,null,null,null,20,2,null,{"$f":"SUM(AJ$4:AJ23)","v":0}]
[340,"NAIC.Solvency",null,0,null,{"$f":"VLOOKUP($B24,stats!$B$4:$Q$128,COLUMN(F24)-1,FALSE)","v":0},{"$f":"VLOOKUP($B24,stats!$B$4:$Q$128,COLUMN(G24)-1,FALSE)","v":0},{"$f":"VLOOKUP($B24,stats!$B$4:$Q$128,COLUMN(H24)-1,FALSE)","v":0},{"$f":"VLOOKUP($B24,stats!$B$4:$Q$128,COLUMN(I24)-1,FALSE)","v":2.5},{"$f":"VLOOKUP($B24,stats!$B$4:$Q$128,COLUMN(J24)-1,FALSE)","v":2.5},{"$f":"VLOOKUP($B24,stats!$B$4:$Q$128,COLUMN(K24)-1,FALSE)","v":0},{"$f":"VLOOKUP($B24,stats!$B$4:$Q$128,COLUMN(L24)-1,FALSE)","v":5.5},{"$f":"VLOOKUP($B24,stats!$B$4:$Q$128,COLUMN(M24)-1,FALSE)","v":0},{"$f":"VLOOKUP($B24,stats!$B$4:$Q$128,COLUMN(N24)-1,FALSE)","v":4.5},{"$f":"VLOOKUP($B24,stats!$B$4:$Q$128,COLUMN(O24)-1,FALSE)","v":6.25},{"$f":"VLOOKUP($B24,stats!$B$4:$Q$128,COLUMN(P24)-1,FALSE)","v":0},{"$f":"VLOOKUP($B24,stats!$B$4:$Q$128,COLUMN(Q24)-1,FALSE)","v":0},null,10.4375,2.0040801632065286E-2,null,21,2,null,160,"NAIC.Solvency",21,{"$f":"SUM(T$4:T24)","v":0.77967118684747394},null,null,null,"| style='background-color: ;'| [[NAIC.Solvency]]",null,null,null,null,null,21,2,null,{"$f":"SUM(AJ$4:AJ24)","v":0}]
[620,"Porter.12-Insolvency",null,0,null,{"$f":"VLOOKUP($B25,stats!$B$4:$Q$128,COLUMN(F25)-1,FALSE)","v":1},{"$f":"VLOOKUP($B25,stats!$B$4:$Q$128,COLUMN(G25)-1,FALSE)","v":2.25},{"$f":"VLOOKUP($B25,stats!$B$4:$Q$128,COLUMN(H25)-1,FALSE)","v":2.25},{"$f":"VLOOKUP($B25,stats!$B$4:$Q$128,COLUMN(I25)-1,FALSE)","v":0},{"$f":"VLOOKUP($B25,stats!$B$4:$Q$128,COLUMN(J25)-1,FALSE)","v":3.5},{"$f":"VLOOKUP($B25,stats!$B$4:$Q$128,COLUMN(K25)-1,FALSE)","v":0},{"$f":"VLOOKUP($B25,stats!$B$4:$Q$128,COLUMN(L25)-1,FALSE)","v":0.75},{"$f":"VLOOKUP($B25,stats!$B$4:$Q$128,COLUMN(M25)-1,FALSE)","v":0},{"$f":"VLOOKUP($B25,stats!$B$4:$Q$128,COLUMN(N25)-1,FALSE)","v":0},{"$f":"VLOOKUP($B25,stats!$B$4:$Q$128,COLUMN(O25)-1,FALSE)","v":0},{"$f":"VLOOKUP($B25,stats!$B$4:$Q$128,COLUMN(P25)-1,FALSE)","v":0},{"$f":"VLOOKUP($B25,stats!$B$4:$Q$128,COLUMN(Q25)-1,FALSE)","v":3},null,9.375,1.8000720028801154E-2,null,22,2,null,170,"Porter.12-Insolvency",22,{"$f":"SUM(T$4:T25)","v":0.79767190687627509},null,null,null,"| style='background-color: ;'| [[Porter.12-Insolvency]]",null,null,null,null,null,22,2,null,{"$f":"SUM(AJ$4:AJ25)","v":0}]
[70,"Baribeau.Regs",null,0,null,{"$f":"VLOOKUP($B26,stats!$B$4:$Q$128,COLUMN(F26)-1,FALSE)","v":2.25},{"$f":"VLOOKUP($B26,stats!$B$4:$Q$128,COLUMN(G26)-1,FALSE)","v":0},{"$f":"VLOOKUP($B26,stats!$B$4:$Q$128,COLUMN(H26)-1,FALSE)","v":1},{"$f":"VLOOKUP($B26,stats!$B$4:$Q$128,COLUMN(I26)-1,FALSE)","v":1.5},{"$f":"VLOOKUP($B26,stats!$B$4:$Q$128,COLUMN(J26)-1,FALSE)","v":3.25},{"$f":"VLOOKUP($B26,stats!$B$4:$Q$128,COLUMN(K26)-1,FALSE)","v":1},{"$f":"VLOOKUP($B26,stats!$B$4:$Q$128,COLUMN(L26)-1,FALSE)","v":0},{"$f":"VLOOKUP($B26,stats!$B$4:$Q$128,COLUMN(M26)-1,FALSE)","v":0.5},{"$f":"VLOOKUP($B26,stats!$B$4:$Q$128,COLUMN(N26)-1,FALSE)","v":0.5},{"$f":"VLOOKUP($B26,stats!$B$4:$Q$128,COLUMN(O26)-1,FALSE)","v":1},{"$f":"VLOOKUP($B26,stats!$B$4:$Q$128,COLUMN(P26)-1,FALSE)","v":0},{"$f":"VLOOKUP($B26,stats!$B$4:$Q$128,COLUMN(Q26)-1,FALSE)","v":0},null,9.625,1.8480739229569186E-2,null,23,2,null,180,"Baribeau.Regs",23,{"$f":"SUM(T$4:T26)","v":0.81615264610584426},null,null,null,"| style='background-color: ;'| [[Baribeau.Regs]]",null,null,null,null,null,23,2,null,{"$f":"SUM(AJ$4:AJ26)","v":0}]
[520,"Odomirok.25-Solv2",null,0,null,{"$f":"VLOOKUP($B27,stats!$B$4:$Q$128,COLUMN(F27)-1,FALSE)","v":1.5},{"$f":"VLOOKUP($B27,stats!$B$4:$Q$128,COLUMN(G27)-1,FALSE)","v":2},{"$f":"VLOOKUP($B27,stats!$B$4:$Q$128,COLUMN(H27)-1,FALSE)","v":0},{"$f":"VLOOKUP($B27,stats!$B$4:$Q$128,COLUMN(I27)-1,FALSE)","v":3},{"$f":"VLOOKUP($B27,stats!$B$4:$Q$128,COLUMN(J27)-1,FALSE)","v":0},{"$f":"VLOOKUP($B27,stats!$B$4:$Q$128,COLUMN(K27)-1,FALSE)","v":0},{"$f":"VLOOKUP($B27,stats!$B$4:$Q$128,COLUMN(L27)-1,FALSE)","v":3.75},{"$f":"VLOOKUP($B27,stats!$B$4:$Q$128,COLUMN(M27)-1,FALSE)","v":0},{"$f":"VLOOKUP($B27,stats!$B$4:$Q$128,COLUMN(N27)-1,FALSE)","v":0},{"$f":"VLOOKUP($B27,stats!$B$4:$Q$128,COLUMN(O27)-1,FALSE)","v":0},{"$f":"VLOOKUP($B27,stats!$B$4:$Q$128,COLUMN(P27)-1,FALSE)","v":3.75},{"$f":"VLOOKUP($B27,stats!$B$4:$Q$128,COLUMN(Q27)-1,FALSE)","v":0},null,8.375,1.6080643225729031E-2,null,24,2,null,190,"Odomirok.25-Solv2",24,{"$f":"SUM(T$4:T27)","v":0.83223328933157326},null,null,null,"| style='background-color: ;'| [[Odomirok.25-Solv2]]",null,null,null,null,null,24,2,null,{"$f":"SUM(AJ$4:AJ27)","v":0}]
[130,"Feldblum.Surplus",null,0,null,{"$f":"VLOOKUP($B28,stats!$B$4:$Q$128,COLUMN(F28)-1,FALSE)","v":0},{"$f":"VLOOKUP($B28,stats!$B$4:$Q$128,COLUMN(G28)-1,FALSE)","v":2.5},{"$f":"VLOOKUP($B28,stats!$B$4:$Q$128,COLUMN(H28)-1,FALSE)","v":0},{"$f":"VLOOKUP($B28,stats!$B$4:$Q$128,COLUMN(I28)-1,FALSE)","v":4.25},{"$f":"VLOOKUP($B28,stats!$B$4:$Q$128,COLUMN(J28)-1,FALSE)","v":0},{"$f":"VLOOKUP($B28,stats!$B$4:$Q$128,COLUMN(K28)-1,FALSE)","v":0},{"$f":"VLOOKUP($B28,stats!$B$4:$Q$128,COLUMN(L28)-1,FALSE)","v":0},{"$f":"VLOOKUP($B28,stats!$B$4:$Q$128,COLUMN(M28)-1,FALSE)","v":3.5},{"$f":"VLOOKUP($B28,stats!$B$4:$Q$128,COLUMN(N28)-1,FALSE)","v":0},{"$f":"VLOOKUP($B28,stats!$B$4:$Q$128,COLUMN(O28)-1,FALSE)","v":0},{"$f":"VLOOKUP($B28,stats!$B$4:$Q$128,COLUMN(P28)-1,FALSE)","v":0},{"$f":"VLOOKUP($B28,stats!$B$4:$Q$128,COLUMN(Q28)-1,FALSE)","v":0},null,8.5,1.6320652826113044E-2,null,25,1,null,200,"Feldblum.Surplus",25,{"$f":"SUM(T$4:T28)","v":0.84855394215768631},null,{"$f":"SUM(T28:T33)","v":6.7562702508100328E-2},null,"| style='background-color: ;'| [[Feldblum.Surplus]]",null,null,null,null,null,25,1,null,{"$f":"SUM(AJ$4:AJ28)","v":0},null,{"$f":"SUM(AJ28:AJ33)","v":0}]
[120,"Feldblum.Ratings",null,0,null,{"$f":"VLOOKUP($B29,stats!$B$4:$Q$128,COLUMN(F29)-1,FALSE)","v":1.75},{"$f":"VLOOKUP($B29,stats!$B$4:$Q$128,COLUMN(G29)-1,FALSE)","v":0},{"$f":"VLOOKUP($B29,stats!$B$4:$Q$128,COLUMN(H29)-1,FALSE)","v":0},{"$f":"VLOOKUP($B29,stats!$B$4:$Q$128,COLUMN(I29)-1,FALSE)","v":2.5},{"$f":"VLOOKUP($B29,stats!$B$4:$Q$128,COLUMN(J29)-1,FALSE)","v":0},{"$f":"VLOOKUP($B29,stats!$B$4:$Q$128,COLUMN(K29)-1,FALSE)","v":0},{"$f":"VLOOKUP($B29,stats!$B$4:$Q$128,COLUMN(L29)-1,FALSE)","v":3},{"$f":"VLOOKUP($B29,stats!$B$4:$Q$128,COLUMN(M29)-1,FALSE)","v":5},{"$f":"VLOOKUP($B29,stats!$B$4:$Q$128,COLUMN(N29)-1,FALSE)","v":0},{"$f":"VLOOKUP($B29,stats!$B$4:$Q$128,COLUMN(O29)-1,FALSE)","v":0},{"$f":"VLOOKUP($B29,stats!$B$4:$Q$128,COLUMN(P29)-1,FALSE)","v":4.25},{"$f":"VLOOKUP($B29,stats!$B$4:$Q$128,COLUMN(Q29)-1,FALSE)","v":3},null,8.25,1.5840633625345015E-2,null,26,1,null,210,"Feldblum.Ratings",26,{"$f":"SUM(T$4:T29)","v":0.86439457578303136},null,null,null,"| style='background-color: ;'| [[Feldblum.Ratings]]",null,null,null,null,null,26,1,null,{"$f":"SUM(AJ$4:AJ29)","v":0}]
[105,"Dearie.Excess",null,0,null,{"$f":"VLOOKUP($B30,stats!$B$4:$Q$128,COLUMN(F30)-1,FALSE)","v":0},{"$f":"VLOOKUP($B30,stats!$B$4:$Q$128,COLUMN(G30)-1,FALSE)","v":0},{"$f":"VLOOKUP($B30,stats!$B$4:$Q$128,COLUMN(H30)-1,FALSE)","v":0},{"$f":"VLOOKUP($B30,stats!$B$4:$Q$128,COLUMN(I30)-1,FALSE)","v":0},{"$f":"VLOOKUP($B30,stats!$B$4:$Q$128,COLUMN(J30)-1,FALSE)","v":0},{"$f":"VLOOKUP($B30,stats!$B$4:$Q$128,COLUMN(K30)-1,FALSE)","v":0},{"$f":"VLOOKUP($B30,stats!$B$4:$Q$128,COLUMN(L30)-1,FALSE)","v":0},{"$f":"VLOOKUP($B30,stats!$B$4:$Q$128,COLUMN(M30)-1,FALSE)","v":0},{"$f":"VLOOKUP($B30,stats!$B$4:$Q$128,COLUMN(N30)-1,FALSE)","v":0},{"$f":"VLOOKUP($B30,stats!$B$4:$Q$128,COLUMN(O30)-1,FALSE)","v":0},{"$f":"VLOOKUP($B30,stats!$B$4:$Q$128,COLUMN(P30)-1,FALSE)","v":0},{"$f":"VLOOKUP($B30,stats!$B$4:$Q$128,COLUMN(Q30)-1,FALSE)","v":0},null,0,0,null,27,1,null,215,"Dearie.Excess",27,{"$f":"SUM(T$4:T30)","v":0.86439457578303136},null,null,null,"| style='background-color: ;'| [[Dearie.Excess]]",null,null,null,null,null,27,1,null,{"$f":"SUM(AJ$4:AJ30)","v":0}]
[390,"Odomirok.10-Notes",null,0,null,{"$f":"VLOOKUP($B31,stats!$B$4:$Q$128,COLUMN(F31)-1,FALSE)","v":0},{"$f":"VLOOKUP($B31,stats!$B$4:$Q$128,COLUMN(G31)-1,FALSE)","v":0},{"$f":"VLOOKUP($B31,stats!$B$4:$Q$128,COLUMN(H31)-1,FALSE)","v":0},{"$f":"VLOOKUP($B31,stats!$B$4:$Q$128,COLUMN(I31)-1,FALSE)","v":2.5},{"$f":"VLOOKUP($B31,stats!$B$4:$Q$128,COLUMN(J31)-1,FALSE)","v":0},{"$f":"VLOOKUP($B31,stats!$B$4:$Q$128,COLUMN(K31)-1,FALSE)","v":0},{"$f":"VLOOKUP($B31,stats!$B$4:$Q$128,COLUMN(L31)-1,FALSE)","v":4.25},{"$f":"VLOOKUP($B31,stats!$B$4:$Q$128,COLUMN(M31)-1,FALSE)","v":3},{"$f":"VLOOKUP($B31,stats!$B$4:$Q$128,COLUMN(N31)-1,FALSE)","v":0.75},{"$f":"VLOOKUP($B31,stats!$B$4:$Q$128,COLUMN(O31)-1,FALSE)","v":2.5},{"$f":"VLOOKUP($B31,stats!$B$4:$Q$128,COLUMN(P31)-1,FALSE)","v":3},{"$f":"VLOOKUP($B31,stats!$B$4:$Q$128,COLUMN(Q31)-1,FALSE)","v":0},null,6.9375,1.3320532821312854E-2,null,28,1,null,220,"Odomirok.10-Notes",28,{"$f":"SUM(T$4:T31)","v":0.87771510860434421},null,null,null,"| style='background-color: ;'| [[Odomirok.10-Notes]]",null,null,null,null,null,28,1,null,{"$f":"SUM(AJ$4:AJ31)","v":0}]
[220,"McCarty.Credit",57,0.17647058823529413,null,{"$f":"VLOOKUP($B32,stats!$B$4:$Q$128,COLUMN(F32)-1,FALSE)","v":1.5},{"$f":"VLOOKUP($B32,stats!$B$4:$Q$128,COLUMN(G32)-1,FALSE)","v":0},{"$f":"VLOOKUP($B32,stats!$B$4:$Q$128,COLUMN(H32)-1,FALSE)","v":0.5},{"$f":"VLOOKUP($B32,stats!$B$4:$Q$128,COLUMN(I32)-1,FALSE)","v":0},{"$f":"VLOOKUP($B32,stats!$B$4:$Q$128,COLUMN(J32)-1,FALSE)","v":0},{"$f":"VLOOKUP($B32,stats!$B$4:$Q$128,COLUMN(K32)-1,FALSE)","v":2.5},{"$f":"VLOOKUP($B32,stats!$B$4:$Q$128,COLUMN(L32)-1,FALSE)","v":2.25},{"$f":"VLOOKUP($B32,stats!$B$4:$Q$128,COLUMN(M32)-1,FALSE)","v":0},{"$f":"VLOOKUP($B32,stats!$B$4:$Q$128,COLUMN(N32)-1,FALSE)","v":3.75},{"$f":"VLOOKUP($B32,stats!$B$4:$Q$128,COLUMN(O32)-1,FALSE)","v":0.75},{"$f":"VLOOKUP($B32,stats!$B$4:$Q$128,COLUMN(P32)-1,FALSE)","v":0},{"$f":"VLOOKUP($B32,stats!$B$4:$Q$128,COLUMN(Q32)-1,FALSE)","v":0},null,6.75,1.2960518420736832E-2,null,29,1,null,230,"McCarty.Credit",29,{"$f":"SUM(T$4:T32)","v":0.89067562702508107},null,null,null,"| style='background-color: ;'| [[McCarty.Credit]]",null,null,null,null,null,29,1,null,{"$f":"SUM(AJ$4:AJ32)","v":0}]
[210,"Kucera.Credit",7,2.1671826625386997E-2,null,{"$f":"VLOOKUP($B33,stats!$B$4:$Q$128,COLUMN(F33)-1,FALSE)","v":0},{"$f":"VLOOKUP($B33,stats!$B$4:$Q$128,COLUMN(G33)-1,FALSE)","v":0},{"$f":"VLOOKUP($B33,stats!$B$4:$Q$128,COLUMN(H33)-1,FALSE)","v":1.75},{"$f":"VLOOKUP($B33,stats!$B$4:$Q$128,COLUMN(I33)-1,FALSE)","v":0},{"$f":"VLOOKUP($B33,stats!$B$4:$Q$128,COLUMN(J33)-1,FALSE)","v":2.5},{"$f":"VLOOKUP($B33,stats!$B$4:$Q$128,COLUMN(K33)-1,FALSE)","v":0},{"$f":"VLOOKUP($B33,stats!$B$4:$Q$128,COLUMN(L33)-1,FALSE)","v":0},{"$f":"VLOOKUP($B33,stats!$B$4:$Q$128,COLUMN(M33)-1,FALSE)","v":0},{"$f":"VLOOKUP($B33,stats!$B$4:$Q$128,COLUMN(N33)-1,FALSE)","v":0},{"$f":"VLOOKUP($B33,stats!$B$4:$Q$128,COLUMN(O33)-1,FALSE)","v":2},{"$f":"VLOOKUP($B33,stats!$B$4:$Q$128,COLUMN(P33)-1,FALSE)","v":0},{"$f":"VLOOKUP($B33,stats!$B$4:$Q$128,COLUMN(Q33)-1,FALSE)","v":0},null,4.75,9.120364814592585E-3,null,30,1,null,235,"Kucera.Credit",30,{"$f":"SUM(T$4:T33)","v":0.89979599183967363},null,null,null,"| style='background-color: ;'| [[Kucera.Credit]]",null,null,null,null,null,30,1,null,{"$f":"SUM(AJ$4:AJ33)","v":0}]
[330,"NAIC.Price",null,0,null,{"$f":"VLOOKUP($B34,stats!$B$4:$Q$128,COLUMN(F34)-1,FALSE)","v":3},{"$f":"VLOOKUP($B34,stats!$B$4:$Q$128,COLUMN(G34)-1,FALSE)","v":3.25},{"$f":"VLOOKUP($B34,stats!$B$4:$Q$128,COLUMN(H34)-1,FALSE)","v":0},{"$f":"VLOOKUP($B34,stats!$B$4:$Q$128,COLUMN(I34)-1,FALSE)","v":0},{"$f":"VLOOKUP($B34,stats!$B$4:$Q$128,COLUMN(J34)-1,FALSE)","v":0},{"$f":"VLOOKUP($B34,stats!$B$4:$Q$128,COLUMN(K34)-1,FALSE)","v":0},{"$f":"VLOOKUP($B34,stats!$B$4:$Q$128,COLUMN(L34)-1,FALSE)","v":0},{"$f":"VLOOKUP($B34,stats!$B$4:$Q$128,COLUMN(M34)-1,FALSE)","v":0},{"$f":"VLOOKUP($B34,stats!$B$4:$Q$128,COLUMN(N34)-1,FALSE)","v":0},{"$f":"VLOOKUP($B34,stats!$B$4:$Q$128,COLUMN(O34)-1,FALSE)","v":0},{"$f":"VLOOKUP($B34,stats!$B$4:$Q$128,COLUMN(P34)-1,FALSE)","v":0},{"$f":"VLOOKUP($B34,stats!$B$4:$Q$128,COLUMN(Q34)-1,FALSE)","v":0},null,6.25,1.2000480019200769E-2,null,31,1,null,240,"NAIC.Price",31,{"$f":"SUM(T$4:T34)","v":0.91179647185887436},null,{"$f":"SUM(T34:T39)","v":5.9642385695427819E-2},null,"| style='background-color: ;'| [[NAIC.Price]]",null,null,null,null,null,31,1,null,{"$f":"SUM(AJ$4:AJ34)","v":0},null,{"$f":"SUM(AJ34:AJ39)","v":0}]
[180,"NAIC.Telematics",null,0,null,{"$f":"VLOOKUP($B35,stats!$B$4:$Q$128,COLUMN(F35)-1,FALSE)","v":0},{"$f":"VLOOKUP($B35,stats!$B$4:$Q$128,COLUMN(G35)-1,FALSE)","v":0},{"$f":"VLOOKUP($B35,stats!$B$4:$Q$128,COLUMN(H35)-1,FALSE)","v":2},{"$f":"VLOOKUP($B35,stats!$B$4:$Q$128,COLUMN(I35)-1,FALSE)","v":3.75},{"$f":"VLOOKUP($B35,stats!$B$4:$Q$128,COLUMN(J35)-1,FALSE)","v":0},{"$f":"VLOOKUP($B35,stats!$B$4:$Q$128,COLUMN(K35)-1,FALSE)","v":0},{"$f":"VLOOKUP($B35,stats!$B$4:$Q$128,COLUMN(L35)-1,FALSE)","v":0},{"$f":"VLOOKUP($B35,stats!$B$4:$Q$128,COLUMN(M35)-1,FALSE)","v":0},{"$f":"VLOOKUP($B35,stats!$B$4:$Q$128,COLUMN(N35)-1,FALSE)","v":0},{"$f":"VLOOKUP($B35,stats!$B$4:$Q$128,COLUMN(O35)-1,FALSE)","v":0},{"$f":"VLOOKUP($B35,stats!$B$4:$Q$128,COLUMN(P35)-1,FALSE)","v":0},{"$f":"VLOOKUP($B35,stats!$B$4:$Q$128,COLUMN(Q35)-1,FALSE)","v":0},null,5.75,1.1040441617664707E-2,null,32,1,null,250,"NAIC.Telematics",32,{"$f":"SUM(T$4:T35)","v":0.92283691347653907},null,null,null,"| style='background-color: ;'| [[NAIC.Telematics]]",null,null,null,null,null,32,1,null,{"$f":"SUM(AJ$4:AJ35)","v":0}]
[410,"Odomirok.12-5yr",null,0,null,{"$f":"VLOOKUP($B36,stats!$B$4:$Q$128,COLUMN(F36)-1,FALSE)","v":0},{"$f":"VLOOKUP($B36,stats!$B$4:$Q$128,COLUMN(G36)-1,FALSE)","v":4},{"$f":"VLOOKUP($B36,stats!$B$4:$Q$128,COLUMN(H36)-1,FALSE)","v":0},{"$f":"VLOOKUP($B36,stats!$B$4:$Q$128,COLUMN(I36)-1,FALSE)","v":0},{"$f":"VLOOKUP($B36,stats!$B$4:$Q$128,COLUMN(J36)-1,FALSE)","v":0},{"$f":"VLOOKUP($B36,stats!$B$4:$Q$128,COLUMN(K36)-1,FALSE)","v":0},{"$f":"VLOOKUP($B36,stats!$B$4:$Q$128,COLUMN(L36)-1,FALSE)","v":0},{"$f":"VLOOKUP($B36,stats!$B$4:$Q$128,COLUMN(M36)-1,FALSE)","v":0},{"$f":"VLOOKUP($B36,stats!$B$4:$Q$128,COLUMN(N36)-1,FALSE)","v":0},{"$f":"VLOOKUP($B36,stats!$B$4:$Q$128,COLUMN(O36)-1,FALSE)","v":0},{"$f":"VLOOKUP($B36,stats!$B$4:$Q$128,COLUMN(P36)-1,FALSE)","v":0},{"$f":"VLOOKUP($B36,stats!$B$4:$Q$128,COLUMN(Q36)-1,FALSE)","v":0},null,4,7.6803072122884923E-3,null,33,1,null,260,"Odomirok.12-5yr",33,{"$f":"SUM(T$4:T36)","v":0.93051722068882758},null,null,null,"| style='background-color: ;'| [[Odomirok.12-5yr]]",null,null,null,null,null,33,1,null,{"$f":"SUM(AJ$4:AJ36)","v":0}]
[610,"Porter.8-Rates",null,0,null,{"$f":"VLOOKUP($B37,stats!$B$4:$Q$128,COLUMN(F37)-1,FALSE)","v":0},{"$f":"VLOOKUP($B37,stats!$B$4:$Q$128,COLUMN(G37)-1,FALSE)","v":0},{"$f":"VLOOKUP($B37,stats!$B$4:$Q$128,COLUMN(H37)-1,FALSE)","v":0},{"$f":"VLOOKUP($B37,stats!$B$4:$Q$128,COLUMN(I37)-1,FALSE)","v":0},{"$f":"VLOOKUP($B37,stats!$B$4:$Q$128,COLUMN(J37)-1,FALSE)","v":0},{"$f":"VLOOKUP($B37,stats!$B$4:$Q$128,COLUMN(K37)-1,FALSE)","v":3.75},{"$f":"VLOOKUP($B37,stats!$B$4:$Q$128,COLUMN(L37)-1,FALSE)","v":0},{"$f":"VLOOKUP($B37,stats!$B$4:$Q$128,COLUMN(M37)-1,FALSE)","v":2.75},{"$f":"VLOOKUP($B37,stats!$B$4:$Q$128,COLUMN(N37)-1,FALSE)","v":0},{"$f":"VLOOKUP($B37,stats!$B$4:$Q$128,COLUMN(O37)-1,FALSE)","v":0},{"$f":"VLOOKUP($B37,stats!$B$4:$Q$128,COLUMN(P37)-1,FALSE)","v":5.5},{"$f":"VLOOKUP($B37,stats!$B$4:$Q$128,COLUMN(Q37)-1,FALSE)","v":0},null,5.125,9.84039361574463E-3,null,34,1,null,270,"Porter.8-Rates",34,{"$f":"SUM(T$4:T37)","v":0.94035761430457221},null,null,null,"| style='background-color: ;'| [[Porter.8-Rates]]",null,null,null,null,null,34,1,null,{"$f":"SUM(AJ$4:AJ37)","v":0}]
[160,"GAO.Report",58,0.17956656346749225,null,{"$f":"VLOOKUP($B38,stats!$B$4:$Q$128,COLUMN(F38)-1,FALSE)","v":0},{"$f":"VLOOKUP($B38,stats!$B$4:$Q$128,COLUMN(G38)-1,FALSE)","v":0},{"$f":"VLOOKUP($B38,stats!$B$4:$Q$128,COLUMN(H38)-1,FALSE)","v":0},{"$f":"VLOOKUP($B38,stats!$B$4:$Q$128,COLUMN(I38)-1,FALSE)","v":0},{"$f":"VLOOKUP($B38,stats!$B$4:$Q$128,COLUMN(J38)-1,FALSE)","v":0},{"$f":"VLOOKUP($B38,stats!$B$4:$Q$128,COLUMN(K38)-1,FALSE)","v":3},{"$f":"VLOOKUP($B38,stats!$B$4:$Q$128,COLUMN(L38)-1,FALSE)","v":2},{"$f":"VLOOKUP($B38,stats!$B$4:$Q$128,COLUMN(M38)-1,FALSE)","v":0},{"$f":"VLOOKUP($B38,stats!$B$4:$Q$128,COLUMN(N38)-1,FALSE)","v":2.75},{"$f":"VLOOKUP($B38,stats!$B$4:$Q$128,COLUMN(O38)-1,FALSE)","v":0},{"$f":"VLOOKUP($B38,stats!$B$4:$Q$128,COLUMN(P38)-1,FALSE)","v":0},{"$f":"VLOOKUP($B38,stats!$B$4:$Q$128,COLUMN(Q38)-1,FALSE)","v":0},null,4.6875,9.0003600144005769E-3,null,35,1,null,290,"GAO.Report",35,{"$f":"SUM(T$4:T38)","v":0.94935797431897284},null,null,null,"| style='background-color: ;'| [[GAO.Report]]",null,null,null,null,null,35,1,null,{"$f":"SUM(AJ$4:AJ38)","v":0}]
[280,"NAIC.SSAP-62R",null,0,null,{"$f":"VLOOKUP($B39,stats!$B$4:$Q$128,COLUMN(F39)-1,FALSE)","v":0},{"$f":"VLOOKUP($B39,stats!$B$4:$Q$128,COLUMN(G39)-1,FALSE)","v":2},{"$f":"VLOOKUP($B39,stats!$B$4:$Q$128,COLUMN(H39)-1,FALSE)","v":1.75},{"$f":"VLOOKUP($B39,stats!$B$4:$Q$128,COLUMN(I39)-1,FALSE)","v":0},{"$f":"VLOOKUP($B39,stats!$B$4:$Q$128,COLUMN(J39)-1,FALSE)","v":0},{"$f":"VLOOKUP($B39,stats!$B$4:$Q$128,COLUMN(K39)-1,FALSE)","v":0},{"$f":"VLOOKUP($B39,stats!$B$4:$Q$128,COLUMN(L39)-1,FALSE)","v":0},{"$f":"VLOOKUP($B39,stats!$B$4:$Q$128,COLUMN(M39)-1,FALSE)","v":0},{"$f":"VLOOKUP($B39,stats!$B$4:$Q$128,COLUMN(N39)-1,FALSE)","v":6},{"$f":"VLOOKUP($B39,stats!$B$4:$Q$128,COLUMN(O39)-1,FALSE)","v":0},{"$f":"VLOOKUP($B39,stats!$B$4:$Q$128,COLUMN(P39)-1,FALSE)","v":0},{"$f":"VLOOKUP($B39,stats!$B$4:$Q$128,COLUMN(Q39)-1,FALSE)","v":1.5},null,5.25,1.0080403216128646E-2,null,36,1,null,300,"NAIC.SSAP-62R",36,{"$f":"SUM(T$4:T39)","v":0.95943837753510153},null,null,null,"| style='background-color: ;'| [[NAIC.SSAP-62R]]",null,null,null,null,null,36,1,null,{"$f":"SUM(AJ$4:AJ39)","v":0}]
[370,"Odomirok.6-7-BS",null,0,null,{"$f":"VLOOKUP($B40,stats!$B$4:$Q$128,COLUMN(F40)-1,FALSE)","v":1.25},{"$f":"VLOOKUP($B40,stats!$B$4:$Q$128,COLUMN(G40)-1,FALSE)","v":0},{"$f":"VLOOKUP($B40,stats!$B$4:$Q$128,COLUMN(H40)-1,FALSE)","v":2.25},{"$f":"VLOOKUP($B40,stats!$B$4:$Q$128,COLUMN(I40)-1,FALSE)","v":0},{"$f":"VLOOKUP($B40,stats!$B$4:$Q$128,COLUMN(J40)-1,FALSE)","v":0},{"$f":"VLOOKUP($B40,stats!$B$4:$Q$128,COLUMN(K40)-1,FALSE)","v":0},{"$f":"VLOOKUP($B40,stats!$B$4:$Q$128,COLUMN(L40)-1,FALSE)","v":0},{"$f":"VLOOKUP($B40,stats!$B$4:$Q$128,COLUMN(M40)-1,FALSE)","v":0},{"$f":"VLOOKUP($B40,stats!$B$4:$Q$128,COLUMN(N40)-1,FALSE)","v":0},{"$f":"VLOOKUP($B40,stats!$B$4:$Q$128,COLUMN(O40)-1,FALSE)","v":0},{"$f":"VLOOKUP($B40,stats!$B$4:$Q$128,COLUMN(P40)-1,FALSE)","v":0},{"$f":"VLOOKUP($B40,stats!$B$4:$Q$128,COLUMN(Q40)-1,FALSE)","v":5},null,3.5,6.7202688107524311E-3,null,37,1,null,310,"Odomirok.6-7-BS",37,{"$f":"SUM(T$4:T40)","v":0.96615864634585391},null,{"$f":"SUM(T40:T45)","v":3.2041281651266053E-2},null,"| style='background-color: ;'| [[Odomirok.6-7-BS]]",null,null,null,null,null,37,1,null,{"$f":"SUM(AJ$4:AJ40)","v":0},null,{"$f":"SUM(AJ40:AJ45)","v":0}]
[630,"Porter.Reg-2",null,0,null,{"$f":"VLOOKUP($B41,stats!$B$4:$Q$128,COLUMN(F41)-1,FALSE)","v":0},{"$f":"VLOOKUP($B41,stats!$B$4:$Q$128,COLUMN(G41)-1,FALSE)","v":0},{"$f":"VLOOKUP($B41,stats!$B$4:$Q$128,COLUMN(H41)-1,FALSE)","v":0},{"$f":"VLOOKUP($B41,stats!$B$4:$Q$128,COLUMN(I41)-1,FALSE)","v":2.25},{"$f":"VLOOKUP($B41,stats!$B$4:$Q$128,COLUMN(J41)-1,FALSE)","v":0},{"$f":"VLOOKUP($B41,stats!$B$4:$Q$128,COLUMN(K41)-1,FALSE)","v":0},{"$f":"VLOOKUP($B41,stats!$B$4:$Q$128,COLUMN(L41)-1,FALSE)","v":1.5},{"$f":"VLOOKUP($B41,stats!$B$4:$Q$128,COLUMN(M41)-1,FALSE)","v":0},{"$f":"VLOOKUP($B41,stats!$B$4:$Q$128,COLUMN(N41)-1,FALSE)","v":0},{"$f":"VLOOKUP($B41,stats!$B$4:$Q$128,COLUMN(O41)-1,FALSE)","v":2},{"$f":"VLOOKUP($B41,stats!$B$4:$Q$128,COLUMN(P41)-1,FALSE)","v":2.5},{"$f":"VLOOKUP($B41,stats!$B$4:$Q$128,COLUMN(Q41)-1,FALSE)","v":0},null,3.5,6.7202688107524311E-3,null,38,1,null,320,"Porter.Reg-2",38,{"$f":"SUM(T$4:T41)","v":0.97287891515660629},null,null,null,"| style='background-color: ;'| [[Porter.Reg-2]]",null,null,null,null,null,38,1,null,{"$f":"SUM(AJ$4:AJ41)","v":0}]
[570,"Porter.3-Roles-Fed",null,0,null,{"$f":"VLOOKUP($B42,stats!$B$4:$Q$128,COLUMN(F42)-1,FALSE)","v":0},{"$f":"VLOOKUP($B42,stats!$B$4:$Q$128,COLUMN(G42)-1,FALSE)","v":0},{"$f":"VLOOKUP($B42,stats!$B$4:$Q$128,COLUMN(H42)-1,FALSE)","v":2.25},{"$f":"VLOOKUP($B42,stats!$B$4:$Q$128,COLUMN(I42)-1,FALSE)","v":0},{"$f":"VLOOKUP($B42,stats!$B$4:$Q$128,COLUMN(J42)-1,FALSE)","v":0},{"$f":"VLOOKUP($B42,stats!$B$4:$Q$128,COLUMN(K42)-1,FALSE)","v":1.25},{"$f":"VLOOKUP($B42,stats!$B$4:$Q$128,COLUMN(L42)-1,FALSE)","v":0},{"$f":"VLOOKUP($B42,stats!$B$4:$Q$128,COLUMN(M42)-1,FALSE)","v":0},{"$f":"VLOOKUP($B42,stats!$B$4:$Q$128,COLUMN(N42)-1,FALSE)","v":0},{"$f":"VLOOKUP($B42,stats!$B$4:$Q$128,COLUMN(O42)-1,FALSE)","v":0},{"$f":"VLOOKUP($B42,stats!$B$4:$Q$128,COLUMN(P42)-1,FALSE)","v":0},{"$f":"VLOOKUP($B42,stats!$B$4:$Q$128,COLUMN(Q42)-1,FALSE)","v":0},null,3.5,6.7202688107524311E-3,null,39,1,null,330,"Porter.3-Roles-Fed",39,{"$f":"SUM(T$4:T42)","v":0.97959918396735868},null,null,null,"| style='background-color: ;'| [[Porter.3-Roles-Fed]]",null,null,null,null,null,39,1,null,{"$f":"SUM(AJ$4:AJ42)","v":0}]
[580,"Porter.4-Roles-State",null,0,null,{"$f":"VLOOKUP($B43,stats!$B$4:$Q$128,COLUMN(F43)-1,FALSE)","v":0},{"$f":"VLOOKUP($B43,stats!$B$4:$Q$128,COLUMN(G43)-1,FALSE)","v":0},{"$f":"VLOOKUP($B43,stats!$B$4:$Q$128,COLUMN(H43)-1,FALSE)","v":0},{"$f":"VLOOKUP($B43,stats!$B$4:$Q$128,COLUMN(I43)-1,FALSE)","v":0},{"$f":"VLOOKUP($B43,stats!$B$4:$Q$128,COLUMN(J43)-1,FALSE)","v":0},{"$f":"VLOOKUP($B43,stats!$B$4:$Q$128,COLUMN(K43)-1,FALSE)","v":0},{"$f":"VLOOKUP($B43,stats!$B$4:$Q$128,COLUMN(L43)-1,FALSE)","v":3.25},{"$f":"VLOOKUP($B43,stats!$B$4:$Q$128,COLUMN(M43)-1,FALSE)","v":3.25},{"$f":"VLOOKUP($B43,stats!$B$4:$Q$128,COLUMN(N43)-1,FALSE)","v":0},{"$f":"VLOOKUP($B43,stats!$B$4:$Q$128,COLUMN(O43)-1,FALSE)","v":1.75},{"$f":"VLOOKUP($B43,stats!$B$4:$Q$128,COLUMN(P43)-1,FALSE)","v":0},{"$f":"VLOOKUP($B43,stats!$B$4:$Q$128,COLUMN(Q43)-1,FALSE)","v":2},null,2.0625,3.9601584063362538E-3,null,40,1,null,350,"Porter.4-Roles-State",40,{"$f":"SUM(T$4:T43)","v":0.98355934237369491},null,null,null,"| style='background-color: ;'| [[Porter.4-Roles-State]]",null,null,null,null,null,40,1,null,{"$f":"SUM(AJ$4:AJ43)","v":0}]
[590,"Porter.5-Opns-State",null,0,null,{"$f":"VLOOKUP($B44,stats!$B$4:$Q$128,COLUMN(F44)-1,FALSE)","v":1.5},{"$f":"VLOOKUP($B44,stats!$B$4:$Q$128,COLUMN(G44)-1,FALSE)","v":0},{"$f":"VLOOKUP($B44,stats!$B$4:$Q$128,COLUMN(H44)-1,FALSE)","v":0},{"$f":"VLOOKUP($B44,stats!$B$4:$Q$128,COLUMN(I44)-1,FALSE)","v":0},{"$f":"VLOOKUP($B44,stats!$B$4:$Q$128,COLUMN(J44)-1,FALSE)","v":0},{"$f":"VLOOKUP($B44,stats!$B$4:$Q$128,COLUMN(K44)-1,FALSE)","v":0},{"$f":"VLOOKUP($B44,stats!$B$4:$Q$128,COLUMN(L44)-1,FALSE)","v":2.5},{"$f":"VLOOKUP($B44,stats!$B$4:$Q$128,COLUMN(M44)-1,FALSE)","v":0},{"$f":"VLOOKUP($B44,stats!$B$4:$Q$128,COLUMN(N44)-1,FALSE)","v":0},{"$f":"VLOOKUP($B44,stats!$B$4:$Q$128,COLUMN(O44)-1,FALSE)","v":0},{"$f":"VLOOKUP($B44,stats!$B$4:$Q$128,COLUMN(P44)-1,FALSE)","v":0},{"$f":"VLOOKUP($B44,stats!$B$4:$Q$128,COLUMN(Q44)-1,FALSE)","v":0},null,2.75,5.2802112084483384E-3,null,41,1,null,360,"Porter.5-Opns-State",41,{"$f":"SUM(T$4:T44)","v":0.98883955358214326},null,null,null,"| style='background-color: ;'| [[Porter.5-Opns-State]]",null,null,null,null,null,41,1,null,{"$f":"SUM(AJ$4:AJ44)","v":0}]
[40,"ASOP.41",27,8.3591331269349839E-2,null,{"$f":"VLOOKUP($B45,stats!$B$4:$Q$128,COLUMN(F45)-1,FALSE)","v":0},{"$f":"VLOOKUP($B45,stats!$B$4:$Q$128,COLUMN(G45)-1,FALSE)","v":0},{"$f":"VLOOKUP($B45,stats!$B$4:$Q$128,COLUMN(H45)-1,FALSE)","v":0},{"$f":"VLOOKUP($B45,stats!$B$4:$Q$128,COLUMN(I45)-1,FALSE)","v":0},{"$f":"VLOOKUP($B45,stats!$B$4:$Q$128,COLUMN(J45)-1,FALSE)","v":0},{"$f":"VLOOKUP($B45,stats!$B$4:$Q$128,COLUMN(K45)-1,FALSE)","v":0},{"$f":"VLOOKUP($B45,stats!$B$4:$Q$128,COLUMN(L45)-1,FALSE)","v":0},{"$f":"VLOOKUP($B45,stats!$B$4:$Q$128,COLUMN(M45)-1,FALSE)","v":2.75},{"$f":"VLOOKUP($B45,stats!$B$4:$Q$128,COLUMN(N45)-1,FALSE)","v":0},{"$f":"VLOOKUP($B45,stats!$B$4:$Q$128,COLUMN(O45)-1,FALSE)","v":0},{"$f":"VLOOKUP($B45,stats!$B$4:$Q$128,COLUMN(P45)-1,FALSE)","v":0},{"$f":"VLOOKUP($B45,stats!$B$4:$Q$128,COLUMN(Q45)-1,FALSE)","v":0},null,1.375,2.6401056042241692E-3,null,42,1,null,370,"ASOP.41",42,{"$f":"SUM(T$4:T45)","v":0.99147965918636738},null,null,null,"| style='background-color: ;'| [[ASOP.41]]",null,null,null,null,null,42,1,null,{"$f":"SUM(AJ$4:AJ45)","v":0}]
[230,"NAIC.APPM",null,0,null,{"$f":"VLOOKUP($B46,stats!$B$4:$Q$128,COLUMN(F46)-1,FALSE)","v":0},{"$f":"VLOOKUP($B46,stats!$B$4:$Q$128,COLUMN(G46)-1,FALSE)","v":0},{"$f":"VLOOKUP($B46,stats!$B$4:$Q$128,COLUMN(H46)-1,FALSE)","v":0},{"$f":"VLOOKUP($B46,stats!$B$4:$Q$128,COLUMN(I46)-1,FALSE)","v":0},{"$f":"VLOOKUP($B46,stats!$B$4:$Q$128,COLUMN(J46)-1,FALSE)","v":0},{"$f":"VLOOKUP($B46,stats!$B$4:$Q$128,COLUMN(K46)-1,FALSE)","v":0},{"$f":"VLOOKUP($B46,stats!$B$4:$Q$128,COLUMN(L46)-1,FALSE)","v":0},{"$f":"VLOOKUP($B46,stats!$B$4:$Q$128,COLUMN(M46)-1,FALSE)","v":2},{"$f":"VLOOKUP($B46,stats!$B$4:$Q$128,COLUMN(N46)-1,FALSE)","v":0},{"$f":"VLOOKUP($B46,stats!$B$4:$Q$128,COLUMN(O46)-1,FALSE)","v":0},{"$f":"VLOOKUP($B46,stats!$B$4:$Q$128,COLUMN(P46)-1,FALSE)","v":0},{"$f":"VLOOKUP($B46,stats!$B$4:$Q$128,COLUMN(Q46)-1,FALSE)","v":0},null,1,1.9200768030721231E-3,null,43,1,null,380,"NAIC.APPM",43,{"$f":"SUM(T$4:T46)","v":0.99339973598943954},null,{"$f":"SUM(T46:T51)","v":2.8801152046081845E-3},null,"| style='background-color: ;'| [[NAIC.APPM]]",null,null,null,null,null,43,1,null,{"$f":"SUM(AJ$4:AJ46)","v":0},null,{"$f":"SUM(AJ46:AJ51)","v":0}]
[250,"NAIC.SSAP-9",null,0,null,{"$f":"VLOOKUP($B47,stats!$B$4:$Q$128,COLUMN(F47)-1,FALSE)","v":0},{"$f":"VLOOKUP($B47,stats!$B$4:$Q$128,COLUMN(G47)-1,FALSE)","v":0},{"$f":"VLOOKUP($B47,stats!$B$4:$Q$128,COLUMN(H47)-1,FALSE)","v":0},{"$f":"VLOOKUP($B47,stats!$B$4:$Q$128,COLUMN(I47)-1,FALSE)","v":0},{"$f":"VLOOKUP($B47,stats!$B$4:$Q$128,COLUMN(J47)-1,FALSE)","v":0},{"$f":"VLOOKUP($B47,stats!$B$4:$Q$128,COLUMN(K47)-1,FALSE)","v":0},{"$f":"VLOOKUP($B47,stats!$B$4:$Q$128,COLUMN(L47)-1,FALSE)","v":0},{"$f":"VLOOKUP($B47,stats!$B$4:$Q$128,COLUMN(M47)-1,FALSE)","v":0},{"$f":"VLOOKUP($B47,stats!$B$4:$Q$128,COLUMN(N47)-1,FALSE)","v":2},{"$f":"VLOOKUP($B47,stats!$B$4:$Q$128,COLUMN(O47)-1,FALSE)","v":0},{"$f":"VLOOKUP($B47,stats!$B$4:$Q$128,COLUMN(P47)-1,FALSE)","v":0},{"$f":"VLOOKUP($B47,stats!$B$4:$Q$128,COLUMN(Q47)-1,FALSE)","v":0},null,0.5,9.6003840153606153E-4,null,44,1,null,390,"NAIC.SSAP-9",44,{"$f":"SUM(T$4:T47)","v":0.99435977439097556},null,null,null,"| style='background-color: ;'| [[NAIC.SSAP-9]]",null,null,null,null,null,44,1,null,{"$f":"SUM(AJ$4:AJ47)","v":0}]
[20,"ASOP.20",17,5.2631578947368418E-2,null,{"$f":"VLOOKUP($B48,stats!$B$4:$Q$128,COLUMN(F48)-1,FALSE)","v":0},{"$f":"VLOOKUP($B48,stats!$B$4:$Q$128,COLUMN(G48)-1,FALSE)","v":0},{"$f":"VLOOKUP($B48,stats!$B$4:$Q$128,COLUMN(H48)-1,FALSE)","v":0},{"$f":"VLOOKUP($B48,stats!$B$4:$Q$128,COLUMN(I48)-1,FALSE)","v":0},{"$f":"VLOOKUP($B48,stats!$B$4:$Q$128,COLUMN(J48)-1,FALSE)","v":0},{"$f":"VLOOKUP($B48,stats!$B$4:$Q$128,COLUMN(K48)-1,FALSE)","v":0},{"$f":"VLOOKUP($B48,stats!$B$4:$Q$128,COLUMN(L48)-1,FALSE)","v":0},{"$f":"VLOOKUP($B48,stats!$B$4:$Q$128,COLUMN(M48)-1,FALSE)","v":0},{"$f":"VLOOKUP($B48,stats!$B$4:$Q$128,COLUMN(N48)-1,FALSE)","v":0},{"$f":"VLOOKUP($B48,stats!$B$4:$Q$128,COLUMN(O48)-1,FALSE)","v":0},{"$f":"VLOOKUP($B48,stats!$B$4:$Q$128,COLUMN(P48)-1,FALSE)","v":0},{"$f":"VLOOKUP($B48,stats!$B$4:$Q$128,COLUMN(Q48)-1,FALSE)","v":0},null,0,0,null,45,1,null,410,"ASOP.20",45,{"$f":"SUM(T$4:T48)","v":0.99435977439097556},null,null,null,"| style='background-color: ;'| [[ASOP.20]]",null,null,null,null,null,45,1,null,{"$f":"SUM(AJ$4:AJ48)","v":0}]
[50,"ASOP.43",31,9.5975232198142413E-2,null,{"$f":"VLOOKUP($B49,stats!$B$4:$Q$128,COLUMN(F49)-1,FALSE)","v":0},{"$f":"VLOOKUP($B49,stats!$B$4:$Q$128,COLUMN(G49)-1,FALSE)","v":0},{"$f":"VLOOKUP($B49,stats!$B$4:$Q$128,COLUMN(H49)-1,FALSE)","v":0},{"$f":"VLOOKUP($B49,stats!$B$4:$Q$128,COLUMN(I49)-1,FALSE)","v":0},{"$f":"VLOOKUP($B49,stats!$B$4:$Q$128,COLUMN(J49)-1,FALSE)","v":0},{"$f":"VLOOKUP($B49,stats!$B$4:$Q$128,COLUMN(K49)-1,FALSE)","v":0},{"$f":"VLOOKUP($B49,stats!$B$4:$Q$128,COLUMN(L49)-1,FALSE)","v":0},{"$f":"VLOOKUP($B49,stats!$B$4:$Q$128,COLUMN(M49)-1,FALSE)","v":0},{"$f":"VLOOKUP($B49,stats!$B$4:$Q$128,COLUMN(N49)-1,FALSE)","v":0},{"$f":"VLOOKUP($B49,stats!$B$4:$Q$128,COLUMN(O49)-1,FALSE)","v":0},{"$f":"VLOOKUP($B49,stats!$B$4:$Q$128,COLUMN(P49)-1,FALSE)","v":0},{"$f":"VLOOKUP($B49,stats!$B$4:$Q$128,COLUMN(Q49)-1,FALSE)","v":0},null,0,0,null,46,1,null,415,"ASOP.43",46,{"$f":"SUM(T$4:T49)","v":0.99435977439097556},null,null,null,"| style='background-color: ;'| [[ASOP.43]]",null,null,null,null,null,46,1,null,{"$f":"SUM(AJ$4:AJ49)","v":0}]
[80,"BK.Reins",null,0,null,{"$f":"VLOOKUP($B50,stats!$B$4:$Q$128,COLUMN(F50)-1,FALSE)","v":0},{"$f":"VLOOKUP($B50,stats!$B$4:$Q$128,COLUMN(G50)-1,FALSE)","v":0},{"$f":"VLOOKUP($B50,stats!$B$4:$Q$128,COLUMN(H50)-1,FALSE)","v":0},{"$f":"VLOOKUP($B50,stats!$B$4:$Q$128,COLUMN(I50)-1,FALSE)","v":0},{"$f":"VLOOKUP($B50,stats!$B$4:$Q$128,COLUMN(J50)-1,FALSE)","v":0},{"$f":"VLOOKUP($B50,stats!$B$4:$Q$128,COLUMN(K50)-1,FALSE)","v":0},{"$f":"VLOOKUP($B50,stats!$B$4:$Q$128,COLUMN(L50)-1,FALSE)","v":0},{"$f":"VLOOKUP($B50,stats!$B$4:$Q$128,COLUMN(M50)-1,FALSE)","v":0},{"$f":"VLOOKUP($B50,stats!$B$4:$Q$128,COLUMN(N50)-1,FALSE)","v":0},{"$f":"VLOOKUP($B50,stats!$B$4:$Q$128,COLUMN(O50)-1,FALSE)","v":0},{"$f":"VLOOKUP($B50,stats!$B$4:$Q$128,COLUMN(P50)-1,FALSE)","v":0},{"$f":"VLOOKUP($B50,stats!$B$4:$Q$128,COLUMN(Q50)-1,FALSE)","v":0},null,0,0,null,47,1,null,440,"BK.Reins",47,{"$f":"SUM(T$4:T50)","v":0.99435977439097556},null,null,null,"| style='background-color: ;'| [[BK.Reins]]",null,null,null,null,null,47,1,null,{"$f":"SUM(AJ$4:AJ50)","v":0}]
[140,"FASB.944",null,0,null,{"$f":"VLOOKUP($B51,stats!$B$4:$Q$128,COLUMN(F51)-1,FALSE)","v":0},{"$f":"VLOOKUP($B51,stats!$B$4:$Q$128,COLUMN(G51)-1,FALSE)","v":0},{"$f":"VLOOKUP($B51,stats!$B$4:$Q$128,COLUMN(H51)-1,FALSE)","v":0},{"$f":"VLOOKUP($B51,stats!$B$4:$Q$128,COLUMN(I51)-1,FALSE)","v":0},{"$f":"VLOOKUP($B51,stats!$B$4:$Q$128,COLUMN(J51)-1,FALSE)","v":0},{"$f":"VLOOKUP($B51,stats!$B$4:$Q$128,COLUMN(K51)-1,FALSE)","v":0},{"$f":"VLOOKUP($B51,stats!$B$4:$Q$128,COLUMN(L51)-1,FALSE)","v":0},{"$f":"VLOOKUP($B51,stats!$B$4:$Q$128,COLUMN(M51)-1,FALSE)","v":0},{"$f":"VLOOKUP($B51,stats!$B$4:$Q$128,COLUMN(N51)-1,FALSE)","v":0},{"$f":"VLOOKUP($B51,stats!$B$4:$Q$128,COLUMN(O51)-1,FALSE)","v":0},{"$f":"VLOOKUP($B51,stats!$B$4:$Q$128,COLUMN(P51)-1,FALSE)","v":0},{"$f":"VLOOKUP($B51,stats!$B$4:$Q$128,COLUMN(Q51)-1,FALSE)","v":0},null,0,0,null,48,1,null,442,"FASB.944",48,{"$f":"SUM(T$4:T51)","v":0.99435977439097556},null,null,null,"| style='background-color: ;'| [[FASB.944]]",null,null,null,null,null,48,1,null,{"$f":"SUM(AJ$4:AJ51)","v":0}]
[60,"AAA.Materiality",null,0,null,{"$f":"VLOOKUP($B52,stats!$B$4:$Q$128,COLUMN(F52)-1,FALSE)","v":0},{"$f":"VLOOKUP($B52,stats!$B$4:$Q$128,COLUMN(G52)-1,FALSE)","v":0},{"$f":"VLOOKUP($B52,stats!$B$4:$Q$128,COLUMN(H52)-1,FALSE)","v":0},{"$f":"VLOOKUP($B52,stats!$B$4:$Q$128,COLUMN(I52)-1,FALSE)","v":0},{"$f":"VLOOKUP($B52,stats!$B$4:$Q$128,COLUMN(J52)-1,FALSE)","v":0},{"$f":"VLOOKUP($B52,stats!$B$4:$Q$128,COLUMN(K52)-1,FALSE)","v":0},{"$f":"VLOOKUP($B52,stats!$B$4:$Q$128,COLUMN(L52)-1,FALSE)","v":0},{"$f":"VLOOKUP($B52,stats!$B$4:$Q$128,COLUMN(M52)-1,FALSE)","v":0},{"$f":"VLOOKUP($B52,stats!$B$4:$Q$128,COLUMN(N52)-1,FALSE)","v":0},{"$f":"VLOOKUP($B52,stats!$B$4:$Q$128,COLUMN(O52)-1,FALSE)","v":0},{"$f":"VLOOKUP($B52,stats!$B$4:$Q$128,COLUMN(P52)-1,FALSE)","v":0},{"$f":"VLOOKUP($B52,stats!$B$4:$Q$128,COLUMN(Q52)-1,FALSE)","v":0},null,0,0,null,49,1,null,445,"AAA.Materiality",49,{"$f":"SUM(T$4:T52)","v":0.99435977439097556},null,{"$f":"SUM(T52:T57)","v":0},null,"| style='background-color: ;'| [[AAA.Materiality]]",null,null,null,null,null,49,1,null,{"$f":"SUM(AJ$4:AJ52)","v":0},null,{"$f":"SUM(AJ52:AJ57)","v":0}]
[240,"NAIC.SSAP-5R",null,0,null,{"$f":"VLOOKUP($B53,stats!$B$4:$Q$128,COLUMN(F53)-1,FALSE)","v":0},{"$f":"VLOOKUP($B53,stats!$B$4:$Q$128,COLUMN(G53)-1,FALSE)","v":0},{"$f":"VLOOKUP($B53,stats!$B$4:$Q$128,COLUMN(H53)-1,FALSE)","v":0},{"$f":"VLOOKUP($B53,stats!$B$4:$Q$128,COLUMN(I53)-1,FALSE)","v":0},{"$f":"VLOOKUP($B53,stats!$B$4:$Q$128,COLUMN(J53)-1,FALSE)","v":0},{"$f":"VLOOKUP($B53,stats!$B$4:$Q$128,COLUMN(K53)-1,FALSE)","v":0},{"$f":"VLOOKUP($B53,stats!$B$4:$Q$128,COLUMN(L53)-1,FALSE)","v":0},{"$f":"VLOOKUP($B53,stats!$B$4:$Q$128,COLUMN(M53)-1,FALSE)","v":0},{"$f":"VLOOKUP($B53,stats!$B$4:$Q$128,COLUMN(N53)-1,FALSE)","v":0},{"$f":"VLOOKUP($B53,stats!$B$4:$Q$128,COLUMN(O53)-1,FALSE)","v":0},{"$f":"VLOOKUP($B53,stats!$B$4:$Q$128,COLUMN(P53)-1,FALSE)","v":0},{"$f":"VLOOKUP($B53,stats!$B$4:$Q$128,COLUMN(Q53)-1,FALSE)","v":0},null,0,0,null,50,1,null,480,"NAIC.SSAP-5R",50,{"$f":"SUM(T$4:T53)","v":0.99435977439097556},null,null,null,"| style='background-color: ;'| [[NAIC.SSAP-5R]]",null,null,null,null,null,50,1,null,{"$f":"SUM(AJ$4:AJ53)","v":0}]
[260,"NAIC.SSAP-53",null,0,null,{"$f":"VLOOKUP($B54,stats!$B$4:$Q$128,COLUMN(F54)-1,FALSE)","v":0},{"$f":"VLOOKUP($B54,stats!$B$4:$Q$128,COLUMN(G54)-1,FALSE)","v":0},{"$f":"VLOOKUP($B54,stats!$B$4:$Q$128,COLUMN(H54)-1,FALSE)","v":0},{"$f":"VLOOKUP($B54,stats!$B$4:$Q$128,COLUMN(I54)-1,FALSE)","v":0},{"$f":"VLOOKUP($B54,stats!$B$4:$Q$128,COLUMN(J54)-1,FALSE)","v":0},{"$f":"VLOOKUP($B54,stats!$B$4:$Q$128,COLUMN(K54)-1,FALSE)","v":0},{"$f":"VLOOKUP($B54,stats!$B$4:$Q$128,COLUMN(L54)-1,FALSE)","v":0},{"$f":"VLOOKUP($B54,stats!$B$4:$Q$128,COLUMN(M54)-1,FALSE)","v":0},{"$f":"VLOOKUP($B54,stats!$B$4:$Q$128,COLUMN(N54)-1,FALSE)","v":0},{"$f":"VLOOKUP($B54,stats!$B$4:$Q$128,COLUMN(O54)-1,FALSE)","v":0},{"$f":"VLOOKUP($B54,stats!$B$4:$Q$128,COLUMN(P54)-1,FALSE)","v":0},{"$f":"VLOOKUP($B54,stats!$B$4:$Q$128,COLUMN(Q54)-1,FALSE)","v":0},null,0,0,null,51,1,null,490,"NAIC.SSAP-53",51,{"$f":"SUM(T$4:T54)","v":0.99435977439097556},null,null,null,"| style='background-color: ;'| [[NAIC.SSAP-53]]",null,null,null,null,null,51,1,null,{"$f":"SUM(AJ$4:AJ54)","v":0}]
[270,"NAIC.SSAP-55",null,0,null,{"$f":"VLOOKUP($B55,stats!$B$4:$Q$128,COLUMN(F55)-1,FALSE)","v":0},{"$f":"VLOOKUP($B55,stats!$B$4:$Q$128,COLUMN(G55)-1,FALSE)","v":0},{"$f":"VLOOKUP($B55,stats!$B$4:$Q$128,COLUMN(H55)-1,FALSE)","v":0},{"$f":"VLOOKUP($B55,stats!$B$4:$Q$128,COLUMN(I55)-1,FALSE)","v":0},{"$f":"VLOOKUP($B55,stats!$B$4:$Q$128,COLUMN(J55)-1,FALSE)","v":0},{"$f":"VLOOKUP($B55,stats!$B$4:$Q$128,COLUMN(K55)-1,FALSE)","v":0},{"$f":"VLOOKUP($B55,stats!$B$4:$Q$128,COLUMN(L55)-1,FALSE)","v":0},{"$f":"VLOOKUP($B55,stats!$B$4:$Q$128,COLUMN(M55)-1,FALSE)","v":0},{"$f":"VLOOKUP($B55,stats!$B$4:$Q$128,COLUMN(N55)-1,FALSE)","v":0},{"$f":"VLOOKUP($B55,stats!$B$4:$Q$128,COLUMN(O55)-1,FALSE)","v":0},{"$f":"VLOOKUP($B55,stats!$B$4:$Q$128,COLUMN(P55)-1,FALSE)","v":0},{"$f":"VLOOKUP($B55,stats!$B$4:$Q$128,COLUMN(Q55)-1,FALSE)","v":0},null,0,0,null,52,1,null,500,"NAIC.SSAP-55",52,{"$f":"SUM(T$4:T55)","v":0.99435977439097556},null,null,null,"| style='background-color: ;'| [[NAIC.SSAP-55]]",null,null,null,null,null,52,1,null,{"$f":"SUM(AJ$4:AJ55)","v":0}]
[290,"NAIC.SSAP-65",null,0,null,{"$f":"VLOOKUP($B56,stats!$B$4:$Q$128,COLUMN(F56)-1,FALSE)","v":0},{"$f":"VLOOKUP($B56,stats!$B$4:$Q$128,COLUMN(G56)-1,FALSE)","v":0},{"$f":"VLOOKUP($B56,stats!$B$4:$Q$128,COLUMN(H56)-1,FALSE)","v":0},{"$f":"VLOOKUP($B56,stats!$B$4:$Q$128,COLUMN(I56)-1,FALSE)","v":0},{"$f":"VLOOKUP($B56,stats!$B$4:$Q$128,COLUMN(J56)-1,FALSE)","v":0},{"$f":"VLOOKUP($B56,stats!$B$4:$Q$128,COLUMN(K56)-1,FALSE)","v":0},{"$f":"VLOOKUP($B56,stats!$B$4:$Q$128,COLUMN(L56)-1,FALSE)","v":0},{"$f":"VLOOKUP($B56,stats!$B$4:$Q$128,COLUMN(M56)-1,FALSE)","v":0},{"$f":"VLOOKUP($B56,stats!$B$4:$Q$128,COLUMN(N56)-1,FALSE)","v":0},{"$f":"VLOOKUP($B56,stats!$B$4:$Q$128,COLUMN(O56)-1,FALSE)","v":0},{"$f":"VLOOKUP($B56,stats!$B$4:$Q$128,COLUMN(P56)-1,FALSE)","v":0},{"$f":"VLOOKUP($B56,stats!$B$4:$Q$128,COLUMN(Q56)-1,FALSE)","v":3.5},null,0,0,null,53,1,null,510,"NAIC.SSAP-65",53,{"$f":"SUM(T$4:T56)","v":0.99435977439097556},null,null,null,"| style='background-color: ;'| [[NAIC.SSAP-65]]",null,null,null,null,null,53,1,null,{"$f":"SUM(AJ$4:AJ56)","v":0}]
[360,"Odomirok.1-5-Intro",null,0,null,{"$f":"VLOOKUP($B57,stats!$B$4:$Q$128,COLUMN(F57)-1,FALSE)","v":0},{"$f":"VLOOKUP($B57,stats!$B$4:$Q$128,COLUMN(G57)-1,FALSE)","v":0},{"$f":"VLOOKUP($B57,stats!$B$4:$Q$128,COLUMN(H57)-1,FALSE)","v":0},{"$f":"VLOOKUP($B57,stats!$B$4:$Q$128,COLUMN(I57)-1,FALSE)","v":0},{"$f":"VLOOKUP($B57,stats!$B$4:$Q$128,COLUMN(J57)-1,FALSE)","v":0},{"$f":"VLOOKUP($B57,stats!$B$4:$Q$128,COLUMN(K57)-1,FALSE)","v":0},{"$f":"VLOOKUP($B57,stats!$B$4:$Q$128,COLUMN(L57)-1,FALSE)","v":0},{"$f":"VLOOKUP($B57,stats!$B$4:$Q$128,COLUMN(M57)-1,FALSE)","v":0},{"$f":"VLOOKUP($B57,stats!$B$4:$Q$128,COLUMN(N57)-1,FALSE)","v":0},{"$f":"VLOOKUP($B57,stats!$B$4:$Q$128,COLUMN(O57)-1,FALSE)","v":0},{"$f":"VLOOKUP($B57,stats!$B$4:$Q$128,COLUMN(P57)-1,FALSE)","v":0},{"$f":"VLOOKUP($B57,stats!$B$4:$Q$128,COLUMN(Q57)-1,FALSE)","v":0},null,0,0,null,54,1,null,540,"Odomirok.1-5-Intro",54,{"$f":"SUM(T$4:T57)","v":0.99435977439097556},null,null,null,"| style='background-color: ;'| [[Odomirok.1-5-Intro]]",null,null,null,null,null,54,1,null,{"$f":"SUM(AJ$4:AJ57)","v":0}]
[400,"Odomirok.11-GenInt",null,0,null,{"$f":"VLOOKUP($B58,stats!$B$4:$Q$128,COLUMN(F58)-1,FALSE)","v":0},{"$f":"VLOOKUP($B58,stats!$B$4:$Q$128,COLUMN(G58)-1,FALSE)","v":0},{"$f":"VLOOKUP($B58,stats!$B$4:$Q$128,COLUMN(H58)-1,FALSE)","v":0},{"$f":"VLOOKUP($B58,stats!$B$4:$Q$128,COLUMN(I58)-1,FALSE)","v":0},{"$f":"VLOOKUP($B58,stats!$B$4:$Q$128,COLUMN(J58)-1,FALSE)","v":0},{"$f":"VLOOKUP($B58,stats!$B$4:$Q$128,COLUMN(K58)-1,FALSE)","v":0},{"$f":"VLOOKUP($B58,stats!$B$4:$Q$128,COLUMN(L58)-1,FALSE)","v":0},{"$f":"VLOOKUP($B58,stats!$B$4:$Q$128,COLUMN(M58)-1,FALSE)","v":0},{"$f":"VLOOKUP($B58,stats!$B$4:$Q$128,COLUMN(N58)-1,FALSE)","v":0},{"$f":"VLOOKUP($B58,stats!$B$4:$Q$128,COLUMN(O58)-1,FALSE)","v":0},{"$f":"VLOOKUP($B58,stats!$B$4:$Q$128,COLUMN(P58)-1,FALSE)","v":0},{"$f":"VLOOKUP($B58,stats!$B$4:$Q$128,COLUMN(Q58)-1,FALSE)","v":0},null,0,0,null,55,1,null,550,"Odomirok.11-GenInt",55,{"$f":"SUM(T$4:T58)","v":0.99435977439097556},null,{"$f":"SUM(T58:T63)","v":0},null,"| style='background-color: ;'| [[Odomirok.11-GenInt]]",null,null,null,null,null,55,1,null,{"$f":"SUM(AJ$4:AJ58)","v":0},null,{"$f":"SUM(AJ58:AJ63)","v":0}]
[420,"Odomirok.13",null,0,null,{"$f":"VLOOKUP($B59,stats!$B$4:$Q$128,COLUMN(F59)-1,FALSE)","v":0},{"$f":"VLOOKUP($B59,stats!$B$4:$Q$128,COLUMN(G59)-1,FALSE)","v":0},{"$f":"VLOOKUP($B59,stats!$B$4:$Q$128,COLUMN(H59)-1,FALSE)","v":0},{"$f":"VLOOKUP($B59,stats!$B$4:$Q$128,COLUMN(I59)-1,FALSE)","v":0},{"$f":"VLOOKUP($B59,stats!$B$4:$Q$128,COLUMN(J59)-1,FALSE)","v":0},{"$f":"VLOOKUP($B59,stats!$B$4:$Q$128,COLUMN(K59)-1,FALSE)","v":0},{"$f":"VLOOKUP($B59,stats!$B$4:$Q$128,COLUMN(L59)-1,FALSE)","v":0},{"$f":"VLOOKUP($B59,stats!$B$4:$Q$128,COLUMN(M59)-1,FALSE)","v":0},{"$f":"VLOOKUP($B59,stats!$B$4:$Q$128,COLUMN(N59)-1,FALSE)","v":0},{"$f":"VLOOKUP($B59,stats!$B$4:$Q$128,COLUMN(O59)-1,FALSE)","v":0},{"$f":"VLOOKUP($B59,stats!$B$4:$Q$128,COLUMN(P59)-1,FALSE)","v":0},{"$f":"VLOOKUP($B59,stats!$B$4:$Q$128,COLUMN(Q59)-1,FALSE)","v":0},null,0,0,null,56,1,null,560,"Odomirok.13",56,{"$f":"SUM(T$4:T59)","v":0.99435977439097556},null,null,null,"| style='background-color: ;'| [[Odomirok.13]]",null,null,null,null,null,56,1,null,{"$f":"SUM(AJ$4:AJ59)","v":0}]
[480,"Odomirok.20-IRIS",null,0,null,{"$f":"VLOOKUP($B60,stats!$B$4:$Q$128,COLUMN(F60)-1,FALSE)","v":0},{"$f":"VLOOKUP($B60,stats!$B$4:$Q$128,COLUMN(G60)-1,FALSE)","v":0},{"$f":"VLOOKUP($B60,stats!$B$4:$Q$128,COLUMN(H60)-1,FALSE)","v":0},{"$f":"VLOOKUP($B60,stats!$B$4:$Q$128,COLUMN(I60)-1,FALSE)","v":0},{"$f":"VLOOKUP($B60,stats!$B$4:$Q$128,COLUMN(J60)-1,FALSE)","v":0},{"$f":"VLOOKUP($B60,stats!$B$4:$Q$128,COLUMN(K60)-1,FALSE)","v":0},{"$f":"VLOOKUP($B60,stats!$B$4:$Q$128,COLUMN(L60)-1,FALSE)","v":0},{"$f":"VLOOKUP($B60,stats!$B$4:$Q$128,COLUMN(M60)-1,FALSE)","v":0},{"$f":"VLOOKUP($B60,stats!$B$4:$Q$128,COLUMN(N60)-1,FALSE)","v":0},{"$f":"VLOOKUP($B60,stats!$B$4:$Q$128,COLUMN(O60)-1,FALSE)","v":0},{"$f":"VLOOKUP($B60,stats!$B$4:$Q$128,COLUMN(P60)-1,FALSE)","v":0},{"$f":"VLOOKUP($B60,stats!$B$4:$Q$128,COLUMN(Q60)-1,FALSE)","v":0},null,0,0,null,57,1,null,580,"Odomirok.20-IRIS",57,{"$f":"SUM(T$4:T60)","v":0.99435977439097556},null,null,null,"| style='background-color: ;'| [[Odomirok.20-IRIS]]",null,null,null,null,null,57,1,null,{"$f":"SUM(AJ$4:AJ60)","v":0}]
[490,"Odomirok.21-Tools",null,0,null,{"$f":"VLOOKUP($B61,stats!$B$4:$Q$128,COLUMN(F61)-1,FALSE)","v":0},{"$f":"VLOOKUP($B61,stats!$B$4:$Q$128,COLUMN(G61)-1,FALSE)","v":0},{"$f":"VLOOKUP($B61,stats!$B$4:$Q$128,COLUMN(H61)-1,FALSE)","v":0},{"$f":"VLOOKUP($B61,stats!$B$4:$Q$128,COLUMN(I61)-1,FALSE)","v":0},{"$f":"VLOOKUP($B61,stats!$B$4:$Q$128,COLUMN(J61)-1,FALSE)","v":0},{"$f":"VLOOKUP($B61,stats!$B$4:$Q$128,COLUMN(K61)-1,FALSE)","v":0},{"$f":"VLOOKUP($B61,stats!$B$4:$Q$128,COLUMN(L61)-1,FALSE)","v":0},{"$f":"VLOOKUP($B61,stats!$B$4:$Q$128,COLUMN(M61)-1,FALSE)","v":0},{"$f":"VLOOKUP($B61,stats!$B$4:$Q$128,COLUMN(N61)-1,FALSE)","v":0},{"$f":"VLOOKUP($B61,stats!$B$4:$Q$128,COLUMN(O61)-1,FALSE)","v":0},{"$f":"VLOOKUP($B61,stats!$B$4:$Q$128,COLUMN(P61)-1,FALSE)","v":0},{"$f":"VLOOKUP($B61,stats!$B$4:$Q$128,COLUMN(Q61)-1,FALSE)","v":0},null,0,0,null,58,1,null,590,"Odomirok.21-Tools",58,{"$f":"SUM(T$4:T61)","v":0.99435977439097556},null,null,null,"| style='background-color: ;'| [[Odomirok.21-Tools]]",null,null,null,null,null,58,1,null,{"$f":"SUM(AJ$4:AJ61)","v":0}]
[510,"Odomirok.24-IFRS",null,0,null,{"$f":"VLOOKUP($B62,stats!$B$4:$Q$128,COLUMN(F62)-1,FALSE)","v":0},{"$f":"VLOOKUP($B62,stats!$B$4:$Q$128,COLUMN(G62)-1,FALSE)","v":0},{"$f":"VLOOKUP($B62,stats!$B$4:$Q$128,COLUMN(H62)-1,FALSE)","v":0},{"$f":"VLOOKUP($B62,stats!$B$4:$Q$128,COLUMN(I62)-1,FALSE)","v":0},{"$f":"VLOOKUP($B62,stats!$B$4:$Q$128,COLUMN(J62)-1,FALSE)","v":0},{"$f":"VLOOKUP($B62,stats!$B$4:$Q$128,COLUMN(K62)-1,FALSE)","v":0},{"$f":"VLOOKUP($B62,stats!$B$4:$Q$128,COLUMN(L62)-1,FALSE)","v":0},{"$f":"VLOOKUP($B62,stats!$B$4:$Q$128,COLUMN(M62)-1,FALSE)","v":0},{"$f":"VLOOKUP($B62,stats!$B$4:$Q$128,COLUMN(N62)-1,FALSE)","v":0},{"$f":"VLOOKUP($B62,stats!$B$4:$Q$128,COLUMN(O62)-1,FALSE)","v":0},{"$f":"VLOOKUP($B62,stats!$B$4:$Q$128,COLUMN(P62)-1,FALSE)","v":0},{"$f":"VLOOKUP($B62,stats!$B$4:$Q$128,COLUMN(Q62)-1,FALSE)","v":0},null,0,0,null,59,1,null,600,"Odomirok.24-IFRS",59,{"$f":"SUM(T$4:T62)","v":0.99435977439097556},null,null,null,"| style='background-color: ;'| [[Odomirok.24-IFRS]]",null,null,null,null,null,59,1,null,{"$f":"SUM(AJ$4:AJ62)","v":0}]
[540,"Odomirok.30-Future",null,0,null,{"$f":"VLOOKUP($B63,stats!$B$4:$Q$128,COLUMN(F63)-1,FALSE)","v":0},{"$f":"VLOOKUP($B63,stats!$B$4:$Q$128,COLUMN(G63)-1,FALSE)","v":0},{"$f":"VLOOKUP($B63,stats!$B$4:$Q$128,COLUMN(H63)-1,FALSE)","v":0},{"$f":"VLOOKUP($B63,stats!$B$4:$Q$128,COLUMN(I63)-1,FALSE)","v":0},{"$f":"VLOOKUP($B63,stats!$B$4:$Q$128,COLUMN(J63)-1,FALSE)","v":0},{"$f":"VLOOKUP($B63,stats!$B$4:$Q$128,COLUMN(K63)-1,FALSE)","v":0},{"$f":"VLOOKUP($B63,stats!$B$4:$Q$128,COLUMN(L63)-1,FALSE)","v":0},{"$f":"VLOOKUP($B63,stats!$B$4:$Q$128,COLUMN(M63)-1,FALSE)","v":0},{"$f":"VLOOKUP($B63,stats!$B$4:$Q$128,COLUMN(N63)-1,FALSE)","v":0},{"$f":"VLOOKUP($B63,stats!$B$4:$Q$128,COLUMN(O63)-1,FALSE)","v":0},{"$f":"VLOOKUP($B63,stats!$B$4:$Q$128,COLUMN(P63)-1,FALSE)","v":0},{"$f":"VLOOKUP($B63,stats!$B$4:$Q$128,COLUMN(Q63)-1,FALSE)","v":0},null,0,0,null,60,1,null,610,"Odomirok.30-Future",60,{"$f":"SUM(T$4:T63)","v":0.99435977439097556},null,null,null,"| style='background-color: ;'| [[Odomirok.30-Future]]",null,null,null,null,null,60,1,null,{"$f":"SUM(AJ$4:AJ63)","v":0}]
[600,"Porter.6-Formation",null,0,null,{"$f":"VLOOKUP($B64,stats!$B$4:$Q$128,COLUMN(F64)-1,FALSE)","v":0},{"$f":"VLOOKUP($B64,stats!$B$4:$Q$128,COLUMN(G64)-1,FALSE)","v":0},{"$f":"VLOOKUP($B64,stats!$B$4:$Q$128,COLUMN(H64)-1,FALSE)","v":0},{"$f":"VLOOKUP($B64,stats!$B$4:$Q$128,COLUMN(I64)-1,FALSE)","v":0},{"$f":"VLOOKUP($B64,stats!$B$4:$Q$128,COLUMN(J64)-1,FALSE)","v":0},{"$f":"VLOOKUP($B64,stats!$B$4:$Q$128,COLUMN(K64)-1,FALSE)","v":0},{"$f":"VLOOKUP($B64,stats!$B$4:$Q$128,COLUMN(L64)-1,FALSE)","v":0},{"$f":"VLOOKUP($B64,stats!$B$4:$Q$128,COLUMN(M64)-1,FALSE)","v":0},{"$f":"VLOOKUP($B64,stats!$B$4:$Q$128,COLUMN(N64)-1,FALSE)","v":0},{"$f":"VLOOKUP($B64,stats!$B$4:$Q$128,COLUMN(O64)-1,FALSE)","v":0},{"$f":"VLOOKUP($B64,stats!$B$4:$Q$128,COLUMN(P64)-1,FALSE)","v":0},{"$f":"VLOOKUP($B64,stats!$B$4:$Q$128,COLUMN(Q64)-1,FALSE)","v":0},null,0,0,null,61,1,null,620,"Porter.6-Formation",61,{"$f":"SUM(T$4:T64)","v":0.99435977439097556},null,{"$f":"SUM(T64:T69)","v":0},null,"| style='background-color: ;'| [[Porter.6-Formation]]",null,null,null,null,null,61,1,null,{"$f":"SUM(AJ$4:AJ64)","v":0},null,{"$f":"SUM(AJ64:AJ69)","v":0}]
[10,"IEE.2016",null,0,null,{"$f":"VLOOKUP($B65,stats!$B$4:$Q$128,COLUMN(F65)-1,FALSE)","v":0},{"$f":"VLOOKUP($B65,stats!$B$4:$Q$128,COLUMN(G65)-1,FALSE)","v":0},{"$f":"VLOOKUP($B65,stats!$B$4:$Q$128,COLUMN(H65)-1,FALSE)","v":0},{"$f":"VLOOKUP($B65,stats!$B$4:$Q$128,COLUMN(I65)-1,FALSE)","v":0},{"$f":"VLOOKUP($B65,stats!$B$4:$Q$128,COLUMN(J65)-1,FALSE)","v":0},{"$f":"VLOOKUP($B65,stats!$B$4:$Q$128,COLUMN(K65)-1,FALSE)","v":0},{"$f":"VLOOKUP($B65,stats!$B$4:$Q$128,COLUMN(L65)-1,FALSE)","v":0},{"$f":"VLOOKUP($B65,stats!$B$4:$Q$128,COLUMN(M65)-1,FALSE)","v":0},{"$f":"VLOOKUP($B65,stats!$B$4:$Q$128,COLUMN(N65)-1,FALSE)","v":0},{"$f":"VLOOKUP($B65,stats!$B$4:$Q$128,COLUMN(O65)-1,FALSE)","v":0},{"$f":"VLOOKUP($B65,stats!$B$4:$Q$128,COLUMN(P65)-1,FALSE)","v":0},{"$f":"VLOOKUP($B65,stats!$B$4:$Q$128,COLUMN(Q65)-1,FALSE)","v":0},null,0,0,null,62,1,null,623,"IEE.2016",62,{"$f":"SUM(T$4:T65)","v":0.99435977439097556},null,null,null,"| style='background-color: ;'| [[IEE.2016]]",null,null,null,null,null,62,1,null,{"$f":"SUM(AJ$4:AJ65)","v":0}]
[310,"NAIC.Annual",null,0,null,{"$f":"VLOOKUP($B66,stats!$B$4:$Q$128,COLUMN(F66)-1,FALSE)","v":0},{"$f":"VLOOKUP($B66,stats!$B$4:$Q$128,COLUMN(G66)-1,FALSE)","v":0},{"$f":"VLOOKUP($B66,stats!$B$4:$Q$128,COLUMN(H66)-1,FALSE)","v":0},{"$f":"VLOOKUP($B66,stats!$B$4:$Q$128,COLUMN(I66)-1,FALSE)","v":0},{"$f":"VLOOKUP($B66,stats!$B$4:$Q$128,COLUMN(J66)-1,FALSE)","v":0},{"$f":"VLOOKUP($B66,stats!$B$4:$Q$128,COLUMN(K66)-1,FALSE)","v":0},{"$f":"VLOOKUP($B66,stats!$B$4:$Q$128,COLUMN(L66)-1,FALSE)","v":0},{"$f":"VLOOKUP($B66,stats!$B$4:$Q$128,COLUMN(M66)-1,FALSE)","v":0},{"$f":"VLOOKUP($B66,stats!$B$4:$Q$128,COLUMN(N66)-1,FALSE)","v":0},{"$f":"VLOOKUP($B66,stats!$B$4:$Q$128,COLUMN(O66)-1,FALSE)","v":0},{"$f":"VLOOKUP($B66,stats!$B$4:$Q$128,COLUMN(P66)-1,FALSE)","v":0},{"$f":"VLOOKUP($B66,stats!$B$4:$Q$128,COLUMN(Q66)-1,FALSE)","v":0},null,0,0,null,63,1,null,625,"NAIC.Annual",63,{"$f":"SUM(T$4:T66)","v":0.99435977439097556},null,null,null,"| style='background-color: ;'| [[NAIC.Annual]]",null,null,null,null,null,63,1,null,{"$f":"SUM(AJ$4:AJ66)","v":0}]
[320,"NAIC.AnnualExs",null,0,null,{"$f":"VLOOKUP($B67,stats!$B$4:$Q$128,COLUMN(F67)-1,FALSE)","v":0},{"$f":"VLOOKUP($B67,stats!$B$4:$Q$128,COLUMN(G67)-1,FALSE)","v":0},{"$f":"VLOOKUP($B67,stats!$B$4:$Q$128,COLUMN(H67)-1,FALSE)","v":0},{"$f":"VLOOKUP($B67,stats!$B$4:$Q$128,COLUMN(I67)-1,FALSE)","v":0},{"$f":"VLOOKUP($B67,stats!$B$4:$Q$128,COLUMN(J67)-1,FALSE)","v":0},{"$f":"VLOOKUP($B67,stats!$B$4:$Q$128,COLUMN(K67)-1,FALSE)","v":0},{"$f":"VLOOKUP($B67,stats!$B$4:$Q$128,COLUMN(L67)-1,FALSE)","v":0},{"$f":"VLOOKUP($B67,stats!$B$4:$Q$128,COLUMN(M67)-1,FALSE)","v":0},{"$f":"VLOOKUP($B67,stats!$B$4:$Q$128,COLUMN(N67)-1,FALSE)","v":0},{"$f":"VLOOKUP($B67,stats!$B$4:$Q$128,COLUMN(O67)-1,FALSE)","v":0},{"$f":"VLOOKUP($B67,stats!$B$4:$Q$128,COLUMN(P67)-1,FALSE)","v":0},{"$f":"VLOOKUP($B67,stats!$B$4:$Q$128,COLUMN(Q67)-1,FALSE)","v":0},null,0,0,null,64,1,null,630,"NAIC.AnnualExs",64,null,null,null,null,"| style='background-color: ;'| [[NAIC.AnnualExs]]",null,null,null,null,null,64,1,null,{"$f":"SUM(AJ$4:AJ67)","v":0}]
[670,"outdated.",0,0,null,{"$f":"VLOOKUP($B68,stats!$B$4:$Q$128,COLUMN(F68)-1,FALSE)","v":0},{"$f":"VLOOKUP($B68,stats!$B$4:$Q$128,COLUMN(G68)-1,FALSE)","v":0},{"$f":"VLOOKUP($B68,stats!$B$4:$Q$128,COLUMN(H68)-1,FALSE)","v":0},{"$f":"VLOOKUP($B68,stats!$B$4:$Q$128,COLUMN(I68)-1,FALSE)","v":0},{"$f":"VLOOKUP($B68,stats!$B$4:$Q$128,COLUMN(J68)-1,FALSE)","v":0},{"$f":"VLOOKUP($B68,stats!$B$4:$Q$128,COLUMN(K68)-1,FALSE)","v":0},{"$f":"VLOOKUP($B68,stats!$B$4:$Q$128,COLUMN(L68)-1,FALSE)","v":0},{"$f":"VLOOKUP($B68,stats!$B$4:$Q$128,COLUMN(M68)-1,FALSE)","v":9},{"$f":"VLOOKUP($B68,stats!$B$4:$Q$128,COLUMN(N68)-1,FALSE)","v":8.25},{"$f":"VLOOKUP($B68,stats!$B$4:$Q$128,COLUMN(O68)-1,FALSE)","v":12.5},{"$f":"VLOOKUP($B68,stats!$B$4:$Q$128,COLUMN(P68)-1,FALSE)","v":11.75},{"$f":"VLOOKUP($B68,stats!$B$4:$Q$128,COLUMN(Q68)-1,FALSE)","v":18.5},null,0,0,null,65,0,null,740,"outdated.",65]
[680,"unknown.",0,0,null,{"$f":"VLOOKUP($B69,stats!$B$4:$Q$128,COLUMN(F69)-1,FALSE)","v":0},{"$f":"VLOOKUP($B69,stats!$B$4:$Q$128,COLUMN(G69)-1,FALSE)","v":0},{"$f":"VLOOKUP($B69,stats!$B$4:$Q$128,COLUMN(H69)-1,FALSE)","v":0},{"$f":"VLOOKUP($B69,stats!$B$4:$Q$128,COLUMN(I69)-1,FALSE)","v":0},{"$f":"VLOOKUP($B69,stats!$B$4:$Q$128,COLUMN(J69)-1,FALSE)","v":0},{"$f":"VLOOKUP($B69,stats!$B$4:$Q$128,COLUMN(K69)-1,FALSE)","v":4.75},{"$f":"VLOOKUP($B69,stats!$B$4:$Q$128,COLUMN(L69)-1,FALSE)","v":5.75},{"$f":"VLOOKUP($B69,stats!$B$4:$Q$128,COLUMN(M69)-1,FALSE)","v":0},{"$f":"VLOOKUP($B69,stats!$B$4:$Q$128,COLUMN(N69)-1,FALSE)","v":0},{"$f":"VLOOKUP($B69,stats!$B$4:$Q$128,COLUMN(O69)-1,FALSE)","v":0},{"$f":"VLOOKUP($B69,stats!$B$4:$Q$128,COLUMN(P69)-1,FALSE)","v":0},{"$f":"VLOOKUP($B69,stats!$B$4:$Q$128,COLUMN(Q69)-1,FALSE)","v":0},null,0,0,null,66,0,null,750,"unknown.",66]
[110,"Feldblum.Discount",null,0,null,{"$f":"VLOOKUP($B70,stats!$B$4:$Q$128,COLUMN(F70)-1,FALSE)","v":0},{"$f":"VLOOKUP($B70,stats!$B$4:$Q$128,COLUMN(G70)-1,FALSE)","v":0},{"$f":"VLOOKUP($B70,stats!$B$4:$Q$128,COLUMN(H70)-1,FALSE)","v":0},{"$f":"VLOOKUP($B70,stats!$B$4:$Q$128,COLUMN(I70)-1,FALSE)","v":2.25},{"$f":"VLOOKUP($B70,stats!$B$4:$Q$128,COLUMN(J70)-1,FALSE)","v":0},{"$f":"VLOOKUP($B70,stats!$B$4:$Q$128,COLUMN(K70)-1,FALSE)","v":0},{"$f":"VLOOKUP($B70,stats!$B$4:$Q$128,COLUMN(L70)-1,FALSE)","v":0},{"$f":"VLOOKUP($B70,stats!$B$4:$Q$128,COLUMN(M70)-1,FALSE)","v":0},{"$f":"VLOOKUP($B70,stats!$B$4:$Q$128,COLUMN(N70)-1,FALSE)","v":2.75},{"$f":"VLOOKUP($B70,stats!$B$4:$Q$128,COLUMN(O70)-1,FALSE)","v":0},{"$f":"VLOOKUP($B70,stats!$B$4:$Q$128,COLUMN(P70)-1,FALSE)","v":0},{"$f":"VLOOKUP($B70,stats!$B$4:$Q$128,COLUMN(Q70)-1,FALSE)","v":0},null,2.9375,5.6402256090243618E-3,null,67,0,null,752,"Feldblum.Discount",67]
[175,"Horn.Flood",86,0.26625386996904027,null,{"$f":"VLOOKUP($B71,stats!$B$4:$Q$128,COLUMN(F71)-1,FALSE)","v":2.5},{"$f":"VLOOKUP($B71,stats!$B$4:$Q$128,COLUMN(G71)-1,FALSE)","v":0},{"$f":"VLOOKUP($B71,stats!$B$4:$Q$128,COLUMN(H71)-1,FALSE)","v":0},{"$f":"VLOOKUP($B71,stats!$B$4:$Q$128,COLUMN(I71)-1,FALSE)","v":0},{"$f":"VLOOKUP($B71,stats!$B$4:$Q$128,COLUMN(J71)-1,FALSE)","v":0},{"$f":"VLOOKUP($B71,stats!$B$4:$Q$128,COLUMN(K71)-1,FALSE)","v":0},{"$f":"VLOOKUP($B71,stats!$B$4:$Q$128,COLUMN(L71)-1,FALSE)","v":0},{"$f":"VLOOKUP($B71,stats!$B$4:$Q$128,COLUMN(M71)-1,FALSE)","v":0},{"$f":"VLOOKUP($B71,stats!$B$4:$Q$128,COLUMN(N71)-1,FALSE)","v":0},{"$f":"VLOOKUP($B71,stats!$B$4:$Q$128,COLUMN(O71)-1,FALSE)","v":0},{"$f":"VLOOKUP($B71,stats!$B$4:$Q$128,COLUMN(P71)-1,FALSE)","v":0},{"$f":"VLOOKUP($B71,stats!$B$4:$Q$128,COLUMN(Q71)-1,FALSE)","v":0},null,0,0,null,68,0,null,755,"Horn.Flood",68]
[190,"King.Flood",null,0,null,{"$f":"VLOOKUP($B72,stats!$B$4:$Q$128,COLUMN(F72)-1,FALSE)","v":0},{"$f":"VLOOKUP($B72,stats!$B$4:$Q$128,COLUMN(G72)-1,FALSE)","v":0},{"$f":"VLOOKUP($B72,stats!$B$4:$Q$128,COLUMN(H72)-1,FALSE)","v":2.75},{"$f":"VLOOKUP($B72,stats!$B$4:$Q$128,COLUMN(I72)-1,FALSE)","v":1},{"$f":"VLOOKUP($B72,stats!$B$4:$Q$128,COLUMN(J72)-1,FALSE)","v":2.5},{"$f":"VLOOKUP($B72,stats!$B$4:$Q$128,COLUMN(K72)-1,FALSE)","v":2.25},{"$f":"VLOOKUP($B72,stats!$B$4:$Q$128,COLUMN(L72)-1,FALSE)","v":2},{"$f":"VLOOKUP($B72,stats!$B$4:$Q$128,COLUMN(M72)-1,FALSE)","v":2},{"$f":"VLOOKUP($B72,stats!$B$4:$Q$128,COLUMN(N72)-1,FALSE)","v":2.25},{"$f":"VLOOKUP($B72,stats!$B$4:$Q$128,COLUMN(O72)-1,FALSE)","v":0},{"$f":"VLOOKUP($B72,stats!$B$4:$Q$128,COLUMN(P72)-1,FALSE)","v":1.75},{"$f":"VLOOKUP($B72,stats!$B$4:$Q$128,COLUMN(Q72)-1,FALSE)","v":0},null,0,0,null,69,0,null,760,"King.Flood",69]
[]
[]
[]
[]
[]
[]
[]
[]
[null,"AAA.Materiality",{"$f":"IF(B81=B80,\"xxxx\",\"\")","v":""}]
[null,"ASOP.20",{"$f":"IF(B82=B81,\"xxxx\",\"\")","v":""}]
[null,"ASOP.36",""]
[null,"ASOP.41",""]
[null,"ASOP.43",""]
[null,"Baribeau.Regs",""]
[null,"BK.Reins",""]
[null,"Cook.Personal",""]
[null,"COPLFR.SAO",""]
[null,"Dearie.Surplus",""]
[null,"FASB.944",""]
[null,"Feldblum.Discount",""]
[null,"Feldblum.Ratings",""]
[null,"Feldblum.Surplus",""]
[null,"Freihaut.Reins",""]
[null,"GAO.Report",""]
[null,"Germani.GovtIns",""]
[null,"Horn.Flood",""]
[null,"Horn2018.Flood",""]
[null,"IEE.2016",""]
[null,"King.Flood",""]
[null,"Klann.ReinsComm",""]
[null,"Kucera.Credit",""]
[null,"McCarty.Credit",""]
[null,"NAIC.Annual",""]
[null,"NAIC.AnnualExs",""]
[null,"NAIC.APPM",""]
[null,"NAIC.IRIS",""]
[null,"NAIC.Price",""]
[null,"NAIC.Solvency",""]
[null,"NAIC.SSAP-53",""]
[null,"NAIC.SSAP-55",""]
[null,"NAIC.SSAP-5R",""]
[null,"NAIC.SSAP-62R",""]
[null,"NAIC.SSAP-65",""]
[null,"NAIC.SSAP-9",""]
[null,"NAIC.Telematics",""]
[null,"Odomirok.10-Notes",""]
[null,"Odomirok.11-GenInt",""]
[null,"Odomirok.11-GenInt","xxxx"]
[null,"Odomirok.12-5yr",""]
[null,"Odomirok.12-5yr","xxxx"]
[null,"Odomirok.13",""]
[null,"Odomirok.13","xxxx"]
[null,"Odomirok.14-F",""]
[null,"Odomirok.1-5-Intro",""]
[null,"Odomirok.15-P",""]
[null,"Odomirok.16-17-SAO",""]
[null,"Odomirok.18-IEE",""]
[null,"Odomirok.19-RBC",""]
[null,"Odomirok.20-IRIS",""]
[null,"Odomirok.20-IRIS","xxxx"]
[null,"Odomirok.21-Tools",""]
[null,"Odomirok.21-Tools","xxxx"]
[null,"Odomirok.22-23-GAAP",""]
[null,"Odomirok.24-IFRS",""]
[null,"Odomirok.24-IFRS","xxxx"]
[null,"Odomirok.25-Solv2",""]
[null,"Odomirok.26-Taxes",""]
[null,"Odomirok.30-Future",""]
[null,"Odomirok.30-Future","xxxx"]
[null,"Odomirok.6-7-BS",""]
[null,"Odomirok.8-9-IS",""]
[null,"outdated.",""]
[null,"Porter.12-Insolvency",""]
[null,"Porter.2-Devlpt",{"$f":"IF(B146=B145,\"xxxx\",\"\")","v":""}]
[null,"Porter.3-Roles-Fed",""]
[null,"Porter.4-Roles-State",""]
[null,"Porter.5-Opns-State",""]
[null,"Porter.6-Formation",""]
[null,"Porter.8-Rates",""]
[null,"Porter.Reg-2",""]
[null,"unknown.",""]
[null,"Vaughan.Crisis",""]
[null,"Webel.TRIA-1",""]
[null,"Webel.TRIA-2",""]

{"sheet":"FCs","index":6,"n_rows":7502,"n_cols":82,"rows_kept":2250,"cut":true,"hidden":false,"merged":[],"bounds":{"rows_first":1000,"rows_last":250,"rows_between":1000,"halvings":1}}
["lookup","dates","record","S","myID","paperPrefix","paperSuffix","section","subSection","numID1","numID2","flag","question","answer","hint","tag1","tag2","tag3","tag4","examFlag","examRep","examYear","examTerm","examQnum","examQletter","examQsub","examQpoints","W","E","T","WE1/2T","rank","s01_rank","s02_day","s03_blank","s04_calc","s05_calcRef","s_06_fade","s_07_Boot1","s_08_Boot2","s_09_BQ1","s_10_BQ2","COPLFR-ordering","select12","select13","select14","select15","select16","random","FutDev01","FutDev02","FutDev03","FutDev04","FutDev05","FutDev06","FutDev07","FutDev08","FutDev09","FutDev10","FutDev11","FutDev12","FutDev13","FutDev14","FutDev15","FutDev16","xxx"]
["IEE.2016","x",null,"",{"$f":"VLOOKUP(F2&\".\"&G2,syllabus!B$3:I$130,8,FALSE)&RIGHT(\"00000\"&J2,5)","v":"1000100"},"IEE","2016","IEE.2016: All","--",100,null,null,{"$f":"A2&\": All\"","v":"IEE.2016: All"},null,null,"--",null,"info",null,"",0,"","","","","","",{"$f":"IF(R2=\"info\",\"\",IFERROR(VLOOKUP(F2&\".\"&G2,rank.19F!B$3:W$120,22,FALSE)*IF(P2=\"calc\",rank!$AA$2,1),0))","v":""},{"$f":"IFERROR(IF(P2=\"--\",\"\",MAX(1+LEN(N2)-LEN(SUBSTITUTE(N2,\"|\",\"\"))+1+LEN(N2)-LEN(SUBSTITUTE(N2,\"~\",\"\")),INT(LEN(N2)/64)+1))*IFERROR(RIGHT(Q2,2)/2,1),\"\")","v":""},{"$f":"IFERROR(VLOOKUP(R2,SYSTEM!B$4:C$79,2,FALSE),0)","v":0},{"$f":"IF(AND(S2=\"dup\",P2<>\"calc\"),0,IFERROR(AB2*SQRT(AC2)*VLOOKUP(LEFT(R2,6),SYSTEM!K$19:L$128,2,FALSE),0))*IF(AJ2=\"CP\",4,1)","v":0},{"$f":"VLOOKUP(A2,rank.19F!B$3:V$120,21,FALSE)","v":62},{"$f":"AF2","v":62},{"$f":"IFERROR(VLOOKUP(H2&I2,#REF!,7,FALSE),999)","v":999},"xxx","xxx","xxx",{"$f":"IF(P2=\"calc\",0.0002/2,0.001/2)","v":5.0000000000000001E-4},"x",null,"xxxx"]
["IEE.2016",null,null,"",{"$f":"VLOOKUP(F3&\".\"&G3,syllabus!B$3:I$99,8,FALSE)&RIGHT(\"00000\"&J3,5)","v":"1000200"},"IEE","2016","IEE.2016: All","BC",200,null,null,"BC:",null,null,"concept",null,"F",null,"",0,"","","","","","",1,2,0,0,62,62,999,null,null,null,5.0000000000000001E-4,"x",null,"xxxx"]
["IEE.2016",null,null,"",{"$f":"VLOOKUP(F4&\".\"&G4,syllabus!B$3:I$99,8,FALSE)&RIGHT(\"00000\"&J4,5)","v":"1000300"},"IEE","2016","IEE.2016: All","BC",300,null,null,"BC:",null,null,"concept",null,"F",null,"",0,"","","","","","",1,2,0,0,62,62,999,null,null,null,5.0000000000000001E-4,"x",null,"xxxx"]
["IEE.2016",null,null,"",{"$f":"VLOOKUP(F5&\".\"&G5,syllabus!B$3:I$99,8,FALSE)&RIGHT(\"00000\"&J5,5)","v":"1000400"},"IEE","2016","IEE.2016: All","BC",400,null,null,"BC:",null,null,"concept",null,"F",null,"",0,"","","","","","",1,2,0,0,62,62,999,null,null,null,5.0000000000000001E-4,"x",null,"xxxx"]
["IEE.2016",null,null,"",{"$f":"VLOOKUP(F6&\".\"&G6,syllabus!B$3:I$99,8,FALSE)&RIGHT(\"00000\"&J6,5)","v":"1000500"},"IEE","2016","IEE.2016: All","BC",500,null,null,"BC:",null,null,"concept",null,"F",null,"",0,"","","","","","",1,2,0,0,62,62,999,null,null,null,5.0000000000000001E-4,"x",null,"xxxx"]
["IEE.2016",null,null,"",{"$f":"VLOOKUP(F7&\".\"&G7,syllabus!B$3:I$99,8,FALSE)&RIGHT(\"00000\"&J7,5)","v":"1000600"},"IEE","2016","IEE.2016: All","BC",600,null,null,"BC:",null,null,"concept",null,"F",null,"",0,"","","","","","",1,2,0,0,62,62,999,null,null,null,5.0000000000000001E-4,"x",null,"xxxx"]
["IEE.2016",null,null,"",{"$f":"VLOOKUP(F8&\".\"&G8,syllabus!B$3:I$99,8,FALSE)&RIGHT(\"00000\"&J8,5)","v":"1000700"},"IEE","2016","IEE.2016: All","BC",700,null,null,"BC:",null,null,"concept",null,"F",null,"",0,"","","","","","",1,2,0,0,62,62,999,null,null,null,5.0000000000000001E-4,"x",null,"xxxx"]
["IEE.2016",null,null,"",{"$f":"VLOOKUP(F9&\".\"&G9,syllabus!B$3:I$99,8,FALSE)&RIGHT(\"00000\"&J9,5)","v":"1000800"},"IEE","2016","IEE.2016: All","BC",800,null,null,"BC:",null,null,"concept",null,"F",null,"",0,"","","","","","",1,2,0,0,62,62,999,null,null,null,5.0000000000000001E-4,"x",null,"xxxx"]
["IEE.2016",null,null,"",{"$f":"VLOOKUP(F10&\".\"&G10,syllabus!B$3:I$99,8,FALSE)&RIGHT(\"00000\"&J10,5)","v":"1000900"},"IEE","2016","IEE.2016: All","BC",900,null,null,"BC:",null,null,"concept",null,"F",null,"",0,"","","","","","",1,2,0,0,62,62,999,null,null,null,5.0000000000000001E-4,"x",null,"xxxx"]
["IEE.2016",null,null,"",{"$f":"VLOOKUP(F11&\".\"&G11,syllabus!B$3:I$99,8,FALSE)&RIGHT(\"00000\"&J11,5)","v":"1001000"},"IEE","2016","IEE.2016: All","BC",1000,null,null,"BC:",null,null,"concept",null,"F",null,"",0,"","","","","","",1,2,0,0,62,62,999,null,null,null,5.0000000000000001E-4,"x",null,"xxxx"]
["IEE.2016",null,null,"",{"$f":"VLOOKUP(F12&\".\"&G12,syllabus!B$3:I$99,8,FALSE)&RIGHT(\"00000\"&J12,5)","v":"1001100"},"IEE","2016","IEE.2016: All","BC",1100,null,null,"BC:",null,null,"concept",null,"F",null,"",0,"","","","","","",1,2,0,0,62,62,999,null,null,null,5.0000000000000001E-4,"x",null,"xxxx"]
["IEE.2016",null,null,"",{"$f":"VLOOKUP(F13&\".\"&G13,syllabus!B$3:I$99,8,FALSE)&RIGHT(\"00000\"&J13,5)","v":"1001200"},"IEE","2016","IEE.2016: All","BC",1200,null,null,"BC:",null,null,"concept",null,"F",null,"",0,"","","","","","",1,2,0,0,62,62,999,null,null,null,5.0000000000000001E-4,"x",null,"xxxx"]
["IEE.2016",null,null,"",{"$f":"VLOOKUP(F14&\".\"&G14,syllabus!B$3:I$99,8,FALSE)&RIGHT(\"00000\"&J14,5)","v":"1001300"},"IEE","2016","IEE.2016: All","BC",1300,null,null,"BC:",null,null,"concept",null,"F",null,"",0,"","","","","","",1,2,0,0,62,62,999,null,null,null,5.0000000000000001E-4,"x",null,"xxxx"]
["IEE.2016",null,null,"",{"$f":"VLOOKUP(F15&\".\"&G15,syllabus!B$3:I$99,8,FALSE)&RIGHT(\"00000\"&J15,5)","v":"1001400"},"IEE","2016","IEE.2016: All","BC",1400,null,null,"BC:",null,null,"concept",null,"F",null,"",0,"","","","","","",1,2,0,0,62,62,999,null,null,null,5.0000000000000001E-4,"x",null,"xxxx"]
["IEE.2016",null,null,"",{"$f":"VLOOKUP(F16&\".\"&G16,syllabus!B$3:I$99,8,FALSE)&RIGHT(\"00000\"&J16,5)","v":"1001500"},"IEE","2016","IEE.2016: All","BC",1500,null,null,"BC:",null,null,"concept",null,"F",null,"",0,"","","","","","",1,2,0,0,62,62,999,null,null,null,5.0000000000000001E-4,"x",null,"xxxx"]
["IEE.2016",null,null,"",{"$f":"VLOOKUP(F17&\".\"&G17,syllabus!B$3:I$99,8,FALSE)&RIGHT(\"00000\"&J17,5)","v":"1001600"},"IEE","2016","IEE.2016: All","BC",1600,null,null,"BC:",null,null,"concept",null,"F",null,"",0,"","","","","","",1,2,0,0,62,62,999,null,null,null,5.0000000000000001E-4,"x",null,"xxxx"]
["IEE.2016",null,null,"",{"$f":"VLOOKUP(F18&\".\"&G18,syllabus!B$3:I$99,8,FALSE)&RIGHT(\"00000\"&J18,5)","v":"1001700"},"IEE","2016","IEE.2016: All","BC",1700,null,null,"BC:",null,null,"concept",null,"F",null,"",0,"","","","","","",1,2,0,0,62,62,999,null,null,null,5.0000000000000001E-4,"x",null,"xxxx"]
["IEE.2016",null,null,"",{"$f":"VLOOKUP(F19&\".\"&G19,syllabus!B$3:I$99,8,FALSE)&RIGHT(\"00000\"&J19,5)","v":"1001800"},"IEE","2016","IEE.2016: All","BC",1800,null,null,"BC:",null,null,"concept",null,"F",null,"",0,"","","","","","",1,2,0,0,62,62,999,null,null,null,5.0000000000000001E-4,"x",null,"xxxx"]
["IEE.2016",null,null,"",{"$f":"VLOOKUP(F20&\".\"&G20,syllabus!B$3:I$99,8,FALSE)&RIGHT(\"00000\"&J20,5)","v":"1001900"},"IEE","2016","IEE.2016: All","BC",1900,null,null,"BC:",null,null,"concept",null,"F",null,"",0,"","","","","","",1,2,0,0,62,62,999,null,null,null,5.0000000000000001E-4,"x",null,"xxxx"]
["IEE.2016",null,null,"",{"$f":"VLOOKUP(F21&\".\"&G21,syllabus!B$3:I$99,8,FALSE)&RIGHT(\"00000\"&J21,5)","v":"1002000"},"IEE","2016","IEE.2016: All","BC",2000,null,null,"BC:",null,null,"concept",null,"F",null,"",0,"","","","","","",1,2,0,0,62,62,999,null,null,null,5.0000000000000001E-4,"x",null,"xxxx"]
["IEE.2016",null,null,"",{"$f":"VLOOKUP(F22&\".\"&G22,syllabus!B$3:I$99,8,FALSE)&RIGHT(\"00000\"&J22,5)","v":"1002100"},"IEE","2016","IEE.2016: All","BC",2100,null,null,"BC:",null,null,"concept",null,"F",null,"",0,"","","","","","",1,2,0,0,62,62,999,null,null,null,5.0000000000000001E-4,"x",null,"xxxx"]
["IEE.2016",null,null,"",{"$f":"VLOOKUP(F23&\".\"&G23,syllabus!B$3:I$99,8,FALSE)&RIGHT(\"00000\"&J23,5)","v":"1002200"},"IEE","2016","IEE.2016: All","BC",2200,null,null,"BC:",null,null,"concept",null,"F",null,"",0,"","","","","","",1,2,0,0,62,62,999,null,null,null,5.0000000000000001E-4,"x",null,"xxxx"]
["IEE.2016",null,null,"",{"$f":"VLOOKUP(F24&\".\"&G24,syllabus!B$3:I$99,8,FALSE)&RIGHT(\"00000\"&J24,5)","v":"1002300"},"IEE","2016","IEE.2016: All","BC",2300,null,null,"BC:",null,null,"concept",null,"F",null,"",0,"","","","","","",1,2,0,0,62,62,999,null,null,null,5.0000000000000001E-4,"x",null,"xxxx"]
["IEE.2016",null,null,"",{"$f":"VLOOKUP(F25&\".\"&G25,syllabus!B$3:I$99,8,FALSE)&RIGHT(\"00000\"&J25,5)","v":"1002400"},"IEE","2016","IEE.2016: All","BC",2400,null,null,"BC:",null,null,"concept",null,"F",null,"",0,"","","","","","",1,2,0,0,62,62,999,null,null,null,5.0000000000000001E-4,"x",null,"xxxx"]
["IEE.2016",null,null,"",{"$f":"VLOOKUP(F26&\".\"&G26,syllabus!B$3:I$99,8,FALSE)&RIGHT(\"00000\"&J26,5)","v":"1002500"},"IEE","2016","IEE.2016: All","BC",2500,null,null,"BC:",null,null,"concept",null,"F",null,"",0,"","","","","","",1,2,0,0,62,62,999,null,null,null,5.0000000000000001E-4,"x",null,"xxxx"]
["IEE.2016",null,null,"",{"$f":"VLOOKUP(F27&\".\"&G27,syllabus!B$3:I$99,8,FALSE)&RIGHT(\"00000\"&J27,5)","v":"1002600"},"IEE","2016","IEE.2016: All","BC",2600,null,null,"BC:",null,null,"concept",null,"F",null,"",0,"","","","","","",1,2,0,0,62,62,999,null,null,null,5.0000000000000001E-4,"x",null,"xxxx"]
["IEE.2016",null,null,"",{"$f":"VLOOKUP(F28&\".\"&G28,syllabus!B$3:I$99,8,FALSE)&RIGHT(\"00000\"&J28,5)","v":"1002700"},"IEE","2016","IEE.2016: All","BC",2700,null,null,"BC:",null,null,"concept",null,"F",null,"",0,"","","","","","",1,2,0,0,62,62,999,null,null,null,5.0000000000000001E-4,"x",null,"xxxx"]
["IEE.2016",null,null,"",{"$f":"VLOOKUP(F29&\".\"&G29,syllabus!B$3:I$99,8,FALSE)&RIGHT(\"00000\"&J29,5)","v":"1002800"},"IEE","2016","IEE.2016: All","BC",2800,null,null,"BC:",null,null,"concept",null,"F",null,"",0,"","","","","","",1,2,0,0,62,62,999,null,null,null,5.0000000000000001E-4,"x",null,"xxxx"]
["IEE.2016",null,null,"",{"$f":"VLOOKUP(F30&\".\"&G30,syllabus!B$3:I$99,8,FALSE)&RIGHT(\"00000\"&J30,5)","v":"1002900"},"IEE","2016","IEE.2016: All","BC",2900,null,null,"BC:",null,null,"concept",null,"F",null,"",0,"","","","","","",1,2,0,0,62,62,999,null,null,null,5.0000000000000001E-4,"x",null,"xxxx"]
["IEE.2016",null,null,"",{"$f":"VLOOKUP(F31&\".\"&G31,syllabus!B$3:I$99,8,FALSE)&RIGHT(\"00000\"&J31,5)","v":"1003000"},"IEE","2016","IEE.2016: All","BC",3000,null,null,"BC:",null,null,"concept",null,"F",null,"",0,"","","","","","",1,2,0,0,62,62,999,null,null,null,5.0000000000000001E-4,"x",null,"xxxx"]
["IEE.2016",null,null,"",{"$f":"VLOOKUP(F32&\".\"&G32,syllabus!B$3:I$99,8,FALSE)&RIGHT(\"00000\"&J32,5)","v":"1003100"},"IEE","2016","IEE.2016: All","BC",3100,null,null,"BC:",null,null,"concept",null,"F",null,"",0,"","","","","","",1,2,0,0,62,62,999,null,null,null,5.0000000000000001E-4,"x",null,"xxxx"]
["IEE.2016",null,null,"",{"$f":"VLOOKUP(F33&\".\"&G33,syllabus!B$3:I$99,8,FALSE)&RIGHT(\"00000\"&J33,5)","v":"1003200"},"IEE","2016","IEE.2016: All","BC",3200,null,null,"BC:",null,null,"concept",null,"F",null,"",0,"","","","","","",1,2,0,0,62,62,999,null,null,null,5.0000000000000001E-4,"x",null,"xxxx"]
["IEE.2016",null,null,"",{"$f":"VLOOKUP(F34&\".\"&G34,syllabus!B$3:I$99,8,FALSE)&RIGHT(\"00000\"&J34,5)","v":"1003300"},"IEE","2016","IEE.2016: All","BC",3300,null,null,"BC:",null,null,"concept",null,"F",null,"",0,"","","","","","",1,2,0,0,62,62,999,null,null,null,5.0000000000000001E-4,"x",null,"xxxx"]
["IEE.2016",null,null,"",{"$f":"VLOOKUP(F35&\".\"&G35,syllabus!B$3:I$99,8,FALSE)&RIGHT(\"00000\"&J35,5)","v":"1003400"},"IEE","2016","IEE.2016: All","BC",3400,null,null,"BC:",null,null,"concept",null,"F",null,"",0,"","","","","","",1,2,0,0,62,62,999,null,null,null,5.0000000000000001E-4,"x",null,"xxxx"]
["IEE.2016",null,null,"",{"$f":"VLOOKUP(F36&\".\"&G36,syllabus!B$3:I$99,8,FALSE)&RIGHT(\"00000\"&J36,5)","v":"1003500"},"IEE","2016","IEE.2016: All","exam",3500,null,null,"exam:",null,null,"concept",null,"F",null,"",0,"","","","","","",1,2,0,0,62,62,999,null,null,null,5.0000000000000001E-4,"x",null,"xxxx"]
["IEE.2016",null,null,"",{"$f":"VLOOKUP(F37&\".\"&G37,syllabus!B$3:I$99,8,FALSE)&RIGHT(\"00000\"&J37,5)","v":"1003600"},"IEE","2016","IEE.2016: All","exam",3600,null,null,"exam:",null,null,"concept",null,"F",null,"",0,"","","","","","",1,2,0,0,62,62,999,null,null,null,5.0000000000000001E-4,"x",null,"xxxx"]
["IEE.2016",null,null,"",{"$f":"VLOOKUP(F38&\".\"&G38,syllabus!B$3:I$99,8,FALSE)&RIGHT(\"00000\"&J38,5)","v":"1003700"},"IEE","2016","IEE.2016: All","exam",3700,null,null,"exam:",null,null,"concept",null,"F",null,"",0,"","","","","","",1,2,0,0,62,62,999,null,null,null,5.0000000000000001E-4,"x",null,"xxxx"]
["IEE.2016",null,null,"",{"$f":"VLOOKUP(F39&\".\"&G39,syllabus!B$3:I$99,8,FALSE)&RIGHT(\"00000\"&J39,5)","v":"1003800"},"IEE","2016","IEE.2016: All","exam",3800,null,null,"exam:",null,null,"concept",null,"F",null,"",0,"","","","","","",1,2,0,0,62,62,999,null,null,null,5.0000000000000001E-4,"x",null,"xxxx"]
["IEE.2016",null,null,"",{"$f":"VLOOKUP(F40&\".\"&G40,syllabus!B$3:I$99,8,FALSE)&RIGHT(\"00000\"&J40,5)","v":"1003900"},"IEE","2016","IEE.2016: All","exam",3900,null,null,"exam:",null,null,"concept",null,"F",null,"",0,"","","","","","",1,2,0,0,62,62,999,null,null,null,5.0000000000000001E-4,"x",null,"xxxx"]
["IEE.2016",null,null,"",{"$f":"VLOOKUP(F41&\".\"&G41,syllabus!B$3:I$99,8,FALSE)&RIGHT(\"00000\"&J41,5)","v":"1004000"},"IEE","2016","IEE.2016: All","exam",4000,null,null,"exam:",null,null,"concept",null,"F",null,"",0,"","","","","","",1,2,0,0,62,62,999,null,null,null,5.0000000000000001E-4,"x",null,"xxxx"]
["IEE.2016",null,null,"",{"$f":"VLOOKUP(F42&\".\"&G42,syllabus!B$3:I$99,8,FALSE)&RIGHT(\"00000\"&J42,5)","v":"1004100"},"IEE","2016","IEE.2016: All","exam",4100,null,null,"exam:",null,null,"concept",null,"F",null,"",0,"","","","","","",1,2,0,0,62,62,999,null,null,null,5.0000000000000001E-4,"x",null,"xxxx"]
["IEE.2016",null,null,"",{"$f":"VLOOKUP(F43&\".\"&G43,syllabus!B$3:I$99,8,FALSE)&RIGHT(\"00000\"&J43,5)","v":"1004200"},"IEE","2016","IEE.2016: All","exam",4200,null,null,"exam:",null,null,"concept",null,"F",null,"",0,"","","","","","",1,2,0,0,62,62,999,null,null,null,5.0000000000000001E-4,"x",null,"xxxx"]
["IEE.2016",null,null,"",{"$f":"VLOOKUP(F44&\".\"&G44,syllabus!B$3:I$99,8,FALSE)&RIGHT(\"00000\"&J44,5)","v":"1004300"},"IEE","2016","IEE.2016: All","exam",4300,null,null,"exam:",null,null,"concept",null,"F",null,"",0,"","","","","","",1,2,0,0,62,62,999,null,null,null,5.0000000000000001E-4,"x",null,"xxxx"]
["IEE.2016",null,null,"",{"$f":"VLOOKUP(F45&\".\"&G45,syllabus!B$3:I$99,8,FALSE)&RIGHT(\"00000\"&J45,5)","v":"1004400"},"IEE","2016","IEE.2016: All","exam",4400,null,null,"exam:",null,null,"concept",null,"F",null,"",0,"","","","","","",1,2,0,0,62,62,999,null,null,null,5.0000000000000001E-4,"x",null,"xxxx"]
["IEE.2016",null,null,"",{"$f":"VLOOKUP(F46&\".\"&G46,syllabus!B$3:I$99,8,FALSE)&RIGHT(\"00000\"&J46,5)","v":"1004500"},"IEE","2016","IEE.2016: All","exam",4500,null,null,"exam:",null,null,"concept",null,"F",null,"",0,"","","","","","",1,2,0,0,62,62,999,null,null,null,5.0000000000000001E-4,"x",null,"xxxx"]
["IEE.2016",null,null,"",{"$f":"VLOOKUP(F47&\".\"&G47,syllabus!B$3:I$99,8,FALSE)&RIGHT(\"00000\"&J47,5)","v":"1004600"},"IEE","2016","IEE.2016: All","exam",4600,null,null,"exam:",null,null,"concept",null,"F",null,"",0,"","","","","","",1,2,0,0,62,62,999,null,null,null,5.0000000000000001E-4,"x",null,"xxxx"]
["IEE.2016",null,null,"",{"$f":"VLOOKUP(F48&\".\"&G48,syllabus!B$3:I$99,8,FALSE)&RIGHT(\"00000\"&J48,5)","v":"1004700"},"IEE","2016","IEE.2016: All","exam",4700,null,null,"exam:",null,null,"concept",null,"F",null,"",0,"","","","","","",1,2,0,0,62,62,999,null,null,null,5.0000000000000001E-4,"x",null,"xxxx"]
["IEE.2016",null,null,"",{"$f":"VLOOKUP(F49&\".\"&G49,syllabus!B$3:I$99,8,FALSE)&RIGHT(\"00000\"&J49,5)","v":"1004800"},"IEE","2016","IEE.2016: All","exam",4800,null,null,"exam:",null,null,"concept",null,"F",null,"",0,"","","","","","",1,2,0,0,62,62,999,null,null,null,5.0000000000000001E-4,"x",null,"xxxx"]
["IEE.2016",null,null,"",{"$f":"VLOOKUP(F50&\".\"&G50,syllabus!B$3:I$99,8,FALSE)&RIGHT(\"00000\"&J50,5)","v":"1004900"},"IEE","2016","IEE.2016: All","exam",4900,null,null,"exam:",null,null,"concept",null,"F",null,"",0,"","","","","","",1,2,0,0,62,62,999,null,null,null,5.0000000000000001E-4,"x",null,"xxxx"]
["IEE.2016",null,null,"",{"$f":"VLOOKUP(F51&\".\"&G51,syllabus!B$3:I$99,8,FALSE)&RIGHT(\"00000\"&J51,5)","v":"1005000"},"IEE","2016","IEE.2016: All","exam",5000,null,null,"exam:",null,null,"concept",null,"F",null,"",0,"","","","","","",1,2,0,0,62,62,999,null,null,null,5.0000000000000001E-4,"x",null,"xxxx"]
["IEE.2016",null,null,"",{"$f":"VLOOKUP(F52&\".\"&G52,syllabus!B$3:I$99,8,FALSE)&RIGHT(\"00000\"&J52,5)","v":"1005100"},"IEE","2016","IEE.2016: All","exam",5100,null,null,"exam:",null,null,"concept",null,"F",null,"",0,"","","","","","",1,2,0,0,62,62,999,null,null,null,5.0000000000000001E-4,"x",null,"xxxx"]
["IEE.2016",null,null,"",{"$f":"VLOOKUP(F53&\".\"&G53,syllabus!B$3:I$99,8,FALSE)&RIGHT(\"00000\"&J53,5)","v":"1005200"},"IEE","2016","IEE.2016: All","exam",5200,null,null,"exam:",null,null,"concept",null,"F",null,"",0,"","","","","","",1,2,0,0,62,62,999,null,null,null,5.0000000000000001E-4,"x",null,"xxxx"]
["IEE.2016",null,null,"",{"$f":"VLOOKUP(F54&\".\"&G54,syllabus!B$3:I$99,8,FALSE)&RIGHT(\"00000\"&J54,5)","v":"1005300"},"IEE","2016","IEE.2016: All","exam",5300,null,null,"exam:",null,null,"concept",null,"F",null,"",0,"","","","","","",1,2,0,0,62,62,999,null,null,null,5.0000000000000001E-4,"x",null,"xxxx"]
["IEE.2016",null,null,"",{"$f":"VLOOKUP(F55&\".\"&G55,syllabus!B$3:I$99,8,FALSE)&RIGHT(\"00000\"&J55,5)","v":"1005400"},"IEE","2016","IEE.2016: All","exam",5400,null,null,"exam:",null,null,"concept",null,"F",null,"",0,"","","","","","",1,2,0,0,62,62,999,null,null,null,5.0000000000000001E-4,"x",null,"xxxx"]
["IEE.2016",null,null,"",{"$f":"VLOOKUP(F56&\".\"&G56,syllabus!B$3:I$99,8,FALSE)&RIGHT(\"00000\"&J56,5)","v":"1005500"},"IEE","2016","IEE.2016: All","exam",5500,null,null,"exam:",null,null,"concept",null,"F",null,"",0,"","","","","","",1,2,0,0,62,62,999,null,null,null,5.0000000000000001E-4,"x",null,"xxxx"]
["IEE.2016",null,null,"",{"$f":"VLOOKUP(F57&\".\"&G57,syllabus!B$3:I$99,8,FALSE)&RIGHT(\"00000\"&J57,5)","v":"1005600"},"IEE","2016","IEE.2016: All","exam",5600,null,null,"exam:",null,null,"concept",null,"F",null,"",0,"","","","","","",1,2,0,0,62,62,999,null,null,null,5.0000000000000001E-4,"x",null,"xxxx"]
["IEE.2016",null,null,"",{"$f":"VLOOKUP(F58&\".\"&G58,syllabus!B$3:I$99,8,FALSE)&RIGHT(\"00000\"&J58,5)","v":"1005700"},"IEE","2016","IEE.2016: All","exam",5700,null,null,"exam:",null,null,"concept",null,"F",null,"",0,"","","","","","",1,2,0,0,62,62,999,null,null,null,5.0000000000000001E-4,"x",null,"xxxx"]
["IEE.2016",null,null,"",{"$f":"VLOOKUP(F59&\".\"&G59,syllabus!B$3:I$99,8,FALSE)&RIGHT(\"00000\"&J59,5)","v":"1005800"},"IEE","2016","IEE.2016: All","exam",5800,null,null,"exam:",null,null,"concept",null,"F",null,"",0,"","","","","","",1,2,0,0,62,62,999,null,null,null,5.0000000000000001E-4,"x",null,"xxxx"]
["IEE.2016",null,null,"",{"$f":"VLOOKUP(F60&\".\"&G60,syllabus!B$3:I$99,8,FALSE)&RIGHT(\"00000\"&J60,5)","v":"1005900"},"IEE","2016","IEE.2016: All","exam",5900,null,null,"exam:",null,null,"concept",null,"F",null,"",0,"","","","","","",1,2,0,0,62,62,999,null,null,null,5.0000000000000001E-4,"x",null,"xxxx"]
["IEE.2016",null,null,"",{"$f":"VLOOKUP(F61&\".\"&G61,syllabus!B$3:I$99,8,FALSE)&RIGHT(\"00000\"&J61,5)","v":"1006000"},"IEE","2016","IEE.2016: All","exam",6000,"x",null,"exam: start Fall.2017 here (at numID = 6000)",null,null,"concept",null,"F",null,"",0,"","","","","","",1,2,0,0,62,62,999,null,null,null,5.0000000000000001E-4,"x",null,"xxxx"]
["IEE.2016",null,null,"",{"$f":"VLOOKUP(F62&\".\"&G62,syllabus!B$3:I$99,8,FALSE)&RIGHT(\"00000\"&J62,5)","v":"1006100"},"IEE","2016","IEE.2016: All","exam",6100,null,null,"exam:",null,null,"concept",null,"F",null,"",0,"","","","","","",1,2,0,0,62,62,999,null,null,null,5.0000000000000001E-4,"x",null,"xxxx"]
["IEE.2016",null,null,"",{"$f":"VLOOKUP(F63&\".\"&G63,syllabus!B$3:I$99,8,FALSE)&RIGHT(\"00000\"&J63,5)","v":"1006200"},"IEE","2016","IEE.2016: All","exam",6200,null,null,"exam:",null,null,"concept",null,"F",null,"",0,"","","","","","",1,2,0,0,62,62,999,null,null,null,5.0000000000000001E-4,"x",null,"xxxx"]
["IEE.2016",null,null,"",{"$f":"VLOOKUP(F64&\".\"&G64,syllabus!B$3:I$99,8,FALSE)&RIGHT(\"00000\"&J64,5)","v":"1006300"},"IEE","2016","IEE.2016: All","exam",6300,null,null,"exam:",null,null,"concept",null,"F",null,"",0,"","","","","","",1,2,0,0,62,62,999,null,null,null,5.0000000000000001E-4,"x",null,"xxxx"]
["IEE.2016",null,null,"",{"$f":"VLOOKUP(F65&\".\"&G65,syllabus!B$3:I$99,8,FALSE)&RIGHT(\"00000\"&J65,5)","v":"1006400"},"IEE","2016","IEE.2016: All","exam",6400,null,null,"exam:",null,null,"concept",null,"F",null,"",0,"","","","","","",1,2,0,0,62,62,999,null,null,null,5.0000000000000001E-4,"x",null,"xxxx"]
["IEE.2016",null,null,"",{"$f":"VLOOKUP(F66&\".\"&G66,syllabus!B$3:I$99,8,FALSE)&RIGHT(\"00000\"&J66,5)","v":"1006500"},"IEE","2016","IEE.2016: All","exam",6500,null,null,"exam:",null,null,"concept",null,"F",null,"",0,"","","","","","",1,2,0,0,62,62,999,null,null,null,5.0000000000000001E-4,"x",null,"xxxx"]
["IEE.2016",null,null,"",{"$f":"VLOOKUP(F67&\".\"&G67,syllabus!B$3:I$99,8,FALSE)&RIGHT(\"00000\"&J67,5)","v":"1006600"},"IEE","2016","IEE.2016: All","exam",6600,null,null,"exam:",null,null,"concept",null,"F",null,"",0,"","","","","","",1,2,0,0,62,62,999,null,null,null,5.0000000000000001E-4,"x",null,"xxxx"]
["IEE.2016",null,null,"",{"$f":"VLOOKUP(F68&\".\"&G68,syllabus!B$3:I$99,8,FALSE)&RIGHT(\"00000\"&J68,5)","v":"1006700"},"IEE","2016","IEE.2016: All","exam",6700,null,null,"exam:",null,null,"concept",null,"F",null,"",0,"","","","","","",1,2,0,0,62,62,999,null,null,null,5.0000000000000001E-4,"x",null,"xxxx"]
["IEE.2016",null,null,"",{"$f":"VLOOKUP(F69&\".\"&G69,syllabus!B$3:I$99,8,FALSE)&RIGHT(\"00000\"&J69,5)","v":"1006800"},"IEE","2016","IEE.2016: All","exam",6800,null,null,"exam:",null,null,"concept",null,"F",null,"",0,"","","","","","",1,2,0,0,62,62,999,null,null,null,5.0000000000000001E-4,"x",null,"xxxx"]
["IEE.2016",null,null,"",{"$f":"VLOOKUP(F70&\".\"&G70,syllabus!B$3:I$99,8,FALSE)&RIGHT(\"00000\"&J70,5)","v":"1006900"},"IEE","2016","IEE.2016: All","exam",6900,null,null,"exam:",null,null,"concept",null,"F",null,"",0,"","","","","","",1,2,0,0,62,62,999,null,null,null,5.0000000000000001E-4,"x",null,"xxxx"]
["IEE.2016",null,null,"",{"$f":"VLOOKUP(F71&\".\"&G71,syllabus!B$3:I$99,8,FALSE)&RIGHT(\"00000\"&J71,5)","v":"1007000"},"IEE","2016","IEE.2016: All","exam",7000,null,null,"exam:",null,null,"concept",null,"F",null,"",0,"","","","","","",1,2,0,0,62,62,999,null,null,null,5.0000000000000001E-4,"x",null,"xxxx"]
["IEE.2016",null,null,"",{"$f":"VLOOKUP(F72&\".\"&G72,syllabus!B$3:I$99,8,FALSE)&RIGHT(\"00000\"&J72,5)","v":"1007100"},"IEE","2016","IEE.2016: All","exam",7100,null,null,"exam:",null,null,"concept",null,"F",null,"",0,"","","","","","",1,2,0,0,62,62,999,null,null,null,5.0000000000000001E-4,"x",null,"xxxx"]
["IEE.2016",null,null,"",{"$f":"VLOOKUP(F73&\".\"&G73,syllabus!B$3:I$99,8,FALSE)&RIGHT(\"00000\"&J73,5)","v":"1007200"},"IEE","2016","IEE.2016: All","exam",7200,null,null,"exam:",null,null,"concept",null,"F",null,"",0,"","","","","","",1,2,0,0,62,62,999,null,null,null,5.0000000000000001E-4,"x",null,"xxxx"]
["IEE.2016",null,null,"",{"$f":"VLOOKUP(F74&\".\"&G74,syllabus!B$3:I$99,8,FALSE)&RIGHT(\"00000\"&J74,5)","v":"1007300"},"IEE","2016","IEE.2016: All","exam",7300,null,null,"exam:",null,null,"concept",null,"F",null,"",0,"","","","","","",1,2,0,0,62,62,999,null,null,null,5.0000000000000001E-4,"x",null,"xxxx"]
["IEE.2016",null,null,"",{"$f":"VLOOKUP(F75&\".\"&G75,syllabus!B$3:I$99,8,FALSE)&RIGHT(\"00000\"&J75,5)","v":"1007400"},"IEE","2016","IEE.2016: All","exam",7400,null,null,"exam:",null,null,"concept",null,"F",null,"",0,"","","","","","",1,2,0,0,62,62,999,null,null,null,5.0000000000000001E-4,"x",null,"xxxx"]
["IEE.2016",null,null,"",{"$f":"VLOOKUP(F76&\".\"&G76,syllabus!B$3:I$99,8,FALSE)&RIGHT(\"00000\"&J76,5)","v":"1007500"},"IEE","2016","IEE.2016: All","exam",7500,null,null,"exam:",null,null,"concept",null,"F",null,"",0,"","","","","","",1,2,0,0,62,62,999,null,null,null,5.0000000000000001E-4,"x",null,"xxxx"]
["IEE.2016",null,null,"",{"$f":"VLOOKUP(F77&\".\"&G77,syllabus!B$3:I$99,8,FALSE)&RIGHT(\"00000\"&J77,5)","v":"1007600"},"IEE","2016","IEE.2016: All","exam",7600,null,null,"exam:",null,null,"concept",null,"F",null,"",0,"","","","","","",1,2,0,0,62,62,999,null,null,null,5.0000000000000001E-4,"x",null,"xxxx"]
["IEE.2016",null,null,"",{"$f":"VLOOKUP(F78&\".\"&G78,syllabus!B$3:I$99,8,FALSE)&RIGHT(\"00000\"&J78,5)","v":"1007700"},"IEE","2016","IEE.2016: All","exam",7700,null,null,"exam:",null,null,"concept",null,"F",null,"",0,"","","","","","",1,2,0,0,62,62,999,null,null,null,5.0000000000000001E-4,"x",null,"xxxx"]
["IEE.2016",null,null,"",{"$f":"VLOOKUP(F79&\".\"&G79,syllabus!B$3:I$99,8,FALSE)&RIGHT(\"00000\"&J79,5)","v":"1007800"},"IEE","2016","IEE.2016: All","exam",7800,null,null,"exam:",null,null,"concept",null,"F",null,"",0,"","","","","","",1,2,0,0,62,62,999,null,null,null,5.0000000000000001E-4,"x",null,"xxxx"]
["IEE.2016",null,null,"",{"$f":"VLOOKUP(F80&\".\"&G80,syllabus!B$3:I$99,8,FALSE)&RIGHT(\"00000\"&J80,5)","v":"1007900"},"IEE","2016","IEE.2016: All","exam",7900,null,null,"exam:",null,null,"concept",null,"F",null,"",0,"","","","","","",1,2,0,0,62,62,999,null,null,null,5.0000000000000001E-4,"x",null,"xxxx"]
["IEE.2016",null,null,"",{"$f":"VLOOKUP(F81&\".\"&G81,syllabus!B$3:I$99,8,FALSE)&RIGHT(\"00000\"&J81,5)","v":"1008000"},"IEE","2016","IEE.2016: All","exam",8000,null,null,"exam:",null,null,"concept",null,"F",null,"",0,"","","","","","",1,2,0,0,62,62,999,null,null,null,5.0000000000000001E-4,"x",null,"xxxx"]
["IEE.2016",null,null,"",{"$f":"VLOOKUP(F82&\".\"&G82,syllabus!B$3:I$99,8,FALSE)&RIGHT(\"00000\"&J82,5)","v":"1008100"},"IEE","2016","IEE.2016: All","exam",8100,null,null,"exam:",null,null,"concept",null,"F",null,"",0,"","","","","","",1,2,0,0,62,62,999,null,null,null,5.0000000000000001E-4,"x",null,"xxxx"]
["IEE.2016",null,null,"",{"$f":"VLOOKUP(F83&\".\"&G83,syllabus!B$3:I$99,8,FALSE)&RIGHT(\"00000\"&J83,5)","v":"1008200"},"IEE","2016","IEE.2016: All","exam",8200,null,null,"exam:",null,null,"concept",null,"F",null,"",0,"","","","","","",1,2,0,0,62,62,999,null,null,null,5.0000000000000001E-4,"x",null,"xxxx"]
["IEE.2016",null,null,"",{"$f":"VLOOKUP(F84&\".\"&G84,syllabus!B$3:I$99,8,FALSE)&RIGHT(\"00000\"&J84,5)","v":"1008300"},"IEE","2016","IEE.2016: All","exam",8300,null,null,"exam:",null,null,"concept",null,"F",null,"",0,"","","","","","",1,2,0,0,62,62,999,null,null,null,5.0000000000000001E-4,"x",null,"xxxx"]
["IEE.2016",null,null,"",{"$f":"VLOOKUP(F85&\".\"&G85,syllabus!B$3:I$99,8,FALSE)&RIGHT(\"00000\"&J85,5)","v":"1008400"},"IEE","2016","IEE.2016: All","exam",8400,null,null,"exam:",null,null,"concept",null,"F",null,"",0,"","","","","","",1,2,0,0,62,62,999,null,null,null,5.0000000000000001E-4,"x",null,"xxxx"]
["IEE.2016",null,null,"",{"$f":"VLOOKUP(F86&\".\"&G86,syllabus!B$3:I$99,8,FALSE)&RIGHT(\"00000\"&J86,5)","v":"1008500"},"IEE","2016","IEE.2016: All","exam",8500,null,null,"exam:",null,null,"concept",null,"F",null,"",0,"","","","","","",1,2,0,0,62,62,999,null,null,null,5.0000000000000001E-4,"x",null,"xxxx"]
["IEE.2016",null,null,"",{"$f":"VLOOKUP(F87&\".\"&G87,syllabus!B$3:I$99,8,FALSE)&RIGHT(\"00000\"&J87,5)","v":"1008600"},"IEE","2016","IEE.2016: All","exam",8600,null,null,"exam:",null,null,"concept",null,"F",null,"",0,"","","","","","",1,2,0,0,62,62,999,null,null,null,5.0000000000000001E-4,"x",null,"xxxx"]
["IEE.2016",null,null,"",{"$f":"VLOOKUP(F88&\".\"&G88,syllabus!B$3:I$99,8,FALSE)&RIGHT(\"00000\"&J88,5)","v":"1008700"},"IEE","2016","IEE.2016: All","exam",8700,null,null,"exam:",null,null,"concept",null,"F",null,"",0,"","","","","","",1,2,0,0,62,62,999,null,null,null,5.0000000000000001E-4,"x",null,"xxxx"]
["IEE.2016",null,null,"",{"$f":"VLOOKUP(F89&\".\"&G89,syllabus!B$3:I$99,8,FALSE)&RIGHT(\"00000\"&J89,5)","v":"1008800"},"IEE","2016","IEE.2016: All","exam",8800,null,null,"exam:",null,null,"concept",null,"F",null,"",0,"","","","","","",1,2,0,0,62,62,999,null,null,null,5.0000000000000001E-4,"x",null,"xxxx"]
["IEE.2016",null,null,"",{"$f":"VLOOKUP(F90&\".\"&G90,syllabus!B$3:I$99,8,FALSE)&RIGHT(\"00000\"&J90,5)","v":"1008900"},"IEE","2016","IEE.2016: All","exam",8900,null,null,"exam:",null,null,"concept",null,"F",null,"",0,"","","","","","",1,2,0,0,62,62,999,null,null,null,5.0000000000000001E-4,"x",null,"xxxx"]
["IEE.2016",null,null,"",{"$f":"VLOOKUP(F91&\".\"&G91,syllabus!B$3:I$99,8,FALSE)&RIGHT(\"00000\"&J91,5)","v":"1009000"},"IEE","2016","IEE.2016: All","exam",9000,null,null,"exam:",null,null,"concept",null,"F",null,"",0,"","","","","","",1,2,0,0,62,62,999,null,null,null,5.0000000000000001E-4,"x",null,"xxxx"]
["IEE.2016",null,null,"",{"$f":"VLOOKUP(F92&\".\"&G92,syllabus!B$3:I$99,8,FALSE)&RIGHT(\"00000\"&J92,5)","v":"1009100"},"IEE","2016","IEE.2016: All","exam",9100,null,null,"exam:",null,null,"concept",null,"F",null,"",0,"","","","","","",1,2,0,0,62,62,999,null,null,null,5.0000000000000001E-4,"x",null,"xxxx"]
["IEE.2016",null,null,"",{"$f":"VLOOKUP(F93&\".\"&G93,syllabus!B$3:I$99,8,FALSE)&RIGHT(\"00000\"&J93,5)","v":"1009200"},"IEE","2016","IEE.2016: All","exam",9200,null,null,"exam:",null,null,"concept",null,"F",null,"",0,"","","","","","",1,2,0,0,62,62,999,null,null,null,5.0000000000000001E-4,"x",null,"xxxx"]
["IEE.2016",null,null,"",{"$f":"VLOOKUP(F94&\".\"&G94,syllabus!B$3:I$99,8,FALSE)&RIGHT(\"00000\"&J94,5)","v":"1009300"},"IEE","2016","IEE.2016: All","exam",9300,null,null,"exam:",null,null,"concept",null,"F",null,"",0,"","","","","","",1,2,0,0,62,62,999,null,null,null,5.0000000000000001E-4,"x",null,"xxxx"]
["IEE.2016",null,null,"",{"$f":"VLOOKUP(F95&\".\"&G95,syllabus!B$3:I$99,8,FALSE)&RIGHT(\"00000\"&J95,5)","v":"1009400"},"IEE","2016","IEE.2016: All","exam",9400,null,null,"exam:",null,null,"concept",null,"F",null,"",0,"","","","","","",1,2,0,0,62,62,999,null,null,null,5.0000000000000001E-4,"x",null,"xxxx"]
["IEE.2016",null,null,"",{"$f":"VLOOKUP(F96&\".\"&G96,syllabus!B$3:I$99,8,FALSE)&RIGHT(\"00000\"&J96,5)","v":"1009500"},"IEE","2016","IEE.2016: All","exam",9500,null,null,"exam:",null,null,"concept",null,"F",null,"",0,"","","","","","",1,2,0,0,62,62,999,null,null,null,5.0000000000000001E-4,"x",null,"xxxx"]
["IEE.2016",null,null,"",{"$f":"VLOOKUP(F97&\".\"&G97,syllabus!B$3:I$99,8,FALSE)&RIGHT(\"00000\"&J97,5)","v":"1009600"},"IEE","2016","IEE.2016: All","exam",9600,null,null,"exam:",null,null,"concept",null,"F",null,"",0,"","","","","","",1,2,0,0,62,62,999,null,null,null,5.0000000000000001E-4,"x",null,"xxxx"]
["IEE.2016",null,null,"",{"$f":"VLOOKUP(F98&\".\"&G98,syllabus!B$3:I$99,8,FALSE)&RIGHT(\"00000\"&J98,5)","v":"1009700"},"IEE","2016","IEE.2016: All","exam",9700,null,null,"exam:",null,null,"concept",null,"F",null,"",0,"","","","","","",1,2,0,0,62,62,999,null,null,null,5.0000000000000001E-4,"x",null,"xxxx"]
["IEE.2016",null,null,"",{"$f":"VLOOKUP(F99&\".\"&G99,syllabus!B$3:I$99,8,FALSE)&RIGHT(\"00000\"&J99,5)","v":"1009800"},"IEE","2016","IEE.2016: All","exam",9800,null,null,"exam:",null,null,"concept",null,"F",null,"",0,"","","","","","",1,2,0,0,62,62,999,null,null,null,5.0000000000000001E-4,"x",null,"xxxx"]
["IEE.2016",null,null,"",{"$f":"VLOOKUP(F100&\".\"&G100,syllabus!B$3:I$99,8,FALSE)&RIGHT(\"00000\"&J100,5)","v":"1009900"},"IEE","2016","IEE.2016: All","exam",9900,null,null,"exam:",null,null,"concept",null,"F",null,"",0,"","","","","","",1,2,0,0,62,62,999,null,null,null,5.0000000000000001E-4,"x",null,"xxxx"]
["ASOP.20","x",null,"",{"$f":"VLOOKUP(F101&\".\"&G101,syllabus!B$3:I$99,8,FALSE)&RIGHT(\"00000\"&J101,5)","v":"2000100"},"ASOP","20","ASOP.20: All","--",100,null,null,{"$f":"A101&\": All\"","v":"ASOP.20: All"},null,null,"--",null,"info",null,"",0,"","","","","","","","",0,0,45,45,999,null,null,null,5.0000000000000001E-4,"x",null,"xxxx"]
["ASOP.20",null,null,"",{"$f":"VLOOKUP(F102&\".\"&G102,syllabus!B$3:I$99,8,FALSE)&RIGHT(\"00000\"&J102,5)","v":"2000200"},"ASOP","20","ASOP.20: All","general",200,1,null,"general: given an undiscounted reserve, what components are required to calculate the discounted reserve","- payment pattern ~~ (recoverables should be considered when developing a payment pattern) ~ - discount rate",null,"concept",null,"A",null,"",0,"","","","","","",1,5,2,4.4721359549995796,45,45,999,null,null,null,5.0000000000000001E-4,"x",null,1]
["ASOP.20",null,null,"",{"$f":"VLOOKUP(F103&\".\"&G103,syllabus!B$3:I$99,8,FALSE)&RIGHT(\"00000\"&J103,5)","v":"2000300"},"ASOP","20","ASOP.20: All","general",300,1,null,"general: briefly describe 3 possible methods for selecting a discount rate for reserves\n","risk-free rate: ~~ - rate of return for a very low risk investment ~~ - timing pattern should be similar to the payment pattern for the given reserve liabilities ~ portfolio yield rate: ~~ - average yield on investments within a selected asset portfolio ~~ - provides better matching of liabilities & assets ~~~ (assuming the timing & value of asset earnings matches the payment pattern of the reserve liabilities) ~ selection by another party: ~~ - the actuary uses a rate selected by someone else ~~ - the actuary must disclose this (or be held responsible for the selection)",null,"concept",null,"A",null,"",0,"","","","","","",1,19,2,8.717797887081348,45,45,999,null,null,null,5.0000000000000001E-4,"x",null,1]
["ASOP.20",null,null,"",{"$f":"VLOOKUP(F104&\".\"&G104,syllabus!B$3:I$99,8,FALSE)&RIGHT(\"00000\"&J104,5)","v":"2000400"},"ASOP","20","ASOP.20: All","general",400,1,null,"general: identify required disclosures related to an actuary's work involving discounting","<u>many answers</u>: (see Section 4.1 in ASOP 20 and review ASOP 41 in Actuarial Communications) ~~ <strong>dates:</strong> accounting date, valuation date, review date ~~ <span style=\"color: red;\"><strong>DAM:</strong></span> <u>D</u>ata, <u>A</u>ssumptions, <u>M</u>ethods for the discount rate selection ~~ <strong>uncertainties</strong> around the payment pattern ~~ <strong>difference</strong> between discounted & undiscounted reserves ~~ <strong>range:</strong> if a range of estimates is provided, actuary should describe the basis for the range",null,"concept",null,"A",null,"",0,"","","","","","",1,12,2,6.9282032302755088,45,45,999,null,null,null,5.0000000000000001E-4,"x",null,1]
["ASOP.20",null,null,"",{"$f":"VLOOKUP(F105&\".\"&G105,syllabus!B$3:I$99,8,FALSE)&RIGHT(\"00000\"&J105,5)","v":"2000500"},"ASOP","20","ASOP.20: All","BC",500,null,null,"BC:",null,null,"concept",null,"F",null,"",0,"","","","","","",1,2,0,0,45,45,999,null,null,null,5.0000000000000001E-4,"x",null,"xxxx"]
["ASOP.20",null,null,"",{"$f":"VLOOKUP(F106&\".\"&G106,syllabus!B$3:I$99,8,FALSE)&RIGHT(\"00000\"&J106,5)","v":"2000600"},"ASOP","20","ASOP.20: All","BC",600,null,null,"BC:",null,null,"concept",null,"F",null,"",0,"","","","","","",1,2,0,0,45,45,999,null,null,null,5.0000000000000001E-4,"x",null,"xxxx"]
["ASOP.20",null,null,"",{"$f":"VLOOKUP(F107&\".\"&G107,syllabus!B$3:I$99,8,FALSE)&RIGHT(\"00000\"&J107,5)","v":"2000700"},"ASOP","20","ASOP.20: All","BC",700,null,null,"BC:",null,null,"concept",null,"F",null,"",0,"","","","","","",1,2,0,0,45,45,999,null,null,null,5.0000000000000001E-4,"x",null,"xxxx"]
["ASOP.20",null,null,"",{"$f":"VLOOKUP(F108&\".\"&G108,syllabus!B$3:I$99,8,FALSE)&RIGHT(\"00000\"&J108,5)","v":"2000800"},"ASOP","20","ASOP.20: All","BC",800,null,null,"BC:",null,null,"concept",null,"F",null,"",0,"","","","","","",1,2,0,0,45,45,999,null,null,null,5.0000000000000001E-4,"x",null,"xxxx"]
["ASOP.20",null,null,"",{"$f":"VLOOKUP(F109&\".\"&G109,syllabus!B$3:I$99,8,FALSE)&RIGHT(\"00000\"&J109,5)","v":"2000900"},"ASOP","20","ASOP.20: All","BC",900,null,null,"BC:",null,null,"concept",null,"F",null,"",0,"","","","","","",1,2,0,0,45,45,999,null,null,null,5.0000000000000001E-4,"x",null,"xxxx"]
["ASOP.20",null,null,"",{"$f":"VLOOKUP(F110&\".\"&G110,syllabus!B$3:I$99,8,FALSE)&RIGHT(\"00000\"&J110,5)","v":"2001000"},"ASOP","20","ASOP.20: All","BC",1000,null,null,"BC:",null,null,"concept",null,"F",null,"",0,"","","","","","",1,2,0,0,45,45,999,null,null,null,5.0000000000000001E-4,"x",null,"xxxx"]
["ASOP.20",null,null,"",{"$f":"VLOOKUP(F111&\".\"&G111,syllabus!B$3:I$99,8,FALSE)&RIGHT(\"00000\"&J111,5)","v":"2001100"},"ASOP","20","ASOP.20: All","BC",1100,null,null,"BC:",null,null,"concept",null,"F",null,"",0,"","","","","","",1,2,0,0,45,45,999,null,null,null,5.0000000000000001E-4,"x",null,"xxxx"]
["ASOP.20",null,null,"",{"$f":"VLOOKUP(F112&\".\"&G112,syllabus!B$3:I$99,8,FALSE)&RIGHT(\"00000\"&J112,5)","v":"2001200"},"ASOP","20","ASOP.20: All","BC",1200,null,null,"BC:",null,null,"concept",null,"F",null,"",0,"","","","","","",1,2,0,0,45,45,999,null,null,null,5.0000000000000001E-4,"x",null,"xxxx"]
["ASOP.20",null,null,"",{"$f":"VLOOKUP(F113&\".\"&G113,syllabus!B$3:I$99,8,FALSE)&RIGHT(\"00000\"&J113,5)","v":"2001300"},"ASOP","20","ASOP.20: All","BC",1300,null,null,"BC:",null,null,"concept",null,"F",null,"",0,"","","","","","",1,2,0,0,45,45,999,null,null,null,5.0000000000000001E-4,"x",null,"xxxx"]
["ASOP.20",null,null,"",{"$f":"VLOOKUP(F114&\".\"&G114,syllabus!B$3:I$99,8,FALSE)&RIGHT(\"00000\"&J114,5)","v":"2001400"},"ASOP","20","ASOP.20: All","BC",1400,null,null,"BC:",null,null,"concept",null,"F",null,"",0,"","","","","","",1,2,0,0,45,45,999,null,null,null,5.0000000000000001E-4,"x",null,"xxxx"]
["ASOP.20",null,null,"",{"$f":"VLOOKUP(F115&\".\"&G115,syllabus!B$3:I$99,8,FALSE)&RIGHT(\"00000\"&J115,5)","v":"2001500"},"ASOP","20","ASOP.20: All","BC",1500,null,null,"BC:",null,null,"concept",null,"F",null,"",0,"","","","","","",1,2,0,0,45,45,999,null,null,null,5.0000000000000001E-4,"x",null,"xxxx"]
["ASOP.20",null,null,"",{"$f":"VLOOKUP(F116&\".\"&G116,syllabus!B$3:I$99,8,FALSE)&RIGHT(\"00000\"&J116,5)","v":"2001600"},"ASOP","20","ASOP.20: All","BC",1600,null,null,"BC:",null,null,"concept",null,"F",null,"",0,"","","","","","",1,2,0,0,45,45,999,null,null,null,5.0000000000000001E-4,"x",null,"xxxx"]
["ASOP.20",null,null,"",{"$f":"VLOOKUP(F117&\".\"&G117,syllabus!B$3:I$99,8,FALSE)&RIGHT(\"00000\"&J117,5)","v":"2001700"},"ASOP","20","ASOP.20: All","BC",1700,null,null,"BC:",null,null,"concept",null,"F",null,"",0,"","","","","","",1,2,0,0,45,45,999,null,null,null,5.0000000000000001E-4,"x",null,"xxxx"]
["ASOP.20",null,null,"",{"$f":"VLOOKUP(F118&\".\"&G118,syllabus!B$3:I$99,8,FALSE)&RIGHT(\"00000\"&J118,5)","v":"2001800"},"ASOP","20","ASOP.20: All","BC",1800,null,null,"BC:",null,null,"concept",null,"F",null,"",0,"","","","","","",1,2,0,0,45,45,999,null,null,null,5.0000000000000001E-4,"x",null,"xxxx"]
["ASOP.20",null,null,"",{"$f":"VLOOKUP(F119&\".\"&G119,syllabus!B$3:I$99,8,FALSE)&RIGHT(\"00000\"&J119,5)","v":"2001900"},"ASOP","20","ASOP.20: All","BC",1900,null,null,"BC:",null,null,"concept",null,"F",null,"",0,"","","","","","",1,2,0,0,45,45,999,null,null,null,5.0000000000000001E-4,"x",null,"xxxx"]
["ASOP.20",null,null,"",{"$f":"VLOOKUP(F120&\".\"&G120,syllabus!B$3:I$99,8,FALSE)&RIGHT(\"00000\"&J120,5)","v":"2002000"},"ASOP","20","ASOP.20: All","BC",2000,null,null,"BC:",null,null,"concept",null,"F",null,"",0,"","","","","","",1,2,0,0,45,45,999,null,null,null,5.0000000000000001E-4,"x",null,"xxxx"]
["ASOP.20",null,null,"",{"$f":"VLOOKUP(F121&\".\"&G121,syllabus!B$3:I$99,8,FALSE)&RIGHT(\"00000\"&J121,5)","v":"2002100"},"ASOP","20","ASOP.20: All","BC",2100,null,null,"BC:",null,null,"concept",null,"F",null,"",0,"","","","","","",1,2,0,0,45,45,999,null,null,null,5.0000000000000001E-4,"x",null,"xxxx"]
["ASOP.20",null,null,"",{"$f":"VLOOKUP(F122&\".\"&G122,syllabus!B$3:I$99,8,FALSE)&RIGHT(\"00000\"&J122,5)","v":"2002200"},"ASOP","20","ASOP.20: All","BC",2200,null,null,"BC:",null,null,"concept",null,"F",null,"",0,"","","","","","",1,2,0,0,45,45,999,null,null,null,5.0000000000000001E-4,"x",null,"xxxx"]
["ASOP.20",null,null,"",{"$f":"VLOOKUP(F123&\".\"&G123,syllabus!B$3:I$99,8,FALSE)&RIGHT(\"00000\"&J123,5)","v":"2002300"},"ASOP","20","ASOP.20: All","BC",2300,null,null,"BC:",null,null,"concept",null,"F",null,"",0,"","","","","","",1,2,0,0,45,45,999,null,null,null,5.0000000000000001E-4,"x",null,"xxxx"]
["ASOP.20",null,null,"",{"$f":"VLOOKUP(F124&\".\"&G124,syllabus!B$3:I$99,8,FALSE)&RIGHT(\"00000\"&J124,5)","v":"2002400"},"ASOP","20","ASOP.20: All","BC",2400,null,null,"BC:",null,null,"concept",null,"F",null,"",0,"","","","","","",1,2,0,0,45,45,999,null,null,null,5.0000000000000001E-4,"x",null,"xxxx"]
["ASOP.20",null,null,"",{"$f":"VLOOKUP(F125&\".\"&G125,syllabus!B$3:I$99,8,FALSE)&RIGHT(\"00000\"&J125,5)","v":"2002500"},"ASOP","20","ASOP.20: All","BC",2500,null,null,"BC:",null,null,"concept",null,"F",null,"",0,"","","","","","",1,2,0,0,45,45,999,null,null,null,5.0000000000000001E-4,"x",null,"xxxx"]
["ASOP.20",null,null,"",{"$f":"VLOOKUP(F126&\".\"&G126,syllabus!B$3:I$99,8,FALSE)&RIGHT(\"00000\"&J126,5)","v":"2002600"},"ASOP","20","ASOP.20: All","BC",2600,null,null,"BC:",null,null,"concept",null,"F",null,"",0,"","","","","","",1,2,0,0,45,45,999,null,null,null,5.0000000000000001E-4,"x",null,"xxxx"]
["ASOP.20",null,null,"",{"$f":"VLOOKUP(F127&\".\"&G127,syllabus!B$3:I$99,8,FALSE)&RIGHT(\"00000\"&J127,5)","v":"2002700"},"ASOP","20","ASOP.20: All","BC",2700,null,null,"BC:",null,null,"concept",null,"F",null,"",0,"","","","","","",1,2,0,0,45,45,999,null,null,null,5.0000000000000001E-4,"x",null,"xxxx"]
["ASOP.20",null,null,"",{"$f":"VLOOKUP(F128&\".\"&G128,syllabus!B$3:I$99,8,FALSE)&RIGHT(\"00000\"&J128,5)","v":"2002800"},"ASOP","20","ASOP.20: All","BC",2800,null,null,"BC:",null,null,"concept",null,"F",null,"",0,"","","","","","",1,2,0,0,45,45,999,null,null,null,5.0000000000000001E-4,"x",null,"xxxx"]
["ASOP.20",null,null,"",{"$f":"VLOOKUP(F129&\".\"&G129,syllabus!B$3:I$99,8,FALSE)&RIGHT(\"00000\"&J129,5)","v":"2002900"},"ASOP","20","ASOP.20: All","BC",2900,null,null,"BC:",null,null,"concept",null,"F",null,"",0,"","","","","","",1,2,0,0,45,45,999,null,null,null,5.0000000000000001E-4,"x",null,"xxxx"]
["ASOP.20",null,null,"",{"$f":"VLOOKUP(F130&\".\"&G130,syllabus!B$3:I$99,8,FALSE)&RIGHT(\"00000\"&J130,5)","v":"2003000"},"ASOP","20","ASOP.20: All","BC",3000,null,null,"BC:",null,null,"concept",null,"F",null,"",0,"","","","","","",1,2,0,0,45,45,999,null,null,null,5.0000000000000001E-4,"x",null,"xxxx"]
["ASOP.20",null,null,"",{"$f":"VLOOKUP(F131&\".\"&G131,syllabus!B$3:I$99,8,FALSE)&RIGHT(\"00000\"&J131,5)","v":"2003100"},"ASOP","20","ASOP.20: All","BC",3100,null,null,"BC:",null,null,"concept",null,"F",null,"",0,"","","","","","",1,2,0,0,45,45,999,null,null,null,5.0000000000000001E-4,"x",null,"xxxx"]
["ASOP.20",null,null,"",{"$f":"VLOOKUP(F132&\".\"&G132,syllabus!B$3:I$99,8,FALSE)&RIGHT(\"00000\"&J132,5)","v":"2003200"},"ASOP","20","ASOP.20: All","BC",3200,null,null,"BC:",null,null,"concept",null,"F",null,"",0,"","","","","","",1,2,0,0,45,45,999,null,null,null,5.0000000000000001E-4,"x",null,"xxxx"]
["ASOP.20",null,null,"",{"$f":"VLOOKUP(F133&\".\"&G133,syllabus!B$3:I$99,8,FALSE)&RIGHT(\"00000\"&J133,5)","v":"2003300"},"ASOP","20","ASOP.20: All","BC",3300,null,null,"BC:",null,null,"concept",null,"F",null,"",0,"","","","","","",1,2,0,0,45,45,999,null,null,null,5.0000000000000001E-4,"x",null,"xxxx"]
["ASOP.20",null,null,"",{"$f":"VLOOKUP(F134&\".\"&G134,syllabus!B$3:I$99,8,FALSE)&RIGHT(\"00000\"&J134,5)","v":"2003400"},"ASOP","20","ASOP.20: All","BC",3400,null,null,"BC:",null,null,"concept",null,"F",null,"",0,"","","","","","",1,2,0,0,45,45,999,null,null,null,5.0000000000000001E-4,"x",null,"xxxx"]
["ASOP.20",null,null,"",{"$f":"VLOOKUP(F135&\".\"&G135,syllabus!B$3:I$99,8,FALSE)&RIGHT(\"00000\"&J135,5)","v":"2003500"},"ASOP","20","ASOP.20: All","exam",3500,null,null,"exam:",null,null,"concept",null,"F",null,"",0,"","","","","","",1,2,0,0,45,45,999,null,null,null,5.0000000000000001E-4,"x",null,"xxxx"]
["ASOP.20",null,null,"",{"$f":"VLOOKUP(F136&\".\"&G136,syllabus!B$3:I$99,8,FALSE)&RIGHT(\"00000\"&J136,5)","v":"2003600"},"ASOP","20","ASOP.20: All","exam",3600,null,null,"exam:",null,null,"concept",null,"F",null,"",0,"","","","","","",1,2,0,0,45,45,999,null,null,null,5.0000000000000001E-4,"x",null,"xxxx"]
["ASOP.20",null,null,"",{"$f":"VLOOKUP(F137&\".\"&G137,syllabus!B$3:I$99,8,FALSE)&RIGHT(\"00000\"&J137,5)","v":"2003700"},"ASOP","20","ASOP.20: All","exam",3700,null,null,"exam:",null,null,"concept",null,"F",null,"",0,"","","","","","",1,2,0,0,45,45,999,null,null,null,5.0000000000000001E-4,"x",null,"xxxx"]
["ASOP.20",null,null,"",{"$f":"VLOOKUP(F138&\".\"&G138,syllabus!B$3:I$99,8,FALSE)&RIGHT(\"00000\"&J138,5)","v":"2003800"},"ASOP","20","ASOP.20: All","exam",3800,null,null,"exam:",null,null,"concept",null,"F",null,"",0,"","","","","","",1,2,0,0,45,45,999,null,null,null,5.0000000000000001E-4,"x",null,"xxxx"]
["ASOP.20",null,null,"",{"$f":"VLOOKUP(F139&\".\"&G139,syllabus!B$3:I$99,8,FALSE)&RIGHT(\"00000\"&J139,5)","v":"2003900"},"ASOP","20","ASOP.20: All","exam",3900,null,null,"exam:",null,null,"concept",null,"F",null,"",0,"","","","","","",1,2,0,0,45,45,999,null,null,null,5.0000000000000001E-4,"x",null,"xxxx"]
["ASOP.20",null,null,"",{"$f":"VLOOKUP(F140&\".\"&G140,syllabus!B$3:I$99,8,FALSE)&RIGHT(\"00000\"&J140,5)","v":"2004000"},"ASOP","20","ASOP.20: All","exam",4000,null,null,"exam:",null,null,"concept",null,"F",null,"",0,"","","","","","",1,2,0,0,45,45,999,null,null,null,5.0000000000000001E-4,"x",null,"xxxx"]
["ASOP.20",null,null,"",{"$f":"VLOOKUP(F141&\".\"&G141,syllabus!B$3:I$99,8,FALSE)&RIGHT(\"00000\"&J141,5)","v":"2004100"},"ASOP","20","ASOP.20: All","exam",4100,null,null,"exam:",null,null,"concept",null,"F",null,"",0,"","","","","","",1,2,0,0,45,45,999,null,null,null,5.0000000000000001E-4,"x",null,"xxxx"]
["ASOP.20",null,null,"",{"$f":"VLOOKUP(F142&\".\"&G142,syllabus!B$3:I$99,8,FALSE)&RIGHT(\"00000\"&J142,5)","v":"2004200"},"ASOP","20","ASOP.20: All","exam",4200,null,null,"exam:",null,null,"concept",null,"F",null,"",0,"","","","","","",1,2,0,0,45,45,999,null,null,null,5.0000000000000001E-4,"x",null,"xxxx"]
["ASOP.20",null,null,"",{"$f":"VLOOKUP(F143&\".\"&G143,syllabus!B$3:I$99,8,FALSE)&RIGHT(\"00000\"&J143,5)","v":"2004300"},"ASOP","20","ASOP.20: All","exam",4300,null,null,"exam:",null,null,"concept",null,"F",null,"",0,"","","","","","",1,2,0,0,45,45,999,null,null,null,5.0000000000000001E-4,"x",null,"xxxx"]
["ASOP.20",null,null,"",{"$f":"VLOOKUP(F144&\".\"&G144,syllabus!B$3:I$99,8,FALSE)&RIGHT(\"00000\"&J144,5)","v":"2004400"},"ASOP","20","ASOP.20: All","exam",4400,null,null,"exam:",null,null,"concept",null,"F",null,"",0,"","","","","","",1,2,0,0,45,45,999,null,null,null,5.0000000000000001E-4,"x",null,"xxxx"]
["ASOP.20",null,null,"",{"$f":"VLOOKUP(F145&\".\"&G145,syllabus!B$3:I$99,8,FALSE)&RIGHT(\"00000\"&J145,5)","v":"2004500"},"ASOP","20","ASOP.20: All","exam",4500,null,null,"exam:",null,null,"concept",null,"F",null,"",0,"","","","","","",1,2,0,0,45,45,999,null,null,null,5.0000000000000001E-4,"x",null,"xxxx"]
["ASOP.20",null,null,"",{"$f":"VLOOKUP(F146&\".\"&G146,syllabus!B$3:I$99,8,FALSE)&RIGHT(\"00000\"&J146,5)","v":"2004600"},"ASOP","20","ASOP.20: All","exam",4600,null,null,"exam:",null,null,"concept",null,"F",null,"",0,"","","","","","",1,2,0,0,45,45,999,null,null,null,5.0000000000000001E-4,"x",null,"xxxx"]
["ASOP.20",null,null,"",{"$f":"VLOOKUP(F147&\".\"&G147,syllabus!B$3:I$99,8,FALSE)&RIGHT(\"00000\"&J147,5)","v":"2004700"},"ASOP","20","ASOP.20: All","exam",4700,null,null,"exam:",null,null,"concept",null,"F",null,"",0,"","","","","","",1,2,0,0,45,45,999,null,null,null,5.0000000000000001E-4,"x",null,"xxxx"]
["ASOP.20",null,null,"",{"$f":"VLOOKUP(F148&\".\"&G148,syllabus!B$3:I$99,8,FALSE)&RIGHT(\"00000\"&J148,5)","v":"2004800"},"ASOP","20","ASOP.20: All","exam",4800,null,null,"exam:",null,null,"concept",null,"F",null,"",0,"","","","","","",1,2,0,0,45,45,999,null,null,null,5.0000000000000001E-4,"x",null,"xxxx"]
["ASOP.20",null,null,"",{"$f":"VLOOKUP(F149&\".\"&G149,syllabus!B$3:I$99,8,FALSE)&RIGHT(\"00000\"&J149,5)","v":"2004900"},"ASOP","20","ASOP.20: All","exam",4900,null,null,"exam:",null,null,"concept",null,"F",null,"",0,"","","","","","",1,2,0,0,45,45,999,null,null,null,5.0000000000000001E-4,"x",null,"xxxx"]
["ASOP.20",null,null,"",{"$f":"VLOOKUP(F150&\".\"&G150,syllabus!B$3:I$99,8,FALSE)&RIGHT(\"00000\"&J150,5)","v":"2005000"},"ASOP","20","ASOP.20: All","exam",5000,null,null,"exam:",null,null,"concept",null,"F",null,"",0,"","","","","","",1,2,0,0,45,45,999,null,null,null,5.0000000000000001E-4,"x",null,"xxxx"]
["ASOP.20",null,null,"",{"$f":"VLOOKUP(F151&\".\"&G151,syllabus!B$3:I$99,8,FALSE)&RIGHT(\"00000\"&J151,5)","v":"2005100"},"ASOP","20","ASOP.20: All","exam",5100,null,null,"exam:",null,null,"concept",null,"F",null,"",0,"","","","","","",1,2,0,0,45,45,999,null,null,null,5.0000000000000001E-4,"x",null,"xxxx"]
["ASOP.20",null,null,"",{"$f":"VLOOKUP(F152&\".\"&G152,syllabus!B$3:I$99,8,FALSE)&RIGHT(\"00000\"&J152,5)","v":"2005200"},"ASOP","20","ASOP.20: All","exam",5200,null,null,"exam:",null,null,"concept",null,"F",null,"",0,"","","","","","",1,2,0,0,45,45,999,null,null,null,5.0000000000000001E-4,"x",null,"xxxx"]
["ASOP.20",null,null,"",{"$f":"VLOOKUP(F153&\".\"&G153,syllabus!B$3:I$99,8,FALSE)&RIGHT(\"00000\"&J153,5)","v":"2005300"},"ASOP","20","ASOP.20: All","exam",5300,null,null,"exam:",null,null,"concept",null,"F",null,"",0,"","","","","","",1,2,0,0,45,45,999,null,null,null,5.0000000000000001E-4,"x",null,"xxxx"]
["ASOP.20",null,null,"",{"$f":"VLOOKUP(F154&\".\"&G154,syllabus!B$3:I$99,8,FALSE)&RIGHT(\"00000\"&J154,5)","v":"2005400"},"ASOP","20","ASOP.20: All","exam",5400,null,null,"exam:",null,null,"concept",null,"F",null,"",0,"","","","","","",1,2,0,0,45,45,999,null,null,null,5.0000000000000001E-4,"x",null,"xxxx"]
["ASOP.20",null,null,"",{"$f":"VLOOKUP(F155&\".\"&G155,syllabus!B$3:I$99,8,FALSE)&RIGHT(\"00000\"&J155,5)","v":"2005500"},"ASOP","20","ASOP.20: All","exam",5500,null,null,"exam:",null,null,"concept",null,"F",null,"",0,"","","","","","",1,2,0,0,45,45,999,null,null,null,5.0000000000000001E-4,"x",null,"xxxx"]
["ASOP.20",null,null,"",{"$f":"VLOOKUP(F156&\".\"&G156,syllabus!B$3:I$99,8,FALSE)&RIGHT(\"00000\"&J156,5)","v":"2005600"},"ASOP","20","ASOP.20: All","exam",5600,null,null,"exam:",null,null,"concept",null,"F",null,"",0,"","","","","","",1,2,0,0,45,45,999,null,null,null,5.0000000000000001E-4,"x",null,"xxxx"]
["ASOP.20",null,null,"",{"$f":"VLOOKUP(F157&\".\"&G157,syllabus!B$3:I$99,8,FALSE)&RIGHT(\"00000\"&J157,5)","v":"2005700"},"ASOP","20","ASOP.20: All","exam",5700,null,null,"exam:",null,null,"concept",null,"F",null,"",0,"","","","","","",1,2,0,0,45,45,999,null,null,null,5.0000000000000001E-4,"x",null,"xxxx"]
["ASOP.20",null,null,"",{"$f":"VLOOKUP(F158&\".\"&G158,syllabus!B$3:I$99,8,FALSE)&RIGHT(\"00000\"&J158,5)","v":"2005800"},"ASOP","20","ASOP.20: All","exam",5800,null,null,"exam:",null,null,"concept",null,"F",null,"",0,"","","","","","",1,2,0,0,45,45,999,null,null,null,5.0000000000000001E-4,"x",null,"xxxx"]
["ASOP.20",null,null,"",{"$f":"VLOOKUP(F159&\".\"&G159,syllabus!B$3:I$99,8,FALSE)&RIGHT(\"00000\"&J159,5)","v":"2005900"},"ASOP","20","ASOP.20: All","exam",5900,null,null,"exam:",null,null,"concept",null,"F",null,"",0,"","","","","","",1,2,0,0,45,45,999,null,null,null,5.0000000000000001E-4,"x",null,"xxxx"]
["ASOP.20",null,null,"",{"$f":"VLOOKUP(F160&\".\"&G160,syllabus!B$3:I$99,8,FALSE)&RIGHT(\"00000\"&J160,5)","v":"2006000"},"ASOP","20","ASOP.20: All","exam",6000,"x",null,"exam: start Fall.2017 here (at numID = 6000)",null,null,"concept",null,"F",null,"",0,"","","","","","",1,2,0,0,45,45,999,null,null,null,5.0000000000000001E-4,"x",null,"xxxx"]
["ASOP.20",null,null,"",{"$f":"VLOOKUP(F161&\".\"&G161,syllabus!B$3:I$99,8,FALSE)&RIGHT(\"00000\"&J161,5)","v":"2006100"},"ASOP","20","ASOP.20: All","exam",6100,null,null,"exam:",null,null,"concept",null,"F",null,"",0,"","","","","","",1,2,0,0,45,45,999,null,null,null,5.0000000000000001E-4,"x",null,"xxxx"]
["ASOP.20",null,null,"",{"$f":"VLOOKUP(F162&\".\"&G162,syllabus!B$3:I$99,8,FALSE)&RIGHT(\"00000\"&J162,5)","v":"2006200"},"ASOP","20","ASOP.20: All","exam",6200,null,null,"exam:",null,null,"concept",null,"F",null,"",0,"","","","","","",1,2,0,0,45,45,999,null,null,null,5.0000000000000001E-4,"x",null,"xxxx"]
["ASOP.20",null,null,"",{"$f":"VLOOKUP(F163&\".\"&G163,syllabus!B$3:I$99,8,FALSE)&RIGHT(\"00000\"&J163,5)","v":"2006300"},"ASOP","20","ASOP.20: All","exam",6300,null,null,"exam:",null,null,"concept",null,"F",null,"",0,"","","","","","",1,2,0,0,45,45,999,null,null,null,5.0000000000000001E-4,"x",null,"xxxx"]
["ASOP.20",null,null,"",{"$f":"VLOOKUP(F164&\".\"&G164,syllabus!B$3:I$99,8,FALSE)&RIGHT(\"00000\"&J164,5)","v":"2006400"},"ASOP","20","ASOP.20: All","exam",6400,null,null,"exam:",null,null,"concept",null,"F",null,"",0,"","","","","","",1,2,0,0,45,45,999,null,null,null,5.0000000000000001E-4,"x",null,"xxxx"]
["ASOP.20",null,null,"",{"$f":"VLOOKUP(F165&\".\"&G165,syllabus!B$3:I$99,8,FALSE)&RIGHT(\"00000\"&J165,5)","v":"2006500"},"ASOP","20","ASOP.20: All","exam",6500,null,null,"exam:",null,null,"concept",null,"F",null,"",0,"","","","","","",1,2,0,0,45,45,999,null,null,null,5.0000000000000001E-4,"x",null,"xxxx"]
["ASOP.20",null,null,"",{"$f":"VLOOKUP(F166&\".\"&G166,syllabus!B$3:I$99,8,FALSE)&RIGHT(\"00000\"&J166,5)","v":"2006600"},"ASOP","20","ASOP.20: All","exam",6600,null,null,"exam:",null,null,"concept",null,"F",null,"",0,"","","","","","",1,2,0,0,45,45,999,null,null,null,5.0000000000000001E-4,"x",null,"xxxx"]
["ASOP.20",null,null,"",{"$f":"VLOOKUP(F167&\".\"&G167,syllabus!B$3:I$99,8,FALSE)&RIGHT(\"00000\"&J167,5)","v":"2006700"},"ASOP","20","ASOP.20: All","exam",6700,null,null,"exam:",null,null,"concept",null,"F",null,"",0,"","","","","","",1,2,0,0,45,45,999,null,null,null,5.0000000000000001E-4,"x",null,"xxxx"]
["ASOP.20",null,null,"",{"$f":"VLOOKUP(F168&\".\"&G168,syllabus!B$3:I$99,8,FALSE)&RIGHT(\"00000\"&J168,5)","v":"2006800"},"ASOP","20","ASOP.20: All","exam",6800,null,null,"exam:",null,null,"concept",null,"F",null,"",0,"","","","","","",1,2,0,0,45,45,999,null,null,null,5.0000000000000001E-4,"x",null,"xxxx"]
["ASOP.20",null,null,"",{"$f":"VLOOKUP(F169&\".\"&G169,syllabus!B$3:I$99,8,FALSE)&RIGHT(\"00000\"&J169,5)","v":"2006900"},"ASOP","20","ASOP.20: All","exam",6900,null,null,"exam:",null,null,"concept",null,"F",null,"",0,"","","","","","",1,2,0,0,45,45,999,null,null,null,5.0000000000000001E-4,"x",null,"xxxx"]
["ASOP.20",null,null,"",{"$f":"VLOOKUP(F170&\".\"&G170,syllabus!B$3:I$99,8,FALSE)&RIGHT(\"00000\"&J170,5)","v":"2007000"},"ASOP","20","ASOP.20: All","exam",7000,null,null,"exam:",null,null,"concept",null,"F",null,"",0,"","","","","","",1,2,0,0,45,45,999,null,null,null,5.0000000000000001E-4,"x",null,"xxxx"]
["ASOP.20",null,null,"",{"$f":"VLOOKUP(F171&\".\"&G171,syllabus!B$3:I$99,8,FALSE)&RIGHT(\"00000\"&J171,5)","v":"2007100"},"ASOP","20","ASOP.20: All","exam",7100,null,null,"exam:",null,null,"concept",null,"F",null,"",0,"","","","","","",1,2,0,0,45,45,999,null,null,null,5.0000000000000001E-4,"x",null,"xxxx"]
["ASOP.20",null,null,"",{"$f":"VLOOKUP(F172&\".\"&G172,syllabus!B$3:I$99,8,FALSE)&RIGHT(\"00000\"&J172,5)","v":"2007200"},"ASOP","20","ASOP.20: All","exam",7200,null,null,"exam:",null,null,"concept",null,"F",null,"",0,"","","","","","",1,2,0,0,45,45,999,null,null,null,5.0000000000000001E-4,"x",null,"xxxx"]
["ASOP.20",null,null,"",{"$f":"VLOOKUP(F173&\".\"&G173,syllabus!B$3:I$99,8,FALSE)&RIGHT(\"00000\"&J173,5)","v":"2007300"},"ASOP","20","ASOP.20: All","exam",7300,null,null,"exam:",null,null,"concept",null,"F",null,"",0,"","","","","","",1,2,0,0,45,45,999,null,null,null,5.0000000000000001E-4,"x",null,"xxxx"]
["ASOP.20",null,null,"",{"$f":"VLOOKUP(F174&\".\"&G174,syllabus!B$3:I$99,8,FALSE)&RIGHT(\"00000\"&J174,5)","v":"2007400"},"ASOP","20","ASOP.20: All","exam",7400,null,null,"exam:",null,null,"concept",null,"F",null,"",0,"","","","","","",1,2,0,0,45,45,999,null,null,null,5.0000000000000001E-4,"x",null,"xxxx"]
["ASOP.20",null,null,"",{"$f":"VLOOKUP(F175&\".\"&G175,syllabus!B$3:I$99,8,FALSE)&RIGHT(\"00000\"&J175,5)","v":"2007500"},"ASOP","20","ASOP.20: All","exam",7500,null,null,"exam:",null,null,"concept",null,"F",null,"",0,"","","","","","",1,2,0,0,45,45,999,null,null,null,5.0000000000000001E-4,"x",null,"xxxx"]
["ASOP.20",null,null,"",{"$f":"VLOOKUP(F176&\".\"&G176,syllabus!B$3:I$99,8,FALSE)&RIGHT(\"00000\"&J176,5)","v":"2007600"},"ASOP","20","ASOP.20: All","exam",7600,null,null,"exam:",null,null,"concept",null,"F",null,"",0,"","","","","","",1,2,0,0,45,45,999,null,null,null,5.0000000000000001E-4,"x",null,"xxxx"]
["ASOP.20",null,null,"",{"$f":"VLOOKUP(F177&\".\"&G177,syllabus!B$3:I$99,8,FALSE)&RIGHT(\"00000\"&J177,5)","v":"2007700"},"ASOP","20","ASOP.20: All","exam",7700,null,null,"exam:",null,null,"concept",null,"F",null,"",0,"","","","","","",1,2,0,0,45,45,999,null,null,null,5.0000000000000001E-4,"x",null,"xxxx"]
["ASOP.20",null,null,"",{"$f":"VLOOKUP(F178&\".\"&G178,syllabus!B$3:I$99,8,FALSE)&RIGHT(\"00000\"&J178,5)","v":"2007800"},"ASOP","20","ASOP.20: All","exam",7800,null,null,"exam:",null,null,"concept",null,"F",null,"",0,"","","","","","",1,2,0,0,45,45,999,null,null,null,5.0000000000000001E-4,"x",null,"xxxx"]
["ASOP.20",null,null,"",{"$f":"VLOOKUP(F179&\".\"&G179,syllabus!B$3:I$99,8,FALSE)&RIGHT(\"00000\"&J179,5)","v":"2007900"},"ASOP","20","ASOP.20: All","exam",7900,null,null,"exam:",null,null,"concept",null,"F",null,"",0,"","","","","","",1,2,0,0,45,45,999,null,null,null,5.0000000000000001E-4,"x",null,"xxxx"]
["ASOP.20",null,null,"",{"$f":"VLOOKUP(F180&\".\"&G180,syllabus!B$3:I$99,8,FALSE)&RIGHT(\"00000\"&J180,5)","v":"2008000"},"ASOP","20","ASOP.20: All","exam",8000,null,null,"exam:",null,null,"concept",null,"F",null,"",0,"","","","","","",1,2,0,0,45,45,999,null,null,null,5.0000000000000001E-4,"x",null,"xxxx"]
["ASOP.20",null,null,"",{"$f":"VLOOKUP(F181&\".\"&G181,syllabus!B$3:I$99,8,FALSE)&RIGHT(\"00000\"&J181,5)","v":"2008100"},"ASOP","20","ASOP.20: All","exam",8100,null,null,"exam:",null,null,"concept",null,"F",null,"",0,"","","","","","",1,2,0,0,45,45,999,null,null,null,5.0000000000000001E-4,"x",null,"xxxx"]
["ASOP.20",null,null,"",{"$f":"VLOOKUP(F182&\".\"&G182,syllabus!B$3:I$99,8,FALSE)&RIGHT(\"00000\"&J182,5)","v":"2008200"},"ASOP","20","ASOP.20: All","exam",8200,null,null,"exam:",null,null,"concept",null,"F",null,"",0,"","","","","","",1,2,0,0,45,45,999,null,null,null,5.0000000000000001E-4,"x",null,"xxxx"]
["ASOP.20",null,null,"",{"$f":"VLOOKUP(F183&\".\"&G183,syllabus!B$3:I$99,8,FALSE)&RIGHT(\"00000\"&J183,5)","v":"2008300"},"ASOP","20","ASOP.20: All","exam",8300,null,null,"exam:",null,null,"concept",null,"F",null,"",0,"","","","","","",1,2,0,0,45,45,999,null,null,null,5.0000000000000001E-4,"x",null,"xxxx"]
["ASOP.20",null,null,"",{"$f":"VLOOKUP(F184&\".\"&G184,syllabus!B$3:I$99,8,FALSE)&RIGHT(\"00000\"&J184,5)","v":"2008400"},"ASOP","20","ASOP.20: All","exam",8400,null,null,"exam:",null,null,"concept",null,"F",null,"",0,"","","","","","",1,2,0,0,45,45,999,null,null,null,5.0000000000000001E-4,"x",null,"xxxx"]
["ASOP.20",null,null,"",{"$f":"VLOOKUP(F185&\".\"&G185,syllabus!B$3:I$99,8,FALSE)&RIGHT(\"00000\"&J185,5)","v":"2008500"},"ASOP","20","ASOP.20: All","exam",8500,null,null,"exam:",null,null,"concept",null,"F",null,"",0,"","","","","","",1,2,0,0,45,45,999,null,null,null,5.0000000000000001E-4,"x",null,"xxxx"]
["ASOP.20",null,null,"",{"$f":"VLOOKUP(F186&\".\"&G186,syllabus!B$3:I$99,8,FALSE)&RIGHT(\"00000\"&J186,5)","v":"2008600"},"ASOP","20","ASOP.20: All","exam",8600,null,null,"exam:",null,null,"concept",null,"F",null,"",0,"","","","","","",1,2,0,0,45,45,999,null,null,null,5.0000000000000001E-4,"x",null,"xxxx"]
["ASOP.20",null,null,"",{"$f":"VLOOKUP(F187&\".\"&G187,syllabus!B$3:I$99,8,FALSE)&RIGHT(\"00000\"&J187,5)","v":"2008700"},"ASOP","20","ASOP.20: All","exam",8700,null,null,"exam:",null,null,"concept",null,"F",null,"",0,"","","","","","",1,2,0,0,45,45,999,null,null,null,5.0000000000000001E-4,"x",null,"xxxx"]
["ASOP.20",null,null,"",{"$f":"VLOOKUP(F188&\".\"&G188,syllabus!B$3:I$99,8,FALSE)&RIGHT(\"00000\"&J188,5)","v":"2008800"},"ASOP","20","ASOP.20: All","exam",8800,null,null,"exam:",null,null,"concept",null,"F",null,"",0,"","","","","","",1,2,0,0,45,45,999,null,null,null,5.0000000000000001E-4,"x",null,"xxxx"]
["ASOP.20",null,null,"",{"$f":"VLOOKUP(F189&\".\"&G189,syllabus!B$3:I$99,8,FALSE)&RIGHT(\"00000\"&J189,5)","v":"2008900"},"ASOP","20","ASOP.20: All","exam",8900,null,null,"exam:",null,null,"concept",null,"F",null,"",0,"","","","","","",1,2,0,0,45,45,999,null,null,null,5.0000000000000001E-4,"x",null,"xxxx"]
["ASOP.20",null,null,"",{"$f":"VLOOKUP(F190&\".\"&G190,syllabus!B$3:I$99,8,FALSE)&RIGHT(\"00000\"&J190,5)","v":"2009000"},"ASOP","20","ASOP.20: All","exam",9000,null,null,"exam:",null,null,"concept",null,"F",null,"",0,"","","","","","",1,2,0,0,45,45,999,null,null,null,5.0000000000000001E-4,"x",null,"xxxx"]
["ASOP.20",null,null,"",{"$f":"VLOOKUP(F191&\".\"&G191,syllabus!B$3:I$99,8,FALSE)&RIGHT(\"00000\"&J191,5)","v":"2009100"},"ASOP","20","ASOP.20: All","exam",9100,null,null,"exam:",null,null,"concept",null,"F",null,"",0,"","","","","","",1,2,0,0,45,45,999,null,null,null,5.0000000000000001E-4,"x",null,"xxxx"]
["ASOP.20",null,null,"",{"$f":"VLOOKUP(F192&\".\"&G192,syllabus!B$3:I$99,8,FALSE)&RIGHT(\"00000\"&J192,5)","v":"2009200"},"ASOP","20","ASOP.20: All","exam",9200,null,null,"exam:",null,null,"concept",null,"F",null,"",0,"","","","","","",1,2,0,0,45,45,999,null,null,null,5.0000000000000001E-4,"x",null,"xxxx"]
["ASOP.20",null,null,"",{"$f":"VLOOKUP(F193&\".\"&G193,syllabus!B$3:I$99,8,FALSE)&RIGHT(\"00000\"&J193,5)","v":"2009300"},"ASOP","20","ASOP.20: All","exam",9300,null,null,"exam:",null,null,"concept",null,"F",null,"",0,"","","","","","",1,2,0,0,45,45,999,null,null,null,5.0000000000000001E-4,"x",null,"xxxx"]
["ASOP.20",null,null,"",{"$f":"VLOOKUP(F194&\".\"&G194,syllabus!B$3:I$99,8,FALSE)&RIGHT(\"00000\"&J194,5)","v":"2009400"},"ASOP","20","ASOP.20: All","exam",9400,null,null,"exam:",null,null,"concept",null,"F",null,"",0,"","","","","","",1,2,0,0,45,45,999,null,null,null,5.0000000000000001E-4,"x",null,"xxxx"]
["ASOP.20",null,null,"",{"$f":"VLOOKUP(F195&\".\"&G195,syllabus!B$3:I$99,8,FALSE)&RIGHT(\"00000\"&J195,5)","v":"2009500"},"ASOP","20","ASOP.20: All","exam",9500,null,null,"exam:",null,null,"concept",null,"F",null,"",0,"","","","","","",1,2,0,0,45,45,999,null,null,null,5.0000000000000001E-4,"x",null,"xxxx"]
["ASOP.20",null,null,"",{"$f":"VLOOKUP(F196&\".\"&G196,syllabus!B$3:I$99,8,FALSE)&RIGHT(\"00000\"&J196,5)","v":"2009600"},"ASOP","20","ASOP.20: All","exam",9600,null,null,"exam:",null,null,"concept",null,"F",null,"",0,"","","","","","",1,2,0,0,45,45,999,null,null,null,5.0000000000000001E-4,"x",null,"xxxx"]
["ASOP.20",null,null,"",{"$f":"VLOOKUP(F197&\".\"&G197,syllabus!B$3:I$99,8,FALSE)&RIGHT(\"00000\"&J197,5)","v":"2009700"},"ASOP","20","ASOP.20: All","exam",9700,null,null,"exam:",null,null,"concept",null,"F",null,"",0,"","","","","","",1,2,0,0,45,45,999,null,null,null,5.0000000000000001E-4,"x",null,"xxxx"]
["ASOP.20",null,null,"",{"$f":"VLOOKUP(F198&\".\"&G198,syllabus!B$3:I$99,8,FALSE)&RIGHT(\"00000\"&J198,5)","v":"2009800"},"ASOP","20","ASOP.20: All","exam",9800,null,null,"exam:",null,null,"concept",null,"F",null,"",0,"","","","","","",1,2,0,0,45,45,999,null,null,null,5.0000000000000001E-4,"x",null,"xxxx"]
["ASOP.20",null,null,"",{"$f":"VLOOKUP(F199&\".\"&G199,syllabus!B$3:I$99,8,FALSE)&RIGHT(\"00000\"&J199,5)","v":"2009900"},"ASOP","20","ASOP.20: All","exam",9900,null,null,"exam:",null,null,"concept",null,"F",null,"",0,"","","","","","",1,2,0,0,45,45,999,null,null,null,5.0000000000000001E-4,"x",null,"xxxx"]
["ASOP.20",null,null,"",{"$f":"VLOOKUP(F200&\".\"&G200,syllabus!B$3:I$99,8,FALSE)&RIGHT(\"00000\"&J200,5)","v":"2009999"},"ASOP","20","ASOP.20: All","exam",9999,null,null,"exam:",null,null,"concept",null,"F",null,"",0,"","","","","","",1,2,0,0,45,45,999,null,null,null,5.0000000000000001E-4,"x",null,"xxxx"]
["ASOP.36","x",null,"",{"$f":"VLOOKUP(F201&\".\"&G201,syllabus!B$3:I$99,8,FALSE)&RIGHT(\"00000\"&J201,5)","v":"3000100"},"ASOP","36","ASOP.36: All","--",100,null,null,{"$f":"A201&\": All\"","v":"ASOP.36: All"},null,null,"--",null,"info",null,"",0,"","","","","","","","",0,0,3,3,999,null,null,null,5.0000000000000001E-4,"x",null,"xxxx"]
["ASOP.36",null,null,"",{"$f":"VLOOKUP(F202&\".\"&G202,syllabus!B$3:I$99,8,FALSE)&RIGHT(\"00000\"&J202,5)","v":"3000200"},"ASOP","36","ASOP.36: All","Section 2 - Definitions",200,null,null,"Section 2 - Definitions: define the term 'unpaid claim estimate'","the actuary's estimate of the obligation for future payment <u>resulting from</u> claims due to past events",null,"concept",null,"A",null,"",0,"","","","","","",5,2,2,14.142135623730951,3,3,999,null,null,null,5.0000000000000001E-4,"x",null,1]
["ASOP.36",null,null,"",{"$f":"VLOOKUP(F203&\".\"&G203,syllabus!B$3:I$99,8,FALSE)&RIGHT(\"00000\"&J203,5)","v":"3000300"},"ASOP","36","ASOP.36: All","BC",300,null,null,"BC:",null,null,"concept",null,"F",null,"",0,"","","","","","",5,2,0,0,3,3,999,null,null,null,5.0000000000000001E-4,"x",null,"xxxx"]
["ASOP.36",null,null,"",{"$f":"VLOOKUP(F204&\".\"&G204,syllabus!B$3:I$99,8,FALSE)&RIGHT(\"00000\"&J204,5)","v":"3000400"},"ASOP","36","ASOP.36: All","BC",400,null,null,"BC:",null,null,"concept",null,"F",null,"",0,"","","","","","",5,2,0,0,3,3,999,null,null,null,5.0000000000000001E-4,"x",null,"xxxx"]
["ASOP.36",null,null,"",{"$f":"VLOOKUP(F205&\".\"&G205,syllabus!B$3:I$99,8,FALSE)&RIGHT(\"00000\"&J205,5)","v":"3000500"},"ASOP","36","ASOP.36: All","BC",500,null,null,"BC:",null,null,"concept",null,"F",null,"",0,"","","","","","",5,2,0,0,3,3,999,null,null,null,5.0000000000000001E-4,"x",null,"xxxx"]
["ASOP.36",null,null,"",{"$f":"VLOOKUP(F206&\".\"&G206,syllabus!B$3:I$99,8,FALSE)&RIGHT(\"00000\"&J206,5)","v":"3000600"},"ASOP","36","ASOP.36: All","BC",600,null,null,"BC:",null,null,"concept",null,"F",null,"",0,"","","","","","",5,2,0,0,3,3,999,null,null,null,5.0000000000000001E-4,"x",null,"xxxx"]
["ASOP.36",null,null,"",{"$f":"VLOOKUP(F207&\".\"&G207,syllabus!B$3:I$99,8,FALSE)&RIGHT(\"00000\"&J207,5)","v":"3000700"},"ASOP","36","ASOP.36: All","BC",700,null,null,"BC:",null,null,"concept",null,"F",null,"",0,"","","","","","",5,2,0,0,3,3,999,null,null,null,5.0000000000000001E-4,"x",null,"xxxx"]
["ASOP.36",null,null,"",{"$f":"VLOOKUP(F208&\".\"&G208,syllabus!B$3:I$99,8,FALSE)&RIGHT(\"00000\"&J208,5)","v":"3000800"},"ASOP","36","ASOP.36: All","BC",800,null,null,"BC:",null,null,"concept",null,"F",null,"",0,"","","","","","",5,2,0,0,3,3,999,null,null,null,5.0000000000000001E-4,"x",null,"xxxx"]
["ASOP.36",null,null,"",{"$f":"VLOOKUP(F209&\".\"&G209,syllabus!B$3:I$99,8,FALSE)&RIGHT(\"00000\"&J209,5)","v":"3000900"},"ASOP","36","ASOP.36: All","BC",900,null,null,"BC:",null,null,"concept",null,"F",null,"",0,"","","","","","",5,2,0,0,3,3,999,null,null,null,5.0000000000000001E-4,"x",null,"xxxx"]
["ASOP.36",null,null,"",{"$f":"VLOOKUP(F210&\".\"&G210,syllabus!B$3:I$99,8,FALSE)&RIGHT(\"00000\"&J210,5)","v":"3001000"},"ASOP","36","ASOP.36: All","BC",1000,null,null,"BC:",null,null,"concept",null,"F",null,"",0,"","","","","","",5,2,0,0,3,3,999,null,null,null,5.0000000000000001E-4,"x",null,"xxxx"]
["ASOP.36",null,null,"",{"$f":"VLOOKUP(F211&\".\"&G211,syllabus!B$3:I$99,8,FALSE)&RIGHT(\"00000\"&J211,5)","v":"3001100"},"ASOP","36","ASOP.36: All","BC",1100,null,null,"BC:",null,null,"concept",null,"F",null,"",0,"","","","","","",5,2,0,0,3,3,999,null,null,null,5.0000000000000001E-4,"x",null,"xxxx"]
["ASOP.36",null,null,"",{"$f":"VLOOKUP(F212&\".\"&G212,syllabus!B$3:I$99,8,FALSE)&RIGHT(\"00000\"&J212,5)","v":"3001200"},"ASOP","36","ASOP.36: All","BC",1200,null,null,"BC:",null,null,"concept",null,"F",null,"",0,"","","","","","",5,2,0,0,3,3,999,null,null,null,5.0000000000000001E-4,"x",null,"xxxx"]
["ASOP.36",null,null,"",{"$f":"VLOOKUP(F213&\".\"&G213,syllabus!B$3:I$99,8,FALSE)&RIGHT(\"00000\"&J213,5)","v":"3001300"},"ASOP","36","ASOP.36: All","BC",1300,null,null,"BC:",null,null,"concept",null,"F",null,"",0,"","","","","","",5,2,0,0,3,3,999,null,null,null,5.0000000000000001E-4,"x",null,"xxxx"]
["ASOP.36",null,null,"",{"$f":"VLOOKUP(F214&\".\"&G214,syllabus!B$3:I$99,8,FALSE)&RIGHT(\"00000\"&J214,5)","v":"3001400"},"ASOP","36","ASOP.36: All","BC",1400,null,null,"BC:",null,null,"concept",null,"F",null,"",0,"","","","","","",5,2,0,0,3,3,999,null,null,null,5.0000000000000001E-4,"x",null,"xxxx"]
["ASOP.36",null,null,"",{"$f":"VLOOKUP(F215&\".\"&G215,syllabus!B$3:I$99,8,FALSE)&RIGHT(\"00000\"&J215,5)","v":"3001500"},"ASOP","36","ASOP.36: All","BC",1500,null,null,"BC:",null,null,"concept",null,"F",null,"",0,"","","","","","",5,2,0,0,3,3,999,null,null,null,5.0000000000000001E-4,"x",null,"xxxx"]
["ASOP.36",null,null,"",{"$f":"VLOOKUP(F216&\".\"&G216,syllabus!B$3:I$99,8,FALSE)&RIGHT(\"00000\"&J216,5)","v":"3001600"},"ASOP","36","ASOP.36: All","BC",1600,null,null,"BC:",null,null,"concept",null,"F",null,"",0,"","","","","","",5,2,0,0,3,3,999,null,null,null,5.0000000000000001E-4,"x",null,"xxxx"]
["ASOP.36",null,null,"",{"$f":"VLOOKUP(F217&\".\"&G217,syllabus!B$3:I$99,8,FALSE)&RIGHT(\"00000\"&J217,5)","v":"3001700"},"ASOP","36","ASOP.36: All","BC",1700,null,null,"BC:",null,null,"concept",null,"F",null,"",0,"","","","","","",5,2,0,0,3,3,999,null,null,null,5.0000000000000001E-4,"x",null,"xxxx"]
["ASOP.36",null,null,"",{"$f":"VLOOKUP(F218&\".\"&G218,syllabus!B$3:I$99,8,FALSE)&RIGHT(\"00000\"&J218,5)","v":"3001800"},"ASOP","36","ASOP.36: All","BC",1800,null,null,"BC:",null,null,"concept",null,"F",null,"",0,"","","","","","",5,2,0,0,3,3,999,null,null,null,5.0000000000000001E-4,"x",null,"xxxx"]
["ASOP.36",null,null,"",{"$f":"VLOOKUP(F219&\".\"&G219,syllabus!B$3:I$99,8,FALSE)&RIGHT(\"00000\"&J219,5)","v":"3001900"},"ASOP","36","ASOP.36: All","BC",1900,null,null,"BC:",null,null,"concept",null,"F",null,"",0,"","","","","","",5,2,0,0,3,3,999,null,null,null,5.0000000000000001E-4,"x",null,"xxxx"]
["ASOP.36",null,null,"",{"$f":"VLOOKUP(F220&\".\"&G220,syllabus!B$3:I$99,8,FALSE)&RIGHT(\"00000\"&J220,5)","v":"3002000"},"ASOP","36","ASOP.36: All","BC",2000,null,null,"BC:",null,null,"concept",null,"F",null,"",0,"","","","","","",5,2,0,0,3,3,999,null,null,null,5.0000000000000001E-4,"x",null,"xxxx"]
["ASOP.36",null,null,"",{"$f":"VLOOKUP(F221&\".\"&G221,syllabus!B$3:I$99,8,FALSE)&RIGHT(\"00000\"&J221,5)","v":"3002100"},"ASOP","36","ASOP.36: All","BC",2100,null,null,"BC:",null,null,"concept",null,"F",null,"",0,"","","","","","",5,2,0,0,3,3,999,null,null,null,5.0000000000000001E-4,"x",null,"xxxx"]
["ASOP.36",null,null,"",{"$f":"VLOOKUP(F222&\".\"&G222,syllabus!B$3:I$99,8,FALSE)&RIGHT(\"00000\"&J222,5)","v":"3002200"},"ASOP","36","ASOP.36: All","BC",2200,null,null,"BC:",null,null,"concept",null,"F",null,"",0,"","","","","","",5,2,0,0,3,3,999,null,null,null,5.0000000000000001E-4,"x",null,"xxxx"]
["ASOP.36",null,null,"",{"$f":"VLOOKUP(F223&\".\"&G223,syllabus!B$3:I$99,8,FALSE)&RIGHT(\"00000\"&J223,5)","v":"3002300"},"ASOP","36","ASOP.36: All","BC",2300,null,null,"BC:",null,null,"concept",null,"F",null,"",0,"","","","","","",5,2,0,0,3,3,999,null,null,null,5.0000000000000001E-4,"x",null,"xxxx"]
["ASOP.36",null,null,"",{"$f":"VLOOKUP(F224&\".\"&G224,syllabus!B$3:I$99,8,FALSE)&RIGHT(\"00000\"&J224,5)","v":"3002400"},"ASOP","36","ASOP.36: All","BC",2400,null,null,"BC:",null,null,"concept",null,"F",null,"",0,"","","","","","",5,2,0,0,3,3,999,null,null,null,5.0000000000000001E-4,"x",null,"xxxx"]
["ASOP.36",null,null,"",{"$f":"VLOOKUP(F225&\".\"&G225,syllabus!B$3:I$99,8,FALSE)&RIGHT(\"00000\"&J225,5)","v":"3002500"},"ASOP","36","ASOP.36: All","BC",2500,null,null,"BC:",null,null,"concept",null,"F",null,"",0,"","","","","","",5,2,0,0,3,3,999,null,null,null,5.0000000000000001E-4,"x",null,"xxxx"]
["ASOP.36",null,null,"",{"$f":"VLOOKUP(F226&\".\"&G226,syllabus!B$3:I$99,8,FALSE)&RIGHT(\"00000\"&J226,5)","v":"3002600"},"ASOP","36","ASOP.36: All","BC",2600,null,null,"BC:",null,null,"concept",null,"F",null,"",0,"","","","","","",5,2,0,0,3,3,999,null,null,null,5.0000000000000001E-4,"x",null,"xxxx"]
["ASOP.36",null,null,"",{"$f":"VLOOKUP(F227&\".\"&G227,syllabus!B$3:I$99,8,FALSE)&RIGHT(\"00000\"&J227,5)","v":"3002700"},"ASOP","36","ASOP.36: All","BC",2700,null,null,"BC:",null,null,"concept",null,"F",null,"",0,"","","","","","",5,2,0,0,3,3,999,null,null,null,5.0000000000000001E-4,"x",null,"xxxx"]
["ASOP.36",null,null,"",{"$f":"VLOOKUP(F228&\".\"&G228,syllabus!B$3:I$99,8,FALSE)&RIGHT(\"00000\"&J228,5)","v":"3002800"},"ASOP","36","ASOP.36: All","BC",2800,null,null,"BC:",null,null,"concept",null,"F",null,"",0,"","","","","","",5,2,0,0,3,3,999,null,null,null,5.0000000000000001E-4,"x",null,"xxxx"]
["ASOP.36",null,null,"",{"$f":"VLOOKUP(F229&\".\"&G229,syllabus!B$3:I$99,8,FALSE)&RIGHT(\"00000\"&J229,5)","v":"3002900"},"ASOP","36","ASOP.36: All","BC",2900,null,null,"BC:",null,null,"concept",null,"F",null,"",0,"","","","","","",5,2,0,0,3,3,999,null,null,null,5.0000000000000001E-4,"x",null,"xxxx"]
["ASOP.36",null,null,"",{"$f":"VLOOKUP(F230&\".\"&G230,syllabus!B$3:I$99,8,FALSE)&RIGHT(\"00000\"&J230,5)","v":"3003000"},"ASOP","36","ASOP.36: All","BC",3000,null,null,"BC:",null,null,"concept",null,"F",null,"",0,"","","","","","",5,2,0,0,3,3,999,null,null,null,5.0000000000000001E-4,"x",null,"xxxx"]
["ASOP.36",null,null,"",{"$f":"VLOOKUP(F231&\".\"&G231,syllabus!B$3:I$99,8,FALSE)&RIGHT(\"00000\"&J231,5)","v":"3003100"},"ASOP","36","ASOP.36: All","BC",3100,null,null,"BC:",null,null,"concept",null,"F",null,"",0,"","","","","","",5,2,0,0,3,3,999,null,null,null,5.0000000000000001E-4,"x",null,"xxxx"]
["ASOP.36",null,null,"",{"$f":"VLOOKUP(F232&\".\"&G232,syllabus!B$3:I$99,8,FALSE)&RIGHT(\"00000\"&J232,5)","v":"3003200"},"ASOP","36","ASOP.36: All","BC",3200,null,null,"BC:",null,null,"concept",null,"F",null,"",0,"","","","","","",5,2,0,0,3,3,999,null,null,null,5.0000000000000001E-4,"x",null,"xxxx"]
["ASOP.36",null,null,"",{"$f":"VLOOKUP(F233&\".\"&G233,syllabus!B$3:I$99,8,FALSE)&RIGHT(\"00000\"&J233,5)","v":"3003300"},"ASOP","36","ASOP.36: All","BC",3300,null,null,"BC:",null,null,"concept",null,"F",null,"",0,"","","","","","",5,2,0,0,3,3,999,null,null,null,5.0000000000000001E-4,"x",null,"xxxx"]
["ASOP.36",null,null,"",{"$f":"VLOOKUP(F234&\".\"&G234,syllabus!B$3:I$99,8,FALSE)&RIGHT(\"00000\"&J234,5)","v":"3003400"},"ASOP","36","ASOP.36: All","BC",3400,null,null,"BC:",null,null,"concept",null,"F",null,"",0,"","","","","","",5,2,0,0,3,3,999,null,null,null,5.0000000000000001E-4,"x",null,"xxxx"]
["ASOP.36",null,null,"",{"$f":"VLOOKUP(F235&\".\"&G235,syllabus!B$3:I$99,8,FALSE)&RIGHT(\"00000\"&J235,5)","v":"3003500"},"ASOP","36","ASOP.36: All","exam",3500,null,null,"exam:",null,null,"concept",null,"F",null,"",0,"","","","","","",5,2,0,0,3,3,999,null,null,null,5.0000000000000001E-4,"x",null,"xxxx"]
["ASOP.36",null,null,"",{"$f":"VLOOKUP(F236&\".\"&G236,syllabus!B$3:I$99,8,FALSE)&RIGHT(\"00000\"&J236,5)","v":"3003600"},"ASOP","36","ASOP.36: All","exam",3600,null,null,"exam:",null,null,"concept",null,"F",null,"",0,"","","","","","",5,2,0,0,3,3,999,null,null,null,5.0000000000000001E-4,"x",null,"xxxx"]
["ASOP.36",null,null,"",{"$f":"VLOOKUP(F237&\".\"&G237,syllabus!B$3:I$99,8,FALSE)&RIGHT(\"00000\"&J237,5)","v":"3003700"},"ASOP","36","ASOP.36: All","exam",3700,null,null,"exam:",null,null,"concept",null,"F",null,"",0,"","","","","","",5,2,0,0,3,3,999,null,null,null,5.0000000000000001E-4,"x",null,"xxxx"]
["ASOP.36",null,null,"",{"$f":"VLOOKUP(F238&\".\"&G238,syllabus!B$3:I$99,8,FALSE)&RIGHT(\"00000\"&J238,5)","v":"3003800"},"ASOP","36","ASOP.36: All","exam",3800,null,null,"exam:",null,null,"concept",null,"F",null,"",0,"","","","","","",5,2,0,0,3,3,999,null,null,null,5.0000000000000001E-4,"x",null,"xxxx"]
["ASOP.36",null,null,"",{"$f":"VLOOKUP(F239&\".\"&G239,syllabus!B$3:I$99,8,FALSE)&RIGHT(\"00000\"&J239,5)","v":"3003900"},"ASOP","36","ASOP.36: All","exam",3900,null,null,"exam:",null,null,"concept",null,"F",null,"",0,"","","","","","",5,2,0,0,3,3,999,null,null,null,5.0000000000000001E-4,"x",null,"xxxx"]
["ASOP.36",null,null,"",{"$f":"VLOOKUP(F240&\".\"&G240,syllabus!B$3:I$99,8,FALSE)&RIGHT(\"00000\"&J240,5)","v":"3004000"},"ASOP","36","ASOP.36: All","exam",4000,null,null,"exam:",null,null,"concept",null,"F",null,"",0,"","","","","","",5,2,0,0,3,3,999,null,null,null,5.0000000000000001E-4,"x",null,"xxxx"]
["ASOP.36",null,null,"",{"$f":"VLOOKUP(F241&\".\"&G241,syllabus!B$3:I$99,8,FALSE)&RIGHT(\"00000\"&J241,5)","v":"3004100"},"ASOP","36","ASOP.36: All","exam",4100,null,null,"exam:",null,null,"concept",null,"F",null,"",0,"","","","","","",5,2,0,0,3,3,999,null,null,null,5.0000000000000001E-4,"x",null,"xxxx"]
["ASOP.36",null,null,"",{"$f":"VLOOKUP(F242&\".\"&G242,syllabus!B$3:I$99,8,FALSE)&RIGHT(\"00000\"&J242,5)","v":"3004200"},"ASOP","36","ASOP.36: All","exam",4200,null,null,"exam:",null,null,"concept",null,"F",null,"",0,"","","","","","",5,2,0,0,3,3,999,null,null,null,5.0000000000000001E-4,"x",null,"xxxx"]
["ASOP.36",null,null,"",{"$f":"VLOOKUP(F243&\".\"&G243,syllabus!B$3:I$99,8,FALSE)&RIGHT(\"00000\"&J243,5)","v":"3004300"},"ASOP","36","ASOP.36: All","exam",4300,null,null,"exam:",null,null,"concept",null,"F",null,"",0,"","","","","","",5,2,0,0,3,3,999,null,null,null,5.0000000000000001E-4,"x",null,"xxxx"]
["ASOP.36",null,null,"",{"$f":"VLOOKUP(F244&\".\"&G244,syllabus!B$3:I$99,8,FALSE)&RIGHT(\"00000\"&J244,5)","v":"3004400"},"ASOP","36","ASOP.36: All","exam",4400,null,null,"exam:",null,null,"concept",null,"F",null,"",0,"","","","","","",5,2,0,0,3,3,999,null,null,null,5.0000000000000001E-4,"x",null,"xxxx"]
["ASOP.36",null,null,"",{"$f":"VLOOKUP(F245&\".\"&G245,syllabus!B$3:I$99,8,FALSE)&RIGHT(\"00000\"&J245,5)","v":"3004500"},"ASOP","36","ASOP.36: All","exam",4500,null,null,"exam:",null,null,"concept",null,"F",null,"",0,"","","","","","",5,2,0,0,3,3,999,null,null,null,5.0000000000000001E-4,"x",null,"xxxx"]
["ASOP.36",null,null,"",{"$f":"VLOOKUP(F246&\".\"&G246,syllabus!B$3:I$99,8,FALSE)&RIGHT(\"00000\"&J246,5)","v":"3004600"},"ASOP","36","ASOP.36: All","exam",4600,null,null,"exam:",null,null,"concept",null,"F",null,"",0,"","","","","","",5,2,0,0,3,3,999,null,null,null,5.0000000000000001E-4,"x",null,"xxxx"]
["ASOP.36",null,null,"",{"$f":"VLOOKUP(F247&\".\"&G247,syllabus!B$3:I$99,8,FALSE)&RIGHT(\"00000\"&J247,5)","v":"3004700"},"ASOP","36","ASOP.36: All","exam",4700,null,null,"exam:",null,null,"concept",null,"F",null,"",0,"","","","","","",5,2,0,0,3,3,999,null,null,null,5.0000000000000001E-4,"x",null,"xxxx"]
["ASOP.36",null,null,"",{"$f":"VLOOKUP(F248&\".\"&G248,syllabus!B$3:I$99,8,FALSE)&RIGHT(\"00000\"&J248,5)","v":"3004800"},"ASOP","36","ASOP.36: All","exam",4800,null,null,"exam:",null,null,"concept",null,"F",null,"",0,"","","","","","",5,2,0,0,3,3,999,null,null,null,5.0000000000000001E-4,"x",null,"xxxx"]
["ASOP.36",null,null,"",{"$f":"VLOOKUP(F249&\".\"&G249,syllabus!B$3:I$99,8,FALSE)&RIGHT(\"00000\"&J249,5)","v":"3004900"},"ASOP","36","ASOP.36: All","exam",4900,null,null,"exam:",null,null,"concept",null,"F",null,"",0,"","","","","","",5,2,0,0,3,3,999,null,null,null,5.0000000000000001E-4,"x",null,"xxxx"]
["ASOP.36",null,null,"",{"$f":"VLOOKUP(F250&\".\"&G250,syllabus!B$3:I$99,8,FALSE)&RIGHT(\"00000\"&J250,5)","v":"3005000"},"ASOP","36","ASOP.36: All","exam",5000,null,null,"exam:",null,null,"concept",null,"F",null,"",0,"","","","","","",5,2,0,0,3,3,999,null,null,null,5.0000000000000001E-4,"x",null,"xxxx"]
["ASOP.36",null,null,"",{"$f":"VLOOKUP(F251&\".\"&G251,syllabus!B$3:I$99,8,FALSE)&RIGHT(\"00000\"&J251,5)","v":"3005100"},"ASOP","36","ASOP.36: All","exam",5100,null,null,"exam:",null,null,"concept",null,"F",null,"",0,"","","","","","",5,2,0,0,3,3,999,null,null,null,5.0000000000000001E-4,"x",null,"xxxx"]
["ASOP.36",null,null,"",{"$f":"VLOOKUP(F252&\".\"&G252,syllabus!B$3:I$99,8,FALSE)&RIGHT(\"00000\"&J252,5)","v":"3005200"},"ASOP","36","ASOP.36: All","exam",5200,null,null,"exam:",null,null,"concept",null,"F",null,"",0,"","","","","","",5,2,0,0,3,3,999,null,null,null,5.0000000000000001E-4,"x",null,"xxxx"]
["ASOP.36",null,null,"",{"$f":"VLOOKUP(F253&\".\"&G253,syllabus!B$3:I$99,8,FALSE)&RIGHT(\"00000\"&J253,5)","v":"3005300"},"ASOP","36","ASOP.36: All","exam",5300,null,null,"exam:",null,null,"concept",null,"F",null,"",0,"","","","","","",5,2,0,0,3,3,999,null,null,null,5.0000000000000001E-4,"x",null,"xxxx"]
["ASOP.36",null,null,"",{"$f":"VLOOKUP(F254&\".\"&G254,syllabus!B$3:I$99,8,FALSE)&RIGHT(\"00000\"&J254,5)","v":"3005400"},"ASOP","36","ASOP.36: All","exam",5400,null,null,"exam:",null,null,"concept",null,"F",null,"",0,"","","","","","",5,2,0,0,3,3,999,null,null,null,5.0000000000000001E-4,"x",null,"xxxx"]
["ASOP.36",null,null,"",{"$f":"VLOOKUP(F255&\".\"&G255,syllabus!B$3:I$99,8,FALSE)&RIGHT(\"00000\"&J255,5)","v":"3005500"},"ASOP","36","ASOP.36: All","exam",5500,null,null,"exam:",null,null,"concept",null,"F",null,"",0,"","","","","","",5,2,0,0,3,3,999,null,null,null,5.0000000000000001E-4,"x",null,"xxxx"]
["ASOP.36",null,null,"",{"$f":"VLOOKUP(F256&\".\"&G256,syllabus!B$3:I$99,8,FALSE)&RIGHT(\"00000\"&J256,5)","v":"3005600"},"ASOP","36","ASOP.36: All","exam",5600,null,null,"exam:",null,null,"concept",null,"F",null,"",0,"","","","","","",5,2,0,0,3,3,999,null,null,null,5.0000000000000001E-4,"x",null,"xxxx"]
["ASOP.36",null,null,"",{"$f":"VLOOKUP(F257&\".\"&G257,syllabus!B$3:I$99,8,FALSE)&RIGHT(\"00000\"&J257,5)","v":"3005700"},"ASOP","36","ASOP.36: All","exam",5700,null,null,"exam:",null,null,"concept",null,"F",null,"",0,"","","","","","",5,2,0,0,3,3,999,null,null,null,5.0000000000000001E-4,"x",null,"xxxx"]
["ASOP.36",null,null,"",{"$f":"VLOOKUP(F258&\".\"&G258,syllabus!B$3:I$99,8,FALSE)&RIGHT(\"00000\"&J258,5)","v":"3005800"},"ASOP","36","ASOP.36: All","exam",5800,null,null,"exam:",null,null,"concept",null,"F",null,"",0,"","","","","","",5,2,0,0,3,3,999,null,null,null,5.0000000000000001E-4,"x",null,"xxxx"]
["ASOP.36",null,null,"",{"$f":"VLOOKUP(F259&\".\"&G259,syllabus!B$3:I$99,8,FALSE)&RIGHT(\"00000\"&J259,5)","v":"3005900"},"ASOP","36","ASOP.36: All","exam",5900,null,null,"exam:",null,null,"concept",null,"F",null,"",0,"","","","","","",5,2,0,0,3,3,999,null,null,null,5.0000000000000001E-4,"x",null,"xxxx"]
["ASOP.36",null,null,"",{"$f":"VLOOKUP(F260&\".\"&G260,syllabus!B$3:I$99,8,FALSE)&RIGHT(\"00000\"&J260,5)","v":"3006000"},"ASOP","36","ASOP.36: All","exam",6000,"x",null,"exam: ",null,null,"concept",null,"F",null,null,0,null,null,null,null,null,null,5,2,0,0,3,3,999,null,null,null,5.0000000000000001E-4,"x",null,"xxxx"]
["ASOP.36",null,null,"",{"$f":"VLOOKUP(F261&\".\"&G261,syllabus!B$3:I$99,8,FALSE)&RIGHT(\"00000\"&J261,5)","v":"3006100"},"ASOP","36","ASOP.36: All","exam",6100,null,null,"exam:",null,null,"concept",null,"F",null,"",0,"","","","","","",5,2,0,0,3,3,999,null,null,null,5.0000000000000001E-4,"x",null,"xxxx"]
["ASOP.36",null,null,"",{"$f":"VLOOKUP(F262&\".\"&G262,syllabus!B$3:I$99,8,FALSE)&RIGHT(\"00000\"&J262,5)","v":"3006200"},"ASOP","36","ASOP.36: All","exam",6200,null,null,"exam:",null,null,"concept",null,"F",null,"",0,"","","","","","",5,2,0,0,3,3,999,null,null,null,5.0000000000000001E-4,"x",null,"xxxx"]
["ASOP.36",null,null,"",{"$f":"VLOOKUP(F263&\".\"&G263,syllabus!B$3:I$99,8,FALSE)&RIGHT(\"00000\"&J263,5)","v":"3006300"},"ASOP","36","ASOP.36: All","exam",6300,null,null,"exam:",null,null,"concept",null,"F",null,"",0,"","","","","","",5,2,0,0,3,3,999,null,null,null,5.0000000000000001E-4,"x",null,"xxxx"]
["ASOP.36",null,null,"",{"$f":"VLOOKUP(F264&\".\"&G264,syllabus!B$3:I$99,8,FALSE)&RIGHT(\"00000\"&J264,5)","v":"3006400"},"ASOP","36","ASOP.36: All","exam",6400,null,null,"exam:",null,null,"concept",null,"F",null,"",0,"","","","","","",5,2,0,0,3,3,999,null,null,null,5.0000000000000001E-4,"x",null,"xxxx"]
["ASOP.36",null,null,"",{"$f":"VLOOKUP(F265&\".\"&G265,syllabus!B$3:I$99,8,FALSE)&RIGHT(\"00000\"&J265,5)","v":"3006500"},"ASOP","36","ASOP.36: All","exam",6500,null,null,"exam:",null,null,"concept",null,"F",null,"",0,"","","","","","",5,2,0,0,3,3,999,null,null,null,5.0000000000000001E-4,"x",null,"xxxx"]
["ASOP.36",null,null,"",{"$f":"VLOOKUP(F266&\".\"&G266,syllabus!B$3:I$99,8,FALSE)&RIGHT(\"00000\"&J266,5)","v":"3006600"},"ASOP","36","ASOP.36: All","exam",6600,null,null,"exam:",null,null,"concept",null,"F",null,"",0,"","","","","","",5,2,0,0,3,3,999,null,null,null,5.0000000000000001E-4,"x",null,"xxxx"]
["ASOP.36",null,null,"",{"$f":"VLOOKUP(F267&\".\"&G267,syllabus!B$3:I$99,8,FALSE)&RIGHT(\"00000\"&J267,5)","v":"3006700"},"ASOP","36","ASOP.36: All","exam",6700,null,null,"exam:",null,null,"concept",null,"F",null,"",0,"","","","","","",5,2,0,0,3,3,999,null,null,null,5.0000000000000001E-4,"x",null,"xxxx"]
["ASOP.36",null,null,"",{"$f":"VLOOKUP(F268&\".\"&G268,syllabus!B$3:I$99,8,FALSE)&RIGHT(\"00000\"&J268,5)","v":"3006800"},"ASOP","36","ASOP.36: All","exam",6800,null,null,"exam:",null,null,"concept",null,"F",null,"",0,"","","","","","",5,2,0,0,3,3,999,null,null,null,5.0000000000000001E-4,"x",null,"xxxx"]
["ASOP.36",null,null,"",{"$f":"VLOOKUP(F269&\".\"&G269,syllabus!B$3:I$99,8,FALSE)&RIGHT(\"00000\"&J269,5)","v":"3006900"},"ASOP","36","ASOP.36: All","exam",6900,null,null,"exam:",null,null,"concept",null,"F",null,"",0,"","","","","","",5,2,0,0,3,3,999,null,null,null,5.0000000000000001E-4,"x",null,"xxxx"]
["ASOP.36",null,null,"",{"$f":"VLOOKUP(F270&\".\"&G270,syllabus!B$3:I$99,8,FALSE)&RIGHT(\"00000\"&J270,5)","v":"3007000"},"ASOP","36","ASOP.36: All","exam",7000,null,null,"exam:",null,null,"concept",null,"F",null,"",0,"","","","","","",5,2,0,0,3,3,999,null,null,null,5.0000000000000001E-4,"x",null,"xxxx"]
["ASOP.36",null,null,"",{"$f":"VLOOKUP(F271&\".\"&G271,syllabus!B$3:I$99,8,FALSE)&RIGHT(\"00000\"&J271,5)","v":"3007100"},"ASOP","36","ASOP.36: All","exam",7100,null,null,"exam:",null,null,"concept",null,"F",null,"",0,"","","","","","",5,2,0,0,3,3,999,null,null,null,5.0000000000000001E-4,"x",null,"xxxx"]
["ASOP.36",null,null,"",{"$f":"VLOOKUP(F272&\".\"&G272,syllabus!B$3:I$99,8,FALSE)&RIGHT(\"00000\"&J272,5)","v":"3007200"},"ASOP","36","ASOP.36: All","exam",7200,null,null,"exam:",null,null,"concept",null,"F",null,"",0,"","","","","","",5,2,0,0,3,3,999,null,null,null,5.0000000000000001E-4,"x",null,"xxxx"]
["ASOP.36",null,null,"",{"$f":"VLOOKUP(F273&\".\"&G273,syllabus!B$3:I$99,8,FALSE)&RIGHT(\"00000\"&J273,5)","v":"3007300"},"ASOP","36","ASOP.36: All","exam",7300,null,null,"exam:",null,null,"concept",null,"F",null,"",0,"","","","","","",5,2,0,0,3,3,999,null,null,null,5.0000000000000001E-4,"x",null,"xxxx"]
["ASOP.36",null,null,"",{"$f":"VLOOKUP(F274&\".\"&G274,syllabus!B$3:I$99,8,FALSE)&RIGHT(\"00000\"&J274,5)","v":"3007400"},"ASOP","36","ASOP.36: All","exam",7400,null,null,"exam:",null,null,"concept",null,"F",null,"",0,"","","","","","",5,2,0,0,3,3,999,null,null,null,5.0000000000000001E-4,"x",null,"xxxx"]
["ASOP.36",null,null,"",{"$f":"VLOOKUP(F275&\".\"&G275,syllabus!B$3:I$99,8,FALSE)&RIGHT(\"00000\"&J275,5)","v":"3007500"},"ASOP","36","ASOP.36: All","exam",7500,null,null,"exam:",null,null,"concept",null,"F",null,"",0,"","","","","","",5,2,0,0,3,3,999,null,null,null,5.0000000000000001E-4,"x",null,"xxxx"]
["ASOP.36",null,null,"",{"$f":"VLOOKUP(F276&\".\"&G276,syllabus!B$3:I$99,8,FALSE)&RIGHT(\"00000\"&J276,5)","v":"3007600"},"ASOP","36","ASOP.36: All","exam",7600,null,null,"exam:",null,null,"concept",null,"F",null,"",0,"","","","","","",5,2,0,0,3,3,999,null,null,null,5.0000000000000001E-4,"x",null,"xxxx"]
["ASOP.36",null,null,"",{"$f":"VLOOKUP(F277&\".\"&G277,syllabus!B$3:I$99,8,FALSE)&RIGHT(\"00000\"&J277,5)","v":"3007700"},"ASOP","36","ASOP.36: All","exam",7700,null,null,"exam:",null,null,"concept",null,"F",null,"",0,"","","","","","",5,2,0,0,3,3,999,null,null,null,5.0000000000000001E-4,"x",null,"xxxx"]
["ASOP.36",null,null,"",{"$f":"VLOOKUP(F278&\".\"&G278,syllabus!B$3:I$99,8,FALSE)&RIGHT(\"00000\"&J278,5)","v":"3007800"},"ASOP","36","ASOP.36: All","exam",7800,null,null,"exam:",null,null,"concept",null,"F",null,"",0,"","","","","","",5,2,0,0,3,3,999,null,null,null,5.0000000000000001E-4,"x",null,"xxxx"]
["ASOP.36",null,null,"",{"$f":"VLOOKUP(F279&\".\"&G279,syllabus!B$3:I$99,8,FALSE)&RIGHT(\"00000\"&J279,5)","v":"3007900"},"ASOP","36","ASOP.36: All","exam",7900,null,null,"exam:",null,null,"concept",null,"F",null,"",0,"","","","","","",5,2,0,0,3,3,999,null,null,null,5.0000000000000001E-4,"x",null,"xxxx"]
["ASOP.36",null,null,"",{"$f":"VLOOKUP(F280&\".\"&G280,syllabus!B$3:I$99,8,FALSE)&RIGHT(\"00000\"&J280,5)","v":"3008000"},"ASOP","36","ASOP.36: All","exam",8000,null,null,"exam:",null,null,"concept",null,"F",null,"",0,"","","","","","",5,2,0,0,3,3,999,null,null,null,5.0000000000000001E-4,"x",null,"xxxx"]
["ASOP.36",null,null,"",{"$f":"VLOOKUP(F281&\".\"&G281,syllabus!B$3:I$99,8,FALSE)&RIGHT(\"00000\"&J281,5)","v":"3008100"},"ASOP","36","ASOP.36: All","exam",8100,null,null,"exam:",null,null,"concept",null,"F",null,"",0,"","","","","","",5,2,0,0,3,3,999,null,null,null,5.0000000000000001E-4,"x",null,"xxxx"]
["ASOP.36",null,null,"",{"$f":"VLOOKUP(F282&\".\"&G282,syllabus!B$3:I$99,8,FALSE)&RIGHT(\"00000\"&J282,5)","v":"3008200"},"ASOP","36","ASOP.36: All","exam",8200,null,null,"exam:",null,null,"concept",null,"F",null,"",0,"","","","","","",5,2,0,0,3,3,999,null,null,null,5.0000000000000001E-4,"x",null,"xxxx"]
["ASOP.36",null,null,"",{"$f":"VLOOKUP(F283&\".\"&G283,syllabus!B$3:I$99,8,FALSE)&RIGHT(\"00000\"&J283,5)","v":"3008300"},"ASOP","36","ASOP.36: All","exam",8300,null,null,"exam:",null,null,"concept",null,"F",null,"",0,"","","","","","",5,2,0,0,3,3,999,null,null,null,5.0000000000000001E-4,"x",null,"xxxx"]
["ASOP.36",null,null,"",{"$f":"VLOOKUP(F284&\".\"&G284,syllabus!B$3:I$99,8,FALSE)&RIGHT(\"00000\"&J284,5)","v":"3008400"},"ASOP","36","ASOP.36: All","exam",8400,null,null,"exam:",null,null,"concept",null,"F",null,"",0,"","","","","","",5,2,0,0,3,3,999,null,null,null,5.0000000000000001E-4,"x",null,"xxxx"]
["ASOP.36",null,null,"",{"$f":"VLOOKUP(F285&\".\"&G285,syllabus!B$3:I$99,8,FALSE)&RIGHT(\"00000\"&J285,5)","v":"3008500"},"ASOP","36","ASOP.36: All","exam",8500,null,null,"exam:",null,null,"concept",null,"F",null,"",0,"","","","","","",5,2,0,0,3,3,999,null,null,null,5.0000000000000001E-4,"x",null,"xxxx"]
["ASOP.36",null,null,"",{"$f":"VLOOKUP(F286&\".\"&G286,syllabus!B$3:I$99,8,FALSE)&RIGHT(\"00000\"&J286,5)","v":"3008600"},"ASOP","36","ASOP.36: All","exam",8600,null,null,"exam:",null,null,"concept",null,"F",null,"",0,"","","","","","",5,2,0,0,3,3,999,null,null,null,5.0000000000000001E-4,"x",null,"xxxx"]
["ASOP.36",null,null,"",{"$f":"VLOOKUP(F287&\".\"&G287,syllabus!B$3:I$99,8,FALSE)&RIGHT(\"00000\"&J287,5)","v":"3008700"},"ASOP","36","ASOP.36: All","exam",8700,null,null,"exam:",null,null,"concept",null,"F",null,"",0,"","","","","","",5,2,0,0,3,3,999,null,null,null,5.0000000000000001E-4,"x",null,"xxxx"]
["ASOP.36",null,null,"",{"$f":"VLOOKUP(F288&\".\"&G288,syllabus!B$3:I$99,8,FALSE)&RIGHT(\"00000\"&J288,5)","v":"3008800"},"ASOP","36","ASOP.36: All","exam",8800,null,null,"exam:",null,null,"concept",null,"F",null,"",0,"","","","","","",5,2,0,0,3,3,999,null,null,null,5.0000000000000001E-4,"x",null,"xxxx"]
["ASOP.36",null,null,"",{"$f":"VLOOKUP(F289&\".\"&G289,syllabus!B$3:I$99,8,FALSE)&RIGHT(\"00000\"&J289,5)","v":"3008900"},"ASOP","36","ASOP.36: All","exam",8900,null,null,"exam:",null,null,"concept",null,"F",null,"",0,"","","","","","",5,2,0,0,3,3,999,null,null,null,5.0000000000000001E-4,"x",null,"xxxx"]
["ASOP.36",null,null,"",{"$f":"VLOOKUP(F290&\".\"&G290,syllabus!B$3:I$99,8,FALSE)&RIGHT(\"00000\"&J290,5)","v":"3009000"},"ASOP","36","ASOP.36: All","exam",9000,null,null,"exam:",null,null,"concept",null,"F",null,"",0,"","","","","","",5,2,0,0,3,3,999,null,null,null,5.0000000000000001E-4,"x",null,"xxxx"]
["ASOP.36",null,null,"",{"$f":"VLOOKUP(F291&\".\"&G291,syllabus!B$3:I$99,8,FALSE)&RIGHT(\"00000\"&J291,5)","v":"3009100"},"ASOP","36","ASOP.36: All","exam",9100,null,null,"exam:",null,null,"concept",null,"F",null,"",0,"","","","","","",5,2,0,0,3,3,999,null,null,null,5.0000000000000001E-4,"x",null,"xxxx"]
["ASOP.36",null,null,"",{"$f":"VLOOKUP(F292&\".\"&G292,syllabus!B$3:I$99,8,FALSE)&RIGHT(\"00000\"&J292,5)","v":"3009200"},"ASOP","36","ASOP.36: All","exam",9200,null,null,"exam:",null,null,"concept",null,"F",null,"",0,"","","","","","",5,2,0,0,3,3,999,null,null,null,5.0000000000000001E-4,"x",null,"xxxx"]
["ASOP.36",null,null,"",{"$f":"VLOOKUP(F293&\".\"&G293,syllabus!B$3:I$99,8,FALSE)&RIGHT(\"00000\"&J293,5)","v":"3009300"},"ASOP","36","ASOP.36: All","exam",9300,null,null,"exam:",null,null,"concept",null,"F",null,"",0,"","","","","","",5,2,0,0,3,3,999,null,null,null,5.0000000000000001E-4,"x",null,"xxxx"]
["ASOP.36",null,null,"",{"$f":"VLOOKUP(F294&\".\"&G294,syllabus!B$3:I$99,8,FALSE)&RIGHT(\"00000\"&J294,5)","v":"3009400"},"ASOP","36","ASOP.36: All","exam",9400,null,null,"exam:",null,null,"concept",null,"F",null,"",0,"","","","","","",5,2,0,0,3,3,999,null,null,null,5.0000000000000001E-4,"x",null,"xxxx"]
["ASOP.36",null,null,"",{"$f":"VLOOKUP(F295&\".\"&G295,syllabus!B$3:I$99,8,FALSE)&RIGHT(\"00000\"&J295,5)","v":"3009500"},"ASOP","36","ASOP.36: All","exam",9500,null,null,"exam:",null,null,"concept",null,"F",null,"",0,"","","","","","",5,2,0,0,3,3,999,null,null,null,5.0000000000000001E-4,"x",null,"xxxx"]
["ASOP.36",null,null,"",{"$f":"VLOOKUP(F296&\".\"&G296,syllabus!B$3:I$99,8,FALSE)&RIGHT(\"00000\"&J296,5)","v":"3009600"},"ASOP","36","ASOP.36: All","exam",9600,null,null,"exam:",null,null,"concept",null,"F",null,"",0,"","","","","","",5,2,0,0,3,3,999,null,null,null,5.0000000000000001E-4,"x",null,"xxxx"]
["ASOP.36",null,null,"",{"$f":"VLOOKUP(F297&\".\"&G297,syllabus!B$3:I$99,8,FALSE)&RIGHT(\"00000\"&J297,5)","v":"3009700"},"ASOP","36","ASOP.36: All","exam",9700,null,null,"exam:",null,null,"concept",null,"F",null,"",0,"","","","","","",5,2,0,0,3,3,999,null,null,null,5.0000000000000001E-4,"x",null,"xxxx"]
["ASOP.36",null,null,"",{"$f":"VLOOKUP(F298&\".\"&G298,syllabus!B$3:I$99,8,FALSE)&RIGHT(\"00000\"&J298,5)","v":"3009800"},"ASOP","36","ASOP.36: All","exam",9800,null,null,"exam:",null,null,"concept",null,"F",null,"",0,"","","","","","",5,2,0,0,3,3,999,null,null,null,5.0000000000000001E-4,"x",null,"xxxx"]
["ASOP.36",null,null,"",{"$f":"VLOOKUP(F299&\".\"&G299,syllabus!B$3:I$99,8,FALSE)&RIGHT(\"00000\"&J299,5)","v":"3009900"},"ASOP","36","ASOP.36: All","exam",9900,null,null,"exam:",null,null,"concept",null,"F",null,"",0,"","","","","","",5,2,0,0,3,3,999,null,null,null,5.0000000000000001E-4,"x",null,"xxxx"]
["ASOP.36",null,null,"",{"$f":"VLOOKUP(F300&\".\"&G300,syllabus!B$3:I$99,8,FALSE)&RIGHT(\"00000\"&J300,5)","v":"3009999"},"ASOP","36","ASOP.36: All","exam",9999,null,null,"exam:",null,null,"concept",null,"F",null,"",0,"","","","","","",5,2,0,0,3,3,999,null,null,null,5.0000000000000001E-4,"x",null,"xxxx"]
["ASOP.41","x",null,"",{"$f":"VLOOKUP(F301&\".\"&G301,syllabus!B$3:I$99,8,FALSE)&RIGHT(\"00000\"&J301,5)","v":"4000100"},"ASOP","41","ASOP.41: All","--",100,null,null,{"$f":"A301&\": All\"","v":"ASOP.41: All"},null,null,"--",null,"info",null,"",0,"","","","","","","","",0,0,42,42,999,null,null,null,5.0000000000000001E-4,"x",null,"xxxx"]
["ASOP.41",null,null,"",{"$f":"VLOOKUP(F302&\".\"&G302,syllabus!B$3:I$99,8,FALSE)&RIGHT(\"00000\"&J302,5)","v":"4000200"},"ASOP","41","ASOP.41: All","general",200,1,null,"general: in very general terms, identify what an actuary should communicate in an actuarial report (3)","DAM: Data, Assumptions, Methods:","DAM","concept",null,"A",null,"",0,"","","","","","",1,2,2,2.8284271247461903,42,42,999,null,null,null,5.0000000000000001E-4,"x",null,1]
["ASOP.41",null,null,"",{"$f":"VLOOKUP(F303&\".\"&G303,syllabus!B$3:I$99,8,FALSE)&RIGHT(\"00000\"&J303,5)","v":"4000300"},"ASOP","41","ASOP.41: All","general",300,1,null,"general: in specific terms, identify what should be disclosed in any actuarial report (10)","Obvious items: ~~ - name of actuary, date of report, subject of report ~ CRISIS-LQ: ~~ - Conflicts of interest ~~ - Risks ~~ - Intended user ~~ - Scope ~~ - Info that actuary used but doesn't assume responsibility for ~~ - Subsequent events ~~ - Limitations on applicability of findings ~~ - Qualifications of actuary","CRISIS-LQ","concept",null,"A",null,"exam",1,"15","1-Spring",21,"c",null,1.5,1,21,2,9.1651513899116797,42,42,999,null,null,null,5.0000000000000001E-4,"x",null,1]
["ASOP.41",null,null,"",{"$f":"VLOOKUP(F304&\".\"&G304,syllabus!B$3:I$99,8,FALSE)&RIGHT(\"00000\"&J304,5)","v":"4000400"},"ASOP","41","ASOP.41: All","general",400,1,null,"general: identify required disclosures when assumptions/methods are prescribed by law (or written by a state insurance departmet) (3)","- name of law ~ - assumptions/methods prescribed by law ~ - that the report-writer followed the law",null,"concept",null,"A",null,"exam",1,"15","1-Spring",21,"a",null,0.75,1,4,2,4,42,42,999,null,null,null,5.0000000000000001E-4,"x",null,1]
["ASOP.41",null,null,"",{"$f":"VLOOKUP(F305&\".\"&G305,syllabus!B$3:I$99,8,FALSE)&RIGHT(\"00000\"&J305,5)","v":"4000500"},"ASOP","41","ASOP.41: All","general",500,1,null,"general: identify the actuary's course of if the format of a report DOES NOT accommodate the required disclosures","- attach a separate document stating the required disclosures",null,"concept",null,"A",null,"exam",1,"15","1-Spring",21,"b",null,0.5,1,2,2,2.8284271247461903,42,42,999,null,null,null,5.0000000000000001E-4,"x",null,1]
["ASOP.41",null,null,"",{"$f":"VLOOKUP(F306&\".\"&G306,syllabus!B$3:I$99,8,FALSE)&RIGHT(\"00000\"&J306,5)","v":"4000600"},"ASOP","41","ASOP.41: All","general",600,1,null,"general: if an actuary relies on someone else's work, identify when NO DISCLOSURE is required (2)","- if the work IS NOT material ~ - if the work IS material but the actuary agrees with the work",null,"concept",null,"A",null,"",0,"","","","","","",1,3,2,3.4641016151377544,42,42,999,null,null,null,5.0000000000000001E-4,"x",null,1]
["ASOP.41",null,null,"",{"$f":"VLOOKUP(F307&\".\"&G307,syllabus!B$3:I$99,8,FALSE)&RIGHT(\"00000\"&J307,5)","v":"4000700"},"ASOP","41","ASOP.41: All","general",700,1,null,"general: if an actuary relies on someone else's work, identify when DISCLOSURE <u>is</u> required (2)","- if the work IS material & the actuary <u>doesn't agree</u> with the work ~ - if the work IS material & the actuary <u>cannot judge</u> the work",null,"concept",null,"A",null,"",0,"","","","","","",1,3,2,3.4641016151377544,42,42,999,null,null,null,5.0000000000000001E-4,"x",null,1]
["ASOP.41",null,null,"",{"$f":"VLOOKUP(F308&\".\"&G308,syllabus!B$3:I$99,8,FALSE)&RIGHT(\"00000\"&J308,5)","v":"4000800"},"ASOP","41","ASOP.41: All","general",800,1,null,"general: if an actuary relies on someone else's work & disclosure is required, <strong>identify</strong> the required disclosures","- extent of reliance ~ - assumptions/methods relied upon ~ - name of the other party",null,"concept",null,"A",null,"",0,"","","","","","",1,4,2,4,42,42,999,null,null,null,5.0000000000000001E-4,"x",null,1]
["ASOP.41",null,null,"",{"$f":"VLOOKUP(F309&\".\"&G309,syllabus!B$3:I$99,8,FALSE)&RIGHT(\"00000\"&J309,5)","v":"4000900"},"ASOP","41","ASOP.41: All","BC",900,null,null,"BC:",null,null,"concept",null,"F",null,"",0,"","","","","","",1,2,0,0,42,42,999,null,null,null,5.0000000000000001E-4,"x",null,"xxxx"]
["ASOP.41",null,null,"",{"$f":"VLOOKUP(F310&\".\"&G310,syllabus!B$3:I$99,8,FALSE)&RIGHT(\"00000\"&J310,5)","v":"4001000"},"ASOP","41","ASOP.41: All","BC",1000,null,null,"BC:",null,null,"concept",null,"F",null,"",0,"","","","","","",1,2,0,0,42,42,999,null,null,null,5.0000000000000001E-4,"x",null,"xxxx"]
["ASOP.41",null,null,"",{"$f":"VLOOKUP(F311&\".\"&G311,syllabus!B$3:I$99,8,FALSE)&RIGHT(\"00000\"&J311,5)","v":"4001100"},"ASOP","41","ASOP.41: All","BC",1100,null,null,"BC:",null,null,"concept",null,"F",null,"",0,"","","","","","",1,2,0,0,42,42,999,null,null,null,5.0000000000000001E-4,"x",null,"xxxx"]
["ASOP.41",null,null,"",{"$f":"VLOOKUP(F312&\".\"&G312,syllabus!B$3:I$99,8,FALSE)&RIGHT(\"00000\"&J312,5)","v":"4001200"},"ASOP","41","ASOP.41: All","BC",1200,null,null,"BC:",null,null,"concept",null,"F",null,"",0,"","","","","","",1,2,0,0,42,42,999,null,null,null,5.0000000000000001E-4,"x",null,"xxxx"]
["ASOP.41",null,null,"",{"$f":"VLOOKUP(F313&\".\"&G313,syllabus!B$3:I$99,8,FALSE)&RIGHT(\"00000\"&J313,5)","v":"4001300"},"ASOP","41","ASOP.41: All","BC",1300,null,null,"BC:",null,null,"concept",null,"F",null,"",0,"","","","","","",1,2,0,0,42,42,999,null,null,null,5.0000000000000001E-4,"x",null,"xxxx"]
["ASOP.41",null,null,"",{"$f":"VLOOKUP(F314&\".\"&G314,syllabus!B$3:I$99,8,FALSE)&RIGHT(\"00000\"&J314,5)","v":"4001400"},"ASOP","41","ASOP.41: All","BC",1400,null,null,"BC:",null,null,"concept",null,"F",null,"",0,"","","","","","",1,2,0,0,42,42,999,null,null,null,5.0000000000000001E-4,"x",null,"xxxx"]
["ASOP.41",null,null,"",{"$f":"VLOOKUP(F315&\".\"&G315,syllabus!B$3:I$99,8,FALSE)&RIGHT(\"00000\"&J315,5)","v":"4001500"},"ASOP","41","ASOP.41: All","BC",1500,null,null,"BC:",null,null,"concept",null,"F",null,"",0,"","","","","","",1,2,0,0,42,42,999,null,null,null,5.0000000000000001E-4,"x",null,"xxxx"]
["ASOP.41",null,null,"",{"$f":"VLOOKUP(F316&\".\"&G316,syllabus!B$3:I$99,8,FALSE)&RIGHT(\"00000\"&J316,5)","v":"4001600"},"ASOP","41","ASOP.41: All","BC",1600,null,null,"BC:",null,null,"concept",null,"F",null,"",0,"","","","","","",1,2,0,0,42,42,999,null,null,null,5.0000000000000001E-4,"x",null,"xxxx"]
["ASOP.41",null,null,"",{"$f":"VLOOKUP(F317&\".\"&G317,syllabus!B$3:I$99,8,FALSE)&RIGHT(\"00000\"&J317,5)","v":"4001700"},"ASOP","41","ASOP.41: All","BC",1700,null,null,"BC:",null,null,"concept",null,"F",null,"",0,"","","","","","",1,2,0,0,42,42,999,null,null,null,5.0000000000000001E-4,"x",null,"xxxx"]
["ASOP.41",null,null,"",{"$f":"VLOOKUP(F318&\".\"&G318,syllabus!B$3:I$99,8,FALSE)&RIGHT(\"00000\"&J318,5)","v":"4001800"},"ASOP","41","ASOP.41: All","BC",1800,null,null,"BC:",null,null,"concept",null,"F",null,"",0,"","","","","","",1,2,0,0,42,42,999,null,null,null,5.0000000000000001E-4,"x",null,"xxxx"]
["ASOP.41",null,null,"",{"$f":"VLOOKUP(F319&\".\"&G319,syllabus!B$3:I$99,8,FALSE)&RIGHT(\"00000\"&J319,5)","v":"4001900"},"ASOP","41","ASOP.41: All","BC",1900,null,null,"BC:",null,null,"concept",null,"F",null,"",0,"","","","","","",1,2,0,0,42,42,999,null,null,null,5.0000000000000001E-4,"x",null,"xxxx"]
["ASOP.41",null,null,"",{"$f":"VLOOKUP(F320&\".\"&G320,syllabus!B$3:I$99,8,FALSE)&RIGHT(\"00000\"&J320,5)","v":"4002000"},"ASOP","41","ASOP.41: All","BC",2000,null,null,"BC:",null,null,"concept",null,"F",null,"",0,"","","","","","",1,2,0,0,42,42,999,null,null,null,5.0000000000000001E-4,"x",null,"xxxx"]
["ASOP.41",null,null,"",{"$f":"VLOOKUP(F321&\".\"&G321,syllabus!B$3:I$99,8,FALSE)&RIGHT(\"00000\"&J321,5)","v":"4002100"},"ASOP","41","ASOP.41: All","BC",2100,null,null,"BC:",null,null,"concept",null,"F",null,"",0,"","","","","","",1,2,0,0,42,42,999,null,null,null,5.0000000000000001E-4,"x",null,"xxxx"]
["ASOP.41",null,null,"",{"$f":"VLOOKUP(F322&\".\"&G322,syllabus!B$3:I$99,8,FALSE)&RIGHT(\"00000\"&J322,5)","v":"4002200"},"ASOP","41","ASOP.41: All","BC",2200,null,null,"BC:",null,null,"concept",null,"F",null,"",0,"","","","","","",1,2,0,0,42,42,999,null,null,null,5.0000000000000001E-4,"x",null,"xxxx"]
["ASOP.41",null,null,"",{"$f":"VLOOKUP(F323&\".\"&G323,syllabus!B$3:I$99,8,FALSE)&RIGHT(\"00000\"&J323,5)","v":"4002300"},"ASOP","41","ASOP.41: All","BC",2300,null,null,"BC:",null,null,"concept",null,"F",null,"",0,"","","","","","",1,2,0,0,42,42,999,null,null,null,5.0000000000000001E-4,"x",null,"xxxx"]
["ASOP.41",null,null,"",{"$f":"VLOOKUP(F324&\".\"&G324,syllabus!B$3:I$99,8,FALSE)&RIGHT(\"00000\"&J324,5)","v":"4002400"},"ASOP","41","ASOP.41: All","BC",2400,null,null,"BC:",null,null,"concept",null,"F",null,"",0,"","","","","","",1,2,0,0,42,42,999,null,null,null,5.0000000000000001E-4,"x",null,"xxxx"]
["ASOP.41",null,null,"",{"$f":"VLOOKUP(F325&\".\"&G325,syllabus!B$3:I$99,8,FALSE)&RIGHT(\"00000\"&J325,5)","v":"4002500"},"ASOP","41","ASOP.41: All","BC",2500,null,null,"BC:",null,null,"concept",null,"F",null,"",0,"","","","","","",1,2,0,0,42,42,999,null,null,null,5.0000000000000001E-4,"x",null,"xxxx"]
["ASOP.41",null,null,"",{"$f":"VLOOKUP(F326&\".\"&G326,syllabus!B$3:I$99,8,FALSE)&RIGHT(\"00000\"&J326,5)","v":"4002600"},"ASOP","41","ASOP.41: All","BC",2600,null,null,"BC:",null,null,"concept",null,"F",null,"",0,"","","","","","",1,2,0,0,42,42,999,null,null,null,5.0000000000000001E-4,"x",null,"xxxx"]
["ASOP.41",null,null,"",{"$f":"VLOOKUP(F327&\".\"&G327,syllabus!B$3:I$99,8,FALSE)&RIGHT(\"00000\"&J327,5)","v":"4002700"},"ASOP","41","ASOP.41: All","BC",2700,null,null,"BC:",null,null,"concept",null,"F",null,"",0,"","","","","","",1,2,0,0,42,42,999,null,null,null,5.0000000000000001E-4,"x",null,"xxxx"]
["ASOP.41",null,null,"",{"$f":"VLOOKUP(F328&\".\"&G328,syllabus!B$3:I$99,8,FALSE)&RIGHT(\"00000\"&J328,5)","v":"4002800"},"ASOP","41","ASOP.41: All","BC",2800,null,null,"BC:",null,null,"concept",null,"F",null,"",0,"","","","","","",1,2,0,0,42,42,999,null,null,null,5.0000000000000001E-4,"x",null,"xxxx"]
["ASOP.41",null,null,"",{"$f":"VLOOKUP(F329&\".\"&G329,syllabus!B$3:I$99,8,FALSE)&RIGHT(\"00000\"&J329,5)","v":"4002900"},"ASOP","41","ASOP.41: All","BC",2900,null,null,"BC:",null,null,"concept",null,"F",null,"",0,"","","","","","",1,2,0,0,42,42,999,null,null,null,5.0000000000000001E-4,"x",null,"xxxx"]
["ASOP.41",null,null,"",{"$f":"VLOOKUP(F330&\".\"&G330,syllabus!B$3:I$99,8,FALSE)&RIGHT(\"00000\"&J330,5)","v":"4003000"},"ASOP","41","ASOP.41: All","BC",3000,null,null,"BC:",null,null,"concept",null,"F",null,"",0,"","","","","","",1,2,0,0,42,42,999,null,null,null,5.0000000000000001E-4,"x",null,"xxxx"]
["ASOP.41",null,null,"",{"$f":"VLOOKUP(F331&\".\"&G331,syllabus!B$3:I$99,8,FALSE)&RIGHT(\"00000\"&J331,5)","v":"4003100"},"ASOP","41","ASOP.41: All","BC",3100,null,null,"BC:",null,null,"concept",null,"F",null,"",0,"","","","","","",1,2,0,0,42,42,999,null,null,null,5.0000000000000001E-4,"x",null,"xxxx"]
["ASOP.41",null,null,"",{"$f":"VLOOKUP(F332&\".\"&G332,syllabus!B$3:I$99,8,FALSE)&RIGHT(\"00000\"&J332,5)","v":"4003200"},"ASOP","41","ASOP.41: All","BC",3200,null,null,"BC:",null,null,"concept",null,"F",null,"",0,"","","","","","",1,2,0,0,42,42,999,null,null,null,5.0000000000000001E-4,"x",null,"xxxx"]
["ASOP.41",null,null,"",{"$f":"VLOOKUP(F333&\".\"&G333,syllabus!B$3:I$99,8,FALSE)&RIGHT(\"00000\"&J333,5)","v":"4003300"},"ASOP","41","ASOP.41: All","BC",3300,null,null,"BC:",null,null,"concept",null,"F",null,"",0,"","","","","","",1,2,0,0,42,42,999,null,null,null,5.0000000000000001E-4,"x",null,"xxxx"]
["ASOP.41",null,null,"",{"$f":"VLOOKUP(F334&\".\"&G334,syllabus!B$3:I$99,8,FALSE)&RIGHT(\"00000\"&J334,5)","v":"4003400"},"ASOP","41","ASOP.41: All","BC",3400,null,null,"BC:",null,null,"concept",null,"F",null,"",0,"","","","","","",1,2,0,0,42,42,999,null,null,null,5.0000000000000001E-4,"x",null,"xxxx"]
["ASOP.41",null,null,"",{"$f":"VLOOKUP(F335&\".\"&G335,syllabus!B$3:I$99,8,FALSE)&RIGHT(\"00000\"&J335,5)","v":"4003500"},"ASOP","41","ASOP.41: All","BC",3500,null,null,"BC:",null,null,"concept",null,"F",null,"",0,"","","","","","",1,2,0,0,42,42,999,null,null,null,5.0000000000000001E-4,"x",null,"xxxx"]
["ASOP.41",null,null,"",{"$f":"VLOOKUP(F336&\".\"&G336,syllabus!B$3:I$99,8,FALSE)&RIGHT(\"00000\"&J336,5)","v":"4003600"},"ASOP","41","ASOP.41: All","exam",3600,null,null,"exam:",null,null,"concept",null,"F",null,"",0,"","","","","","",1,2,0,0,42,42,999,null,null,null,5.0000000000000001E-4,"x",null,"xxxx"]
["ASOP.41",null,null,"",{"$f":"VLOOKUP(F337&\".\"&G337,syllabus!B$3:I$99,8,FALSE)&RIGHT(\"00000\"&J337,5)","v":"4003700"},"ASOP","41","ASOP.41: All","exam",3700,null,null,"exam:",null,null,"concept",null,"F",null,"",0,"","","","","","",1,2,0,0,42,42,999,null,null,null,5.0000000000000001E-4,"x",null,"xxxx"]
["ASOP.41",null,null,"",{"$f":"VLOOKUP(F338&\".\"&G338,syllabus!B$3:I$99,8,FALSE)&RIGHT(\"00000\"&J338,5)","v":"4003800"},"ASOP","41","ASOP.41: All","exam",3800,null,null,"exam:",null,null,"concept",null,"F",null,"",0,"","","","","","",1,2,0,0,42,42,999,null,null,null,5.0000000000000001E-4,"x",null,"xxxx"]
["ASOP.41",null,null,"",{"$f":"VLOOKUP(F339&\".\"&G339,syllabus!B$3:I$99,8,FALSE)&RIGHT(\"00000\"&J339,5)","v":"4003900"},"ASOP","41","ASOP.41: All","exam",3900,null,null,"exam:",null,null,"concept",null,"F",null,"",0,"","","","","","",1,2,0,0,42,42,999,null,null,null,5.0000000000000001E-4,"x",null,"xxxx"]
["ASOP.41",null,null,"",{"$f":"VLOOKUP(F340&\".\"&G340,syllabus!B$3:I$99,8,FALSE)&RIGHT(\"00000\"&J340,5)","v":"4004000"},"ASOP","41","ASOP.41: All","exam",4000,null,null,"exam:",null,null,"concept",null,"F",null,"",0,"","","","","","",1,2,0,0,42,42,999,null,null,null,5.0000000000000001E-4,"x",null,"xxxx"]
["ASOP.41",null,null,"",{"$f":"VLOOKUP(F341&\".\"&G341,syllabus!B$3:I$99,8,FALSE)&RIGHT(\"00000\"&J341,5)","v":"4004100"},"ASOP","41","ASOP.41: All","exam",4100,null,null,"exam:",null,null,"concept",null,"F",null,"",0,"","","","","","",1,2,0,0,42,42,999,null,null,null,5.0000000000000001E-4,"x",null,"xxxx"]
["ASOP.41",null,null,"",{"$f":"VLOOKUP(F342&\".\"&G342,syllabus!B$3:I$99,8,FALSE)&RIGHT(\"00000\"&J342,5)","v":"4004200"},"ASOP","41","ASOP.41: All","exam",4200,null,null,"exam:",null,null,"concept",null,"F",null,"",0,"","","","","","",1,2,0,0,42,42,999,null,null,null,5.0000000000000001E-4,"x",null,"xxxx"]
["ASOP.41",null,null,"",{"$f":"VLOOKUP(F343&\".\"&G343,syllabus!B$3:I$99,8,FALSE)&RIGHT(\"00000\"&J343,5)","v":"4004300"},"ASOP","41","ASOP.41: All","exam",4300,null,null,"exam:",null,null,"concept",null,"F",null,"",0,"","","","","","",1,2,0,0,42,42,999,null,null,null,5.0000000000000001E-4,"x",null,"xxxx"]
["ASOP.41",null,null,"",{"$f":"VLOOKUP(F344&\".\"&G344,syllabus!B$3:I$99,8,FALSE)&RIGHT(\"00000\"&J344,5)","v":"4004400"},"ASOP","41","ASOP.41: All","exam",4400,null,null,"exam:",null,null,"concept",null,"F",null,"",0,"","","","","","",1,2,0,0,42,42,999,null,null,null,5.0000000000000001E-4,"x",null,"xxxx"]
["ASOP.41",null,null,"",{"$f":"VLOOKUP(F345&\".\"&G345,syllabus!B$3:I$99,8,FALSE)&RIGHT(\"00000\"&J345,5)","v":"4004500"},"ASOP","41","ASOP.41: All","exam",4500,null,null,"exam:",null,null,"concept",null,"F",null,"",0,"","","","","","",1,2,0,0,42,42,999,null,null,null,5.0000000000000001E-4,"x",null,"xxxx"]
["ASOP.41",null,null,"",{"$f":"VLOOKUP(F346&\".\"&G346,syllabus!B$3:I$99,8,FALSE)&RIGHT(\"00000\"&J346,5)","v":"4004600"},"ASOP","41","ASOP.41: All","exam",4600,null,null,"exam:",null,null,"concept",null,"F",null,"",0,"","","","","","",1,2,0,0,42,42,999,null,null,null,5.0000000000000001E-4,"x",null,"xxxx"]
["ASOP.41",null,null,"",{"$f":"VLOOKUP(F347&\".\"&G347,syllabus!B$3:I$99,8,FALSE)&RIGHT(\"00000\"&J347,5)","v":"4004700"},"ASOP","41","ASOP.41: All","exam",4700,null,null,"exam:",null,null,"concept",null,"F",null,"",0,"","","","","","",1,2,0,0,42,42,999,null,null,null,5.0000000000000001E-4,"x",null,"xxxx"]
["ASOP.41",null,null,"",{"$f":"VLOOKUP(F348&\".\"&G348,syllabus!B$3:I$99,8,FALSE)&RIGHT(\"00000\"&J348,5)","v":"4004800"},"ASOP","41","ASOP.41: All","exam",4800,null,null,"exam:",null,null,"concept",null,"F",null,"",0,"","","","","","",1,2,0,0,42,42,999,null,null,null,5.0000000000000001E-4,"x",null,"xxxx"]
["ASOP.41",null,null,"",{"$f":"VLOOKUP(F349&\".\"&G349,syllabus!B$3:I$99,8,FALSE)&RIGHT(\"00000\"&J349,5)","v":"4004900"},"ASOP","41","ASOP.41: All","exam",4900,null,null,"exam:",null,null,"concept",null,"F",null,"",0,"","","","","","",1,2,0,0,42,42,999,null,null,null,5.0000000000000001E-4,"x",null,"xxxx"]
["ASOP.41",null,null,"",{"$f":"VLOOKUP(F350&\".\"&G350,syllabus!B$3:I$99,8,FALSE)&RIGHT(\"00000\"&J350,5)","v":"4005000"},"ASOP","41","ASOP.41: All","exam",5000,null,null,"exam:",null,null,"concept",null,"F",null,"",0,"","","","","","",1,2,0,0,42,42,999,null,null,null,5.0000000000000001E-4,"x",null,"xxxx"]
["ASOP.41",null,null,"",{"$f":"VLOOKUP(F351&\".\"&G351,syllabus!B$3:I$99,8,FALSE)&RIGHT(\"00000\"&J351,5)","v":"4005100"},"ASOP","41","ASOP.41: All","exam",5100,null,null,"exam:",null,null,"concept",null,"F",null,"",0,"","","","","","",1,2,0,0,42,42,999,null,null,null,5.0000000000000001E-4,"x",null,"xxxx"]
["ASOP.41",null,null,"",{"$f":"VLOOKUP(F352&\".\"&G352,syllabus!B$3:I$99,8,FALSE)&RIGHT(\"00000\"&J352,5)","v":"4005200"},"ASOP","41","ASOP.41: All","exam",5200,null,null,"exam:",null,null,"concept",null,"F",null,"",0,"","","","","","",1,2,0,0,42,42,999,null,null,null,5.0000000000000001E-4,"x",null,"xxxx"]
["ASOP.41",null,null,"",{"$f":"VLOOKUP(F353&\".\"&G353,syllabus!B$3:I$99,8,FALSE)&RIGHT(\"00000\"&J353,5)","v":"4005300"},"ASOP","41","ASOP.41: All","exam",5300,null,null,"exam:",null,null,"concept",null,"F",null,"",0,"","","","","","",1,2,0,0,42,42,999,null,null,null,5.0000000000000001E-4,"x",null,"xxxx"]
["ASOP.41",null,null,"",{"$f":"VLOOKUP(F354&\".\"&G354,syllabus!B$3:I$99,8,FALSE)&RIGHT(\"00000\"&J354,5)","v":"4005400"},"ASOP","41","ASOP.41: All","exam",5400,null,null,"exam:",null,null,"concept",null,"F",null,"",0,"","","","","","",1,2,0,0,42,42,999,null,null,null,5.0000000000000001E-4,"x",null,"xxxx"]
["ASOP.41",null,null,"",{"$f":"VLOOKUP(F355&\".\"&G355,syllabus!B$3:I$99,8,FALSE)&RIGHT(\"00000\"&J355,5)","v":"4005500"},"ASOP","41","ASOP.41: All","exam",5500,null,null,"exam:",null,null,"concept",null,"F",null,"",0,"","","","","","",1,2,0,0,42,42,999,null,null,null,5.0000000000000001E-4,"x",null,"xxxx"]
["ASOP.41",null,null,"",{"$f":"VLOOKUP(F356&\".\"&G356,syllabus!B$3:I$99,8,FALSE)&RIGHT(\"00000\"&J356,5)","v":"4005600"},"ASOP","41","ASOP.41: All","exam",5600,null,null,"exam:",null,null,"concept",null,"F",null,"",0,"","","","","","",1,2,0,0,42,42,999,null,null,null,5.0000000000000001E-4,"x",null,"xxxx"]
["ASOP.41",null,null,"",{"$f":"VLOOKUP(F357&\".\"&G357,syllabus!B$3:I$99,8,FALSE)&RIGHT(\"00000\"&J357,5)","v":"4005700"},"ASOP","41","ASOP.41: All","exam",5700,null,null,"exam:",null,null,"concept",null,"F",null,"",0,"","","","","","",1,2,0,0,42,42,999,null,null,null,5.0000000000000001E-4,"x",null,"xxxx"]
["ASOP.41",null,null,"",{"$f":"VLOOKUP(F358&\".\"&G358,syllabus!B$3:I$99,8,FALSE)&RIGHT(\"00000\"&J358,5)","v":"4005800"},"ASOP","41","ASOP.41: All","exam",5800,null,null,"exam:",null,null,"concept",null,"F",null,"",0,"","","","","","",1,2,0,0,42,42,999,null,null,null,5.0000000000000001E-4,"x",null,"xxxx"]
["ASOP.41",null,null,"",{"$f":"VLOOKUP(F359&\".\"&G359,syllabus!B$3:I$99,8,FALSE)&RIGHT(\"00000\"&J359,5)","v":"4005900"},"ASOP","41","ASOP.41: All","exam",5900,null,null,"exam:",null,null,"concept",null,"F",null,"",0,"","","","","","",1,2,0,0,42,42,999,null,null,null,5.0000000000000001E-4,"x",null,"xxxx"]
["ASOP.41",null,null,"",{"$f":"VLOOKUP(F360&\".\"&G360,syllabus!B$3:I$99,8,FALSE)&RIGHT(\"00000\"&J360,5)","v":"4006000"},"ASOP","41","ASOP.41: All","exam",6000,null,null,"exam:",null,null,"concept",null,"F",null,"",0,"","","","","","",1,2,0,0,42,42,999,null,null,null,5.0000000000000001E-4,"x",null,"xxxx"]
["ASOP.41",null,null,"",{"$f":"VLOOKUP(F361&\".\"&G361,syllabus!B$3:I$99,8,FALSE)&RIGHT(\"00000\"&J361,5)","v":"4006100"},"ASOP","41","ASOP.41: All","exam",6100,"x",null,"exam:",null,null,"concept",null,"F",null,"",0,"","","","","","",1,2,0,0,42,42,999,null,null,null,5.0000000000000001E-4,"x",null,"xxxx"]
["ASOP.41",null,null,"",{"$f":"VLOOKUP(F362&\".\"&G362,syllabus!B$3:I$99,8,FALSE)&RIGHT(\"00000\"&J362,5)","v":"4006200"},"ASOP","41","ASOP.41: All","exam",6200,null,null,"exam:",null,null,"concept",null,"F",null,"",0,"","","","","","",1,2,0,0,42,42,999,null,null,null,5.0000000000000001E-4,"x",null,"xxxx"]
["ASOP.41",null,null,"",{"$f":"VLOOKUP(F363&\".\"&G363,syllabus!B$3:I$99,8,FALSE)&RIGHT(\"00000\"&J363,5)","v":"4006300"},"ASOP","41","ASOP.41: All","exam",6300,null,null,"exam:",null,null,"concept",null,"F",null,"",0,"","","","","","",1,2,0,0,42,42,999,null,null,null,5.0000000000000001E-4,"x",null,"xxxx"]
["ASOP.41",null,null,"",{"$f":"VLOOKUP(F364&\".\"&G364,syllabus!B$3:I$99,8,FALSE)&RIGHT(\"00000\"&J364,5)","v":"4006400"},"ASOP","41","ASOP.41: All","exam",6400,null,null,"exam:",null,null,"concept",null,"F",null,"",0,"","","","","","",1,2,0,0,42,42,999,null,null,null,5.0000000000000001E-4,"x",null,"xxxx"]
["ASOP.41",null,null,"",{"$f":"VLOOKUP(F365&\".\"&G365,syllabus!B$3:I$99,8,FALSE)&RIGHT(\"00000\"&J365,5)","v":"4006500"},"ASOP","41","ASOP.41: All","exam",6500,null,null,"exam:",null,null,"concept",null,"F",null,"",0,"","","","","","",1,2,0,0,42,42,999,null,null,null,5.0000000000000001E-4,"x",null,"xxxx"]
["ASOP.41",null,null,"",{"$f":"VLOOKUP(F366&\".\"&G366,syllabus!B$3:I$99,8,FALSE)&RIGHT(\"00000\"&J366,5)","v":"4006600"},"ASOP","41","ASOP.41: All","exam",6600,null,null,"exam:",null,null,"concept",null,"F",null,"",0,"","","","","","",1,2,0,0,42,42,999,null,null,null,5.0000000000000001E-4,"x",null,"xxxx"]
["ASOP.41",null,null,"",{"$f":"VLOOKUP(F367&\".\"&G367,syllabus!B$3:I$99,8,FALSE)&RIGHT(\"00000\"&J367,5)","v":"4006700"},"ASOP","41","ASOP.41: All","exam",6700,null,null,"exam:",null,null,"concept",null,"F",null,"",0,"","","","","","",1,2,0,0,42,42,999,null,null,null,5.0000000000000001E-4,"x",null,"xxxx"]
["ASOP.41",null,null,"",{"$f":"VLOOKUP(F368&\".\"&G368,syllabus!B$3:I$99,8,FALSE)&RIGHT(\"00000\"&J368,5)","v":"4006800"},"ASOP","41","ASOP.41: All","exam",6800,null,null,"exam:",null,null,"concept",null,"F",null,"",0,"","","","","","",1,2,0,0,42,42,999,null,null,null,5.0000000000000001E-4,"x",null,"xxxx"]
["ASOP.41",null,null,"",{"$f":"VLOOKUP(F369&\".\"&G369,syllabus!B$3:I$99,8,FALSE)&RIGHT(\"00000\"&J369,5)","v":"4006900"},"ASOP","41","ASOP.41: All","exam",6900,null,null,"exam:",null,null,"concept",null,"F",null,"",0,"","","","","","",1,2,0,0,42,42,999,null,null,null,5.0000000000000001E-4,"x",null,"xxxx"]
["ASOP.41",null,null,"",{"$f":"VLOOKUP(F370&\".\"&G370,syllabus!B$3:I$99,8,FALSE)&RIGHT(\"00000\"&J370,5)","v":"4007000"},"ASOP","41","ASOP.41: All","exam",7000,null,null,"exam:",null,null,"concept",null,"F",null,"",0,"","","","","","",1,2,0,0,42,42,999,null,null,null,5.0000000000000001E-4,"x",null,"xxxx"]
["ASOP.41",null,null,"",{"$f":"VLOOKUP(F371&\".\"&G371,syllabus!B$3:I$99,8,FALSE)&RIGHT(\"00000\"&J371,5)","v":"4007100"},"ASOP","41","ASOP.41: All","exam",7100,null,null,"exam:",null,null,"concept",null,"F",null,"",0,"","","","","","",1,2,0,0,42,42,999,null,null,null,5.0000000000000001E-4,"x",null,"xxxx"]
["ASOP.41",null,null,"",{"$f":"VLOOKUP(F372&\".\"&G372,syllabus!B$3:I$99,8,FALSE)&RIGHT(\"00000\"&J372,5)","v":"4007200"},"ASOP","41","ASOP.41: All","exam",7200,null,null,"exam:",null,null,"concept",null,"F",null,"",0,"","","","","","",1,2,0,0,42,42,999,null,null,null,5.0000000000000001E-4,"x",null,"xxxx"]
["ASOP.41",null,null,"",{"$f":"VLOOKUP(F373&\".\"&G373,syllabus!B$3:I$99,8,FALSE)&RIGHT(\"00000\"&J373,5)","v":"4007300"},"ASOP","41","ASOP.41: All","exam",7300,null,null,"exam:",null,null,"concept",null,"F",null,"",0,"","","","","","",1,2,0,0,42,42,999,null,null,null,5.0000000000000001E-4,"x",null,"xxxx"]
["ASOP.41",null,null,"",{"$f":"VLOOKUP(F374&\".\"&G374,syllabus!B$3:I$99,8,FALSE)&RIGHT(\"00000\"&J374,5)","v":"4007400"},"ASOP","41","ASOP.41: All","exam",7400,null,null,"exam:",null,null,"concept",null,"F",null,"",0,"","","","","","",1,2,0,0,42,42,999,null,null,null,5.0000000000000001E-4,"x",null,"xxxx"]
["ASOP.41",null,null,"",{"$f":"VLOOKUP(F375&\".\"&G375,syllabus!B$3:I$99,8,FALSE)&RIGHT(\"00000\"&J375,5)","v":"4007500"},"ASOP","41","ASOP.41: All","exam",7500,null,null,"exam:",null,null,"concept",null,"F",null,"",0,"","","","","","",1,2,0,0,42,42,999,null,null,null,5.0000000000000001E-4,"x",null,"xxxx"]
["ASOP.41",null,null,"",{"$f":"VLOOKUP(F376&\".\"&G376,syllabus!B$3:I$99,8,FALSE)&RIGHT(\"00000\"&J376,5)","v":"4007600"},"ASOP","41","ASOP.41: All","exam",7600,null,null,"exam:",null,null,"concept",null,"F",null,"",0,"","","","","","",1,2,0,0,42,42,999,null,null,null,5.0000000000000001E-4,"x",null,"xxxx"]
["ASOP.41",null,null,"",{"$f":"VLOOKUP(F377&\".\"&G377,syllabus!B$3:I$99,8,FALSE)&RIGHT(\"00000\"&J377,5)","v":"4007700"},"ASOP","41","ASOP.41: All","exam",7700,null,null,"exam:",null,null,"concept",null,"F",null,"",0,"","","","","","",1,2,0,0,42,42,999,null,null,null,5.0000000000000001E-4,"x",null,"xxxx"]
["ASOP.41",null,null,"",{"$f":"VLOOKUP(F378&\".\"&G378,syllabus!B$3:I$99,8,FALSE)&RIGHT(\"00000\"&J378,5)","v":"4007800"},"ASOP","41","ASOP.41: All","exam",7800,null,null,"exam:",null,null,"concept",null,"F",null,"",0,"","","","","","",1,2,0,0,42,42,999,null,null,null,5.0000000000000001E-4,"x",null,"xxxx"]
["ASOP.41",null,null,"",{"$f":"VLOOKUP(F379&\".\"&G379,syllabus!B$3:I$99,8,FALSE)&RIGHT(\"00000\"&J379,5)","v":"4007900"},"ASOP","41","ASOP.41: All","exam",7900,null,null,"exam:",null,null,"concept",null,"F",null,"",0,"","","","","","",1,2,0,0,42,42,999,null,null,null,5.0000000000000001E-4,"x",null,"xxxx"]
["ASOP.41",null,null,"",{"$f":"VLOOKUP(F380&\".\"&G380,syllabus!B$3:I$99,8,FALSE)&RIGHT(\"00000\"&J380,5)","v":"4008000"},"ASOP","41","ASOP.41: All","exam",8000,null,null,"exam:",null,null,"concept",null,"F",null,"",0,"","","","","","",1,2,0,0,42,42,999,null,null,null,5.0000000000000001E-4,"x",null,"xxxx"]
["ASOP.41",null,null,"",{"$f":"VLOOKUP(F381&\".\"&G381,syllabus!B$3:I$99,8,FALSE)&RIGHT(\"00000\"&J381,5)","v":"4008100"},"ASOP","41","ASOP.41: All","exam",8100,null,null,"exam:",null,null,"concept",null,"F",null,"",0,"","","","","","",1,2,0,0,42,42,999,null,null,null,5.0000000000000001E-4,"x",null,"xxxx"]
["ASOP.41",null,null,"",{"$f":"VLOOKUP(F382&\".\"&G382,syllabus!B$3:I$99,8,FALSE)&RIGHT(\"00000\"&J382,5)","v":"4008200"},"ASOP","41","ASOP.41: All","exam",8200,null,null,"exam:",null,null,"concept",null,"F",null,"",0,"","","","","","",1,2,0,0,42,42,999,null,null,null,5.0000000000000001E-4,"x",null,"xxxx"]
["ASOP.41",null,null,"",{"$f":"VLOOKUP(F383&\".\"&G383,syllabus!B$3:I$99,8,FALSE)&RIGHT(\"00000\"&J383,5)","v":"4008300"},"ASOP","41","ASOP.41: All","exam",8300,null,null,"exam:",null,null,"concept",null,"F",null,"",0,"","","","","","",1,2,0,0,42,42,999,null,null,null,5.0000000000000001E-4,"x",null,"xxxx"]
["ASOP.41",null,null,"",{"$f":"VLOOKUP(F384&\".\"&G384,syllabus!B$3:I$99,8,FALSE)&RIGHT(\"00000\"&J384,5)","v":"4008400"},"ASOP","41","ASOP.41: All","exam",8400,null,null,"exam:",null,null,"concept",null,"F",null,"",0,"","","","","","",1,2,0,0,42,42,999,null,null,null,5.0000000000000001E-4,"x",null,"xxxx"]
["ASOP.41",null,null,"",{"$f":"VLOOKUP(F385&\".\"&G385,syllabus!B$3:I$99,8,FALSE)&RIGHT(\"00000\"&J385,5)","v":"4008500"},"ASOP","41","ASOP.41: All","exam",8500,null,null,"exam:",null,null,"concept",null,"F",null,"",0,"","","","","","",1,2,0,0,42,42,999,null,null,null,5.0000000000000001E-4,"x",null,"xxxx"]
["ASOP.41",null,null,"",{"$f":"VLOOKUP(F386&\".\"&G386,syllabus!B$3:I$99,8,FALSE)&RIGHT(\"00000\"&J386,5)","v":"4008600"},"ASOP","41","ASOP.41: All","exam",8600,null,null,"exam:",null,null,"concept",null,"F",null,"",0,"","","","","","",1,2,0,0,42,42,999,null,null,null,5.0000000000000001E-4,"x",null,"xxxx"]
["ASOP.41",null,null,"",{"$f":"VLOOKUP(F387&\".\"&G387,syllabus!B$3:I$99,8,FALSE)&RIGHT(\"00000\"&J387,5)","v":"4008700"},"ASOP","41","ASOP.41: All","exam",8700,null,null,"exam:",null,null,"concept",null,"F",null,"",0,"","","","","","",1,2,0,0,42,42,999,null,null,null,5.0000000000000001E-4,"x",null,"xxxx"]
["ASOP.41",null,null,"",{"$f":"VLOOKUP(F388&\".\"&G388,syllabus!B$3:I$99,8,FALSE)&RIGHT(\"00000\"&J388,5)","v":"4008800"},"ASOP","41","ASOP.41: All","exam",8800,null,null,"exam:",null,null,"concept",null,"F",null,"",0,"","","","","","",1,2,0,0,42,42,999,null,null,null,5.0000000000000001E-4,"x",null,"xxxx"]
["ASOP.41",null,null,"",{"$f":"VLOOKUP(F389&\".\"&G389,syllabus!B$3:I$99,8,FALSE)&RIGHT(\"00000\"&J389,5)","v":"4008900"},"ASOP","41","ASOP.41: All","exam",8900,null,null,"exam:",null,null,"concept",null,"F",null,"",0,"","","","","","",1,2,0,0,42,42,999,null,null,null,5.0000000000000001E-4,"x",null,"xxxx"]
["ASOP.41",null,null,"",{"$f":"VLOOKUP(F390&\".\"&G390,syllabus!B$3:I$99,8,FALSE)&RIGHT(\"00000\"&J390,5)","v":"4009000"},"ASOP","41","ASOP.41: All","exam",9000,null,null,"exam:",null,null,"concept",null,"F",null,"",0,"","","","","","",1,2,0,0,42,42,999,null,null,null,5.0000000000000001E-4,"x",null,"xxxx"]
["ASOP.41",null,null,"",{"$f":"VLOOKUP(F391&\".\"&G391,syllabus!B$3:I$99,8,FALSE)&RIGHT(\"00000\"&J391,5)","v":"4009100"},"ASOP","41","ASOP.41: All","exam",9100,null,null,"exam:",null,null,"concept",null,"F",null,"",0,"","","","","","",1,2,0,0,42,42,999,null,null,null,5.0000000000000001E-4,"x",null,"xxxx"]
["ASOP.41",null,null,"",{"$f":"VLOOKUP(F392&\".\"&G392,syllabus!B$3:I$99,8,FALSE)&RIGHT(\"00000\"&J392,5)","v":"4009200"},"ASOP","41","ASOP.41: All","exam",9200,null,null,"exam:",null,null,"concept",null,"F",null,"",0,"","","","","","",1,2,0,0,42,42,999,null,null,null,5.0000000000000001E-4,"x",null,"xxxx"]
["ASOP.41",null,null,"",{"$f":"VLOOKUP(F393&\".\"&G393,syllabus!B$3:I$99,8,FALSE)&RIGHT(\"00000\"&J393,5)","v":"4009300"},"ASOP","41","ASOP.41: All","exam",9300,null,null,"exam:",null,null,"concept",null,"F",null,"",0,"","","","","","",1,2,0,0,42,42,999,null,null,null,5.0000000000000001E-4,"x",null,"xxxx"]
["ASOP.41",null,null,"",{"$f":"VLOOKUP(F394&\".\"&G394,syllabus!B$3:I$99,8,FALSE)&RIGHT(\"00000\"&J394,5)","v":"4009400"},"ASOP","41","ASOP.41: All","exam",9400,null,null,"exam:",null,null,"concept",null,"F",null,"",0,"","","","","","",1,2,0,0,42,42,999,null,null,null,5.0000000000000001E-4,"x",null,"xxxx"]
["ASOP.41",null,null,"",{"$f":"VLOOKUP(F395&\".\"&G395,syllabus!B$3:I$99,8,FALSE)&RIGHT(\"00000\"&J395,5)","v":"4009500"},"ASOP","41","ASOP.41: All","exam",9500,null,null,"exam:",null,null,"concept",null,"F",null,"",0,"","","","","","",1,2,0,0,42,42,999,null,null,null,5.0000000000000001E-4,"x",null,"xxxx"]
["ASOP.41",null,null,"",{"$f":"VLOOKUP(F396&\".\"&G396,syllabus!B$3:I$99,8,FALSE)&RIGHT(\"00000\"&J396,5)","v":"4009600"},"ASOP","41","ASOP.41: All","exam",9600,null,null,"exam:",null,null,"concept",null,"F",null,"",0,"","","","","","",1,2,0,0,42,42,999,null,null,null,5.0000000000000001E-4,"x",null,"xxxx"]
["ASOP.41",null,null,"",{"$f":"VLOOKUP(F397&\".\"&G397,syllabus!B$3:I$99,8,FALSE)&RIGHT(\"00000\"&J397,5)","v":"4009700"},"ASOP","41","ASOP.41: All","exam",9700,null,null,"exam:",null,null,"concept",null,"F",null,"",0,"","","","","","",1,2,0,0,42,42,999,null,null,null,5.0000000000000001E-4,"x",null,"xxxx"]
["ASOP.41",null,null,"",{"$f":"VLOOKUP(F398&\".\"&G398,syllabus!B$3:I$99,8,FALSE)&RIGHT(\"00000\"&J398,5)","v":"4009800"},"ASOP","41","ASOP.41: All","exam",9800,null,null,"exam:",null,null,"concept",null,"F",null,"",0,"","","","","","",1,2,0,0,42,42,999,null,null,null,5.0000000000000001E-4,"x",null,"xxxx"]
["ASOP.41",null,null,"",{"$f":"VLOOKUP(F399&\".\"&G399,syllabus!B$3:I$99,8,FALSE)&RIGHT(\"00000\"&J399,5)","v":"4009900"},"ASOP","41","ASOP.41: All","exam",9900,null,null,"exam:",null,null,"concept",null,"F",null,"",0,"","","","","","",1,2,0,0,42,42,999,null,null,null,5.0000000000000001E-4,"x",null,"xxxx"]
["ASOP.41",null,null,"",{"$f":"VLOOKUP(F400&\".\"&G400,syllabus!B$3:I$99,8,FALSE)&RIGHT(\"00000\"&J400,5)","v":"4009999"},"ASOP","41","ASOP.41: All","exam",9999,null,null,"exam:",null,null,"concept",null,"F",null,"",0,"","","","","","",1,2,0,0,42,42,999,null,null,null,5.0000000000000001E-4,"x",null,"xxxx"]
["ASOP.43","x",null,"",{"$f":"VLOOKUP(F401&\".\"&G401,syllabus!B$3:I$99,8,FALSE)&RIGHT(\"00000\"&J401,5)","v":"5000100"},"ASOP","43","ASOP.43: All","--",100,null,null,{"$f":"A401&\": All\"","v":"ASOP.43: All"},null,null,"--",null,"info",null,"",0,"","","","","","","","",0,0,46,46,999,null,null,null,5.0000000000000001E-4,"x",null,"xxxx"]
["ASOP.43",null,null,"",{"$f":"VLOOKUP(F402&\".\"&G402,syllabus!B$3:I$99,8,FALSE)&RIGHT(\"00000\"&J402,5)","v":"5000200"},"ASOP","43","ASOP.43: All","general",200,null,null,"general: identify specific items the AA must IDENTIFY regarding the unpaid claim estimate","<span style=\"color: red;\"><strong><u>clms-RED</u></strong></span> ~ <span style=\"color: red;\"><strong>clms</strong></span> (obvious!) ~~ - claims covered (line, state,..) ~ <span style=\"color: red;\"><strong>R</strong></span>einsurance: ~~ - net/gross basis, uncollectability risk ~ <span style=\"color: red;\"><strong>E</strong></span>xpenses ~ - types of unpaid adjustment expenses included in loss estimate ~ <span style=\"color: red;\"><strong>D</strong></span>iscounting: ~~ - does estimate include discounting","clms-RED","concept",null,"A",null,"",0,"","","","","","",1,13,2,7.2111025509279782,46,46,999,null,null,null,5.0000000000000001E-4,"x",null,1]
["ASOP.43",null,null,"",{"$f":"VLOOKUP(F403&\".\"&G403,syllabus!B$3:I$99,8,FALSE)&RIGHT(\"00000\"&J403,5)","v":"5000300"},"ASOP","43","ASOP.43: All","general",300,null,null,"general: identify specific factors the AA should CONSIDER when selecting a reserving method","<span style=\"color: red;\"><strong><u>PaNDA</u></strong></span> (the first \"a\" doesn't stand for anything) ~ <span style=\"color: red;\"><strong>P</strong></span>urpose of anlaysis ~~ - internal or external use ~ <span style=\"color: red;\"><strong>N</strong></span>ature of claims ~ <span style=\"color: red;\"><strong>D</strong></span>ata availability ~ <span style=\"color: red;\"><strong>A</strong></span>ssumptions underlying methods - approrpiate?","PaNDA","concept",null,"A",null,"",0,"","","","","","",1,8,2,5.6568542494923806,46,46,999,null,null,null,5.0000000000000001E-4,"x",null,1]
["ASOP.43",null,null,"",{"$f":"VLOOKUP(F404&\".\"&G404,syllabus!B$3:I$99,8,FALSE)&RIGHT(\"00000\"&J404,5)","v":"5000400"},"ASOP","43","ASOP.43: All","general",400,null,null,"general: identify specific items the AA should DISCLOSE regarding the unpaid claim estimate","<span style=\"color: red;\"><strong><u>PAR</u></strong></span> ~ <span style=\"color: red;\"><strong>P</strong></span>urpose & scope of analysis ~ <span style=\"color: red;\"><strong>A</strong></span>ccounting data, valuation date, review date ~ <span style=\"color: red;\"><strong>R</strong></span>MAD: sources of risks, significant events","P-SAR","concept",null,"A",null,"",0,"","","","","","",1,6,2,4.8989794855663558,46,46,999,null,null,null,5.0000000000000001E-4,"x",null,1]
["ASOP.43",null,null,"",{"$f":"VLOOKUP(F405&\".\"&G405,syllabus!B$3:I$99,8,FALSE)&RIGHT(\"00000\"&J405,5)","v":"5000500"},"ASOP","43","ASOP.43: All","BC",500,null,null,"BC:",null,null,"concept",null,"F",null,"",0,"","","","","","",1,2,0,0,46,46,999,null,null,null,5.0000000000000001E-4,"x",null,"xxxx"]
["ASOP.43",null,null,"",{"$f":"VLOOKUP(F406&\".\"&G406,syllabus!B$3:I$99,8,FALSE)&RIGHT(\"00000\"&J406,5)","v":"5000600"},"ASOP","43","ASOP.43: All","BC",600,null,null,"BC:",null,null,"concept",null,"F",null,"",0,"","","","","","",1,2,0,0,46,46,999,null,null,null,5.0000000000000001E-4,"x",null,"xxxx"]
["ASOP.43",null,null,"",{"$f":"VLOOKUP(F407&\".\"&G407,syllabus!B$3:I$99,8,FALSE)&RIGHT(\"00000\"&J407,5)","v":"5000700"},"ASOP","43","ASOP.43: All","BC",700,null,null,"BC:",null,null,"concept",null,"F",null,"",0,"","","","","","",1,2,0,0,46,46,999,null,null,null,5.0000000000000001E-4,"x",null,"xxxx"]
["ASOP.43",null,null,"",{"$f":"VLOOKUP(F408&\".\"&G408,syllabus!B$3:I$99,8,FALSE)&RIGHT(\"00000\"&J408,5)","v":"5000800"},"ASOP","43","ASOP.43: All","BC",800,null,null,"BC:",null,null,"concept",null,"F",null,"",0,"","","","","","",1,2,0,0,46,46,999,null,null,null,5.0000000000000001E-4,"x",null,"xxxx"]
["ASOP.43",null,null,"",{"$f":"VLOOKUP(F409&\".\"&G409,syllabus!B$3:I$99,8,FALSE)&RIGHT(\"00000\"&J409,5)","v":"5000900"},"ASOP","43","ASOP.43: All","BC",900,null,null,"BC:",null,null,"concept",null,"F",null,"",0,"","","","","","",1,2,0,0,46,46,999,null,null,null,5.0000000000000001E-4,"x",null,"xxxx"]
["ASOP.43",null,null,"",{"$f":"VLOOKUP(F410&\".\"&G410,syllabus!B$3:I$99,8,FALSE)&RIGHT(\"00000\"&J410,5)","v":"5001000"},"ASOP","43","ASOP.43: All","BC",1000,null,null,"BC:",null,null,"concept",null,"F",null,"",0,"","","","","","",1,2,0,0,46,46,999,null,null,null,5.0000000000000001E-4,"x",null,"xxxx"]
["ASOP.43",null,null,"",{"$f":"VLOOKUP(F411&\".\"&G411,syllabus!B$3:I$99,8,FALSE)&RIGHT(\"00000\"&J411,5)","v":"5001100"},"ASOP","43","ASOP.43: All","BC",1100,null,null,"BC:",null,null,"concept",null,"F",null,"",0,"","","","","","",1,2,0,0,46,46,999,null,null,null,5.0000000000000001E-4,"x",null,"xxxx"]
["ASOP.43",null,null,"",{"$f":"VLOOKUP(F412&\".\"&G412,syllabus!B$3:I$99,8,FALSE)&RIGHT(\"00000\"&J412,5)","v":"5001200"},"ASOP","43","ASOP.43: All","BC",1200,null,null,"BC:",null,null,"concept",null,"F",null,"",0,"","","","","","",1,2,0,0,46,46,999,null,null,null,5.0000000000000001E-4,"x",null,"xxxx"]
["ASOP.43",null,null,"",{"$f":"VLOOKUP(F413&\".\"&G413,syllabus!B$3:I$99,8,FALSE)&RIGHT(\"00000\"&J413,5)","v":"5001300"},"ASOP","43","ASOP.43: All","BC",1300,null,null,"BC:",null,null,"concept",null,"F",null,"",0,"","","","","","",1,2,0,0,46,46,999,null,null,null,5.0000000000000001E-4,"x",null,"xxxx"]
["ASOP.43",null,null,"",{"$f":"VLOOKUP(F414&\".\"&G414,syllabus!B$3:I$99,8,FALSE)&RIGHT(\"00000\"&J414,5)","v":"5001400"},"ASOP","43","ASOP.43: All","BC",1400,null,null,"BC:",null,null,"concept",null,"F",null,"",0,"","","","","","",1,2,0,0,46,46,999,null,null,null,5.0000000000000001E-4,"x",null,"xxxx"]
["ASOP.43",null,null,"",{"$f":"VLOOKUP(F415&\".\"&G415,syllabus!B$3:I$99,8,FALSE)&RIGHT(\"00000\"&J415,5)","v":"5001500"},"ASOP","43","ASOP.43: All","BC",1500,null,null,"BC:",null,null,"concept",null,"F",null,"",0,"","","","","","",1,2,0,0,46,46,999,null,null,null,5.0000000000000001E-4,"x",null,"xxxx"]
["ASOP.43",null,null,"",{"$f":"VLOOKUP(F416&\".\"&G416,syllabus!B$3:I$99,8,FALSE)&RIGHT(\"00000\"&J416,5)","v":"5001600"},"ASOP","43","ASOP.43: All","BC",1600,null,null,"BC:",null,null,"concept",null,"F",null,"",0,"","","","","","",1,2,0,0,46,46,999,null,null,null,5.0000000000000001E-4,"x",null,"xxxx"]
["ASOP.43",null,null,"",{"$f":"VLOOKUP(F417&\".\"&G417,syllabus!B$3:I$99,8,FALSE)&RIGHT(\"00000\"&J417,5)","v":"5001700"},"ASOP","43","ASOP.43: All","BC",1700,null,null,"BC:",null,null,"concept",null,"F",null,"",0,"","","","","","",1,2,0,0,46,46,999,null,null,null,5.0000000000000001E-4,"x",null,"xxxx"]
["ASOP.43",null,null,"",{"$f":"VLOOKUP(F418&\".\"&G418,syllabus!B$3:I$99,8,FALSE)&RIGHT(\"00000\"&J418,5)","v":"5001800"},"ASOP","43","ASOP.43: All","BC",1800,null,null,"BC:",null,null,"concept",null,"F",null,"",0,"","","","","","",1,2,0,0,46,46,999,null,null,null,5.0000000000000001E-4,"x",null,"xxxx"]
["ASOP.43",null,null,"",{"$f":"VLOOKUP(F419&\".\"&G419,syllabus!B$3:I$99,8,FALSE)&RIGHT(\"00000\"&J419,5)","v":"5001900"},"ASOP","43","ASOP.43: All","BC",1900,null,null,"BC:",null,null,"concept",null,"F",null,"",0,"","","","","","",1,2,0,0,46,46,999,null,null,null,5.0000000000000001E-4,"x",null,"xxxx"]
["ASOP.43",null,null,"",{"$f":"VLOOKUP(F420&\".\"&G420,syllabus!B$3:I$99,8,FALSE)&RIGHT(\"00000\"&J420,5)","v":"5002000"},"ASOP","43","ASOP.43: All","BC",2000,null,null,"BC:",null,null,"concept",null,"F",null,"",0,"","","","","","",1,2,0,0,46,46,999,null,null,null,5.0000000000000001E-4,"x",null,"xxxx"]
["ASOP.43",null,null,"",{"$f":"VLOOKUP(F421&\".\"&G421,syllabus!B$3:I$99,8,FALSE)&RIGHT(\"00000\"&J421,5)","v":"5002100"},"ASOP","43","ASOP.43: All","BC",2100,null,null,"BC:",null,null,"concept",null,"F",null,"",0,"","","","","","",1,2,0,0,46,46,999,null,null,null,5.0000000000000001E-4,"x",null,"xxxx"]
["ASOP.43",null,null,"",{"$f":"VLOOKUP(F422&\".\"&G422,syllabus!B$3:I$99,8,FALSE)&RIGHT(\"00000\"&J422,5)","v":"5002200"},"ASOP","43","ASOP.43: All","BC",2200,null,null,"BC:",null,null,"concept",null,"F",null,"",0,"","","","","","",1,2,0,0,46,46,999,null,null,null,5.0000000000000001E-4,"x",null,"xxxx"]
["ASOP.43",null,null,"",{"$f":"VLOOKUP(F423&\".\"&G423,syllabus!B$3:I$99,8,FALSE)&RIGHT(\"00000\"&J423,5)","v":"5002300"},"ASOP","43","ASOP.43: All","BC",2300,null,null,"BC:",null,null,"concept",null,"F",null,"",0,"","","","","","",1,2,0,0,46,46,999,null,null,null,5.0000000000000001E-4,"x",null,"xxxx"]
["ASOP.43",null,null,"",{"$f":"VLOOKUP(F424&\".\"&G424,syllabus!B$3:I$99,8,FALSE)&RIGHT(\"00000\"&J424,5)","v":"5002400"},"ASOP","43","ASOP.43: All","BC",2400,null,null,"BC:",null,null,"concept",null,"F",null,"",0,"","","","","","",1,2,0,0,46,46,999,null,null,null,5.0000000000000001E-4,"x",null,"xxxx"]
["ASOP.43",null,null,"",{"$f":"VLOOKUP(F425&\".\"&G425,syllabus!B$3:I$99,8,FALSE)&RIGHT(\"00000\"&J425,5)","v":"5002500"},"ASOP","43","ASOP.43: All","BC",2500,null,null,"BC:",null,null,"concept",null,"F",null,"",0,"","","","","","",1,2,0,0,46,46,999,null,null,null,5.0000000000000001E-4,"x",null,"xxxx"]
["ASOP.43",null,null,"",{"$f":"VLOOKUP(F426&\".\"&G426,syllabus!B$3:I$99,8,FALSE)&RIGHT(\"00000\"&J426,5)","v":"5002600"},"ASOP","43","ASOP.43: All","BC",2600,null,null,"BC:",null,null,"concept",null,"F",null,"",0,"","","","","","",1,2,0,0,46,46,999,null,null,null,5.0000000000000001E-4,"x",null,"xxxx"]
["ASOP.43",null,null,"",{"$f":"VLOOKUP(F427&\".\"&G427,syllabus!B$3:I$99,8,FALSE)&RIGHT(\"00000\"&J427,5)","v":"5002700"},"ASOP","43","ASOP.43: All","BC",2700,null,null,"BC:",null,null,"concept",null,"F",null,"",0,"","","","","","",1,2,0,0,46,46,999,null,null,null,5.0000000000000001E-4,"x",null,"xxxx"]
["ASOP.43",null,null,"",{"$f":"VLOOKUP(F428&\".\"&G428,syllabus!B$3:I$99,8,FALSE)&RIGHT(\"00000\"&J428,5)","v":"5002800"},"ASOP","43","ASOP.43: All","BC",2800,null,null,"BC:",null,null,"concept",null,"F",null,"",0,"","","","","","",1,2,0,0,46,46,999,null,null,null,5.0000000000000001E-4,"x",null,"xxxx"]
["ASOP.43",null,null,"",{"$f":"VLOOKUP(F429&\".\"&G429,syllabus!B$3:I$99,8,FALSE)&RIGHT(\"00000\"&J429,5)","v":"5002900"},"ASOP","43","ASOP.43: All","BC",2900,null,null,"BC:",null,null,"concept",null,"F",null,"",0,"","","","","","",1,2,0,0,46,46,999,null,null,null,5.0000000000000001E-4,"x",null,"xxxx"]
["ASOP.43",null,null,"",{"$f":"VLOOKUP(F430&\".\"&G430,syllabus!B$3:I$99,8,FALSE)&RIGHT(\"00000\"&J430,5)","v":"5003000"},"ASOP","43","ASOP.43: All","BC",3000,null,null,"BC:",null,null,"concept",null,"F",null,"",0,"","","","","","",1,2,0,0,46,46,999,null,null,null,5.0000000000000001E-4,"x",null,"xxxx"]
["ASOP.43",null,null,"",{"$f":"VLOOKUP(F431&\".\"&G431,syllabus!B$3:I$99,8,FALSE)&RIGHT(\"00000\"&J431,5)","v":"5003100"},"ASOP","43","ASOP.43: All","BC",3100,null,null,"BC:",null,null,"concept",null,"F",null,"",0,"","","","","","",1,2,0,0,46,46,999,null,null,null,5.0000000000000001E-4,"x",null,"xxxx"]
["ASOP.43",null,null,"",{"$f":"VLOOKUP(F432&\".\"&G432,syllabus!B$3:I$99,8,FALSE)&RIGHT(\"00000\"&J432,5)","v":"5003200"},"ASOP","43","ASOP.43: All","BC",3200,null,null,"BC:",null,null,"concept",null,"F",null,"",0,"","","","","","",1,2,0,0,46,46,999,null,null,null,5.0000000000000001E-4,"x",null,"xxxx"]
["ASOP.43",null,null,"",{"$f":"VLOOKUP(F433&\".\"&G433,syllabus!B$3:I$99,8,FALSE)&RIGHT(\"00000\"&J433,5)","v":"5003300"},"ASOP","43","ASOP.43: All","BC",3300,null,null,"BC:",null,null,"concept",null,"F",null,"",0,"","","","","","",1,2,0,0,46,46,999,null,null,null,5.0000000000000001E-4,"x",null,"xxxx"]
["ASOP.43",null,null,"",{"$f":"VLOOKUP(F434&\".\"&G434,syllabus!B$3:I$99,8,FALSE)&RIGHT(\"00000\"&J434,5)","v":"5003400"},"ASOP","43","ASOP.43: All","BC",3400,null,null,"BC:",null,null,"concept",null,"F",null,"",0,"","","","","","",1,2,0,0,46,46,999,null,null,null,5.0000000000000001E-4,"x",null,"xxxx"]
["ASOP.43",null,null,"",{"$f":"VLOOKUP(F435&\".\"&G435,syllabus!B$3:I$99,8,FALSE)&RIGHT(\"00000\"&J435,5)","v":"5003500"},"ASOP","43","ASOP.43: All","exam",3500,null,null,"exam:",null,null,"concept",null,"F",null,"",0,"","","","","","",1,2,0,0,46,46,999,null,null,null,5.0000000000000001E-4,"x",null,"xxxx"]
["ASOP.43",null,null,"",{"$f":"VLOOKUP(F436&\".\"&G436,syllabus!B$3:I$99,8,FALSE)&RIGHT(\"00000\"&J436,5)","v":"5003600"},"ASOP","43","ASOP.43: All","exam",3600,null,null,"exam:",null,null,"concept",null,"F",null,"",0,"","","","","","",1,2,0,0,46,46,999,null,null,null,5.0000000000000001E-4,"x",null,"xxxx"]
["ASOP.43",null,null,"",{"$f":"VLOOKUP(F437&\".\"&G437,syllabus!B$3:I$99,8,FALSE)&RIGHT(\"00000\"&J437,5)","v":"5003700"},"ASOP","43","ASOP.43: All","exam",3700,null,null,"exam:",null,null,"concept",null,"F",null,"",0,"","","","","","",1,2,0,0,46,46,999,null,null,null,5.0000000000000001E-4,"x",null,"xxxx"]
["ASOP.43",null,null,"",{"$f":"VLOOKUP(F438&\".\"&G438,syllabus!B$3:I$99,8,FALSE)&RIGHT(\"00000\"&J438,5)","v":"5003800"},"ASOP","43","ASOP.43: All","exam",3800,null,null,"exam:",null,null,"concept",null,"F",null,"",0,"","","","","","",1,2,0,0,46,46,999,null,null,null,5.0000000000000001E-4,"x",null,"xxxx"]
["ASOP.43",null,null,"",{"$f":"VLOOKUP(F439&\".\"&G439,syllabus!B$3:I$99,8,FALSE)&RIGHT(\"00000\"&J439,5)","v":"5003900"},"ASOP","43","ASOP.43: All","exam",3900,null,null,"exam:",null,null,"concept",null,"F",null,"",0,"","","","","","",1,2,0,0,46,46,999,null,null,null,5.0000000000000001E-4,"x",null,"xxxx"]
["ASOP.43",null,null,"",{"$f":"VLOOKUP(F440&\".\"&G440,syllabus!B$3:I$99,8,FALSE)&RIGHT(\"00000\"&J440,5)","v":"5004000"},"ASOP","43","ASOP.43: All","exam",4000,null,null,"exam:",null,null,"concept",null,"F",null,"",0,"","","","","","",1,2,0,0,46,46,999,null,null,null,5.0000000000000001E-4,"x",null,"xxxx"]
["ASOP.43",null,null,"",{"$f":"VLOOKUP(F441&\".\"&G441,syllabus!B$3:I$99,8,FALSE)&RIGHT(\"00000\"&J441,5)","v":"5004100"},"ASOP","43","ASOP.43: All","exam",4100,null,null,"exam:",null,null,"concept",null,"F",null,"",0,"","","","","","",1,2,0,0,46,46,999,null,null,null,5.0000000000000001E-4,"x",null,"xxxx"]
["ASOP.43",null,null,"",{"$f":"VLOOKUP(F442&\".\"&G442,syllabus!B$3:I$99,8,FALSE)&RIGHT(\"00000\"&J442,5)","v":"5004200"},"ASOP","43","ASOP.43: All","exam",4200,null,null,"exam:",null,null,"concept",null,"F",null,"",0,"","","","","","",1,2,0,0,46,46,999,null,null,null,5.0000000000000001E-4,"x",null,"xxxx"]
["ASOP.43",null,null,"",{"$f":"VLOOKUP(F443&\".\"&G443,syllabus!B$3:I$99,8,FALSE)&RIGHT(\"00000\"&J443,5)","v":"5004300"},"ASOP","43","ASOP.43: All","exam",4300,null,null,"exam:",null,null,"concept",null,"F",null,"",0,"","","","","","",1,2,0,0,46,46,999,null,null,null,5.0000000000000001E-4,"x",null,"xxxx"]
["ASOP.43",null,null,"",{"$f":"VLOOKUP(F444&\".\"&G444,syllabus!B$3:I$99,8,FALSE)&RIGHT(\"00000\"&J444,5)","v":"5004400"},"ASOP","43","ASOP.43: All","exam",4400,null,null,"exam:",null,null,"concept",null,"F",null,"",0,"","","","","","",1,2,0,0,46,46,999,null,null,null,5.0000000000000001E-4,"x",null,"xxxx"]
["ASOP.43",null,null,"",{"$f":"VLOOKUP(F445&\".\"&G445,syllabus!B$3:I$99,8,FALSE)&RIGHT(\"00000\"&J445,5)","v":"5004500"},"ASOP","43","ASOP.43: All","exam",4500,null,null,"exam:",null,null,"concept",null,"F",null,"",0,"","","","","","",1,2,0,0,46,46,999,null,null,null,5.0000000000000001E-4,"x",null,"xxxx"]
["ASOP.43",null,null,"",{"$f":"VLOOKUP(F446&\".\"&G446,syllabus!B$3:I$99,8,FALSE)&RIGHT(\"00000\"&J446,5)","v":"5004600"},"ASOP","43","ASOP.43: All","exam",4600,null,null,"exam:",null,null,"concept",null,"F",null,"",0,"","","","","","",1,2,0,0,46,46,999,null,null,null,5.0000000000000001E-4,"x",null,"xxxx"]
["ASOP.43",null,null,"",{"$f":"VLOOKUP(F447&\".\"&G447,syllabus!B$3:I$99,8,FALSE)&RIGHT(\"00000\"&J447,5)","v":"5004700"},"ASOP","43","ASOP.43: All","exam",4700,null,null,"exam:",null,null,"concept",null,"F",null,"",0,"","","","","","",1,2,0,0,46,46,999,null,null,null,5.0000000000000001E-4,"x",null,"xxxx"]
["ASOP.43",null,null,"",{"$f":"VLOOKUP(F448&\".\"&G448,syllabus!B$3:I$99,8,FALSE)&RIGHT(\"00000\"&J448,5)","v":"5004800"},"ASOP","43","ASOP.43: All","exam",4800,null,null,"exam:",null,null,"concept",null,"F",null,"",0,"","","","","","",1,2,0,0,46,46,999,null,null,null,5.0000000000000001E-4,"x",null,"xxxx"]
["ASOP.43",null,null,"",{"$f":"VLOOKUP(F449&\".\"&G449,syllabus!B$3:I$99,8,FALSE)&RIGHT(\"00000\"&J449,5)","v":"5004900"},"ASOP","43","ASOP.43: All","exam",4900,null,null,"exam:",null,null,"concept",null,"F",null,"",0,"","","","","","",1,2,0,0,46,46,999,null,null,null,5.0000000000000001E-4,"x",null,"xxxx"]
["ASOP.43",null,null,"",{"$f":"VLOOKUP(F450&\".\"&G450,syllabus!B$3:I$99,8,FALSE)&RIGHT(\"00000\"&J450,5)","v":"5005000"},"ASOP","43","ASOP.43: All","exam",5000,null,null,"exam:",null,null,"concept",null,"F",null,"",0,"","","","","","",1,2,0,0,46,46,999,null,null,null,5.0000000000000001E-4,"x",null,"xxxx"]
["ASOP.43",null,null,"",{"$f":"VLOOKUP(F451&\".\"&G451,syllabus!B$3:I$99,8,FALSE)&RIGHT(\"00000\"&J451,5)","v":"5005100"},"ASOP","43","ASOP.43: All","exam",5100,null,null,"exam:",null,null,"concept",null,"F",null,"",0,"","","","","","",1,2,0,0,46,46,999,null,null,null,5.0000000000000001E-4,"x",null,"xxxx"]
["ASOP.43",null,null,"",{"$f":"VLOOKUP(F452&\".\"&G452,syllabus!B$3:I$99,8,FALSE)&RIGHT(\"00000\"&J452,5)","v":"5005200"},"ASOP","43","ASOP.43: All","exam",5200,null,null,"exam:",null,null,"concept",null,"F",null,"",0,"","","","","","",1,2,0,0,46,46,999,null,null,null,5.0000000000000001E-4,"x",null,"xxxx"]
["ASOP.43",null,null,"",{"$f":"VLOOKUP(F453&\".\"&G453,syllabus!B$3:I$99,8,FALSE)&RIGHT(\"00000\"&J453,5)","v":"5005300"},"ASOP","43","ASOP.43: All","exam",5300,null,null,"exam:",null,null,"concept",null,"F",null,"",0,"","","","","","",1,2,0,0,46,46,999,null,null,null,5.0000000000000001E-4,"x",null,"xxxx"]
["ASOP.43",null,null,"",{"$f":"VLOOKUP(F454&\".\"&G454,syllabus!B$3:I$99,8,FALSE)&RIGHT(\"00000\"&J454,5)","v":"5005400"},"ASOP","43","ASOP.43: All","exam",5400,null,null,"exam:",null,null,"concept",null,"F",null,"",0,"","","","","","",1,2,0,0,46,46,999,null,null,null,5.0000000000000001E-4,"x",null,"xxxx"]
["ASOP.43",null,null,"",{"$f":"VLOOKUP(F455&\".\"&G455,syllabus!B$3:I$99,8,FALSE)&RIGHT(\"00000\"&J455,5)","v":"5005500"},"ASOP","43","ASOP.43: All","exam",5500,null,null,"exam:",null,null,"concept",null,"F",null,"",0,"","","","","","",1,2,0,0,46,46,999,null,null,null,5.0000000000000001E-4,"x",null,"xxxx"]
["ASOP.43",null,null,"",{"$f":"VLOOKUP(F456&\".\"&G456,syllabus!B$3:I$99,8,FALSE)&RIGHT(\"00000\"&J456,5)","v":"5005600"},"ASOP","43","ASOP.43: All","exam",5600,null,null,"exam:",null,null,"concept",null,"F",null,"",0,"","","","","","",1,2,0,0,46,46,999,null,null,null,5.0000000000000001E-4,"x",null,"xxxx"]
["ASOP.43",null,null,"",{"$f":"VLOOKUP(F457&\".\"&G457,syllabus!B$3:I$99,8,FALSE)&RIGHT(\"00000\"&J457,5)","v":"5005700"},"ASOP","43","ASOP.43: All","exam",5700,null,null,"exam:",null,null,"concept",null,"F",null,"",0,"","","","","","",1,2,0,0,46,46,999,null,null,null,5.0000000000000001E-4,"x",null,"xxxx"]
["ASOP.43",null,null,"",{"$f":"VLOOKUP(F458&\".\"&G458,syllabus!B$3:I$99,8,FALSE)&RIGHT(\"00000\"&J458,5)","v":"5005800"},"ASOP","43","ASOP.43: All","exam",5800,null,null,"exam:",null,null,"concept",null,"F",null,"",0,"","","","","","",1,2,0,0,46,46,999,null,null,null,5.0000000000000001E-4,"x",null,"xxxx"]
["ASOP.43",null,null,"",{"$f":"VLOOKUP(F459&\".\"&G459,syllabus!B$3:I$99,8,FALSE)&RIGHT(\"00000\"&J459,5)","v":"5005900"},"ASOP","43","ASOP.43: All","exam",5900,null,null,"exam:",null,null,"concept",null,"F",null,"",0,"","","","","","",1,2,0,0,46,46,999,null,null,null,5.0000000000000001E-4,"x",null,"xxxx"]
["ASOP.43",null,null,"",{"$f":"VLOOKUP(F460&\".\"&G460,syllabus!B$3:I$99,8,FALSE)&RIGHT(\"00000\"&J460,5)","v":"5006000"},"ASOP","43","ASOP.43: All","exam",6000,"x",null,"exam: start Fall.2017 here (at numID = 6000)",null,null,"concept",null,"F",null,"",0,"","","","","","",1,2,0,0,46,46,999,null,null,null,5.0000000000000001E-4,"x",null,"xxxx"]
["ASOP.43",null,null,"",{"$f":"VLOOKUP(F461&\".\"&G461,syllabus!B$3:I$99,8,FALSE)&RIGHT(\"00000\"&J461,5)","v":"5006100"},"ASOP","43","ASOP.43: All","exam",6100,null,null,"exam:",null,null,"concept",null,"F",null,"",0,"","","","","","",1,2,0,0,46,46,999,null,null,null,5.0000000000000001E-4,"x",null,"xxxx"]
["ASOP.43",null,null,"",{"$f":"VLOOKUP(F462&\".\"&G462,syllabus!B$3:I$99,8,FALSE)&RIGHT(\"00000\"&J462,5)","v":"5006200"},"ASOP","43","ASOP.43: All","exam",6200,null,null,"exam:",null,null,"concept",null,"F",null,"",0,"","","","","","",1,2,0,0,46,46,999,null,null,null,5.0000000000000001E-4,"x",null,"xxxx"]
["ASOP.43",null,null,"",{"$f":"VLOOKUP(F463&\".\"&G463,syllabus!B$3:I$99,8,FALSE)&RIGHT(\"00000\"&J463,5)","v":"5006300"},"ASOP","43","ASOP.43: All","exam",6300,null,null,"exam:",null,null,"concept",null,"F",null,"",0,"","","","","","",1,2,0,0,46,46,999,null,null,null,5.0000000000000001E-4,"x",null,"xxxx"]
["ASOP.43",null,null,"",{"$f":"VLOOKUP(F464&\".\"&G464,syllabus!B$3:I$99,8,FALSE)&RIGHT(\"00000\"&J464,5)","v":"5006400"},"ASOP","43","ASOP.43: All","exam",6400,null,null,"exam:",null,null,"concept",null,"F",null,"",0,"","","","","","",1,2,0,0,46,46,999,null,null,null,5.0000000000000001E-4,"x",null,"xxxx"]
["ASOP.43",null,null,"",{"$f":"VLOOKUP(F465&\".\"&G465,syllabus!B$3:I$99,8,FALSE)&RIGHT(\"00000\"&J465,5)","v":"5006500"},"ASOP","43","ASOP.43: All","exam",6500,null,null,"exam:",null,null,"concept",null,"F",null,"",0,"","","","","","",1,2,0,0,46,46,999,null,null,null,5.0000000000000001E-4,"x",null,"xxxx"]
["ASOP.43",null,null,"",{"$f":"VLOOKUP(F466&\".\"&G466,syllabus!B$3:I$99,8,FALSE)&RIGHT(\"00000\"&J466,5)","v":"5006600"},"ASOP","43","ASOP.43: All","exam",6600,null,null,"exam:",null,null,"concept",null,"F",null,"",0,"","","","","","",1,2,0,0,46,46,999,null,null,null,5.0000000000000001E-4,"x",null,"xxxx"]
["ASOP.43",null,null,"",{"$f":"VLOOKUP(F467&\".\"&G467,syllabus!B$3:I$99,8,FALSE)&RIGHT(\"00000\"&J467,5)","v":"5006700"},"ASOP","43","ASOP.43: All","exam",6700,null,null,"exam:",null,null,"concept",null,"F",null,"",0,"","","","","","",1,2,0,0,46,46,999,null,null,null,5.0000000000000001E-4,"x",null,"xxxx"]
["ASOP.43",null,null,"",{"$f":"VLOOKUP(F468&\".\"&G468,syllabus!B$3:I$99,8,FALSE)&RIGHT(\"00000\"&J468,5)","v":"5006800"},"ASOP","43","ASOP.43: All","exam",6800,null,null,"exam:",null,null,"concept",null,"F",null,"",0,"","","","","","",1,2,0,0,46,46,999,null,null,null,5.0000000000000001E-4,"x",null,"xxxx"]
["ASOP.43",null,null,"",{"$f":"VLOOKUP(F469&\".\"&G469,syllabus!B$3:I$99,8,FALSE)&RIGHT(\"00000\"&J469,5)","v":"5006900"},"ASOP","43","ASOP.43: All","exam",6900,null,null,"exam:",null,null,"concept",null,"F",null,"",0,"","","","","","",1,2,0,0,46,46,999,null,null,null,5.0000000000000001E-4,"x",null,"xxxx"]
["ASOP.43",null,null,"",{"$f":"VLOOKUP(F470&\".\"&G470,syllabus!B$3:I$99,8,FALSE)&RIGHT(\"00000\"&J470,5)","v":"5007000"},"ASOP","43","ASOP.43: All","exam",7000,null,null,"exam:",null,null,"concept",null,"F",null,"",0,"","","","","","",1,2,0,0,46,46,999,null,null,null,5.0000000000000001E-4,"x",null,"xxxx"]
["ASOP.43",null,null,"",{"$f":"VLOOKUP(F471&\".\"&G471,syllabus!B$3:I$99,8,FALSE)&RIGHT(\"00000\"&J471,5)","v":"5007100"},"ASOP","43","ASOP.43: All","exam",7100,null,null,"exam:",null,null,"concept",null,"F",null,"",0,"","","","","","",1,2,0,0,46,46,999,null,null,null,5.0000000000000001E-4,"x",null,"xxxx"]
["ASOP.43",null,null,"",{"$f":"VLOOKUP(F472&\".\"&G472,syllabus!B$3:I$99,8,FALSE)&RIGHT(\"00000\"&J472,5)","v":"5007200"},"ASOP","43","ASOP.43: All","exam",7200,null,null,"exam:",null,null,"concept",null,"F",null,"",0,"","","","","","",1,2,0,0,46,46,999,null,null,null,5.0000000000000001E-4,"x",null,"xxxx"]
["ASOP.43",null,null,"",{"$f":"VLOOKUP(F473&\".\"&G473,syllabus!B$3:I$99,8,FALSE)&RIGHT(\"00000\"&J473,5)","v":"5007300"},"ASOP","43","ASOP.43: All","exam",7300,null,null,"exam:",null,null,"concept",null,"F",null,"",0,"","","","","","",1,2,0,0,46,46,999,null,null,null,5.0000000000000001E-4,"x",null,"xxxx"]
["ASOP.43",null,null,"",{"$f":"VLOOKUP(F474&\".\"&G474,syllabus!B$3:I$99,8,FALSE)&RIGHT(\"00000\"&J474,5)","v":"5007400"},"ASOP","43","ASOP.43: All","exam",7400,null,null,"exam:",null,null,"concept",null,"F",null,"",0,"","","","","","",1,2,0,0,46,46,999,null,null,null,5.0000000000000001E-4,"x",null,"xxxx"]
["ASOP.43",null,null,"",{"$f":"VLOOKUP(F475&\".\"&G475,syllabus!B$3:I$99,8,FALSE)&RIGHT(\"00000\"&J475,5)","v":"5007500"},"ASOP","43","ASOP.43: All","exam",7500,null,null,"exam:",null,null,"concept",null,"F",null,"",0,"","","","","","",1,2,0,0,46,46,999,null,null,null,5.0000000000000001E-4,"x",null,"xxxx"]
["ASOP.43",null,null,"",{"$f":"VLOOKUP(F476&\".\"&G476,syllabus!B$3:I$99,8,FALSE)&RIGHT(\"00000\"&J476,5)","v":"5007600"},"ASOP","43","ASOP.43: All","exam",7600,null,null,"exam:",null,null,"concept",null,"F",null,"",0,"","","","","","",1,2,0,0,46,46,999,null,null,null,5.0000000000000001E-4,"x",null,"xxxx"]
["ASOP.43",null,null,"",{"$f":"VLOOKUP(F477&\".\"&G477,syllabus!B$3:I$99,8,FALSE)&RIGHT(\"00000\"&J477,5)","v":"5007700"},"ASOP","43","ASOP.43: All","exam",7700,null,null,"exam:",null,null,"concept",null,"F",null,"",0,"","","","","","",1,2,0,0,46,46,999,null,null,null,5.0000000000000001E-4,"x",null,"xxxx"]
["ASOP.43",null,null,"",{"$f":"VLOOKUP(F478&\".\"&G478,syllabus!B$3:I$99,8,FALSE)&RIGHT(\"00000\"&J478,5)","v":"5007800"},"ASOP","43","ASOP.43: All","exam",7800,null,null,"exam:",null,null,"concept",null,"F",null,"",0,"","","","","","",1,2,0,0,46,46,999,null,null,null,5.0000000000000001E-4,"x",null,"xxxx"]
["ASOP.43",null,null,"",{"$f":"VLOOKUP(F479&\".\"&G479,syllabus!B$3:I$99,8,FALSE)&RIGHT(\"00000\"&J479,5)","v":"5007900"},"ASOP","43","ASOP.43: All","exam",7900,null,null,"exam:",null,null,"concept",null,"F",null,"",0,"","","","","","",1,2,0,0,46,46,999,null,null,null,5.0000000000000001E-4,"x",null,"xxxx"]
["ASOP.43",null,null,"",{"$f":"VLOOKUP(F480&\".\"&G480,syllabus!B$3:I$99,8,FALSE)&RIGHT(\"00000\"&J480,5)","v":"5008000"},"ASOP","43","ASOP.43: All","exam",8000,null,null,"exam:",null,null,"concept",null,"F",null,"",0,"","","","","","",1,2,0,0,46,46,999,null,null,null,5.0000000000000001E-4,"x",null,"xxxx"]
["ASOP.43",null,null,"",{"$f":"VLOOKUP(F481&\".\"&G481,syllabus!B$3:I$99,8,FALSE)&RIGHT(\"00000\"&J481,5)","v":"5008100"},"ASOP","43","ASOP.43: All","exam",8100,null,null,"exam:",null,null,"concept",null,"F",null,"",0,"","","","","","",1,2,0,0,46,46,999,null,null,null,5.0000000000000001E-4,"x",null,"xxxx"]
["ASOP.43",null,null,"",{"$f":"VLOOKUP(F482&\".\"&G482,syllabus!B$3:I$99,8,FALSE)&RIGHT(\"00000\"&J482,5)","v":"5008200"},"ASOP","43","ASOP.43: All","exam",8200,null,null,"exam:",null,null,"concept",null,"F",null,"",0,"","","","","","",1,2,0,0,46,46,999,null,null,null,5.0000000000000001E-4,"x",null,"xxxx"]
["ASOP.43",null,null,"",{"$f":"VLOOKUP(F483&\".\"&G483,syllabus!B$3:I$99,8,FALSE)&RIGHT(\"00000\"&J483,5)","v":"5008300"},"ASOP","43","ASOP.43: All","exam",8300,null,null,"exam:",null,null,"concept",null,"F",null,"",0,"","","","","","",1,2,0,0,46,46,999,null,null,null,5.0000000000000001E-4,"x",null,"xxxx"]
["ASOP.43",null,null,"",{"$f":"VLOOKUP(F484&\".\"&G484,syllabus!B$3:I$99,8,FALSE)&RIGHT(\"00000\"&J484,5)","v":"5008400"},"ASOP","43","ASOP.43: All","exam",8400,null,null,"exam:",null,null,"concept",null,"F",null,"",0,"","","","","","",1,2,0,0,46,46,999,null,null,null,5.0000000000000001E-4,"x",null,"xxxx"]
["ASOP.43",null,null,"",{"$f":"VLOOKUP(F485&\".\"&G485,syllabus!B$3:I$99,8,FALSE)&RIGHT(\"00000\"&J485,5)","v":"5008500"},"ASOP","43","ASOP.43: All","exam",8500,null,null,"exam:",null,null,"concept",null,"F",null,"",0,"","","","","","",1,2,0,0,46,46,999,null,null,null,5.0000000000000001E-4,"x",null,"xxxx"]
["ASOP.43",null,null,"",{"$f":"VLOOKUP(F486&\".\"&G486,syllabus!B$3:I$99,8,FALSE)&RIGHT(\"00000\"&J486,5)","v":"5008600"},"ASOP","43","ASOP.43: All","exam",8600,null,null,"exam:",null,null,"concept",null,"F",null,"",0,"","","","","","",1,2,0,0,46,46,999,null,null,null,5.0000000000000001E-4,"x",null,"xxxx"]
["ASOP.43",null,null,"",{"$f":"VLOOKUP(F487&\".\"&G487,syllabus!B$3:I$99,8,FALSE)&RIGHT(\"00000\"&J487,5)","v":"5008700"},"ASOP","43","ASOP.43: All","exam",8700,null,null,"exam:",null,null,"concept",null,"F",null,"",0,"","","","","","",1,2,0,0,46,46,999,null,null,null,5.0000000000000001E-4,"x",null,"xxxx"]
["ASOP.43",null,null,"",{"$f":"VLOOKUP(F488&\".\"&G488,syllabus!B$3:I$99,8,FALSE)&RIGHT(\"00000\"&J488,5)","v":"5008800"},"ASOP","43","ASOP.43: All","exam",8800,null,null,"exam:",null,null,"concept",null,"F",null,"",0,"","","","","","",1,2,0,0,46,46,999,null,null,null,5.0000000000000001E-4,"x",null,"xxxx"]
["ASOP.43",null,null,"",{"$f":"VLOOKUP(F489&\".\"&G489,syllabus!B$3:I$99,8,FALSE)&RIGHT(\"00000\"&J489,5)","v":"5008900"},"ASOP","43","ASOP.43: All","exam",8900,null,null,"exam:",null,null,"concept",null,"F",null,"",0,"","","","","","",1,2,0,0,46,46,999,null,null,null,5.0000000000000001E-4,"x",null,"xxxx"]
["ASOP.43",null,null,"",{"$f":"VLOOKUP(F490&\".\"&G490,syllabus!B$3:I$99,8,FALSE)&RIGHT(\"00000\"&J490,5)","v":"5009000"},"ASOP","43","ASOP.43: All","exam",9000,null,null,"exam:",null,null,"concept",null,"F",null,"",0,"","","","","","",1,2,0,0,46,46,999,null,null,null,5.0000000000000001E-4,"x",null,"xxxx"]
["ASOP.43",null,null,"",{"$f":"VLOOKUP(F491&\".\"&G491,syllabus!B$3:I$99,8,FALSE)&RIGHT(\"00000\"&J491,5)","v":"5009100"},"ASOP","43","ASOP.43: All","exam",9100,null,null,"exam:",null,null,"concept",null,"F",null,"",0,"","","","","","",1,2,0,0,46,46,999,null,null,null,5.0000000000000001E-4,"x",null,"xxxx"]
["ASOP.43",null,null,"",{"$f":"VLOOKUP(F492&\".\"&G492,syllabus!B$3:I$99,8,FALSE)&RIGHT(\"00000\"&J492,5)","v":"5009200"},"ASOP","43","ASOP.43: All","exam",9200,null,null,"exam:",null,null,"concept",null,"F",null,"",0,"","","","","","",1,2,0,0,46,46,999,null,null,null,5.0000000000000001E-4,"x",null,"xxxx"]
["ASOP.43",null,null,"",{"$f":"VLOOKUP(F493&\".\"&G493,syllabus!B$3:I$99,8,FALSE)&RIGHT(\"00000\"&J493,5)","v":"5009300"},"ASOP","43","ASOP.43: All","exam",9300,null,null,"exam:",null,null,"concept",null,"F",null,"",0,"","","","","","",1,2,0,0,46,46,999,null,null,null,5.0000000000000001E-4,"x",null,"xxxx"]
["ASOP.43",null,null,"",{"$f":"VLOOKUP(F494&\".\"&G494,syllabus!B$3:I$99,8,FALSE)&RIGHT(\"00000\"&J494,5)","v":"5009400"},"ASOP","43","ASOP.43: All","exam",9400,null,null,"exam:",null,null,"concept",null,"F",null,"",0,"","","","","","",1,2,0,0,46,46,999,null,null,null,5.0000000000000001E-4,"x",null,"xxxx"]
["ASOP.43",null,null,"",{"$f":"VLOOKUP(F495&\".\"&G495,syllabus!B$3:I$99,8,FALSE)&RIGHT(\"00000\"&J495,5)","v":"5009500"},"ASOP","43","ASOP.43: All","exam",9500,null,null,"exam:",null,null,"concept",null,"F",null,"",0,"","","","","","",1,2,0,0,46,46,999,null,null,null,5.0000000000000001E-4,"x",null,"xxxx"]
["ASOP.43",null,null,"",{"$f":"VLOOKUP(F496&\".\"&G496,syllabus!B$3:I$99,8,FALSE)&RIGHT(\"00000\"&J496,5)","v":"5009600"},"ASOP","43","ASOP.43: All","exam",9600,null,null,"exam:",null,null,"concept",null,"F",null,"",0,"","","","","","",1,2,0,0,46,46,999,null,null,null,5.0000000000000001E-4,"x",null,"xxxx"]
["ASOP.43",null,null,"",{"$f":"VLOOKUP(F497&\".\"&G497,syllabus!B$3:I$99,8,FALSE)&RIGHT(\"00000\"&J497,5)","v":"5009700"},"ASOP","43","ASOP.43: All","exam",9700,null,null,"exam:",null,null,"concept",null,"F",null,"",0,"","","","","","",1,2,0,0,46,46,999,null,null,null,5.0000000000000001E-4,"x",null,"xxxx"]
["ASOP.43",null,null,"",{"$f":"VLOOKUP(F498&\".\"&G498,syllabus!B$3:I$99,8,FALSE)&RIGHT(\"00000\"&J498,5)","v":"5009800"},"ASOP","43","ASOP.43: All","exam",9800,null,null,"exam:",null,null,"concept",null,"F",null,"",0,"","","","","","",1,2,0,0,46,46,999,null,null,null,5.0000000000000001E-4,"x",null,"xxxx"]
["ASOP.43",null,null,"",{"$f":"VLOOKUP(F499&\".\"&G499,syllabus!B$3:I$99,8,FALSE)&RIGHT(\"00000\"&J499,5)","v":"5009900"},"ASOP","43","ASOP.43: All","exam",9900,null,null,"exam:",null,null,"concept",null,"F",null,"",0,"","","","","","",1,2,0,0,46,46,999,null,null,null,5.0000000000000001E-4,"x",null,"xxxx"]
["ASOP.43",null,null,"",{"$f":"VLOOKUP(F500&\".\"&G500,syllabus!B$3:I$99,8,FALSE)&RIGHT(\"00000\"&J500,5)","v":"5009999"},"ASOP","43","ASOP.43: All","exam",9999,null,null,"exam:",null,null,"concept",null,"F",null,"",0,"","","","","","",1,2,0,0,46,46,999,null,null,null,5.0000000000000001E-4,"x",null,"xxxx"]
["AAA.Materiality","x",null,"",{"$f":"VLOOKUP(F501&\".\"&G501,syllabus!B$3:I$99,8,FALSE)&RIGHT(\"00000\"&J501,5)","v":"6000100"},"AAA","Materiality","AAA.Materiality: All","--",100,null,null,{"$f":"A501&\": All\"","v":"AAA.Materiality: All"},null,null,"--",null,"info",null,"",0,"","","","","","","","",0,0,49,49,999,null,null,null,5.0000000000000001E-4,"x",null,"xxxx"]
["AAA.Materiality",null,null,"",{"$f":"VLOOKUP(F502&\".\"&G502,syllabus!B$3:I$99,8,FALSE)&RIGHT(\"00000\"&J502,5)","v":"6000200"},"AAA","Materiality","AAA.Materiality: All","general",200,null,null,"general: describe the concept of materiality","==> an omission, understatement or overstatement in a work product is <strong>material</strong> if it is likely to affect either the intended principal user's <u>decision-making</u> or the intended principal user's <u>reasonable expectations</u>","an omission..","concept",null,"A",null,"",0,"","","","","","",1,4,2,4,49,49,999,null,null,null,5.0000000000000001E-4,"x",null,1]
["AAA.Materiality",null,null,"",{"$f":"VLOOKUP(F503&\".\"&G503,syllabus!B$3:I$99,8,FALSE)&RIGHT(\"00000\"&J503,5)","v":"6000300"},"AAA","Materiality","AAA.Materiality: All","general",300,null,null,"general: identify considerations regarding the disclosure of materiality in actuarial communications","<span style=\"color: red;\"><strong>S</strong></span>ophistication of user ~ <span style=\"color: red;\"><strong>I</strong></span>mportant of concept to user ~ <span style=\"color: red;\"><strong>C</strong></span>omplexity of concept","SIC","concept",null,"A",null,"",0,"","","","","","",1,4,2,4,49,49,999,null,null,null,5.0000000000000001E-4,"x",null,1]
["AAA.Materiality",null,null,"",{"$f":"VLOOKUP(F504&\".\"&G504,syllabus!B$3:I$99,8,FALSE)&RIGHT(\"00000\"&J504,5)","v":"6000400"},"AAA","Materiality","AAA.Materiality: All","general",400,null,null,"general: identify possible actions of a report-writer based on materiality","INCLUDE ITEM? ~~ - ask yourself whether should the item be <u>considered</u> ~ REFINE ITEM? ~~ - ask yourself whether item sufficiently <u>accurate</u> ~ DISCLOSE ITEM? ~~ - ask yourself whether the item should be <u>reported</u>","IRD","concept",null,"B",null,"",0,"","","","","","",1,10,0.2,0.63245553203367599,49,49,999,null,null,null,5.0000000000000001E-4,"x",null,1]
["AAA.Materiality",null,null,"",{"$f":"VLOOKUP(F505&\".\"&G505,syllabus!B$3:I$99,8,FALSE)&RIGHT(\"00000\"&J505,5)","v":"6000500"},"AAA","Materiality","AAA.Materiality: All","general",500,null,null,"general: identify characteristics of an insurance company that may affect materiality","<span style=\"color: red;\"><strong>F</strong></span>inancial strength ~ &nbsp;&nbsp;&nbsp;&ndash; ~ <span style=\"color: red;\"><strong>S</strong></span>ize (of entity) ~ <span style=\"color: red;\"><strong>T</strong></span>ype of business ~ <span style=\"color: red;\"><strong>A</strong></span>ccess (to capital) ~ net <span style=\"color: red;\"><strong>R</strong></span>etention ~ <span style=\"color: red;\"><strong>S</strong></span>tage (of organization's life cycle)","F-STARS","concept",null,"B",null,"",0,"","","","","","",1,8,0.2,0.56568542494923812,49,49,999,null,null,null,5.0000000000000001E-4,"x",null,1]
["AAA.Materiality",null,null,"",{"$f":"VLOOKUP(F506&\".\"&G506,syllabus!B$3:I$99,8,FALSE)&RIGHT(\"00000\"&J506,5)","v":"6000600"},"AAA","Materiality","AAA.Materiality: All","BC",600,null,null,"BC:",null,null,"concept",null,"F",null,"",0,"","","","","","",1,2,0,0,49,49,999,null,null,null,5.0000000000000001E-4,"x",null,"xxxx"]
["AAA.Materiality",null,null,"",{"$f":"VLOOKUP(F507&\".\"&G507,syllabus!B$3:I$99,8,FALSE)&RIGHT(\"00000\"&J507,5)","v":"6000700"},"AAA","Materiality","AAA.Materiality: All","BC",700,null,null,"BC:",null,null,"concept",null,"F",null,"",0,"","","","","","",1,2,0,0,49,49,999,null,null,null,5.0000000000000001E-4,"x",null,"xxxx"]
["AAA.Materiality",null,null,"",{"$f":"VLOOKUP(F508&\".\"&G508,syllabus!B$3:I$99,8,FALSE)&RIGHT(\"00000\"&J508,5)","v":"6000800"},"AAA","Materiality","AAA.Materiality: All","BC",800,null,null,"BC:",null,null,"concept",null,"F",null,"",0,"","","","","","",1,2,0,0,49,49,999,null,null,null,5.0000000000000001E-4,"x",null,"xxxx"]
["AAA.Materiality",null,null,"",{"$f":"VLOOKUP(F509&\".\"&G509,syllabus!B$3:I$99,8,FALSE)&RIGHT(\"00000\"&J509,5)","v":"6000900"},"AAA","Materiality","AAA.Materiality: All","BC",900,null,null,"BC:",null,null,"concept",null,"F",null,"",0,"","","","","","",1,2,0,0,49,49,999,null,null,null,5.0000000000000001E-4,"x",null,"xxxx"]
["AAA.Materiality",null,null,"",{"$f":"VLOOKUP(F510&\".\"&G510,syllabus!B$3:I$99,8,FALSE)&RIGHT(\"00000\"&J510,5)","v":"6001000"},"AAA","Materiality","AAA.Materiality: All","BC",1000,null,null,"BC:",null,null,"concept",null,"F",null,"",0,"","","","","","",1,2,0,0,49,49,999,null,null,null,5.0000000000000001E-4,"x",null,"xxxx"]
["AAA.Materiality",null,null,"",{"$f":"VLOOKUP(F511&\".\"&G511,syllabus!B$3:I$99,8,FALSE)&RIGHT(\"00000\"&J511,5)","v":"6001100"},"AAA","Materiality","AAA.Materiality: All","BC",1100,null,null,"BC:",null,null,"concept",null,"F",null,"",0,"","","","","","",1,2,0,0,49,49,999,null,null,null,5.0000000000000001E-4,"x",null,"xxxx"]
["AAA.Materiality",null,null,"",{"$f":"VLOOKUP(F512&\".\"&G512,syllabus!B$3:I$99,8,FALSE)&RIGHT(\"00000\"&J512,5)","v":"6001200"},"AAA","Materiality","AAA.Materiality: All","BC",1200,null,null,"BC:",null,null,"concept",null,"F",null,"",0,"","","","","","",1,2,0,0,49,49,999,null,null,null,5.0000000000000001E-4,"x",null,"xxxx"]
["AAA.Materiality",null,null,"",{"$f":"VLOOKUP(F513&\".\"&G513,syllabus!B$3:I$99,8,FALSE)&RIGHT(\"00000\"&J513,5)","v":"6001300"},"AAA","Materiality","AAA.Materiality: All","BC",1300,null,null,"BC:",null,null,"concept",null,"F",null,"",0,"","","","","","",1,2,0,0,49,49,999,null,null,null,5.0000000000000001E-4,"x",null,"xxxx"]
["AAA.Materiality",null,null,"",{"$f":"VLOOKUP(F514&\".\"&G514,syllabus!B$3:I$99,8,FALSE)&RIGHT(\"00000\"&J514,5)","v":"6001400"},"AAA","Materiality","AAA.Materiality: All","BC",1400,null,null,"BC:",null,null,"concept",null,"F",null,"",0,"","","","","","",1,2,0,0,49,49,999,null,null,null,5.0000000000000001E-4,"x",null,"xxxx"]
["AAA.Materiality",null,null,"",{"$f":"VLOOKUP(F515&\".\"&G515,syllabus!B$3:I$99,8,FALSE)&RIGHT(\"00000\"&J515,5)","v":"6001500"},"AAA","Materiality","AAA.Materiality: All","BC",1500,null,null,"BC:",null,null,"concept",null,"F",null,"",0,"","","","","","",1,2,0,0,49,49,999,null,null,null,5.0000000000000001E-4,"x",null,"xxxx"]
["AAA.Materiality",null,null,"",{"$f":"VLOOKUP(F516&\".\"&G516,syllabus!B$3:I$99,8,FALSE)&RIGHT(\"00000\"&J516,5)","v":"6001600"},"AAA","Materiality","AAA.Materiality: All","BC",1600,null,null,"BC:",null,null,"concept",null,"F",null,"",0,"","","","","","",1,2,0,0,49,49,999,null,null,null,5.0000000000000001E-4,"x",null,"xxxx"]
["AAA.Materiality",null,null,"",{"$f":"VLOOKUP(F517&\".\"&G517,syllabus!B$3:I$99,8,FALSE)&RIGHT(\"00000\"&J517,5)","v":"6001700"},"AAA","Materiality","AAA.Materiality: All","BC",1700,null,null,"BC:",null,null,"concept",null,"F",null,"",0,"","","","","","",1,2,0,0,49,49,999,null,null,null,5.0000000000000001E-4,"x",null,"xxxx"]
["AAA.Materiality",null,null,"",{"$f":"VLOOKUP(F518&\".\"&G518,syllabus!B$3:I$99,8,FALSE)&RIGHT(\"00000\"&J518,5)","v":"6001800"},"AAA","Materiality","AAA.Materiality: All","BC",1800,null,null,"BC:",null,null,"concept",null,"F",null,"",0,"","","","","","",1,2,0,0,49,49,999,null,null,null,5.0000000000000001E-4,"x",null,"xxxx"]
["AAA.Materiality",null,null,"",{"$f":"VLOOKUP(F519&\".\"&G519,syllabus!B$3:I$99,8,FALSE)&RIGHT(\"00000\"&J519,5)","v":"6001900"},"AAA","Materiality","AAA.Materiality: All","BC",1900,null,null,"BC:",null,null,"concept",null,"F",null,"",0,"","","","","","",1,2,0,0,49,49,999,null,null,null,5.0000000000000001E-4,"x",null,"xxxx"]
["AAA.Materiality",null,null,"",{"$f":"VLOOKUP(F520&\".\"&G520,syllabus!B$3:I$99,8,FALSE)&RIGHT(\"00000\"&J520,5)","v":"6002000"},"AAA","Materiality","AAA.Materiality: All","BC",2000,null,null,"BC:",null,null,"concept",null,"F",null,"",0,"","","","","","",1,2,0,0,49,49,999,null,null,null,5.0000000000000001E-4,"x",null,"xxxx"]
["AAA.Materiality",null,null,"",{"$f":"VLOOKUP(F521&\".\"&G521,syllabus!B$3:I$99,8,FALSE)&RIGHT(\"00000\"&J521,5)","v":"6002100"},"AAA","Materiality","AAA.Materiality: All","BC",2100,null,null,"BC:",null,null,"concept",null,"F",null,"",0,"","","","","","",1,2,0,0,49,49,999,null,null,null,5.0000000000000001E-4,"x",null,"xxxx"]
["AAA.Materiality",null,null,"",{"$f":"VLOOKUP(F522&\".\"&G522,syllabus!B$3:I$99,8,FALSE)&RIGHT(\"00000\"&J522,5)","v":"6002200"},"AAA","Materiality","AAA.Materiality: All","BC",2200,null,null,"BC:",null,null,"concept",null,"F",null,"",0,"","","","","","",1,2,0,0,49,49,999,null,null,null,5.0000000000000001E-4,"x",null,"xxxx"]
["AAA.Materiality",null,null,"",{"$f":"VLOOKUP(F523&\".\"&G523,syllabus!B$3:I$99,8,FALSE)&RIGHT(\"00000\"&J523,5)","v":"6002300"},"AAA","Materiality","AAA.Materiality: All","BC",2300,null,null,"BC:",null,null,"concept",null,"F",null,"",0,"","","","","","",1,2,0,0,49,49,999,null,null,null,5.0000000000000001E-4,"x",null,"xxxx"]
["AAA.Materiality",null,null,"",{"$f":"VLOOKUP(F524&\".\"&G524,syllabus!B$3:I$99,8,FALSE)&RIGHT(\"00000\"&J524,5)","v":"6002400"},"AAA","Materiality","AAA.Materiality: All","BC",2400,null,null,"BC:",null,null,"concept",null,"F",null,"",0,"","","","","","",1,2,0,0,49,49,999,null,null,null,5.0000000000000001E-4,"x",null,"xxxx"]
["AAA.Materiality",null,null,"",{"$f":"VLOOKUP(F525&\".\"&G525,syllabus!B$3:I$99,8,FALSE)&RIGHT(\"00000\"&J525,5)","v":"6002500"},"AAA","Materiality","AAA.Materiality: All","BC",2500,null,null,"BC:",null,null,"concept",null,"F",null,"",0,"","","","","","",1,2,0,0,49,49,999,null,null,null,5.0000000000000001E-4,"x",null,"xxxx"]
["AAA.Materiality",null,null,"",{"$f":"VLOOKUP(F526&\".\"&G526,syllabus!B$3:I$99,8,FALSE)&RIGHT(\"00000\"&J526,5)","v":"6002600"},"AAA","Materiality","AAA.Materiality: All","BC",2600,null,null,"BC:",null,null,"concept",null,"F",null,"",0,"","","","","","",1,2,0,0,49,49,999,null,null,null,5.0000000000000001E-4,"x",null,"xxxx"]
["AAA.Materiality",null,null,"",{"$f":"VLOOKUP(F527&\".\"&G527,syllabus!B$3:I$99,8,FALSE)&RIGHT(\"00000\"&J527,5)","v":"6002700"},"AAA","Materiality","AAA.Materiality: All","BC",2700,null,null,"BC:",null,null,"concept",null,"F",null,"",0,"","","","","","",1,2,0,0,49,49,999,null,null,null,5.0000000000000001E-4,"x",null,"xxxx"]
["AAA.Materiality",null,null,"",{"$f":"VLOOKUP(F528&\".\"&G528,syllabus!B$3:I$99,8,FALSE)&RIGHT(\"00000\"&J528,5)","v":"6002800"},"AAA","Materiality","AAA.Materiality: All","BC",2800,null,null,"BC:",null,null,"concept",null,"F",null,"",0,"","","","","","",1,2,0,0,49,49,999,null,null,null,5.0000000000000001E-4,"x",null,"xxxx"]
["AAA.Materiality",null,null,"",{"$f":"VLOOKUP(F529&\".\"&G529,syllabus!B$3:I$99,8,FALSE)&RIGHT(\"00000\"&J529,5)","v":"6002900"},"AAA","Materiality","AAA.Materiality: All","BC",2900,null,null,"BC:",null,null,"concept",null,"F",null,"",0,"","","","","","",1,2,0,0,49,49,999,null,null,null,5.0000000000000001E-4,"x",null,"xxxx"]
["AAA.Materiality",null,null,"",{"$f":"VLOOKUP(F530&\".\"&G530,syllabus!B$3:I$99,8,FALSE)&RIGHT(\"00000\"&J530,5)","v":"6003000"},"AAA","Materiality","AAA.Materiality: All","BC",3000,null,null,"BC:",null,null,"concept",null,"F",null,"",0,"","","","","","",1,2,0,0,49,49,999,null,null,null,5.0000000000000001E-4,"x",null,"xxxx"]
["AAA.Materiality",null,null,"",{"$f":"VLOOKUP(F531&\".\"&G531,syllabus!B$3:I$99,8,FALSE)&RIGHT(\"00000\"&J531,5)","v":"6003100"},"AAA","Materiality","AAA.Materiality: All","BC",3100,null,null,"BC:",null,null,"concept",null,"F",null,"",0,"","","","","","",1,2,0,0,49,49,999,null,null,null,5.0000000000000001E-4,"x",null,"xxxx"]
["AAA.Materiality",null,null,"",{"$f":"VLOOKUP(F532&\".\"&G532,syllabus!B$3:I$99,8,FALSE)&RIGHT(\"00000\"&J532,5)","v":"6003200"},"AAA","Materiality","AAA.Materiality: All","BC",3200,null,null,"BC:",null,null,"concept",null,"F",null,"",0,"","","","","","",1,2,0,0,49,49,999,null,null,null,5.0000000000000001E-4,"x",null,"xxxx"]
["AAA.Materiality",null,null,"",{"$f":"VLOOKUP(F533&\".\"&G533,syllabus!B$3:I$99,8,FALSE)&RIGHT(\"00000\"&J533,5)","v":"6003300"},"AAA","Materiality","AAA.Materiality: All","BC",3300,null,null,"BC:",null,null,"concept",null,"F",null,"",0,"","","","","","",1,2,0,0,49,49,999,null,null,null,5.0000000000000001E-4,"x",null,"xxxx"]
["AAA.Materiality",null,null,"",{"$f":"VLOOKUP(F534&\".\"&G534,syllabus!B$3:I$99,8,FALSE)&RIGHT(\"00000\"&J534,5)","v":"6003400"},"AAA","Materiality","AAA.Materiality: All","BC",3400,null,null,"BC:",null,null,"concept",null,"F",null,"",0,"","","","","","",1,2,0,0,49,49,999,null,null,null,5.0000000000000001E-4,"x",null,"xxxx"]
["AAA.Materiality",null,null,"",{"$f":"VLOOKUP(F535&\".\"&G535,syllabus!B$3:I$99,8,FALSE)&RIGHT(\"00000\"&J535,5)","v":"6003500"},"AAA","Materiality","AAA.Materiality: All","exam",3500,null,null,"exam:",null,null,"concept",null,"F",null,"",0,"","","","","","",1,2,0,0,49,49,999,null,null,null,5.0000000000000001E-4,"x",null,"xxxx"]
["AAA.Materiality",null,null,"",{"$f":"VLOOKUP(F536&\".\"&G536,syllabus!B$3:I$99,8,FALSE)&RIGHT(\"00000\"&J536,5)","v":"6003600"},"AAA","Materiality","AAA.Materiality: All","exam",3600,null,null,"exam:",null,null,"concept",null,"F",null,"",0,"","","","","","",1,2,0,0,49,49,999,null,null,null,5.0000000000000001E-4,"x",null,"xxxx"]
["AAA.Materiality",null,null,"",{"$f":"VLOOKUP(F537&\".\"&G537,syllabus!B$3:I$99,8,FALSE)&RIGHT(\"00000\"&J537,5)","v":"6003700"},"AAA","Materiality","AAA.Materiality: All","exam",3700,null,null,"exam:",null,null,"concept",null,"F",null,"",0,"","","","","","",1,2,0,0,49,49,999,null,null,null,5.0000000000000001E-4,"x",null,"xxxx"]
["AAA.Materiality",null,null,"",{"$f":"VLOOKUP(F538&\".\"&G538,syllabus!B$3:I$99,8,FALSE)&RIGHT(\"00000\"&J538,5)","v":"6003800"},"AAA","Materiality","AAA.Materiality: All","exam",3800,null,null,"exam:",null,null,"concept",null,"F",null,"",0,"","","","","","",1,2,0,0,49,49,999,null,null,null,5.0000000000000001E-4,"x",null,"xxxx"]
["AAA.Materiality",null,null,"",{"$f":"VLOOKUP(F539&\".\"&G539,syllabus!B$3:I$99,8,FALSE)&RIGHT(\"00000\"&J539,5)","v":"6003900"},"AAA","Materiality","AAA.Materiality: All","exam",3900,null,null,"exam:",null,null,"concept",null,"F",null,"",0,"","","","","","",1,2,0,0,49,49,999,null,null,null,5.0000000000000001E-4,"x",null,"xxxx"]
["AAA.Materiality",null,null,"",{"$f":"VLOOKUP(F540&\".\"&G540,syllabus!B$3:I$99,8,FALSE)&RIGHT(\"00000\"&J540,5)","v":"6004000"},"AAA","Materiality","AAA.Materiality: All","exam",4000,null,null,"exam:",null,null,"concept",null,"F",null,"",0,"","","","","","",1,2,0,0,49,49,999,null,null,null,5.0000000000000001E-4,"x",null,"xxxx"]
["AAA.Materiality",null,null,"",{"$f":"VLOOKUP(F541&\".\"&G541,syllabus!B$3:I$99,8,FALSE)&RIGHT(\"00000\"&J541,5)","v":"6004100"},"AAA","Materiality","AAA.Materiality: All","exam",4100,null,null,"exam:",null,null,"concept",null,"F",null,"",0,"","","","","","",1,2,0,0,49,49,999,null,null,null,5.0000000000000001E-4,"x",null,"xxxx"]
["AAA.Materiality",null,null,"",{"$f":"VLOOKUP(F542&\".\"&G542,syllabus!B$3:I$99,8,FALSE)&RIGHT(\"00000\"&J542,5)","v":"6004200"},"AAA","Materiality","AAA.Materiality: All","exam",4200,null,null,"exam:",null,null,"concept",null,"F",null,"",0,"","","","","","",1,2,0,0,49,49,999,null,null,null,5.0000000000000001E-4,"x",null,"xxxx"]
["AAA.Materiality",null,null,"",{"$f":"VLOOKUP(F543&\".\"&G543,syllabus!B$3:I$99,8,FALSE)&RIGHT(\"00000\"&J543,5)","v":"6004300"},"AAA","Materiality","AAA.Materiality: All","exam",4300,null,null,"exam:",null,null,"concept",null,"F",null,"",0,"","","","","","",1,2,0,0,49,49,999,null,null,null,5.0000000000000001E-4,"x",null,"xxxx"]
["AAA.Materiality",null,null,"",{"$f":"VLOOKUP(F544&\".\"&G544,syllabus!B$3:I$99,8,FALSE)&RIGHT(\"00000\"&J544,5)","v":"6004400"},"AAA","Materiality","AAA.Materiality: All","exam",4400,null,null,"exam:",null,null,"concept",null,"F",null,"",0,"","","","","","",1,2,0,0,49,49,999,null,null,null,5.0000000000000001E-4,"x",null,"xxxx"]
["AAA.Materiality",null,null,"",{"$f":"VLOOKUP(F545&\".\"&G545,syllabus!B$3:I$99,8,FALSE)&RIGHT(\"00000\"&J545,5)","v":"6004500"},"AAA","Materiality","AAA.Materiality: All","exam",4500,null,null,"exam:",null,null,"concept",null,"F",null,"",0,"","","","","","",1,2,0,0,49,49,999,null,null,null,5.0000000000000001E-4,"x",null,"xxxx"]
["AAA.Materiality",null,null,"",{"$f":"VLOOKUP(F546&\".\"&G546,syllabus!B$3:I$99,8,FALSE)&RIGHT(\"00000\"&J546,5)","v":"6004600"},"AAA","Materiality","AAA.Materiality: All","exam",4600,null,null,"exam:",null,null,"concept",null,"F",null,"",0,"","","","","","",1,2,0,0,49,49,999,null,null,null,5.0000000000000001E-4,"x",null,"xxxx"]
["AAA.Materiality",null,null,"",{"$f":"VLOOKUP(F547&\".\"&G547,syllabus!B$3:I$99,8,FALSE)&RIGHT(\"00000\"&J547,5)","v":"6004700"},"AAA","Materiality","AAA.Materiality: All","exam",4700,null,null,"exam:",null,null,"concept",null,"F",null,"",0,"","","","","","",1,2,0,0,49,49,999,null,null,null,5.0000000000000001E-4,"x",null,"xxxx"]
["AAA.Materiality",null,null,"",{"$f":"VLOOKUP(F548&\".\"&G548,syllabus!B$3:I$99,8,FALSE)&RIGHT(\"00000\"&J548,5)","v":"6004800"},"AAA","Materiality","AAA.Materiality: All","exam",4800,null,null,"exam:",null,null,"concept",null,"F",null,"",0,"","","","","","",1,2,0,0,49,49,999,null,null,null,5.0000000000000001E-4,"x",null,"xxxx"]
["AAA.Materiality",null,null,"",{"$f":"VLOOKUP(F549&\".\"&G549,syllabus!B$3:I$99,8,FALSE)&RIGHT(\"00000\"&J549,5)","v":"6004900"},"AAA","Materiality","AAA.Materiality: All","exam",4900,null,null,"exam:",null,null,"concept",null,"F",null,"",0,"","","","","","",1,2,0,0,49,49,999,null,null,null,5.0000000000000001E-4,"x",null,"xxxx"]
["AAA.Materiality",null,null,"",{"$f":"VLOOKUP(F550&\".\"&G550,syllabus!B$3:I$99,8,FALSE)&RIGHT(\"00000\"&J550,5)","v":"6005000"},"AAA","Materiality","AAA.Materiality: All","exam",5000,null,null,"exam:",null,null,"concept",null,"F",null,"",0,"","","","","","",1,2,0,0,49,49,999,null,null,null,5.0000000000000001E-4,"x",null,"xxxx"]
["AAA.Materiality",null,null,"",{"$f":"VLOOKUP(F551&\".\"&G551,syllabus!B$3:I$99,8,FALSE)&RIGHT(\"00000\"&J551,5)","v":"6005100"},"AAA","Materiality","AAA.Materiality: All","exam",5100,null,null,"exam:",null,null,"concept",null,"F",null,"",0,"","","","","","",1,2,0,0,49,49,999,null,null,null,5.0000000000000001E-4,"x",null,"xxxx"]
["AAA.Materiality",null,null,"",{"$f":"VLOOKUP(F552&\".\"&G552,syllabus!B$3:I$99,8,FALSE)&RIGHT(\"00000\"&J552,5)","v":"6005200"},"AAA","Materiality","AAA.Materiality: All","exam",5200,null,null,"exam:",null,null,"concept",null,"F",null,"",0,"","","","","","",1,2,0,0,49,49,999,null,null,null,5.0000000000000001E-4,"x",null,"xxxx"]
["AAA.Materiality",null,null,"",{"$f":"VLOOKUP(F553&\".\"&G553,syllabus!B$3:I$99,8,FALSE)&RIGHT(\"00000\"&J553,5)","v":"6005300"},"AAA","Materiality","AAA.Materiality: All","exam",5300,null,null,"exam:",null,null,"concept",null,"F",null,"",0,"","","","","","",1,2,0,0,49,49,999,null,null,null,5.0000000000000001E-4,"x",null,"xxxx"]
["AAA.Materiality",null,null,"",{"$f":"VLOOKUP(F554&\".\"&G554,syllabus!B$3:I$99,8,FALSE)&RIGHT(\"00000\"&J554,5)","v":"6005400"},"AAA","Materiality","AAA.Materiality: All","exam",5400,null,null,"exam:",null,null,"concept",null,"F",null,"",0,"","","","","","",1,2,0,0,49,49,999,null,null,null,5.0000000000000001E-4,"x",null,"xxxx"]
["AAA.Materiality",null,null,"",{"$f":"VLOOKUP(F555&\".\"&G555,syllabus!B$3:I$99,8,FALSE)&RIGHT(\"00000\"&J555,5)","v":"6005500"},"AAA","Materiality","AAA.Materiality: All","exam",5500,null,null,"exam:",null,null,"concept",null,"F",null,"",0,"","","","","","",1,2,0,0,49,49,999,null,null,null,5.0000000000000001E-4,"x",null,"xxxx"]
["AAA.Materiality",null,null,"",{"$f":"VLOOKUP(F556&\".\"&G556,syllabus!B$3:I$99,8,FALSE)&RIGHT(\"00000\"&J556,5)","v":"6005600"},"AAA","Materiality","AAA.Materiality: All","exam",5600,null,null,"exam:",null,null,"concept",null,"F",null,"",0,"","","","","","",1,2,0,0,49,49,999,null,null,null,5.0000000000000001E-4,"x",null,"xxxx"]
["AAA.Materiality",null,null,"",{"$f":"VLOOKUP(F557&\".\"&G557,syllabus!B$3:I$99,8,FALSE)&RIGHT(\"00000\"&J557,5)","v":"6005700"},"AAA","Materiality","AAA.Materiality: All","exam",5700,null,null,"exam:",null,null,"concept",null,"F",null,"",0,"","","","","","",1,2,0,0,49,49,999,null,null,null,5.0000000000000001E-4,"x",null,"xxxx"]
["AAA.Materiality",null,null,"",{"$f":"VLOOKUP(F558&\".\"&G558,syllabus!B$3:I$99,8,FALSE)&RIGHT(\"00000\"&J558,5)","v":"6005800"},"AAA","Materiality","AAA.Materiality: All","exam",5800,null,null,"exam:",null,null,"concept",null,"F",null,"",0,"","","","","","",1,2,0,0,49,49,999,null,null,null,5.0000000000000001E-4,"x",null,"xxxx"]
["AAA.Materiality",null,null,"",{"$f":"VLOOKUP(F559&\".\"&G559,syllabus!B$3:I$99,8,FALSE)&RIGHT(\"00000\"&J559,5)","v":"6005900"},"AAA","Materiality","AAA.Materiality: All","exam",5900,null,null,"exam:",null,null,"concept",null,"F",null,"",0,"","","","","","",1,2,0,0,49,49,999,null,null,null,5.0000000000000001E-4,"x",null,"xxxx"]
["AAA.Materiality",null,null,"",{"$f":"VLOOKUP(F560&\".\"&G560,syllabus!B$3:I$99,8,FALSE)&RIGHT(\"00000\"&J560,5)","v":"6006000"},"AAA","Materiality","AAA.Materiality: All","exam",6000,"x",null,"exam: start Fall.2017 here (at numID = 6000)",null,null,"concept",null,"F",null,"",0,"","","","","","",1,2,0,0,49,49,999,null,null,null,5.0000000000000001E-4,"x",null,"xxxx"]
["AAA.Materiality",null,null,"",{"$f":"VLOOKUP(F561&\".\"&G561,syllabus!B$3:I$99,8,FALSE)&RIGHT(\"00000\"&J561,5)","v":"6006100"},"AAA","Materiality","AAA.Materiality: All","exam",6100,null,null,"exam:",null,null,"concept",null,"F",null,"",0,"","","","","","",1,2,0,0,49,49,999,null,null,null,5.0000000000000001E-4,"x",null,"xxxx"]
["AAA.Materiality",null,null,"",{"$f":"VLOOKUP(F562&\".\"&G562,syllabus!B$3:I$99,8,FALSE)&RIGHT(\"00000\"&J562,5)","v":"6006200"},"AAA","Materiality","AAA.Materiality: All","exam",6200,null,null,"exam:",null,null,"concept",null,"F",null,"",0,"","","","","","",1,2,0,0,49,49,999,null,null,null,5.0000000000000001E-4,"x",null,"xxxx"]
["AAA.Materiality",null,null,"",{"$f":"VLOOKUP(F563&\".\"&G563,syllabus!B$3:I$99,8,FALSE)&RIGHT(\"00000\"&J563,5)","v":"6006300"},"AAA","Materiality","AAA.Materiality: All","exam",6300,null,null,"exam:",null,null,"concept",null,"F",null,"",0,"","","","","","",1,2,0,0,49,49,999,null,null,null,5.0000000000000001E-4,"x",null,"xxxx"]
["AAA.Materiality",null,null,"",{"$f":"VLOOKUP(F564&\".\"&G564,syllabus!B$3:I$99,8,FALSE)&RIGHT(\"00000\"&J564,5)","v":"6006400"},"AAA","Materiality","AAA.Materiality: All","exam",6400,null,null,"exam:",null,null,"concept",null,"F",null,"",0,"","","","","","",1,2,0,0,49,49,999,null,null,null,5.0000000000000001E-4,"x",null,"xxxx"]
["AAA.Materiality",null,null,"",{"$f":"VLOOKUP(F565&\".\"&G565,syllabus!B$3:I$99,8,FALSE)&RIGHT(\"00000\"&J565,5)","v":"6006500"},"AAA","Materiality","AAA.Materiality: All","exam",6500,null,null,"exam:",null,null,"concept",null,"F",null,"",0,"","","","","","",1,2,0,0,49,49,999,null,null,null,5.0000000000000001E-4,"x",null,"xxxx"]
["AAA.Materiality",null,null,"",{"$f":"VLOOKUP(F566&\".\"&G566,syllabus!B$3:I$99,8,FALSE)&RIGHT(\"00000\"&J566,5)","v":"6006600"},"AAA","Materiality","AAA.Materiality: All","exam",6600,null,null,"exam:",null,null,"concept",null,"F",null,"",0,"","","","","","",1,2,0,0,49,49,999,null,null,null,5.0000000000000001E-4,"x",null,"xxxx"]
["AAA.Materiality",null,null,"",{"$f":"VLOOKUP(F567&\".\"&G567,syllabus!B$3:I$99,8,FALSE)&RIGHT(\"00000\"&J567,5)","v":"6006700"},"AAA","Materiality","AAA.Materiality: All","exam",6700,null,null,"exam:",null,null,"concept",null,"F",null,"",0,"","","","","","",1,2,0,0,49,49,999,null,null,null,5.0000000000000001E-4,"x",null,"xxxx"]
["AAA.Materiality",null,null,"",{"$f":"VLOOKUP(F568&\".\"&G568,syllabus!B$3:I$99,8,FALSE)&RIGHT(\"00000\"&J568,5)","v":"6006800"},"AAA","Materiality","AAA.Materiality: All","exam",6800,null,null,"exam:",null,null,"concept",null,"F",null,"",0,"","","","","","",1,2,0,0,49,49,999,null,null,null,5.0000000000000001E-4,"x",null,"xxxx"]
["AAA.Materiality",null,null,"",{"$f":"VLOOKUP(F569&\".\"&G569,syllabus!B$3:I$99,8,FALSE)&RIGHT(\"00000\"&J569,5)","v":"6006900"},"AAA","Materiality","AAA.Materiality: All","exam",6900,null,null,"exam:",null,null,"concept",null,"F",null,"",0,"","","","","","",1,2,0,0,49,49,999,null,null,null,5.0000000000000001E-4,"x",null,"xxxx"]
["AAA.Materiality",null,null,"",{"$f":"VLOOKUP(F570&\".\"&G570,syllabus!B$3:I$99,8,FALSE)&RIGHT(\"00000\"&J570,5)","v":"6007000"},"AAA","Materiality","AAA.Materiality: All","exam",7000,null,null,"exam:",null,null,"concept",null,"F",null,"",0,"","","","","","",1,2,0,0,49,49,999,null,null,null,5.0000000000000001E-4,"x",null,"xxxx"]
["AAA.Materiality",null,null,"",{"$f":"VLOOKUP(F571&\".\"&G571,syllabus!B$3:I$99,8,FALSE)&RIGHT(\"00000\"&J571,5)","v":"6007100"},"AAA","Materiality","AAA.Materiality: All","exam",7100,null,null,"exam:",null,null,"concept",null,"F",null,"",0,"","","","","","",1,2,0,0,49,49,999,null,null,null,5.0000000000000001E-4,"x",null,"xxxx"]
["AAA.Materiality",null,null,"",{"$f":"VLOOKUP(F572&\".\"&G572,syllabus!B$3:I$99,8,FALSE)&RIGHT(\"00000\"&J572,5)","v":"6007200"},"AAA","Materiality","AAA.Materiality: All","exam",7200,null,null,"exam:",null,null,"concept",null,"F",null,"",0,"","","","","","",1,2,0,0,49,49,999,null,null,null,5.0000000000000001E-4,"x",null,"xxxx"]
["AAA.Materiality",null,null,"",{"$f":"VLOOKUP(F573&\".\"&G573,syllabus!B$3:I$99,8,FALSE)&RIGHT(\"00000\"&J573,5)","v":"6007300"},"AAA","Materiality","AAA.Materiality: All","exam",7300,null,null,"exam:",null,null,"concept",null,"F",null,"",0,"","","","","","",1,2,0,0,49,49,999,null,null,null,5.0000000000000001E-4,"x",null,"xxxx"]
["AAA.Materiality",null,null,"",{"$f":"VLOOKUP(F574&\".\"&G574,syllabus!B$3:I$99,8,FALSE)&RIGHT(\"00000\"&J574,5)","v":"6007400"},"AAA","Materiality","AAA.Materiality: All","exam",7400,null,null,"exam:",null,null,"concept",null,"F",null,"",0,"","","","","","",1,2,0,0,49,49,999,null,null,null,5.0000000000000001E-4,"x",null,"xxxx"]
["AAA.Materiality",null,null,"",{"$f":"VLOOKUP(F575&\".\"&G575,syllabus!B$3:I$99,8,FALSE)&RIGHT(\"00000\"&J575,5)","v":"6007500"},"AAA","Materiality","AAA.Materiality: All","exam",7500,null,null,"exam:",null,null,"concept",null,"F",null,"",0,"","","","","","",1,2,0,0,49,49,999,null,null,null,5.0000000000000001E-4,"x",null,"xxxx"]
["AAA.Materiality",null,null,"",{"$f":"VLOOKUP(F576&\".\"&G576,syllabus!B$3:I$99,8,FALSE)&RIGHT(\"00000\"&J576,5)","v":"6007600"},"AAA","Materiality","AAA.Materiality: All","exam",7600,null,null,"exam:",null,null,"concept",null,"F",null,"",0,"","","","","","",1,2,0,0,49,49,999,null,null,null,5.0000000000000001E-4,"x",null,"xxxx"]
["AAA.Materiality",null,null,"",{"$f":"VLOOKUP(F577&\".\"&G577,syllabus!B$3:I$99,8,FALSE)&RIGHT(\"00000\"&J577,5)","v":"6007700"},"AAA","Materiality","AAA.Materiality: All","exam",7700,null,null,"exam:",null,null,"concept",null,"F",null,"",0,"","","","","","",1,2,0,0,49,49,999,null,null,null,5.0000000000000001E-4,"x",null,"xxxx"]
["AAA.Materiality",null,null,"",{"$f":"VLOOKUP(F578&\".\"&G578,syllabus!B$3:I$99,8,FALSE)&RIGHT(\"00000\"&J578,5)","v":"6007800"},"AAA","Materiality","AAA.Materiality: All","exam",7800,null,null,"exam:",null,null,"concept",null,"F",null,"",0,"","","","","","",1,2,0,0,49,49,999,null,null,null,5.0000000000000001E-4,"x",null,"xxxx"]
["AAA.Materiality",null,null,"",{"$f":"VLOOKUP(F579&\".\"&G579,syllabus!B$3:I$99,8,FALSE)&RIGHT(\"00000\"&J579,5)","v":"6007900"},"AAA","Materiality","AAA.Materiality: All","exam",7900,null,null,"exam:",null,null,"concept",null,"F",null,"",0,"","","","","","",1,2,0,0,49,49,999,null,null,null,5.0000000000000001E-4,"x",null,"xxxx"]
["AAA.Materiality",null,null,"",{"$f":"VLOOKUP(F580&\".\"&G580,syllabus!B$3:I$99,8,FALSE)&RIGHT(\"00000\"&J580,5)","v":"6008000"},"AAA","Materiality","AAA.Materiality: All","exam",8000,null,null,"exam:",null,null,"concept",null,"F",null,"",0,"","","","","","",1,2,0,0,49,49,999,null,null,null,5.0000000000000001E-4,"x",null,"xxxx"]
["AAA.Materiality",null,null,"",{"$f":"VLOOKUP(F581&\".\"&G581,syllabus!B$3:I$99,8,FALSE)&RIGHT(\"00000\"&J581,5)","v":"6008100"},"AAA","Materiality","AAA.Materiality: All","exam",8100,null,null,"exam:",null,null,"concept",null,"F",null,"",0,"","","","","","",1,2,0,0,49,49,999,null,null,null,5.0000000000000001E-4,"x",null,"xxxx"]
["AAA.Materiality",null,null,"",{"$f":"VLOOKUP(F582&\".\"&G582,syllabus!B$3:I$99,8,FALSE)&RIGHT(\"00000\"&J582,5)","v":"6008200"},"AAA","Materiality","AAA.Materiality: All","exam",8200,null,null,"exam:",null,null,"concept",null,"F",null,"",0,"","","","","","",1,2,0,0,49,49,999,null,null,null,5.0000000000000001E-4,"x",null,"xxxx"]
["AAA.Materiality",null,null,"",{"$f":"VLOOKUP(F583&\".\"&G583,syllabus!B$3:I$99,8,FALSE)&RIGHT(\"00000\"&J583,5)","v":"6008300"},"AAA","Materiality","AAA.Materiality: All","exam",8300,null,null,"exam:",null,null,"concept",null,"F",null,"",0,"","","","","","",1,2,0,0,49,49,999,null,null,null,5.0000000000000001E-4,"x",null,"xxxx"]
["AAA.Materiality",null,null,"",{"$f":"VLOOKUP(F584&\".\"&G584,syllabus!B$3:I$99,8,FALSE)&RIGHT(\"00000\"&J584,5)","v":"6008400"},"AAA","Materiality","AAA.Materiality: All","exam",8400,null,null,"exam:",null,null,"concept",null,"F",null,"",0,"","","","","","",1,2,0,0,49,49,999,null,null,null,5.0000000000000001E-4,"x",null,"xxxx"]
["AAA.Materiality",null,null,"",{"$f":"VLOOKUP(F585&\".\"&G585,syllabus!B$3:I$99,8,FALSE)&RIGHT(\"00000\"&J585,5)","v":"6008500"},"AAA","Materiality","AAA.Materiality: All","exam",8500,null,null,"exam:",null,null,"concept",null,"F",null,"",0,"","","","","","",1,2,0,0,49,49,999,null,null,null,5.0000000000000001E-4,"x",null,"xxxx"]
["AAA.Materiality",null,null,"",{"$f":"VLOOKUP(F586&\".\"&G586,syllabus!B$3:I$99,8,FALSE)&RIGHT(\"00000\"&J586,5)","v":"6008600"},"AAA","Materiality","AAA.Materiality: All","exam",8600,null,null,"exam:",null,null,"concept",null,"F",null,"",0,"","","","","","",1,2,0,0,49,49,999,null,null,null,5.0000000000000001E-4,"x",null,"xxxx"]
["AAA.Materiality",null,null,"",{"$f":"VLOOKUP(F587&\".\"&G587,syllabus!B$3:I$99,8,FALSE)&RIGHT(\"00000\"&J587,5)","v":"6008700"},"AAA","Materiality","AAA.Materiality: All","exam",8700,null,null,"exam:",null,null,"concept",null,"F",null,"",0,"","","","","","",1,2,0,0,49,49,999,null,null,null,5.0000000000000001E-4,"x",null,"xxxx"]
["AAA.Materiality",null,null,"",{"$f":"VLOOKUP(F588&\".\"&G588,syllabus!B$3:I$99,8,FALSE)&RIGHT(\"00000\"&J588,5)","v":"6008800"},"AAA","Materiality","AAA.Materiality: All","exam",8800,null,null,"exam:",null,null,"concept",null,"F",null,"",0,"","","","","","",1,2,0,0,49,49,999,null,null,null,5.0000000000000001E-4,"x",null,"xxxx"]
["AAA.Materiality",null,null,"",{"$f":"VLOOKUP(F589&\".\"&G589,syllabus!B$3:I$99,8,FALSE)&RIGHT(\"00000\"&J589,5)","v":"6008900"},"AAA","Materiality","AAA.Materiality: All","exam",8900,null,null,"exam:",null,null,"concept",null,"F",null,"",0,"","","","","","",1,2,0,0,49,49,999,null,null,null,5.0000000000000001E-4,"x",null,"xxxx"]
["AAA.Materiality",null,null,"",{"$f":"VLOOKUP(F590&\".\"&G590,syllabus!B$3:I$99,8,FALSE)&RIGHT(\"00000\"&J590,5)","v":"6009000"},"AAA","Materiality","AAA.Materiality: All","exam",9000,null,null,"exam:",null,null,"concept",null,"F",null,"",0,"","","","","","",1,2,0,0,49,49,999,null,null,null,5.0000000000000001E-4,"x",null,"xxxx"]
["AAA.Materiality",null,null,"",{"$f":"VLOOKUP(F591&\".\"&G591,syllabus!B$3:I$99,8,FALSE)&RIGHT(\"00000\"&J591,5)","v":"6009100"},"AAA","Materiality","AAA.Materiality: All","exam",9100,null,null,"exam:",null,null,"concept",null,"F",null,"",0,"","","","","","",1,2,0,0,49,49,999,null,null,null,5.0000000000000001E-4,"x",null,"xxxx"]
["AAA.Materiality",null,null,"",{"$f":"VLOOKUP(F592&\".\"&G592,syllabus!B$3:I$99,8,FALSE)&RIGHT(\"00000\"&J592,5)","v":"6009200"},"AAA","Materiality","AAA.Materiality: All","exam",9200,null,null,"exam:",null,null,"concept",null,"F",null,"",0,"","","","","","",1,2,0,0,49,49,999,null,null,null,5.0000000000000001E-4,"x",null,"xxxx"]
["AAA.Materiality",null,null,"",{"$f":"VLOOKUP(F593&\".\"&G593,syllabus!B$3:I$99,8,FALSE)&RIGHT(\"00000\"&J593,5)","v":"6009300"},"AAA","Materiality","AAA.Materiality: All","exam",9300,null,null,"exam:",null,null,"concept",null,"F",null,"",0,"","","","","","",1,2,0,0,49,49,999,null,null,null,5.0000000000000001E-4,"x",null,"xxxx"]
["AAA.Materiality",null,null,"",{"$f":"VLOOKUP(F594&\".\"&G594,syllabus!B$3:I$99,8,FALSE)&RIGHT(\"00000\"&J594,5)","v":"6009400"},"AAA","Materiality","AAA.Materiality: All","exam",9400,null,null,"exam:",null,null,"concept",null,"F",null,"",0,"","","","","","",1,2,0,0,49,49,999,null,null,null,5.0000000000000001E-4,"x",null,"xxxx"]
["AAA.Materiality",null,null,"",{"$f":"VLOOKUP(F595&\".\"&G595,syllabus!B$3:I$99,8,FALSE)&RIGHT(\"00000\"&J595,5)","v":"6009500"},"AAA","Materiality","AAA.Materiality: All","exam",9500,null,null,"exam:",null,null,"concept",null,"F",null,"",0,"","","","","","",1,2,0,0,49,49,999,null,null,null,5.0000000000000001E-4,"x",null,"xxxx"]
["AAA.Materiality",null,null,"",{"$f":"VLOOKUP(F596&\".\"&G596,syllabus!B$3:I$99,8,FALSE)&RIGHT(\"00000\"&J596,5)","v":"6009600"},"AAA","Materiality","AAA.Materiality: All","exam",9600,null,null,"exam:",null,null,"concept",null,"F",null,"",0,"","","","","","",1,2,0,0,49,49,999,null,null,null,5.0000000000000001E-4,"x",null,"xxxx"]
["AAA.Materiality",null,null,"",{"$f":"VLOOKUP(F597&\".\"&G597,syllabus!B$3:I$99,8,FALSE)&RIGHT(\"00000\"&J597,5)","v":"6009700"},"AAA","Materiality","AAA.Materiality: All","exam",9700,null,null,"exam:",null,null,"concept",null,"F",null,"",0,"","","","","","",1,2,0,0,49,49,999,null,null,null,5.0000000000000001E-4,"x",null,"xxxx"]
["AAA.Materiality",null,null,"",{"$f":"VLOOKUP(F598&\".\"&G598,syllabus!B$3:I$99,8,FALSE)&RIGHT(\"00000\"&J598,5)","v":"6009800"},"AAA","Materiality","AAA.Materiality: All","exam",9800,null,null,"exam:",null,null,"concept",null,"F",null,"",0,"","","","","","",1,2,0,0,49,49,999,null,null,null,5.0000000000000001E-4,"x",null,"xxxx"]
["AAA.Materiality",null,null,"",{"$f":"VLOOKUP(F599&\".\"&G599,syllabus!B$3:I$99,8,FALSE)&RIGHT(\"00000\"&J599,5)","v":"6009900"},"AAA","Materiality","AAA.Materiality: All","exam",9900,null,null,"exam:",null,null,"concept",null,"F",null,"",0,"","","","","","",1,2,0,0,49,49,999,null,null,null,5.0000000000000001E-4,"x",null,"xxxx"]
["AAA.Materiality",null,null,"",{"$f":"VLOOKUP(F600&\".\"&G600,syllabus!B$3:I$99,8,FALSE)&RIGHT(\"00000\"&J600,5)","v":"6009999"},"AAA","Materiality","AAA.Materiality: All","exam",9999,null,null,"exam:",null,null,"concept",null,"F",null,"",0,"","","","","","",1,2,0,0,49,49,999,null,null,null,5.0000000000000001E-4,"x",null,"xxxx"]
["Baribeau.Regs","x",null,"",{"$f":"VLOOKUP(F601&\".\"&G601,syllabus!B$3:I$99,8,FALSE)&RIGHT(\"00000\"&J601,5)","v":"7000100"},"Baribeau","Regs","Baribeau.Regs: All","--",100,null,null,{"$f":"A601&\": All\"","v":"Baribeau.Regs: All"},null,null,"--",null,"info",null,"",0,"","","","","","","","",0,0,23,23,999,null,null,null,5.0000000000000001E-4,"x",null,"xxxx"]
["Baribeau.Regs",null,null,"",{"$f":"VLOOKUP(F602&\".\"&G602,syllabus!B$3:I$99,8,FALSE)&RIGHT(\"00000\"&J602,5)","v":"7000200"},"Baribeau","Regs","Baribeau.Regs: All","intro",200,1,null,"intro: identify and briefly describe the 2 entities that Dodd-Frank created","Federal Insurance Office (FIO): ~~ - monitors insurance industry ~~ - identifies GAPS in the state-based regulatory system ~ Financial Stability Oversight Council (FSOC): ~~ - monitors all financial services markets (including insurance) ~~ - identifies RISKS to financial stability",null,"concept",null,"A",null,"",0,"","","","","","",2,11,2,13.266499161421599,23,23,999,null,null,null,5.0000000000000001E-4,"x",null,1]
["Baribeau.Regs",null,null,"",{"$f":"VLOOKUP(F603&\".\"&G603,syllabus!B$3:I$99,8,FALSE)&RIGHT(\"00000\"&J603,5)","v":"7000300"},"Baribeau","Regs","Baribeau.Regs: All","intro",300,1,null,"intro: identify types of insurers the federal govt may regulate under Dodd-Frank (2)","SIFIs (Systemically Important Financial Institutions), insurers with banks",null,"concept",null,"A",null,"exam",1,"17","2-Fall",4,"e","",0.5,2,2,2,5.6568542494923806,23,23,999,null,null,null,5.0000000000000001E-4,"x",null,1]
["Baribeau.Regs",null,null,"",{"$f":"VLOOKUP(F604&\".\"&G604,syllabus!B$3:I$99,8,FALSE)&RIGHT(\"00000\"&J604,5)","v":"7000400"},"Baribeau","Regs","Baribeau.Regs: All","intro",400,1,null,"intro: describe required insurer actions under federal oversight (Dodd-Frank) (4)","stricter operating requirements: ~~ - liquidity requirements ~~ - capital standards ~~ - stress-testing ~ develop living will: ~~ - a resolution plan in case of insolvency","stricter operating requirements, living will","concept",null,"A",null,"exam",1,"17","2-Fall",4,"f","",0.5,2,11,2,13.266499161421599,23,23,999,null,null,null,5.0000000000000001E-4,"x",null,1]
["Baribeau.Regs",null,null,"",{"$f":"VLOOKUP(F605&\".\"&G605,syllabus!B$3:I$99,8,FALSE)&RIGHT(\"00000\"&J605,5)","v":"7000500"},"Baribeau","Regs","Baribeau.Regs: All","FIO details",500,2,null,"FIO details: describe the structure & responsibilities of the Federal Insurance Office under Dodd-Frank (5)","<strong>structure:</strong> ~~ - FIO is part of Federal Department of the Treasury ~~ - FIO director also advises FSOC (Financial Stability Oversight Council) ~ <strong>responsibilities:</strong> ~~ <span style=\"color: red;\"><strong>C</strong></span>ollect data on the insurance industry ~~ <span style=\"color: red;\"><strong>R</strong></span>eport annually to Congress on the state of the insurance industry ~~ <span style=\"color: red;\"><strong>I</strong></span>mprovements (suggest improvements to insurance regulation through working with state insurance departments) ~~ <span style=\"color: red;\"><strong>T</strong></span>RIA (help administer TRIA) ~~ <span style=\"color: red;\"><strong>I</strong></span>nternational (help with negotiation of international agreements)","CRITI","concept",null,"A","current","exam",3,"18","2-Fall",5,"a","",0.75,2,17,2,16.492422502470642,23,23,999,null,null,null,5.0000000000000001E-4,"x",null,2]
["Baribeau.Regs",null,null,"",{"$f":"VLOOKUP(F606&\".\"&G606,syllabus!B$3:I$99,8,FALSE)&RIGHT(\"00000\"&J606,5)","v":"7000600"},"Baribeau","Regs","Baribeau.Regs: All","FIO details",600,"xxxx",null,"FIO details: describe the structure & responsibilities of the Federal Insurance Office under Dodd-Frank (5)","<strong>structure:</strong> ~~ - FIO is part of Federal Department of the Treasury ~~ - FIO director also advises FSOC (Financial Stability Oversight Council) ~ <strong>responsibilities:</strong> ~~ <span style=\"color: red;\"><strong>C</strong></span>ollect data on the insurance industry ~~ <span style=\"color: red;\"><strong>R</strong></span>eport annually to Congress on the state of the insurance industry ~~ <span style=\"color: red;\"><strong>I</strong></span>mprovements (suggest improvements to insurance regulation through working with state insurance departments) ~~ <span style=\"color: red;\"><strong>T</strong></span>RIA (help administer TRIA) ~~ <span style=\"color: red;\"><strong>I</strong></span>nternational (help with negotiation of international agreements)","CRITI","concept",null,"A","dup","exam",3,"16","2-Fall",4,"a","",0.75,2,17,2,0,23,23,999,null,null,null,5.0000000000000001E-4,"x",null,"xxxx"]
["Baribeau.Regs",null,null,"",{"$f":"VLOOKUP(F607&\".\"&G607,syllabus!B$3:I$99,8,FALSE)&RIGHT(\"00000\"&J607,5)","v":"7000700"},"Baribeau","Regs","Baribeau.Regs: All","FIO details",700,"xxxx",null,"FIO details: describe the structure & responsibilities of the FIO (Federal Insurance Office)","<strong>structure:</strong> ~~ - FIO is part of Federal Department of the Treasury ~~ - FIO director also advises FSOC (Financial Stability Oversight Council) ~ <strong>responsibilities:</strong> ~~ <span style=\"color: red;\"><strong>C</strong></span>ollect data on the insurance industry ~~ <span style=\"color: red;\"><strong>R</strong></span>eport annually to Congress on the state of the insurance industry ~~ <span style=\"color: red;\"><strong>I</strong></span>mprovements (suggest improvements to insurance regulation through working with state insurance departments) ~~ <span style=\"color: red;\"><strong>T</strong></span>RIA (help administer TRIA) ~~ <span style=\"color: red;\"><strong>I</strong></span>nternational (help with negotiation of international agreements)","CRITI","concept",null,"A","dup","exam",3,"16","1-Spring",6,"d","",1,2,17,2,0,23,23,999,null,null,null,5.0000000000000001E-4,"x",null,"xxxx"]
["Baribeau.Regs",null,null,"",{"$f":"VLOOKUP(F608&\".\"&G608,syllabus!B$3:I$99,8,FALSE)&RIGHT(\"00000\"&J608,5)","v":"7000800"},"Baribeau","Regs","Baribeau.Regs: All","FIO details",800,2,null,"FIO details: describe an impact of Dodd-Frank on: cost of insurance to policyholders","multiple answers accepted - you just had to provide reasonable justification ~~ - more uniform regulation <u>decreases</u> costs ~~ - dual regulation <u>increases</u> costs ~~ - state maintains regulation as before so <u>no change</u> in costs",null,"concept",null,"A",null,"exam",1,"18","2-Fall",5,"b","i",0.5,2,8,2,11.313708498984761,23,23,999,null,null,null,5.0000000000000001E-4,"x",null,2]
["Baribeau.Regs",null,null,"",{"$f":"VLOOKUP(F609&\".\"&G609,syllabus!B$3:I$99,8,FALSE)&RIGHT(\"00000\"&J609,5)","v":"7000900"},"Baribeau","Regs","Baribeau.Regs: All","FIO details",900,2,null,"FIO details: describe an impact of Dodd-Frank on: customization of insurance products","multiple answers accepted - you just had to provide reasonable justification ~~ - increased regulation produces restrictions and <u>decreases</u> customization & innovation ~~ - increased regulation of availability & affordability may force insurers to <u>increase</u> customization (Ex: higher deductible plans)",null,"concept",null,"A",null,"exam",1,"18","2-Fall",5,"b","ii",0.5,2,6,2,9.7979589711327115,23,23,999,null,null,null,5.0000000000000001E-4,"x",null,2]
["Baribeau.Regs",null,null,"",{"$f":"VLOOKUP(F610&\".\"&G610,syllabus!B$3:I$99,8,FALSE)&RIGHT(\"00000\"&J610,5)","v":"7001000"},"Baribeau","Regs","Baribeau.Regs: All","FIO details",1000,2,null,"FIO details: describe an impact of Dodd-Frank on: companies with both banking & insurance functions","increased operating costs: ~~ - must comply with both banking & insurance regulations ~ - divesting of operations: ~~ - separate banking & insurance to avoid double-regulation",null,"concept",null,"A",null,"exam",1,"18","2-Fall",5,"b","iii",0.5,2,7,2,10.583005244258363,23,23,999,null,null,null,5.0000000000000001E-4,"x",null,2]
["Baribeau.Regs",null,null,"",{"$f":"VLOOKUP(F611&\".\"&G611,syllabus!B$3:I$99,8,FALSE)&RIGHT(\"00000\"&J611,5)","v":"7001100"},"Baribeau","Regs","Baribeau.Regs: All","FIO details",1100,2,null,"FIO details: describe actuarial concerns related to the FIO","dual regulation: ~~ - <u>inconsistent</u> regulation between state & federal (accounting/solvency standards) ~~ - <u>excessive</u> regulation (federal regulation on top of state regulation may be expensive and restrictive) ~ capital requirements: ~~ - <u>inappropriate</u> increases in capital requirements (stricter capital requirements should apply more to banks than insurers) ~ standardization: ~~ - <u>forced</u> standardization of forms & rates decreases innovation and competition ~ banking regulation spillover: ~~ - increases <u>compliance costs</u> for insurers that have banks within their structure",null,"concept",null,"A",null,"",0,"","","","","","",2,15,2,15.491933384829668,23,23,999,null,null,null,5.0000000000000001E-4,"x",null,2]
["Baribeau.Regs",null,null,"",{"$f":"VLOOKUP(F612&\".\"&G612,syllabus!B$3:I$99,8,FALSE)&RIGHT(\"00000\"&J612,5)","v":"7001200"},"Baribeau","Regs","Baribeau.Regs: All","FIO details",1200,2,null,"FIO details: describe international concerns related to the FIO","conflict between NAIC & FIO: ~~ - NAIC and states have traditionally been at the forefront of international insurance issues ~~ - FIO is now participating at the federal level and may have different approaches ~ federal approach: ~~ - better for international coordination of standards ~~~ (versus many different state-based approaches) ~~ - worse for transparency ~~~ (FIO is not as transparent as NAIC) ~ standardization of insurance: ~~ - this was listed as an actuarial concern but also applies internationally ~~ - may decrease innovation, reduce consumer options, increase costs",null,"concept",null,"A",null,"exam",1,"16","2-Fall",4,"b","",0.75,2,22,2,18.761663039293719,23,23,999,null,null,null,5.0000000000000001E-4,"x",null,2]
["Baribeau.Regs",null,null,"",{"$f":"VLOOKUP(F613&\".\"&G613,syllabus!B$3:I$99,8,FALSE)&RIGHT(\"00000\"&J613,5)","v":"7001300"},"Baribeau","Regs","Baribeau.Regs: All","FIO details",1300,2,null,"FIO details: describe restrictions on the authority of the Federal Insurance Office under Dodd-Frank (3)","==> cannot preepmpt state regulation of: (each counts as 1 response) ~~ - rates ~~ - UW ~~ - coverage requirements ~~ - sales practices ~~ - capital requirements ~ ==> EXCEPT if such requirements result in less favorable treatment of a non-U.S. insurer versus a U.S. insurer ~ ==> preemption of state law requires a rigorous process",null,"concept",null,"A",null,"exam",1,"16","2-Fall",4,"b","",0.75,2,14,2,14.966629547095765,23,23,999,null,null,null,5.0000000000000001E-4,"x",null,2]
["Baribeau.Regs",null,null,"",{"$f":"VLOOKUP(F614&\".\"&G614,syllabus!B$3:I$99,8,FALSE)&RIGHT(\"00000\"&J614,5)","v":"7001400"},"Baribeau","Regs","Baribeau.Regs: All","BC",1400,null,null,"BC:",null,null,"concept",null,"F",null,"",0,"","","","","","",2,2,0,0,23,23,999,null,null,null,5.0000000000000001E-4,"x",null,"xxxx"]
["Baribeau.Regs",null,null,"",{"$f":"VLOOKUP(F615&\".\"&G615,syllabus!B$3:I$99,8,FALSE)&RIGHT(\"00000\"&J615,5)","v":"7001500"},"Baribeau","Regs","Baribeau.Regs: All","BC",1500,null,null,"BC:",null,null,"concept",null,"F",null,"",0,"","","","","","",2,2,0,0,23,23,999,null,null,null,5.0000000000000001E-4,"x",null,"xxxx"]
["Baribeau.Regs",null,null,"",{"$f":"VLOOKUP(F616&\".\"&G616,syllabus!B$3:I$99,8,FALSE)&RIGHT(\"00000\"&J616,5)","v":"7001600"},"Baribeau","Regs","Baribeau.Regs: All","BC",1600,null,null,"BC:",null,null,"concept",null,"F",null,"",0,"","","","","","",2,2,0,0,23,23,999,null,null,null,5.0000000000000001E-4,"x",null,"xxxx"]
["Baribeau.Regs",null,null,"",{"$f":"VLOOKUP(F617&\".\"&G617,syllabus!B$3:I$99,8,FALSE)&RIGHT(\"00000\"&J617,5)","v":"7001700"},"Baribeau","Regs","Baribeau.Regs: All","BC",1700,null,null,"BC:",null,null,"concept",null,"F",null,"",0,"","","","","","",2,2,0,0,23,23,999,null,null,null,5.0000000000000001E-4,"x",null,"xxxx"]
["Baribeau.Regs",null,null,"",{"$f":"VLOOKUP(F618&\".\"&G618,syllabus!B$3:I$99,8,FALSE)&RIGHT(\"00000\"&J618,5)","v":"7001800"},"Baribeau","Regs","Baribeau.Regs: All","BC",1800,null,null,"BC:",null,null,"concept",null,"F",null,"",0,"","","","","","",2,2,0,0,23,23,999,null,null,null,5.0000000000000001E-4,"x",null,"xxxx"]
["Baribeau.Regs",null,null,"",{"$f":"VLOOKUP(F619&\".\"&G619,syllabus!B$3:I$99,8,FALSE)&RIGHT(\"00000\"&J619,5)","v":"7001900"},"Baribeau","Regs","Baribeau.Regs: All","BC",1900,null,null,"BC:",null,null,"concept",null,"F",null,"",0,"","","","","","",2,2,0,0,23,23,999,null,null,null,5.0000000000000001E-4,"x",null,"xxxx"]
["Baribeau.Regs",null,null,"",{"$f":"VLOOKUP(F620&\".\"&G620,syllabus!B$3:I$99,8,FALSE)&RIGHT(\"00000\"&J620,5)","v":"7002000"},"Baribeau","Regs","Baribeau.Regs: All","BC",2000,null,null,"BC:",null,null,"concept",null,"F",null,"",0,"","","","","","",2,2,0,0,23,23,999,null,null,null,5.0000000000000001E-4,"x",null,"xxxx"]
["Baribeau.Regs",null,null,"",{"$f":"VLOOKUP(F621&\".\"&G621,syllabus!B$3:I$99,8,FALSE)&RIGHT(\"00000\"&J621,5)","v":"7002100"},"Baribeau","Regs","Baribeau.Regs: All","BC",2100,null,null,"BC:",null,null,"concept",null,"F",null,"",0,"","","","","","",2,2,0,0,23,23,999,null,null,null,5.0000000000000001E-4,"x",null,"xxxx"]
["Baribeau.Regs",null,null,"",{"$f":"VLOOKUP(F622&\".\"&G622,syllabus!B$3:I$99,8,FALSE)&RIGHT(\"00000\"&J622,5)","v":"7002200"},"Baribeau","Regs","Baribeau.Regs: All","BC",2200,null,null,"BC:",null,null,"concept",null,"F",null,"",0,"","","","","","",2,2,0,0,23,23,999,null,null,null,5.0000000000000001E-4,"x",null,"xxxx"]
["Baribeau.Regs",null,null,"",{"$f":"VLOOKUP(F623&\".\"&G623,syllabus!B$3:I$99,8,FALSE)&RIGHT(\"00000\"&J623,5)","v":"7002300"},"Baribeau","Regs","Baribeau.Regs: All","BC",2300,null,null,"BC:",null,null,"concept",null,"F",null,"",0,"","","","","","",2,2,0,0,23,23,999,null,null,null,5.0000000000000001E-4,"x",null,"xxxx"]
["Baribeau.Regs",null,null,"",{"$f":"VLOOKUP(F624&\".\"&G624,syllabus!B$3:I$99,8,FALSE)&RIGHT(\"00000\"&J624,5)","v":"7002400"},"Baribeau","Regs","Baribeau.Regs: All","BC",2400,null,null,"BC:",null,null,"concept",null,"F",null,"",0,"","","","","","",2,2,0,0,23,23,999,null,null,null,5.0000000000000001E-4,"x",null,"xxxx"]
["Baribeau.Regs",null,null,"",{"$f":"VLOOKUP(F625&\".\"&G625,syllabus!B$3:I$99,8,FALSE)&RIGHT(\"00000\"&J625,5)","v":"7002500"},"Baribeau","Regs","Baribeau.Regs: All","BC",2500,null,null,"BC:",null,null,"concept",null,"F",null,"",0,"","","","","","",2,2,0,0,23,23,999,null,null,null,5.0000000000000001E-4,"x",null,"xxxx"]
["Baribeau.Regs",null,null,"",{"$f":"VLOOKUP(F626&\".\"&G626,syllabus!B$3:I$99,8,FALSE)&RIGHT(\"00000\"&J626,5)","v":"7002600"},"Baribeau","Regs","Baribeau.Regs: All","BC",2600,null,null,"BC:",null,null,"concept",null,"F",null,"",0,"","","","","","",2,2,0,0,23,23,999,null,null,null,5.0000000000000001E-4,"x",null,"xxxx"]
["Baribeau.Regs",null,null,"",{"$f":"VLOOKUP(F627&\".\"&G627,syllabus!B$3:I$99,8,FALSE)&RIGHT(\"00000\"&J627,5)","v":"7002700"},"Baribeau","Regs","Baribeau.Regs: All","BC",2700,null,null,"BC:",null,null,"concept",null,"F",null,"",0,"","","","","","",2,2,0,0,23,23,999,null,null,null,5.0000000000000001E-4,"x",null,"xxxx"]
["Baribeau.Regs",null,null,"",{"$f":"VLOOKUP(F628&\".\"&G628,syllabus!B$3:I$99,8,FALSE)&RIGHT(\"00000\"&J628,5)","v":"7002800"},"Baribeau","Regs","Baribeau.Regs: All","BC",2800,null,null,"BC:",null,null,"concept",null,"F",null,"",0,"","","","","","",2,2,0,0,23,23,999,null,null,null,5.0000000000000001E-4,"x",null,"xxxx"]
["Baribeau.Regs",null,null,"",{"$f":"VLOOKUP(F629&\".\"&G629,syllabus!B$3:I$99,8,FALSE)&RIGHT(\"00000\"&J629,5)","v":"7002900"},"Baribeau","Regs","Baribeau.Regs: All","BC",2900,null,null,"BC:",null,null,"concept",null,"F",null,"",0,"","","","","","",2,2,0,0,23,23,999,null,null,null,5.0000000000000001E-4,"x",null,"xxxx"]
["Baribeau.Regs",null,null,"",{"$f":"VLOOKUP(F630&\".\"&G630,syllabus!B$3:I$99,8,FALSE)&RIGHT(\"00000\"&J630,5)","v":"7003000"},"Baribeau","Regs","Baribeau.Regs: All","BC",3000,null,null,"BC:",null,null,"concept",null,"F",null,"",0,"","","","","","",2,2,0,0,23,23,999,null,null,null,5.0000000000000001E-4,"x",null,"xxxx"]
["Baribeau.Regs",null,null,"",{"$f":"VLOOKUP(F631&\".\"&G631,syllabus!B$3:I$99,8,FALSE)&RIGHT(\"00000\"&J631,5)","v":"7003100"},"Baribeau","Regs","Baribeau.Regs: All","BC",3100,null,null,"BC:",null,null,"concept",null,"F",null,"",0,"","","","","","",2,2,0,0,23,23,999,null,null,null,5.0000000000000001E-4,"x",null,"xxxx"]
["Baribeau.Regs",null,null,"",{"$f":"VLOOKUP(F632&\".\"&G632,syllabus!B$3:I$99,8,FALSE)&RIGHT(\"00000\"&J632,5)","v":"7003200"},"Baribeau","Regs","Baribeau.Regs: All","BC",3200,null,null,"BC:",null,null,"concept",null,"F",null,"",0,"","","","","","",2,2,0,0,23,23,999,null,null,null,5.0000000000000001E-4,"x",null,"xxxx"]
["Baribeau.Regs",null,null,"",{"$f":"VLOOKUP(F633&\".\"&G633,syllabus!B$3:I$99,8,FALSE)&RIGHT(\"00000\"&J633,5)","v":"7003300"},"Baribeau","Regs","Baribeau.Regs: All","BC",3300,null,null,"BC:",null,null,"concept",null,"F",null,"",0,"","","","","","",2,2,0,0,23,23,999,null,null,null,5.0000000000000001E-4,"x",null,"xxxx"]
["Baribeau.Regs",null,null,"",{"$f":"VLOOKUP(F634&\".\"&G634,syllabus!B$3:I$99,8,FALSE)&RIGHT(\"00000\"&J634,5)","v":"7003400"},"Baribeau","Regs","Baribeau.Regs: All","BC",3400,null,null,"BC:",null,null,"concept",null,"F",null,"",0,"","","","","","",2,2,0,0,23,23,999,null,null,null,5.0000000000000001E-4,"x",null,"xxxx"]
["Baribeau.Regs",null,null,"",{"$f":"VLOOKUP(F635&\".\"&G635,syllabus!B$3:I$99,8,FALSE)&RIGHT(\"00000\"&J635,5)","v":"7003500"},"Baribeau","Regs","Baribeau.Regs: All","BC",3500,null,null,"BC:",null,null,"concept",null,"F",null,"",0,"","","","","","",2,2,0,0,23,23,999,null,null,null,5.0000000000000001E-4,"x",null,"xxxx"]
["Baribeau.Regs",null,null,"",{"$f":"VLOOKUP(F636&\".\"&G636,syllabus!B$3:I$99,8,FALSE)&RIGHT(\"00000\"&J636,5)","v":"7003600"},"Baribeau","Regs","Baribeau.Regs: All","BC",3600,null,null,"BC:",null,null,"concept",null,"F",null,"",0,"","","","","","",2,2,0,0,23,23,999,null,null,null,5.0000000000000001E-4,"x",null,"xxxx"]
["Baribeau.Regs",null,null,"",{"$f":"VLOOKUP(F637&\".\"&G637,syllabus!B$3:I$99,8,FALSE)&RIGHT(\"00000\"&J637,5)","v":"7003700"},"Baribeau","Regs","Baribeau.Regs: All","BC",3700,null,null,"BC:",null,null,"concept",null,"F",null,"",0,"","","","","","",2,2,0,0,23,23,999,null,null,null,5.0000000000000001E-4,"x",null,"xxxx"]
["Baribeau.Regs",null,null,"",{"$f":"VLOOKUP(F638&\".\"&G638,syllabus!B$3:I$99,8,FALSE)&RIGHT(\"00000\"&J638,5)","v":"7003800"},"Baribeau","Regs","Baribeau.Regs: All","BC",3800,null,null,"BC:",null,null,"concept",null,"F",null,"",0,"","","","","","",2,2,0,0,23,23,999,null,null,null,5.0000000000000001E-4,"x",null,"xxxx"]
["Baribeau.Regs",null,null,"",{"$f":"VLOOKUP(F639&\".\"&G639,syllabus!B$3:I$99,8,FALSE)&RIGHT(\"00000\"&J639,5)","v":"7003900"},"Baribeau","Regs","Baribeau.Regs: All","BC",3900,null,null,"BC:",null,null,"concept",null,"F",null,"",0,"","","","","","",2,2,0,0,23,23,999,null,null,null,5.0000000000000001E-4,"x",null,"xxxx"]
["Baribeau.Regs",null,null,"",{"$f":"VLOOKUP(F640&\".\"&G640,syllabus!B$3:I$99,8,FALSE)&RIGHT(\"00000\"&J640,5)","v":"7004000"},"Baribeau","Regs","Baribeau.Regs: All","BC",4000,null,null,"BC:",null,null,"concept",null,"F",null,"",0,"","","","","","",2,2,0,0,23,23,999,null,null,null,5.0000000000000001E-4,"x",null,"xxxx"]
["Baribeau.Regs",null,null,"",{"$f":"VLOOKUP(F641&\".\"&G641,syllabus!B$3:I$99,8,FALSE)&RIGHT(\"00000\"&J641,5)","v":"7004100"},"Baribeau","Regs","Baribeau.Regs: All","BC",4100,null,null,"BC:",null,null,"concept",null,"F",null,"",0,"","","","","","",2,2,0,0,23,23,999,null,null,null,5.0000000000000001E-4,"x",null,"xxxx"]
["Baribeau.Regs",null,null,"",{"$f":"VLOOKUP(F642&\".\"&G642,syllabus!B$3:I$99,8,FALSE)&RIGHT(\"00000\"&J642,5)","v":"7004200"},"Baribeau","Regs","Baribeau.Regs: All","exam",4200,null,null,"exam:",null,null,"concept",null,"F",null,"",0,"","","","","","",2,2,0,0,23,23,999,null,null,null,5.0000000000000001E-4,"x",null,"xxxx"]
["Baribeau.Regs",null,null,"",{"$f":"VLOOKUP(F643&\".\"&G643,syllabus!B$3:I$99,8,FALSE)&RIGHT(\"00000\"&J643,5)","v":"7004300"},"Baribeau","Regs","Baribeau.Regs: All","exam",4300,null,null,"exam:",null,null,"concept",null,"F",null,"",0,"","","","","","",2,2,0,0,23,23,999,null,null,null,5.0000000000000001E-4,"x",null,"xxxx"]
["Baribeau.Regs",null,null,"",{"$f":"VLOOKUP(F644&\".\"&G644,syllabus!B$3:I$99,8,FALSE)&RIGHT(\"00000\"&J644,5)","v":"7004400"},"Baribeau","Regs","Baribeau.Regs: All","exam",4400,null,null,"exam:",null,null,"concept",null,"F",null,"",0,"","","","","","",2,2,0,0,23,23,999,null,null,null,5.0000000000000001E-4,"x",null,"xxxx"]
["Baribeau.Regs",null,null,"",{"$f":"VLOOKUP(F645&\".\"&G645,syllabus!B$3:I$99,8,FALSE)&RIGHT(\"00000\"&J645,5)","v":"7004500"},"Baribeau","Regs","Baribeau.Regs: All","exam",4500,null,null,"exam:",null,null,"concept",null,"F",null,"",0,"","","","","","",2,2,0,0,23,23,999,null,null,null,5.0000000000000001E-4,"x",null,"xxxx"]
["Baribeau.Regs",null,null,"",{"$f":"VLOOKUP(F646&\".\"&G646,syllabus!B$3:I$99,8,FALSE)&RIGHT(\"00000\"&J646,5)","v":"7004600"},"Baribeau","Regs","Baribeau.Regs: All","exam",4600,null,null,"exam:",null,null,"concept",null,"F",null,"",0,"","","","","","",2,2,0,0,23,23,999,null,null,null,5.0000000000000001E-4,"x",null,"xxxx"]
["Baribeau.Regs",null,null,"",{"$f":"VLOOKUP(F647&\".\"&G647,syllabus!B$3:I$99,8,FALSE)&RIGHT(\"00000\"&J647,5)","v":"7004700"},"Baribeau","Regs","Baribeau.Regs: All","exam",4700,null,null,"exam:",null,null,"concept",null,"F",null,"",0,"","","","","","",2,2,0,0,23,23,999,null,null,null,5.0000000000000001E-4,"x",null,"xxxx"]
["Baribeau.Regs",null,null,"",{"$f":"VLOOKUP(F648&\".\"&G648,syllabus!B$3:I$99,8,FALSE)&RIGHT(\"00000\"&J648,5)","v":"7004800"},"Baribeau","Regs","Baribeau.Regs: All","exam",4800,null,null,"exam:",null,null,"concept",null,"F",null,"",0,"","","","","","",2,2,0,0,23,23,999,null,null,null,5.0000000000000001E-4,"x",null,"xxxx"]
["Baribeau.Regs",null,null,"",{"$f":"VLOOKUP(F649&\".\"&G649,syllabus!B$3:I$99,8,FALSE)&RIGHT(\"00000\"&J649,5)","v":"7004900"},"Baribeau","Regs","Baribeau.Regs: All","exam",4900,null,null,"exam:",null,null,"concept",null,"F",null,"",0,"","","","","","",2,2,0,0,23,23,999,null,null,null,5.0000000000000001E-4,"x",null,"xxxx"]
["Baribeau.Regs",null,null,"",{"$f":"VLOOKUP(F650&\".\"&G650,syllabus!B$3:I$99,8,FALSE)&RIGHT(\"00000\"&J650,5)","v":"7005000"},"Baribeau","Regs","Baribeau.Regs: All","exam",5000,null,null,"exam:",null,null,"concept",null,"F",null,"",0,"","","","","","",2,2,0,0,23,23,999,null,null,null,5.0000000000000001E-4,"x",null,"xxxx"]
["Baribeau.Regs",null,null,"",{"$f":"VLOOKUP(F651&\".\"&G651,syllabus!B$3:I$99,8,FALSE)&RIGHT(\"00000\"&J651,5)","v":"7005100"},"Baribeau","Regs","Baribeau.Regs: All","exam",5100,null,null,"exam:",null,null,"concept",null,"F",null,"",0,"","","","","","",2,2,0,0,23,23,999,null,null,null,5.0000000000000001E-4,"x",null,"xxxx"]
["Baribeau.Regs",null,null,"",{"$f":"VLOOKUP(F652&\".\"&G652,syllabus!B$3:I$99,8,FALSE)&RIGHT(\"00000\"&J652,5)","v":"7005200"},"Baribeau","Regs","Baribeau.Regs: All","exam",5200,null,null,"exam:",null,null,"concept",null,"F",null,"",0,"","","","","","",2,2,0,0,23,23,999,null,null,null,5.0000000000000001E-4,"x",null,"xxxx"]
["Baribeau.Regs",null,null,"",{"$f":"VLOOKUP(F653&\".\"&G653,syllabus!B$3:I$99,8,FALSE)&RIGHT(\"00000\"&J653,5)","v":"7005300"},"Baribeau","Regs","Baribeau.Regs: All","exam",5300,null,null,"exam:",null,null,"concept",null,"F",null,"",0,"","","","","","",2,2,0,0,23,23,999,null,null,null,5.0000000000000001E-4,"x",null,"xxxx"]
["Baribeau.Regs",null,null,"",{"$f":"VLOOKUP(F654&\".\"&G654,syllabus!B$3:I$99,8,FALSE)&RIGHT(\"00000\"&J654,5)","v":"7005400"},"Baribeau","Regs","Baribeau.Regs: All","exam",5400,null,null,"exam:",null,null,"concept",null,"F",null,"",0,"","","","","","",2,2,0,0,23,23,999,null,null,null,5.0000000000000001E-4,"x",null,"xxxx"]
["Baribeau.Regs",null,null,"",{"$f":"VLOOKUP(F655&\".\"&G655,syllabus!B$3:I$99,8,FALSE)&RIGHT(\"00000\"&J655,5)","v":"7005500"},"Baribeau","Regs","Baribeau.Regs: All","exam",5500,null,null,"exam:",null,null,"concept",null,"F",null,"",0,"","","","","","",2,2,0,0,23,23,999,null,null,null,5.0000000000000001E-4,"x",null,"xxxx"]
["Baribeau.Regs",null,null,"",{"$f":"VLOOKUP(F656&\".\"&G656,syllabus!B$3:I$99,8,FALSE)&RIGHT(\"00000\"&J656,5)","v":"7005600"},"Baribeau","Regs","Baribeau.Regs: All","exam",5600,null,null,"exam:",null,null,"concept",null,"F",null,"",0,"","","","","","",2,2,0,0,23,23,999,null,null,null,5.0000000000000001E-4,"x",null,"xxxx"]
["Baribeau.Regs",null,null,"",{"$f":"VLOOKUP(F657&\".\"&G657,syllabus!B$3:I$99,8,FALSE)&RIGHT(\"00000\"&J657,5)","v":"7005700"},"Baribeau","Regs","Baribeau.Regs: All","exam",5700,null,null,"exam:",null,null,"concept",null,"F",null,"",0,"","","","","","",2,2,0,0,23,23,999,null,null,null,5.0000000000000001E-4,"x",null,"xxxx"]
["Baribeau.Regs",null,null,"",{"$f":"VLOOKUP(F658&\".\"&G658,syllabus!B$3:I$99,8,FALSE)&RIGHT(\"00000\"&J658,5)","v":"7005800"},"Baribeau","Regs","Baribeau.Regs: All","exam",5800,null,null,"exam:",null,null,"concept",null,"F",null,"",0,"","","","","","",2,2,0,0,23,23,999,null,null,null,5.0000000000000001E-4,"x",null,"xxxx"]
["Baribeau.Regs",null,null,"",{"$f":"VLOOKUP(F659&\".\"&G659,syllabus!B$3:I$99,8,FALSE)&RIGHT(\"00000\"&J659,5)","v":"7005900"},"Baribeau","Regs","Baribeau.Regs: All","exam",5900,null,null,"exam:",null,null,"concept",null,"F",null,"",0,"","","","","","",2,2,0,0,23,23,999,null,null,null,5.0000000000000001E-4,"x",null,"xxxx"]
["Baribeau.Regs",null,null,"",{"$f":"VLOOKUP(F660&\".\"&G660,syllabus!B$3:I$99,8,FALSE)&RIGHT(\"00000\"&J660,5)","v":"7006000"},"Baribeau","Regs","Baribeau.Regs: All","exam",6000,null,null,"exam:",null,null,"concept",null,"F",null,"",0,"","","","","","",2,2,0,0,23,23,999,null,null,null,5.0000000000000001E-4,"x",null,"xxxx"]
["Baribeau.Regs",null,null,"",{"$f":"VLOOKUP(F661&\".\"&G661,syllabus!B$3:I$99,8,FALSE)&RIGHT(\"00000\"&J661,5)","v":"7006100"},"Baribeau","Regs","Baribeau.Regs: All","exam",6100,null,null,"exam:",null,null,"concept",null,"F",null,"",0,"","","","","","",2,2,0,0,23,23,999,null,null,null,5.0000000000000001E-4,"x",null,"xxxx"]
["Baribeau.Regs",null,null,"",{"$f":"VLOOKUP(F662&\".\"&G662,syllabus!B$3:I$99,8,FALSE)&RIGHT(\"00000\"&J662,5)","v":"7006200"},"Baribeau","Regs","Baribeau.Regs: All","exam",6200,null,null,"exam:",null,null,"concept",null,"F",null,"",0,"","","","","","",2,2,0,0,23,23,999,null,null,null,5.0000000000000001E-4,"x",null,"xxxx"]
["Baribeau.Regs",null,null,"",{"$f":"VLOOKUP(F663&\".\"&G663,syllabus!B$3:I$99,8,FALSE)&RIGHT(\"00000\"&J663,5)","v":"7006300"},"Baribeau","Regs","Baribeau.Regs: All","exam",6300,null,null,"exam:",null,null,"concept",null,"F",null,"",0,"","","","","","",2,2,0,0,23,23,999,null,null,null,5.0000000000000001E-4,"x",null,"xxxx"]
["Baribeau.Regs",null,null,"",{"$f":"VLOOKUP(F664&\".\"&G664,syllabus!B$3:I$99,8,FALSE)&RIGHT(\"00000\"&J664,5)","v":"7006400"},"Baribeau","Regs","Baribeau.Regs: All","exam",6400,3,null,"exam: [setup required] describe impact of SEUA decision on the legality of forming the compact","SEUA decision implications: ~~ - Sherman Antitrust still applies ~~ - insurance <u>is</u> interstate commerce ~~ ==> compact is illegal under Sherman (rate-fixing & coercion)",null,"concept",null,"A",null,"exam",1,"17","1-Spring",4,"a","",0.5,2,8,2,11.313708498984761,23,23,999,null,null,null,5.0000000000000001E-4,"x",null,3]
["Baribeau.Regs",null,null,"",{"$f":"VLOOKUP(F665&\".\"&G665,syllabus!B$3:I$99,8,FALSE)&RIGHT(\"00000\"&J665,5)","v":"7006500"},"Baribeau","Regs","Baribeau.Regs: All","exam",6500,3,null,"exam: [setup required] describe impact of McCarran-Ferguson on the legality of forming the compact","McCarran-Ferguson Act implications: ~~ - returned insurance regulation to states ~~ - exempts insurance from some antitrust legislation (Sherman still applies) ~~ ==> compact is illegal under Sherman (rating bureaus permitted, coercion not permitted)",null,"concept",null,"A",null,"exam",1,"17","1-Spring",4,"b","",0.5,2,8,2,11.313708498984761,23,23,999,null,null,null,5.0000000000000001E-4,"x",null,3]
["Baribeau.Regs",null,null,"",{"$f":"VLOOKUP(F666&\".\"&G666,syllabus!B$3:I$99,8,FALSE)&RIGHT(\"00000\"&J666,5)","v":"7006600"},"Baribeau","Regs","Baribeau.Regs: All","exam",6600,3,null,"exam: [setup required] describe impact of Dodd-Frank on the legality of forming the compact","Dodd-Frank Act Implications: ~~ - created FIO (Federal Insurance Office) ~~ - may collect data on insurers and investigate ~~ - no direct impact on compacts ~~ ==> Sherman still applies and compact is illegal",null,"concept",null,"A",null,"exam",1,"17","1-Spring",4,"c","",0.5,2,10,2,12.649110640673518,23,23,999,null,null,null,5.0000000000000001E-4,"x",null,3]
["Baribeau.Regs",null,null,"",{"$f":"VLOOKUP(F667&\".\"&G667,syllabus!B$3:I$99,8,FALSE)&RIGHT(\"00000\"&J667,5)","v":"7006700"},"Baribeau","Regs","Baribeau.Regs: All","exam",6700,null,null,"exam: argue for & against: Dodd-Frank is beneficial to reinsurers","for: ~~ - easier for reinsurers to operate in multiple states ~~~ (IF reinsurer credit is recognized by insurer's domiciliary, NAIC-accredited state THEN other states must also recognize credit) ~ against: ~~ - more competition from alien reinsurers becuase it's easier to enter market",null,"concept",null,"C",null,"exam",1,"16","2-Fall",4,"c","",1,2,10,0.2,1.264911064067352,23,23,999,null,null,null,5.0000000000000001E-4,"x",null,"xxxx"]
["Baribeau.Regs",null,null,"",{"$f":"VLOOKUP(F668&\".\"&G668,syllabus!B$3:I$99,8,FALSE)&RIGHT(\"00000\"&J668,5)","v":"7006800"},"Baribeau","Regs","Baribeau.Regs: All","exam",6800,null,null,"exam: how does Dodd-Frank extend the influence of the federal government (5)","- may assist in negotiating international agreements ~ - legislated changes in the <u>non-admitted market</u>: ~~ - states must adopt uniform rules ~~ - only domiciliary state of insured party may impose a premium tax ~ - legislated changes in the handling of <u>reinsurance</u>: ~~ - IF reinsurer credit is recognized by insurer's domiciliary, NAIC-accredited state THEN other states must also recognize credit ~~ - reinsurer's domiciliary state is the sole regulator of solvency",null,"concept",null,"C",null,"exam",1,"15","1-Spring",3,"c","",0.5,2,12,0.2,1.3856406460551018,23,23,999,null,null,null,5.0000000000000001E-4,"x",null,"xxxx"]
["Baribeau.Regs",null,null,"",{"$f":"VLOOKUP(F669&\".\"&G669,syllabus!B$3:I$99,8,FALSE)&RIGHT(\"00000\"&J669,5)","v":"7006900"},"Baribeau","Regs","Baribeau.Regs: All","exam",6900,null,null,"exam: [setup required] describe a provision of Dodd-Frank that meets the given criteria","CRITERIA 1: benefits greater than cost ~ provision: ~~ - reinsurer is regulated only by domicilary state ~~~ (reduces regulatory costs because many reinsurers operate in multiple states) ~ CRITERIA 2: responsive to changes in economy ~ provision: ~~ - established FIO and allows it to negotiate international agreements ~~~ (necessary for an increasingly globalized market)",null,"concept",null,"C",null,"exam",1,"14","2-Fall",3,"b","",0.5,2,15,0.2,1.5491933384829668,23,23,999,null,null,null,5.0000000000000001E-4,"x",null,"xxxx"]
["Baribeau.Regs",null,null,"",{"$f":"VLOOKUP(F670&\".\"&G670,syllabus!B$3:I$99,8,FALSE)&RIGHT(\"00000\"&J670,5)","v":"7007000"},"Baribeau","Regs","Baribeau.Regs: All","exam",7000,null,null,"exam: identify benefits of Dodd-Frank for surplus lines insurers","licensing: ~~ - only domiciliary state may require licensing of a surplus lines insurer ~ taxing: ~~ - premium taxes paid only in domiciliary state ~ \"diligent search\" requirement: ~~ - removed ~~ - gives nonadmitted insurers greater access to market ~~~ (thorough search of admitted market no longer required)",null,"concept",null,"C",null,"exam",1,"14","1-Spring",4,"e","",0.5,2,15,0.2,1.5491933384829668,23,23,999,null,null,null,5.0000000000000001E-4,"x",null,"xxxx"]
["Baribeau.Regs",null,null,"",{"$f":"VLOOKUP(F671&\".\"&G671,syllabus!B$3:I$99,8,FALSE)&RIGHT(\"00000\"&J671,5)","v":"7007100"},"Baribeau","Regs","Baribeau.Regs: All","exam",7100,null,null,"exam: how does a ceding insurer benefit from Dodd-Frank","==> IF reinsurer credit is recognized by insurer's domiciliary, NAIC-accredited state ~ ==> THEN other states must also recognize credit",null,"concept",null,"C",null,"exam",1,"14","1-Spring",4,"f","",0.5,2,3,0.2,0.69282032302755092,23,23,999,null,null,null,5.0000000000000001E-4,"x",null,"xxxx"]
["Baribeau.Regs",null,null,"",{"$f":"VLOOKUP(F672&\".\"&G672,syllabus!B$3:I$99,8,FALSE)&RIGHT(\"00000\"&J672,5)","v":"7007200"},"Baribeau","Regs","Baribeau.Regs: All","exam",7200,null,null,"exam:",null,null,"concept",null,"F",null,"",0,"","","","","","",2,2,0,0,23,23,999,null,null,null,5.0000000000000001E-4,"x",null,"xxxx"]
["Baribeau.Regs",null,null,"",{"$f":"VLOOKUP(F673&\".\"&G673,syllabus!B$3:I$99,8,FALSE)&RIGHT(\"00000\"&J673,5)","v":"7007300"},"Baribeau","Regs","Baribeau.Regs: All","exam",7300,null,null,"exam:",null,null,"concept",null,"F",null,"",0,"","","","","","",2,2,0,0,23,23,999,null,null,null,5.0000000000000001E-4,"x",null,"xxxx"]
["Baribeau.Regs",null,null,"",{"$f":"VLOOKUP(F674&\".\"&G674,syllabus!B$3:I$99,8,FALSE)&RIGHT(\"00000\"&J674,5)","v":"7007400"},"Baribeau","Regs","Baribeau.Regs: All","exam",7400,null,null,"exam:",null,null,"concept",null,"F",null,"",0,"","","","","","",2,2,0,0,23,23,999,null,null,null,5.0000000000000001E-4,"x",null,"xxxx"]
["Baribeau.Regs",null,null,"",{"$f":"VLOOKUP(F675&\".\"&G675,syllabus!B$3:I$99,8,FALSE)&RIGHT(\"00000\"&J675,5)","v":"7007500"},"Baribeau","Regs","Baribeau.Regs: All","exam",7500,null,null,"exam:",null,null,"concept",null,"F",null,"",0,"","","","","","",2,2,0,0,23,23,999,null,null,null,5.0000000000000001E-4,"x",null,"xxxx"]
["Baribeau.Regs",null,null,"",{"$f":"VLOOKUP(F676&\".\"&G676,syllabus!B$3:I$99,8,FALSE)&RIGHT(\"00000\"&J676,5)","v":"7007600"},"Baribeau","Regs","Baribeau.Regs: All","exam",7600,null,null,"exam:",null,null,"concept",null,"F",null,"",0,"","","","","","",2,2,0,0,23,23,999,null,null,null,5.0000000000000001E-4,"x",null,"xxxx"]
["Baribeau.Regs",null,null,"",{"$f":"VLOOKUP(F677&\".\"&G677,syllabus!B$3:I$99,8,FALSE)&RIGHT(\"00000\"&J677,5)","v":"7007700"},"Baribeau","Regs","Baribeau.Regs: All","exam",7700,null,null,"exam:",null,null,"concept",null,"F",null,"",0,"","","","","","",2,2,0,0,23,23,999,null,null,null,5.0000000000000001E-4,"x",null,"xxxx"]
["Baribeau.Regs",null,null,"",{"$f":"VLOOKUP(F678&\".\"&G678,syllabus!B$3:I$99,8,FALSE)&RIGHT(\"00000\"&J678,5)","v":"7007800"},"Baribeau","Regs","Baribeau.Regs: All","exam",7800,null,null,"exam:",null,null,"concept",null,"F",null,"",0,"","","","","","",2,2,0,0,23,23,999,null,null,null,5.0000000000000001E-4,"x",null,"xxxx"]
["Baribeau.Regs",null,null,"",{"$f":"VLOOKUP(F679&\".\"&G679,syllabus!B$3:I$99,8,FALSE)&RIGHT(\"00000\"&J679,5)","v":"7007900"},"Baribeau","Regs","Baribeau.Regs: All","exam",7900,null,null,"exam:",null,null,"concept",null,"F",null,"",0,"","","","","","",2,2,0,0,23,23,999,null,null,null,5.0000000000000001E-4,"x",null,"xxxx"]
["Baribeau.Regs",null,null,"",{"$f":"VLOOKUP(F680&\".\"&G680,syllabus!B$3:I$99,8,FALSE)&RIGHT(\"00000\"&J680,5)","v":"7008000"},"Baribeau","Regs","Baribeau.Regs: All","exam",8000,null,null,"exam:",null,null,"concept",null,"F",null,"",0,"","","","","","",2,2,0,0,23,23,999,null,null,null,5.0000000000000001E-4,"x",null,"xxxx"]
["Baribeau.Regs",null,null,"",{"$f":"VLOOKUP(F681&\".\"&G681,syllabus!B$3:I$99,8,FALSE)&RIGHT(\"00000\"&J681,5)","v":"7008100"},"Baribeau","Regs","Baribeau.Regs: All","exam",8100,null,null,"exam:",null,null,"concept",null,"F",null,"",0,"","","","","","",2,2,0,0,23,23,999,null,null,null,5.0000000000000001E-4,"x",null,"xxxx"]
["Baribeau.Regs",null,null,"",{"$f":"VLOOKUP(F682&\".\"&G682,syllabus!B$3:I$99,8,FALSE)&RIGHT(\"00000\"&J682,5)","v":"7008200"},"Baribeau","Regs","Baribeau.Regs: All","exam",8200,null,null,"exam:",null,null,"concept",null,"F",null,"",0,"","","","","","",2,2,0,0,23,23,999,null,null,null,5.0000000000000001E-4,"x",null,"xxxx"]
["Baribeau.Regs",null,null,"",{"$f":"VLOOKUP(F683&\".\"&G683,syllabus!B$3:I$99,8,FALSE)&RIGHT(\"00000\"&J683,5)","v":"7008300"},"Baribeau","Regs","Baribeau.Regs: All","exam",8300,null,null,"exam:",null,null,"concept",null,"F",null,"",0,"","","","","","",2,2,0,0,23,23,999,null,null,null,5.0000000000000001E-4,"x",null,"xxxx"]
["Baribeau.Regs",null,null,"",{"$f":"VLOOKUP(F684&\".\"&G684,syllabus!B$3:I$99,8,FALSE)&RIGHT(\"00000\"&J684,5)","v":"7008400"},"Baribeau","Regs","Baribeau.Regs: All","exam",8400,null,null,"exam:",null,null,"concept",null,"F",null,"",0,"","","","","","",2,2,0,0,23,23,999,null,null,null,5.0000000000000001E-4,"x",null,"xxxx"]
["Baribeau.Regs",null,null,"",{"$f":"VLOOKUP(F685&\".\"&G685,syllabus!B$3:I$99,8,FALSE)&RIGHT(\"00000\"&J685,5)","v":"7008500"},"Baribeau","Regs","Baribeau.Regs: All","exam",8500,null,null,"exam:",null,null,"concept",null,"F",null,"",0,"","","","","","",2,2,0,0,23,23,999,null,null,null,5.0000000000000001E-4,"x",null,"xxxx"]
["Baribeau.Regs",null,null,"",{"$f":"VLOOKUP(F686&\".\"&G686,syllabus!B$3:I$99,8,FALSE)&RIGHT(\"00000\"&J686,5)","v":"7008600"},"Baribeau","Regs","Baribeau.Regs: All","exam",8600,null,null,"exam:",null,null,"concept",null,"F",null,"",0,"","","","","","",2,2,0,0,23,23,999,null,null,null,5.0000000000000001E-4,"x",null,"xxxx"]
["Baribeau.Regs",null,null,"",{"$f":"VLOOKUP(F687&\".\"&G687,syllabus!B$3:I$99,8,FALSE)&RIGHT(\"00000\"&J687,5)","v":"7008700"},"Baribeau","Regs","Baribeau.Regs: All","exam",8700,null,null,"exam:",null,null,"concept",null,"F",null,"",0,"","","","","","",2,2,0,0,23,23,999,null,null,null,5.0000000000000001E-4,"x",null,"xxxx"]
["Baribeau.Regs",null,null,"",{"$f":"VLOOKUP(F688&\".\"&G688,syllabus!B$3:I$99,8,FALSE)&RIGHT(\"00000\"&J688,5)","v":"7008800"},"Baribeau","Regs","Baribeau.Regs: All","exam",8800,null,null,"exam:",null,null,"concept",null,"F",null,"",0,"","","","","","",2,2,0,0,23,23,999,null,null,null,5.0000000000000001E-4,"x",null,"xxxx"]
["Baribeau.Regs",null,null,"",{"$f":"VLOOKUP(F689&\".\"&G689,syllabus!B$3:I$99,8,FALSE)&RIGHT(\"00000\"&J689,5)","v":"7008900"},"Baribeau","Regs","Baribeau.Regs: All","exam",8900,null,null,"exam:",null,null,"concept",null,"F",null,"",0,"","","","","","",2,2,0,0,23,23,999,null,null,null,5.0000000000000001E-4,"x",null,"xxxx"]
["Baribeau.Regs",null,null,"",{"$f":"VLOOKUP(F690&\".\"&G690,syllabus!B$3:I$99,8,FALSE)&RIGHT(\"00000\"&J690,5)","v":"7009000"},"Baribeau","Regs","Baribeau.Regs: All","exam",9000,null,null,"exam:",null,null,"concept",null,"F",null,"",0,"","","","","","",2,2,0,0,23,23,999,null,null,null,5.0000000000000001E-4,"x",null,"xxxx"]
["Baribeau.Regs",null,null,"",{"$f":"VLOOKUP(F691&\".\"&G691,syllabus!B$3:I$99,8,FALSE)&RIGHT(\"00000\"&J691,5)","v":"7009100"},"Baribeau","Regs","Baribeau.Regs: All","exam",9100,null,null,"exam:",null,null,"concept",null,"F",null,"",0,"","","","","","",2,2,0,0,23,23,999,null,null,null,5.0000000000000001E-4,"x",null,"xxxx"]
["Baribeau.Regs",null,null,"",{"$f":"VLOOKUP(F692&\".\"&G692,syllabus!B$3:I$99,8,FALSE)&RIGHT(\"00000\"&J692,5)","v":"7009200"},"Baribeau","Regs","Baribeau.Regs: All","exam",9200,null,null,"exam:",null,null,"concept",null,"F",null,"",0,"","","","","","",2,2,0,0,23,23,999,null,null,null,5.0000000000000001E-4,"x",null,"xxxx"]
["Baribeau.Regs",null,null,"",{"$f":"VLOOKUP(F693&\".\"&G693,syllabus!B$3:I$99,8,FALSE)&RIGHT(\"00000\"&J693,5)","v":"7009300"},"Baribeau","Regs","Baribeau.Regs: All","exam",9300,null,null,"exam:",null,null,"concept",null,"F",null,"",0,"","","","","","",2,2,0,0,23,23,999,null,null,null,5.0000000000000001E-4,"x",null,"xxxx"]
["Baribeau.Regs",null,null,"",{"$f":"VLOOKUP(F694&\".\"&G694,syllabus!B$3:I$99,8,FALSE)&RIGHT(\"00000\"&J694,5)","v":"7009400"},"Baribeau","Regs","Baribeau.Regs: All","exam",9400,null,null,"exam:",null,null,"concept",null,"F",null,"",0,"","","","","","",2,2,0,0,23,23,999,null,null,null,5.0000000000000001E-4,"x",null,"xxxx"]
["Baribeau.Regs",null,null,"",{"$f":"VLOOKUP(F695&\".\"&G695,syllabus!B$3:I$99,8,FALSE)&RIGHT(\"00000\"&J695,5)","v":"7009500"},"Baribeau","Regs","Baribeau.Regs: All","exam",9500,null,null,"exam:",null,null,"concept",null,"F",null,"",0,"","","","","","",2,2,0,0,23,23,999,null,null,null,5.0000000000000001E-4,"x",null,"xxxx"]
["Baribeau.Regs",null,null,"",{"$f":"VLOOKUP(F696&\".\"&G696,syllabus!B$3:I$99,8,FALSE)&RIGHT(\"00000\"&J696,5)","v":"7009600"},"Baribeau","Regs","Baribeau.Regs: All","exam",9600,null,null,"exam:",null,null,"concept",null,"F",null,"",0,"","","","","","",2,2,0,0,23,23,999,null,null,null,5.0000000000000001E-4,"x",null,"xxxx"]
["Baribeau.Regs",null,null,"",{"$f":"VLOOKUP(F697&\".\"&G697,syllabus!B$3:I$99,8,FALSE)&RIGHT(\"00000\"&J697,5)","v":"7009700"},"Baribeau","Regs","Baribeau.Regs: All","exam",9700,null,null,"exam:",null,null,"concept",null,"F",null,"",0,"","","","","","",2,2,0,0,23,23,999,null,null,null,5.0000000000000001E-4,"x",null,"xxxx"]
["Baribeau.Regs",null,null,"",{"$f":"VLOOKUP(F698&\".\"&G698,syllabus!B$3:I$99,8,FALSE)&RIGHT(\"00000\"&J698,5)","v":"7009800"},"Baribeau","Regs","Baribeau.Regs: All","exam",9800,null,null,"exam:",null,null,"concept",null,"F",null,"",0,"","","","","","",2,2,0,0,23,23,999,null,null,null,5.0000000000000001E-4,"x",null,"xxxx"]
["Baribeau.Regs",null,null,"",{"$f":"VLOOKUP(F699&\".\"&G699,syllabus!B$3:I$99,8,FALSE)&RIGHT(\"00000\"&J699,5)","v":"7009900"},"Baribeau","Regs","Baribeau.Regs: All","exam",9900,null,null,"exam:",null,null,"concept",null,"F",null,"",0,"","","","","","",2,2,0,0,23,23,999,null,null,null,5.0000000000000001E-4,"x",null,"xxxx"]
["Baribeau.Regs",null,null,"",{"$f":"VLOOKUP(F700&\".\"&G700,syllabus!B$3:I$99,8,FALSE)&RIGHT(\"00000\"&J700,5)","v":"7009999"},"Baribeau","Regs","Baribeau.Regs: All","exam",9999,null,null,"exam:",null,null,"concept",null,"F",null,"",0,"","","","","","",2,2,0,0,23,23,999,null,null,null,5.0000000000000001E-4,"x",null,"xxxx"]
["BK.Reins","x",null,"",{"$f":"VLOOKUP(F701&\".\"&G701,syllabus!B$3:I$99,8,FALSE)&RIGHT(\"00000\"&J701,5)","v":"8000100"},"BK","Reins","BK.Reins: All","--",100,null,null,{"$f":"A701&\": All\"","v":"BK.Reins: All"},null,null,"--",null,"info",null,"",0,"","","","","","","","",0,0,47,47,999,null,null,null,5.0000000000000001E-4,"x",null,"xxxx"]
["BK.Reins",null,null,"",{"$f":"VLOOKUP(F702&\".\"&G702,syllabus!B$3:I$99,8,FALSE)&RIGHT(\"00000\"&J702,5)","v":"8000200"},"BK","Reins","BK.Reins: All","general",200,1,null,"general: identify functions of reinsurance (6)","CATASTROPHE protection (a very large loss will be mostly absorbed by reinsurance) ~ STABILIZE loss experience (reinsurance 'cuts the right tail off' the loss distribution) ~ WITHDRAWAL from market is facilitated (off-loading risk to reinsurance is quicker than runoff) ~ INCREASE large-line capacity (but minimize associated risk) ~ GUIDANCE from reinsurer (with expertise in U/W & pricing for that particular line) ~ SURPLUS relief (reinsurance reduces net leverage ratio) ","cat-SWIGS","concept",null,"A",null,"",0,"","","","","","",1,8,2,5.6568542494923806,47,47,999,null,null,null,5.0000000000000001E-4,"x",null,1,null,null,null,null,null,null,null,null,null,null,null,null,null,null,null,null,null,null,null,null,null,null,null,null,null,null,null,0]
["BK.Reins",null,null,"",{"$f":"VLOOKUP(F703&\".\"&G703,syllabus!B$3:I$99,8,FALSE)&RIGHT(\"00000\"&J703,5)","v":"8000300"},"BK","Reins","BK.Reins: All","BC",300,null,null,"BC:",null,null,"concept",null,"F",null,"",0,"","","","","","",1,2,0,0,47,47,999,null,null,null,5.0000000000000001E-4,"x",null,"xxxx",null,null,null,null,null,null,null,null,null,null,null,null,null,null,null,null,null,null,null,null,null,null,null,null,null,null,null,0]
["BK.Reins",null,null,"",{"$f":"VLOOKUP(F704&\".\"&G704,syllabus!B$3:I$99,8,FALSE)&RIGHT(\"00000\"&J704,5)","v":"8000400"},"BK","Reins","BK.Reins: All","BC",400,null,null,"BC:",null,null,"concept",null,"F",null,"",0,"","","","","","",1,2,0,0,47,47,999,null,null,null,5.0000000000000001E-4,"x",null,"xxxx"]
["BK.Reins",null,null,"",{"$f":"VLOOKUP(F705&\".\"&G705,syllabus!B$3:I$99,8,FALSE)&RIGHT(\"00000\"&J705,5)","v":"8000500"},"BK","Reins","BK.Reins: All","BC",500,null,null,"BC:",null,null,"concept",null,"F",null,"",0,"","","","","","",1,2,0,0,47,47,999,null,null,null,5.0000000000000001E-4,"x",null,"xxxx"]
["BK.Reins",null,null,"",{"$f":"VLOOKUP(F706&\".\"&G706,syllabus!B$3:I$99,8,FALSE)&RIGHT(\"00000\"&J706,5)","v":"8000600"},"BK","Reins","BK.Reins: All","BC",600,null,null,"BC:",null,null,"concept",null,"F",null,"",0,"","","","","","",1,2,0,0,47,47,999,null,null,null,5.0000000000000001E-4,"x",null,"xxxx"]
["BK.Reins",null,null,"",{"$f":"VLOOKUP(F707&\".\"&G707,syllabus!B$3:I$99,8,FALSE)&RIGHT(\"00000\"&J707,5)","v":"8000700"},"BK","Reins","BK.Reins: All","BC",700,null,null,"BC:",null,null,"concept",null,"F",null,"",0,"","","","","","",1,2,0,0,47,47,999,null,null,null,5.0000000000000001E-4,"x",null,"xxxx"]
["BK.Reins",null,null,"",{"$f":"VLOOKUP(F708&\".\"&G708,syllabus!B$3:I$99,8,FALSE)&RIGHT(\"00000\"&J708,5)","v":"8000800"},"BK","Reins","BK.Reins: All","BC",800,null,null,"BC:",null,null,"concept",null,"F",null,"",0,"","","","","","",1,2,0,0,47,47,999,null,null,null,5.0000000000000001E-4,"x",null,"xxxx"]
["BK.Reins",null,null,"",{"$f":"VLOOKUP(F709&\".\"&G709,syllabus!B$3:I$99,8,FALSE)&RIGHT(\"00000\"&J709,5)","v":"8000900"},"BK","Reins","BK.Reins: All","BC",900,null,null,"BC:",null,null,"concept",null,"F",null,"",0,"","","","","","",1,2,0,0,47,47,999,null,null,null,5.0000000000000001E-4,"x",null,"xxxx"]
["BK.Reins",null,null,"",{"$f":"VLOOKUP(F710&\".\"&G710,syllabus!B$3:I$99,8,FALSE)&RIGHT(\"00000\"&J710,5)","v":"8001000"},"BK","Reins","BK.Reins: All","BC",1000,null,null,"BC:",null,null,"concept",null,"F",null,"",0,"","","","","","",1,2,0,0,47,47,999,null,null,null,5.0000000000000001E-4,"x",null,"xxxx"]
["BK.Reins",null,null,"",{"$f":"VLOOKUP(F711&\".\"&G711,syllabus!B$3:I$99,8,FALSE)&RIGHT(\"00000\"&J711,5)","v":"8001100"},"BK","Reins","BK.Reins: All","BC",1100,null,null,"BC:",null,null,"concept",null,"F",null,"",0,"","","","","","",1,2,0,0,47,47,999,null,null,null,5.0000000000000001E-4,"x",null,"xxxx"]
["BK.Reins",null,null,"",{"$f":"VLOOKUP(F712&\".\"&G712,syllabus!B$3:I$99,8,FALSE)&RIGHT(\"00000\"&J712,5)","v":"8001200"},"BK","Reins","BK.Reins: All","BC",1200,null,null,"BC:",null,null,"concept",null,"F",null,"",0,"","","","","","",1,2,0,0,47,47,999,null,null,null,5.0000000000000001E-4,"x",null,"xxxx"]
["BK.Reins",null,null,"",{"$f":"VLOOKUP(F713&\".\"&G713,syllabus!B$3:I$99,8,FALSE)&RIGHT(\"00000\"&J713,5)","v":"8001300"},"BK","Reins","BK.Reins: All","BC",1300,null,null,"BC:",null,null,"concept",null,"F",null,"",0,"","","","","","",1,2,0,0,47,47,999,null,null,null,5.0000000000000001E-4,"x",null,"xxxx"]
["BK.Reins",null,null,"",{"$f":"VLOOKUP(F714&\".\"&G714,syllabus!B$3:I$99,8,FALSE)&RIGHT(\"00000\"&J714,5)","v":"8001400"},"BK","Reins","BK.Reins: All","BC",1400,null,null,"BC:",null,null,"concept",null,"F",null,"",0,"","","","","","",1,2,0,0,47,47,999,null,null,null,5.0000000000000001E-4,"x",null,"xxxx"]
["BK.Reins",null,null,"",{"$f":"VLOOKUP(F715&\".\"&G715,syllabus!B$3:I$99,8,FALSE)&RIGHT(\"00000\"&J715,5)","v":"8001500"},"BK","Reins","BK.Reins: All","BC",1500,null,null,"BC:",null,null,"concept",null,"F",null,"",0,"","","","","","",1,2,0,0,47,47,999,null,null,null,5.0000000000000001E-4,"x",null,"xxxx"]
["BK.Reins",null,null,"",{"$f":"VLOOKUP(F716&\".\"&G716,syllabus!B$3:I$99,8,FALSE)&RIGHT(\"00000\"&J716,5)","v":"8001600"},"BK","Reins","BK.Reins: All","BC",1600,null,null,"BC:",null,null,"concept",null,"F",null,"",0,"","","","","","",1,2,0,0,47,47,999,null,null,null,5.0000000000000001E-4,"x",null,"xxxx"]
["BK.Reins",null,null,"",{"$f":"VLOOKUP(F717&\".\"&G717,syllabus!B$3:I$99,8,FALSE)&RIGHT(\"00000\"&J717,5)","v":"8001700"},"BK","Reins","BK.Reins: All","BC",1700,null,null,"BC:",null,null,"concept",null,"F",null,"",0,"","","","","","",1,2,0,0,47,47,999,null,null,null,5.0000000000000001E-4,"x",null,"xxxx"]
["BK.Reins",null,null,"",{"$f":"VLOOKUP(F718&\".\"&G718,syllabus!B$3:I$99,8,FALSE)&RIGHT(\"00000\"&J718,5)","v":"8001800"},"BK","Reins","BK.Reins: All","BC",1800,null,null,"BC:",null,null,"concept",null,"F",null,"",0,"","","","","","",1,2,0,0,47,47,999,null,null,null,5.0000000000000001E-4,"x",null,"xxxx"]
["BK.Reins",null,null,"",{"$f":"VLOOKUP(F719&\".\"&G719,syllabus!B$3:I$99,8,FALSE)&RIGHT(\"00000\"&J719,5)","v":"8001900"},"BK","Reins","BK.Reins: All","BC",1900,null,null,"BC:",null,null,"concept",null,"F",null,"",0,"","","","","","",1,2,0,0,47,47,999,null,null,null,5.0000000000000001E-4,"x",null,"xxxx"]
["BK.Reins",null,null,"",{"$f":"VLOOKUP(F720&\".\"&G720,syllabus!B$3:I$99,8,FALSE)&RIGHT(\"00000\"&J720,5)","v":"8002000"},"BK","Reins","BK.Reins: All","BC",2000,null,null,"BC:",null,null,"concept",null,"F",null,"",0,"","","","","","",1,2,0,0,47,47,999,null,null,null,5.0000000000000001E-4,"x",null,"xxxx"]
["BK.Reins",null,null,"",{"$f":"VLOOKUP(F721&\".\"&G721,syllabus!B$3:I$99,8,FALSE)&RIGHT(\"00000\"&J721,5)","v":"8002100"},"BK","Reins","BK.Reins: All","BC",2100,null,null,"BC:",null,null,"concept",null,"F",null,"",0,"","","","","","",1,2,0,0,47,47,999,null,null,null,5.0000000000000001E-4,"x",null,"xxxx"]
["BK.Reins",null,null,"",{"$f":"VLOOKUP(F722&\".\"&G722,syllabus!B$3:I$99,8,FALSE)&RIGHT(\"00000\"&J722,5)","v":"8002200"},"BK","Reins","BK.Reins: All","BC",2200,null,null,"BC:",null,null,"concept",null,"F",null,"",0,"","","","","","",1,2,0,0,47,47,999,null,null,null,5.0000000000000001E-4,"x",null,"xxxx"]
["BK.Reins",null,null,"",{"$f":"VLOOKUP(F723&\".\"&G723,syllabus!B$3:I$99,8,FALSE)&RIGHT(\"00000\"&J723,5)","v":"8002300"},"BK","Reins","BK.Reins: All","BC",2300,null,null,"BC:",null,null,"concept",null,"F",null,"",0,"","","","","","",1,2,0,0,47,47,999,null,null,null,5.0000000000000001E-4,"x",null,"xxxx"]
["BK.Reins",null,null,"",{"$f":"VLOOKUP(F724&\".\"&G724,syllabus!B$3:I$99,8,FALSE)&RIGHT(\"00000\"&J724,5)","v":"8002400"},"BK","Reins","BK.Reins: All","BC",2400,null,null,"BC:",null,null,"concept",null,"F",null,"",0,"","","","","","",1,2,0,0,47,47,999,null,null,null,5.0000000000000001E-4,"x",null,"xxxx"]
["BK.Reins",null,null,"",{"$f":"VLOOKUP(F725&\".\"&G725,syllabus!B$3:I$99,8,FALSE)&RIGHT(\"00000\"&J725,5)","v":"8002500"},"BK","Reins","BK.Reins: All","BC",2500,null,null,"BC:",null,null,"concept",null,"F",null,"",0,"","","","","","",1,2,0,0,47,47,999,null,null,null,5.0000000000000001E-4,"x",null,"xxxx"]
["BK.Reins",null,null,"",{"$f":"VLOOKUP(F726&\".\"&G726,syllabus!B$3:I$99,8,FALSE)&RIGHT(\"00000\"&J726,5)","v":"8002600"},"BK","Reins","BK.Reins: All","BC",2600,null,null,"BC:",null,null,"concept",null,"F",null,"",0,"","","","","","",1,2,0,0,47,47,999,null,null,null,5.0000000000000001E-4,"x",null,"xxxx"]
["BK.Reins",null,null,"",{"$f":"VLOOKUP(F727&\".\"&G727,syllabus!B$3:I$99,8,FALSE)&RIGHT(\"00000\"&J727,5)","v":"8002700"},"BK","Reins","BK.Reins: All","BC",2700,null,null,"BC:",null,null,"concept",null,"F",null,"",0,"","","","","","",1,2,0,0,47,47,999,null,null,null,5.0000000000000001E-4,"x",null,"xxxx"]
["BK.Reins",null,null,"",{"$f":"VLOOKUP(F728&\".\"&G728,syllabus!B$3:I$99,8,FALSE)&RIGHT(\"00000\"&J728,5)","v":"8002800"},"BK","Reins","BK.Reins: All","BC",2800,null,null,"BC:",null,null,"concept",null,"F",null,"",0,"","","","","","",1,2,0,0,47,47,999,null,null,null,5.0000000000000001E-4,"x",null,"xxxx"]
["BK.Reins",null,null,"",{"$f":"VLOOKUP(F729&\".\"&G729,syllabus!B$3:I$99,8,FALSE)&RIGHT(\"00000\"&J729,5)","v":"8002900"},"BK","Reins","BK.Reins: All","BC",2900,null,null,"BC:",null,null,"concept",null,"F",null,"",0,"","","","","","",1,2,0,0,47,47,999,null,null,null,5.0000000000000001E-4,"x",null,"xxxx"]
["BK.Reins",null,null,"",{"$f":"VLOOKUP(F730&\".\"&G730,syllabus!B$3:I$99,8,FALSE)&RIGHT(\"00000\"&J730,5)","v":"8003000"},"BK","Reins","BK.Reins: All","BC",3000,null,null,"BC:",null,null,"concept",null,"F",null,"",0,"","","","","","",1,2,0,0,47,47,999,null,null,null,5.0000000000000001E-4,"x",null,"xxxx"]
["BK.Reins",null,null,"",{"$f":"VLOOKUP(F731&\".\"&G731,syllabus!B$3:I$99,8,FALSE)&RIGHT(\"00000\"&J731,5)","v":"8003100"},"BK","Reins","BK.Reins: All","BC",3100,null,null,"BC:",null,null,"concept",null,"F",null,"",0,"","","","","","",1,2,0,0,47,47,999,null,null,null,5.0000000000000001E-4,"x",null,"xxxx"]
["BK.Reins",null,null,"",{"$f":"VLOOKUP(F732&\".\"&G732,syllabus!B$3:I$99,8,FALSE)&RIGHT(\"00000\"&J732,5)","v":"8003200"},"BK","Reins","BK.Reins: All","BC",3200,null,null,"BC:",null,null,"concept",null,"F",null,"",0,"","","","","","",1,2,0,0,47,47,999,null,null,null,5.0000000000000001E-4,"x",null,"xxxx"]
["BK.Reins",null,null,"",{"$f":"VLOOKUP(F733&\".\"&G733,syllabus!B$3:I$99,8,FALSE)&RIGHT(\"00000\"&J733,5)","v":"8003300"},"BK","Reins","BK.Reins: All","BC",3300,null,null,"BC:",null,null,"concept",null,"F",null,"",0,"","","","","","",1,2,0,0,47,47,999,null,null,null,5.0000000000000001E-4,"x",null,"xxxx"]
["BK.Reins",null,null,"",{"$f":"VLOOKUP(F734&\".\"&G734,syllabus!B$3:I$99,8,FALSE)&RIGHT(\"00000\"&J734,5)","v":"8003400"},"BK","Reins","BK.Reins: All","BC",3400,null,null,"BC:",null,null,"concept",null,"F",null,"",0,"","","","","","",1,2,0,0,47,47,999,null,null,null,5.0000000000000001E-4,"x",null,"xxxx"]
["BK.Reins",null,null,"",{"$f":"VLOOKUP(F735&\".\"&G735,syllabus!B$3:I$99,8,FALSE)&RIGHT(\"00000\"&J735,5)","v":"8003500"},"BK","Reins","BK.Reins: All","exam",3500,null,null,"exam:",null,null,"concept",null,"F",null,"",0,"","","","","","",1,2,0,0,47,47,999,null,null,null,5.0000000000000001E-4,"x",null,"xxxx"]
["BK.Reins",null,null,"",{"$f":"VLOOKUP(F736&\".\"&G736,syllabus!B$3:I$99,8,FALSE)&RIGHT(\"00000\"&J736,5)","v":"8003600"},"BK","Reins","BK.Reins: All","exam",3600,null,null,"exam:",null,null,"concept",null,"F",null,"",0,"","","","","","",1,2,0,0,47,47,999,null,null,null,5.0000000000000001E-4,"x",null,"xxxx"]
["BK.Reins",null,null,"",{"$f":"VLOOKUP(F737&\".\"&G737,syllabus!B$3:I$99,8,FALSE)&RIGHT(\"00000\"&J737,5)","v":"8003700"},"BK","Reins","BK.Reins: All","exam",3700,null,null,"exam:",null,null,"concept",null,"F",null,"",0,"","","","","","",1,2,0,0,47,47,999,null,null,null,5.0000000000000001E-4,"x",null,"xxxx"]
["BK.Reins",null,null,"",{"$f":"VLOOKUP(F738&\".\"&G738,syllabus!B$3:I$99,8,FALSE)&RIGHT(\"00000\"&J738,5)","v":"8003800"},"BK","Reins","BK.Reins: All","exam",3800,null,null,"exam:",null,null,"concept",null,"F",null,"",0,"","","","","","",1,2,0,0,47,47,999,null,null,null,5.0000000000000001E-4,"x",null,"xxxx"]
["BK.Reins",null,null,"",{"$f":"VLOOKUP(F739&\".\"&G739,syllabus!B$3:I$99,8,FALSE)&RIGHT(\"00000\"&J739,5)","v":"8003900"},"BK","Reins","BK.Reins: All","exam",3900,null,null,"exam:",null,null,"concept",null,"F",null,"",0,"","","","","","",1,2,0,0,47,47,999,null,null,null,5.0000000000000001E-4,"x",null,"xxxx"]
["BK.Reins",null,null,"",{"$f":"VLOOKUP(F740&\".\"&G740,syllabus!B$3:I$99,8,FALSE)&RIGHT(\"00000\"&J740,5)","v":"8004000"},"BK","Reins","BK.Reins: All","exam",4000,null,null,"exam:",null,null,"concept",null,"F",null,"",0,"","","","","","",1,2,0,0,47,47,999,null,null,null,5.0000000000000001E-4,"x",null,"xxxx"]
["BK.Reins",null,null,"",{"$f":"VLOOKUP(F741&\".\"&G741,syllabus!B$3:I$99,8,FALSE)&RIGHT(\"00000\"&J741,5)","v":"8004100"},"BK","Reins","BK.Reins: All","exam",4100,null,null,"exam:",null,null,"concept",null,"F",null,"",0,"","","","","","",1,2,0,0,47,47,999,null,null,null,5.0000000000000001E-4,"x",null,"xxxx"]
["BK.Reins",null,null,"",{"$f":"VLOOKUP(F742&\".\"&G742,syllabus!B$3:I$99,8,FALSE)&RIGHT(\"00000\"&J742,5)","v":"8004200"},"BK","Reins","BK.Reins: All","exam",4200,null,null,"exam:",null,null,"concept",null,"F",null,"",0,"","","","","","",1,2,0,0,47,47,999,null,null,null,5.0000000000000001E-4,"x",null,"xxxx"]
["BK.Reins",null,null,"",{"$f":"VLOOKUP(F743&\".\"&G743,syllabus!B$3:I$99,8,FALSE)&RIGHT(\"00000\"&J743,5)","v":"8004300"},"BK","Reins","BK.Reins: All","exam",4300,null,null,"exam:",null,null,"concept",null,"F",null,"",0,"","","","","","",1,2,0,0,47,47,999,null,null,null,5.0000000000000001E-4,"x",null,"xxxx"]
["BK.Reins",null,null,"",{"$f":"VLOOKUP(F744&\".\"&G744,syllabus!B$3:I$99,8,FALSE)&RIGHT(\"00000\"&J744,5)","v":"8004400"},"BK","Reins","BK.Reins: All","exam",4400,null,null,"exam:",null,null,"concept",null,"F",null,"",0,"","","","","","",1,2,0,0,47,47,999,null,null,null,5.0000000000000001E-4,"x",null,"xxxx"]
["BK.Reins",null,null,"",{"$f":"VLOOKUP(F745&\".\"&G745,syllabus!B$3:I$99,8,FALSE)&RIGHT(\"00000\"&J745,5)","v":"8004500"},"BK","Reins","BK.Reins: All","exam",4500,null,null,"exam:",null,null,"concept",null,"F",null,"",0,"","","","","","",1,2,0,0,47,47,999,null,null,null,5.0000000000000001E-4,"x",null,"xxxx"]
["BK.Reins",null,null,"",{"$f":"VLOOKUP(F746&\".\"&G746,syllabus!B$3:I$99,8,FALSE)&RIGHT(\"00000\"&J746,5)","v":"8004600"},"BK","Reins","BK.Reins: All","exam",4600,null,null,"exam:",null,null,"concept",null,"F",null,"",0,"","","","","","",1,2,0,0,47,47,999,null,null,null,5.0000000000000001E-4,"x",null,"xxxx"]
["BK.Reins",null,null,"",{"$f":"VLOOKUP(F747&\".\"&G747,syllabus!B$3:I$99,8,FALSE)&RIGHT(\"00000\"&J747,5)","v":"8004700"},"BK","Reins","BK.Reins: All","exam",4700,null,null,"exam:",null,null,"concept",null,"F",null,"",0,"","","","","","",1,2,0,0,47,47,999,null,null,null,5.0000000000000001E-4,"x",null,"xxxx"]
["BK.Reins",null,null,"",{"$f":"VLOOKUP(F748&\".\"&G748,syllabus!B$3:I$99,8,FALSE)&RIGHT(\"00000\"&J748,5)","v":"8004800"},"BK","Reins","BK.Reins: All","exam",4800,null,null,"exam:",null,null,"concept",null,"F",null,"",0,"","","","","","",1,2,0,0,47,47,999,null,null,null,5.0000000000000001E-4,"x",null,"xxxx"]
["BK.Reins",null,null,"",{"$f":"VLOOKUP(F749&\".\"&G749,syllabus!B$3:I$99,8,FALSE)&RIGHT(\"00000\"&J749,5)","v":"8004900"},"BK","Reins","BK.Reins: All","exam",4900,null,null,"exam:",null,null,"concept",null,"F",null,"",0,"","","","","","",1,2,0,0,47,47,999,null,null,null,5.0000000000000001E-4,"x",null,"xxxx"]
["BK.Reins",null,null,"",{"$f":"VLOOKUP(F750&\".\"&G750,syllabus!B$3:I$99,8,FALSE)&RIGHT(\"00000\"&J750,5)","v":"8005000"},"BK","Reins","BK.Reins: All","exam",5000,null,null,"exam:",null,null,"concept",null,"F",null,"",0,"","","","","","",1,2,0,0,47,47,999,null,null,null,5.0000000000000001E-4,"x",null,"xxxx"]
["BK.Reins",null,null,"",{"$f":"VLOOKUP(F751&\".\"&G751,syllabus!B$3:I$99,8,FALSE)&RIGHT(\"00000\"&J751,5)","v":"8005100"},"BK","Reins","BK.Reins: All","exam",5100,null,null,"exam:",null,null,"concept",null,"F",null,"",0,"","","","","","",1,2,0,0,47,47,999,null,null,null,5.0000000000000001E-4,"x",null,"xxxx"]
["BK.Reins",null,null,"",{"$f":"VLOOKUP(F752&\".\"&G752,syllabus!B$3:I$99,8,FALSE)&RIGHT(\"00000\"&J752,5)","v":"8005200"},"BK","Reins","BK.Reins: All","exam",5200,null,null,"exam:",null,null,"concept",null,"F",null,"",0,"","","","","","",1,2,0,0,47,47,999,null,null,null,5.0000000000000001E-4,"x",null,"xxxx"]
["BK.Reins",null,null,"",{"$f":"VLOOKUP(F753&\".\"&G753,syllabus!B$3:I$99,8,FALSE)&RIGHT(\"00000\"&J753,5)","v":"8005300"},"BK","Reins","BK.Reins: All","exam",5300,null,null,"exam:",null,null,"concept",null,"F",null,"",0,"","","","","","",1,2,0,0,47,47,999,null,null,null,5.0000000000000001E-4,"x",null,"xxxx"]
["BK.Reins",null,null,"",{"$f":"VLOOKUP(F754&\".\"&G754,syllabus!B$3:I$99,8,FALSE)&RIGHT(\"00000\"&J754,5)","v":"8005400"},"BK","Reins","BK.Reins: All","exam",5400,null,null,"exam:",null,null,"concept",null,"F",null,"",0,"","","","","","",1,2,0,0,47,47,999,null,null,null,5.0000000000000001E-4,"x",null,"xxxx"]
["BK.Reins",null,null,"",{"$f":"VLOOKUP(F755&\".\"&G755,syllabus!B$3:I$99,8,FALSE)&RIGHT(\"00000\"&J755,5)","v":"8005500"},"BK","Reins","BK.Reins: All","exam",5500,null,null,"exam:",null,null,"concept",null,"F",null,"",0,"","","","","","",1,2,0,0,47,47,999,null,null,null,5.0000000000000001E-4,"x",null,"xxxx"]
["BK.Reins",null,null,"",{"$f":"VLOOKUP(F756&\".\"&G756,syllabus!B$3:I$99,8,FALSE)&RIGHT(\"00000\"&J756,5)","v":"8005600"},"BK","Reins","BK.Reins: All","exam",5600,null,null,"exam:",null,null,"concept",null,"F",null,"",0,"","","","","","",1,2,0,0,47,47,999,null,null,null,5.0000000000000001E-4,"x",null,"xxxx"]
["BK.Reins",null,null,"",{"$f":"VLOOKUP(F757&\".\"&G757,syllabus!B$3:I$99,8,FALSE)&RIGHT(\"00000\"&J757,5)","v":"8005700"},"BK","Reins","BK.Reins: All","exam",5700,null,null,"exam:",null,null,"concept",null,"F",null,"",0,"","","","","","",1,2,0,0,47,47,999,null,null,null,5.0000000000000001E-4,"x",null,"xxxx"]
["BK.Reins",null,null,"",{"$f":"VLOOKUP(F758&\".\"&G758,syllabus!B$3:I$99,8,FALSE)&RIGHT(\"00000\"&J758,5)","v":"8005800"},"BK","Reins","BK.Reins: All","exam",5800,null,null,"exam:",null,null,"concept",null,"F",null,"",0,"","","","","","",1,2,0,0,47,47,999,null,null,null,5.0000000000000001E-4,"x",null,"xxxx"]
["BK.Reins",null,null,"",{"$f":"VLOOKUP(F759&\".\"&G759,syllabus!B$3:I$99,8,FALSE)&RIGHT(\"00000\"&J759,5)","v":"8005900"},"BK","Reins","BK.Reins: All","exam",5900,null,null,"exam:",null,null,"concept",null,"F",null,"",0,"","","","","","",1,2,0,0,47,47,999,null,null,null,5.0000000000000001E-4,"x",null,"xxxx"]
["BK.Reins",null,null,"",{"$f":"VLOOKUP(F760&\".\"&G760,syllabus!B$3:I$99,8,FALSE)&RIGHT(\"00000\"&J760,5)","v":"8006000"},"BK","Reins","BK.Reins: All","exam",6000,"x",null,"exam: start Fall.2017 here (at numID = 6000)",null,null,"concept",null,"F",null,"",0,"","","","","","",1,2,0,0,47,47,999,null,null,null,5.0000000000000001E-4,"x",null,"xxxx"]
["BK.Reins",null,null,"",{"$f":"VLOOKUP(F761&\".\"&G761,syllabus!B$3:I$99,8,FALSE)&RIGHT(\"00000\"&J761,5)","v":"8006100"},"BK","Reins","BK.Reins: All","exam",6100,null,null,"exam:",null,null,"concept",null,"F",null,"",0,"","","","","","",1,2,0,0,47,47,999,null,null,null,5.0000000000000001E-4,"x",null,"xxxx"]
["BK.Reins",null,null,"",{"$f":"VLOOKUP(F762&\".\"&G762,syllabus!B$3:I$99,8,FALSE)&RIGHT(\"00000\"&J762,5)","v":"8006200"},"BK","Reins","BK.Reins: All","exam",6200,null,null,"exam:",null,null,"concept",null,"F",null,"",0,"","","","","","",1,2,0,0,47,47,999,null,null,null,5.0000000000000001E-4,"x",null,"xxxx"]
["BK.Reins",null,null,"",{"$f":"VLOOKUP(F763&\".\"&G763,syllabus!B$3:I$99,8,FALSE)&RIGHT(\"00000\"&J763,5)","v":"8006300"},"BK","Reins","BK.Reins: All","exam",6300,null,null,"exam:",null,null,"concept",null,"F",null,"",0,"","","","","","",1,2,0,0,47,47,999,null,null,null,5.0000000000000001E-4,"x",null,"xxxx"]
["BK.Reins",null,null,"",{"$f":"VLOOKUP(F764&\".\"&G764,syllabus!B$3:I$99,8,FALSE)&RIGHT(\"00000\"&J764,5)","v":"8006400"},"BK","Reins","BK.Reins: All","exam",6400,null,null,"exam:",null,null,"concept",null,"F",null,"",0,"","","","","","",1,2,0,0,47,47,999,null,null,null,5.0000000000000001E-4,"x",null,"xxxx"]
["BK.Reins",null,null,"",{"$f":"VLOOKUP(F765&\".\"&G765,syllabus!B$3:I$99,8,FALSE)&RIGHT(\"00000\"&J765,5)","v":"8006500"},"BK","Reins","BK.Reins: All","exam",6500,null,null,"exam:",null,null,"concept",null,"F",null,"",0,"","","","","","",1,2,0,0,47,47,999,null,null,null,5.0000000000000001E-4,"x",null,"xxxx"]
["BK.Reins",null,null,"",{"$f":"VLOOKUP(F766&\".\"&G766,syllabus!B$3:I$99,8,FALSE)&RIGHT(\"00000\"&J766,5)","v":"8006600"},"BK","Reins","BK.Reins: All","exam",6600,null,null,"exam:",null,null,"concept",null,"F",null,"",0,"","","","","","",1,2,0,0,47,47,999,null,null,null,5.0000000000000001E-4,"x",null,"xxxx"]
["BK.Reins",null,null,"",{"$f":"VLOOKUP(F767&\".\"&G767,syllabus!B$3:I$99,8,FALSE)&RIGHT(\"00000\"&J767,5)","v":"8006700"},"BK","Reins","BK.Reins: All","exam",6700,null,null,"exam:",null,null,"concept",null,"F",null,"",0,"","","","","","",1,2,0,0,47,47,999,null,null,null,5.0000000000000001E-4,"x",null,"xxxx"]
["BK.Reins",null,null,"",{"$f":"VLOOKUP(F768&\".\"&G768,syllabus!B$3:I$99,8,FALSE)&RIGHT(\"00000\"&J768,5)","v":"8006800"},"BK","Reins","BK.Reins: All","exam",6800,null,null,"exam:",null,null,"concept",null,"F",null,"",0,"","","","","","",1,2,0,0,47,47,999,null,null,null,5.0000000000000001E-4,"x",null,"xxxx"]
["BK.Reins",null,null,"",{"$f":"VLOOKUP(F769&\".\"&G769,syllabus!B$3:I$99,8,FALSE)&RIGHT(\"00000\"&J769,5)","v":"8006900"},"BK","Reins","BK.Reins: All","exam",6900,null,null,"exam:",null,null,"concept",null,"F",null,"",0,"","","","","","",1,2,0,0,47,47,999,null,null,null,5.0000000000000001E-4,"x",null,"xxxx"]
["BK.Reins",null,null,"",{"$f":"VLOOKUP(F770&\".\"&G770,syllabus!B$3:I$99,8,FALSE)&RIGHT(\"00000\"&J770,5)","v":"8007000"},"BK","Reins","BK.Reins: All","exam",7000,null,null,"exam:",null,null,"concept",null,"F",null,"",0,"","","","","","",1,2,0,0,47,47,999,null,null,null,5.0000000000000001E-4,"x",null,"xxxx"]
["BK.Reins",null,null,"",{"$f":"VLOOKUP(F771&\".\"&G771,syllabus!B$3:I$99,8,FALSE)&RIGHT(\"00000\"&J771,5)","v":"8007100"},"BK","Reins","BK.Reins: All","exam",7100,null,null,"exam:",null,null,"concept",null,"F",null,"",0,"","","","","","",1,2,0,0,47,47,999,null,null,null,5.0000000000000001E-4,"x",null,"xxxx"]
["BK.Reins",null,null,"",{"$f":"VLOOKUP(F772&\".\"&G772,syllabus!B$3:I$99,8,FALSE)&RIGHT(\"00000\"&J772,5)","v":"8007200"},"BK","Reins","BK.Reins: All","exam",7200,null,null,"exam:",null,null,"concept",null,"F",null,"",0,"","","","","","",1,2,0,0,47,47,999,null,null,null,5.0000000000000001E-4,"x",null,"xxxx"]
["BK.Reins",null,null,"",{"$f":"VLOOKUP(F773&\".\"&G773,syllabus!B$3:I$99,8,FALSE)&RIGHT(\"00000\"&J773,5)","v":"8007300"},"BK","Reins","BK.Reins: All","exam",7300,null,null,"exam:",null,null,"concept",null,"F",null,"",0,"","","","","","",1,2,0,0,47,47,999,null,null,null,5.0000000000000001E-4,"x",null,"xxxx"]
["BK.Reins",null,null,"",{"$f":"VLOOKUP(F774&\".\"&G774,syllabus!B$3:I$99,8,FALSE)&RIGHT(\"00000\"&J774,5)","v":"8007400"},"BK","Reins","BK.Reins: All","exam",7400,null,null,"exam:",null,null,"concept",null,"F",null,"",0,"","","","","","",1,2,0,0,47,47,999,null,null,null,5.0000000000000001E-4,"x",null,"xxxx"]
["BK.Reins",null,null,"",{"$f":"VLOOKUP(F775&\".\"&G775,syllabus!B$3:I$99,8,FALSE)&RIGHT(\"00000\"&J775,5)","v":"8007500"},"BK","Reins","BK.Reins: All","exam",7500,null,null,"exam:",null,null,"concept",null,"F",null,"",0,"","","","","","",1,2,0,0,47,47,999,null,null,null,5.0000000000000001E-4,"x",null,"xxxx"]
["BK.Reins",null,null,"",{"$f":"VLOOKUP(F776&\".\"&G776,syllabus!B$3:I$99,8,FALSE)&RIGHT(\"00000\"&J776,5)","v":"8007600"},"BK","Reins","BK.Reins: All","exam",7600,null,null,"exam:",null,null,"concept",null,"F",null,"",0,"","","","","","",1,2,0,0,47,47,999,null,null,null,5.0000000000000001E-4,"x",null,"xxxx"]
["BK.Reins",null,null,"",{"$f":"VLOOKUP(F777&\".\"&G777,syllabus!B$3:I$99,8,FALSE)&RIGHT(\"00000\"&J777,5)","v":"8007700"},"BK","Reins","BK.Reins: All","exam",7700,null,null,"exam:",null,null,"concept",null,"F",null,"",0,"","","","","","",1,2,0,0,47,47,999,null,null,null,5.0000000000000001E-4,"x",null,"xxxx"]
["BK.Reins",null,null,"",{"$f":"VLOOKUP(F778&\".\"&G778,syllabus!B$3:I$99,8,FALSE)&RIGHT(\"00000\"&J778,5)","v":"8007800"},"BK","Reins","BK.Reins: All","exam",7800,null,null,"exam:",null,null,"concept",null,"F",null,"",0,"","","","","","",1,2,0,0,47,47,999,null,null,null,5.0000000000000001E-4,"x",null,"xxxx"]
["BK.Reins",null,null,"",{"$f":"VLOOKUP(F779&\".\"&G779,syllabus!B$3:I$99,8,FALSE)&RIGHT(\"00000\"&J779,5)","v":"8007900"},"BK","Reins","BK.Reins: All","exam",7900,null,null,"exam:",null,null,"concept",null,"F",null,"",0,"","","","","","",1,2,0,0,47,47,999,null,null,null,5.0000000000000001E-4,"x",null,"xxxx"]
["BK.Reins",null,null,"",{"$f":"VLOOKUP(F780&\".\"&G780,syllabus!B$3:I$99,8,FALSE)&RIGHT(\"00000\"&J780,5)","v":"8008000"},"BK","Reins","BK.Reins: All","exam",8000,null,null,"exam:",null,null,"concept",null,"F",null,"",0,"","","","","","",1,2,0,0,47,47,999,null,null,null,5.0000000000000001E-4,"x",null,"xxxx"]
["BK.Reins",null,null,"",{"$f":"VLOOKUP(F781&\".\"&G781,syllabus!B$3:I$99,8,FALSE)&RIGHT(\"00000\"&J781,5)","v":"8008100"},"BK","Reins","BK.Reins: All","exam",8100,null,null,"exam:",null,null,"concept",null,"F",null,"",0,"","","","","","",1,2,0,0,47,47,999,null,null,null,5.0000000000000001E-4,"x",null,"xxxx"]
["BK.Reins",null,null,"",{"$f":"VLOOKUP(F782&\".\"&G782,syllabus!B$3:I$99,8,FALSE)&RIGHT(\"00000\"&J782,5)","v":"8008200"},"BK","Reins","BK.Reins: All","exam",8200,null,null,"exam:",null,null,"concept",null,"F",null,"",0,"","","","","","",1,2,0,0,47,47,999,null,null,null,5.0000000000000001E-4,"x",null,"xxxx"]
["BK.Reins",null,null,"",{"$f":"VLOOKUP(F783&\".\"&G783,syllabus!B$3:I$99,8,FALSE)&RIGHT(\"00000\"&J783,5)","v":"8008300"},"BK","Reins","BK.Reins: All","exam",8300,null,null,"exam:",null,null,"concept",null,"F",null,"",0,"","","","","","",1,2,0,0,47,47,999,null,null,null,5.0000000000000001E-4,"x",null,"xxxx"]
["BK.Reins",null,null,"",{"$f":"VLOOKUP(F784&\".\"&G784,syllabus!B$3:I$99,8,FALSE)&RIGHT(\"00000\"&J784,5)","v":"8008400"},"BK","Reins","BK.Reins: All","exam",8400,null,null,"exam:",null,null,"concept",null,"F",null,"",0,"","","","","","",1,2,0,0,47,47,999,null,null,null,5.0000000000000001E-4,"x",null,"xxxx"]
["BK.Reins",null,null,"",{"$f":"VLOOKUP(F785&\".\"&G785,syllabus!B$3:I$99,8,FALSE)&RIGHT(\"00000\"&J785,5)","v":"8008500"},"BK","Reins","BK.Reins: All","exam",8500,null,null,"exam:",null,null,"concept",null,"F",null,"",0,"","","","","","",1,2,0,0,47,47,999,null,null,null,5.0000000000000001E-4,"x",null,"xxxx"]
["BK.Reins",null,null,"",{"$f":"VLOOKUP(F786&\".\"&G786,syllabus!B$3:I$99,8,FALSE)&RIGHT(\"00000\"&J786,5)","v":"8008600"},"BK","Reins","BK.Reins: All","exam",8600,null,null,"exam:",null,null,"concept",null,"F",null,"",0,"","","","","","",1,2,0,0,47,47,999,null,null,null,5.0000000000000001E-4,"x",null,"xxxx"]
["BK.Reins",null,null,"",{"$f":"VLOOKUP(F787&\".\"&G787,syllabus!B$3:I$99,8,FALSE)&RIGHT(\"00000\"&J787,5)","v":"8008700"},"BK","Reins","BK.Reins: All","exam",8700,null,null,"exam:",null,null,"concept",null,"F",null,"",0,"","","","","","",1,2,0,0,47,47,999,null,null,null,5.0000000000000001E-4,"x",null,"xxxx"]
["BK.Reins",null,null,"",{"$f":"VLOOKUP(F788&\".\"&G788,syllabus!B$3:I$99,8,FALSE)&RIGHT(\"00000\"&J788,5)","v":"8008800"},"BK","Reins","BK.Reins: All","exam",8800,null,null,"exam:",null,null,"concept",null,"F",null,"",0,"","","","","","",1,2,0,0,47,47,999,null,null,null,5.0000000000000001E-4,"x",null,"xxxx"]
["BK.Reins",null,null,"",{"$f":"VLOOKUP(F789&\".\"&G789,syllabus!B$3:I$99,8,FALSE)&RIGHT(\"00000\"&J789,5)","v":"8008900"},"BK","Reins","BK.Reins: All","exam",8900,null,null,"exam:",null,null,"concept",null,"F",null,"",0,"","","","","","",1,2,0,0,47,47,999,null,null,null,5.0000000000000001E-4,"x",null,"xxxx"]
["BK.Reins",null,null,"",{"$f":"VLOOKUP(F790&\".\"&G790,syllabus!B$3:I$99,8,FALSE)&RIGHT(\"00000\"&J790,5)","v":"8009000"},"BK","Reins","BK.Reins: All","exam",9000,null,null,"exam:",null,null,"concept",null,"F",null,"",0,"","","","","","",1,2,0,0,47,47,999,null,null,null,5.0000000000000001E-4,"x",null,"xxxx"]
["BK.Reins",null,null,"",{"$f":"VLOOKUP(F791&\".\"&G791,syllabus!B$3:I$99,8,FALSE)&RIGHT(\"00000\"&J791,5)","v":"8009100"},"BK","Reins","BK.Reins: All","exam",9100,null,null,"exam:",null,null,"concept",null,"F",null,"",0,"","","","","","",1,2,0,0,47,47,999,null,null,null,5.0000000000000001E-4,"x",null,"xxxx"]
["BK.Reins",null,null,"",{"$f":"VLOOKUP(F792&\".\"&G792,syllabus!B$3:I$99,8,FALSE)&RIGHT(\"00000\"&J792,5)","v":"8009200"},"BK","Reins","BK.Reins: All","exam",9200,null,null,"exam:",null,null,"concept",null,"F",null,"",0,"","","","","","",1,2,0,0,47,47,999,null,null,null,5.0000000000000001E-4,"x",null,"xxxx"]
["BK.Reins",null,null,"",{"$f":"VLOOKUP(F793&\".\"&G793,syllabus!B$3:I$99,8,FALSE)&RIGHT(\"00000\"&J793,5)","v":"8009300"},"BK","Reins","BK.Reins: All","exam",9300,null,null,"exam:",null,null,"concept",null,"F",null,"",0,"","","","","","",1,2,0,0,47,47,999,null,null,null,5.0000000000000001E-4,"x",null,"xxxx"]
["BK.Reins",null,null,"",{"$f":"VLOOKUP(F794&\".\"&G794,syllabus!B$3:I$99,8,FALSE)&RIGHT(\"00000\"&J794,5)","v":"8009400"},"BK","Reins","BK.Reins: All","exam",9400,null,null,"exam:",null,null,"concept",null,"F",null,"",0,"","","","","","",1,2,0,0,47,47,999,null,null,null,5.0000000000000001E-4,"x",null,"xxxx"]
["BK.Reins",null,null,"",{"$f":"VLOOKUP(F795&\".\"&G795,syllabus!B$3:I$99,8,FALSE)&RIGHT(\"00000\"&J795,5)","v":"8009500"},"BK","Reins","BK.Reins: All","exam",9500,null,null,"exam:",null,null,"concept",null,"F",null,"",0,"","","","","","",1,2,0,0,47,47,999,null,null,null,5.0000000000000001E-4,"x",null,"xxxx"]
["BK.Reins",null,null,"",{"$f":"VLOOKUP(F796&\".\"&G796,syllabus!B$3:I$99,8,FALSE)&RIGHT(\"00000\"&J796,5)","v":"8009600"},"BK","Reins","BK.Reins: All","exam",9600,null,null,"exam:",null,null,"concept",null,"F",null,"",0,"","","","","","",1,2,0,0,47,47,999,null,null,null,5.0000000000000001E-4,"x",null,"xxxx"]
["BK.Reins",null,null,"",{"$f":"VLOOKUP(F797&\".\"&G797,syllabus!B$3:I$99,8,FALSE)&RIGHT(\"00000\"&J797,5)","v":"8009700"},"BK","Reins","BK.Reins: All","exam",9700,null,null,"exam:",null,null,"concept",null,"F",null,"",0,"","","","","","",1,2,0,0,47,47,999,null,null,null,5.0000000000000001E-4,"x",null,"xxxx"]
["BK.Reins",null,null,"",{"$f":"VLOOKUP(F798&\".\"&G798,syllabus!B$3:I$99,8,FALSE)&RIGHT(\"00000\"&J798,5)","v":"8009800"},"BK","Reins","BK.Reins: All","exam",9800,null,null,"exam:",null,null,"concept",null,"F",null,"",0,"","","","","","",1,2,0,0,47,47,999,null,null,null,5.0000000000000001E-4,"x",null,"xxxx"]
["BK.Reins",null,null,"",{"$f":"VLOOKUP(F799&\".\"&G799,syllabus!B$3:I$99,8,FALSE)&RIGHT(\"00000\"&J799,5)","v":"8009900"},"BK","Reins","BK.Reins: All","exam",9900,null,null,"exam:",null,null,"concept",null,"F",null,"",0,"","","","","","",1,2,0,0,47,47,999,null,null,null,5.0000000000000001E-4,"x",null,"xxxx"]
["BK.Reins",null,null,"",{"$f":"VLOOKUP(F800&\".\"&G800,syllabus!B$3:I$99,8,FALSE)&RIGHT(\"00000\"&J800,5)","v":"8009999"},"BK","Reins","BK.Reins: All","exam",9999,null,null,"exam:",null,null,"concept",null,"F",null,"",0,"","","","","","",1,2,0,0,47,47,999,null,null,null,5.0000000000000001E-4,"x",null,"xxxx"]
["COPLFR.SAO","x",null,"",{"$f":"VLOOKUP(F801&\".\"&G801,syllabus!B$3:I$99,8,FALSE)&RIGHT(\"00000\"&J801,5)","v":"9000100"},"COPLFR","SAO","COPLFR.SAO: All","--",100,null,null,{"$f":"A801&\": All\"","v":"COPLFR.SAO: All"},null,null,"--",null,"info",null,"",0,"","","","","","","","",0,0,2,2,999,null,null,null,5.0000000000000001E-4,"x",null,"xxxx"]
["COPLFR.SAO",null,null,"",{"$f":"VLOOKUP(F802&\".\"&G802,syllabus!B$3:I$99,8,FALSE)&RIGHT(\"00000\"&J802,5)","v":"9000200"},"COPLFR","SAO","COPLFR.SAO: All","BC",200,null,null,"BC:",null,null,"concept",null,"F",null,"",0,"","","","","","",5,2,0,0,2,2,999,null,null,null,5.0000000000000001E-4,"x",null,"xxxx"]
["COPLFR.SAO",null,null,"",{"$f":"VLOOKUP(F803&\".\"&G803,syllabus!B$3:I$99,8,FALSE)&RIGHT(\"00000\"&J803,5)","v":"9000300"},"COPLFR","SAO","COPLFR.SAO: All","BC",300,null,null,"BC:",null,null,"concept",null,"F",null,"",0,"","","","","","",5,2,0,0,2,2,999,null,null,null,5.0000000000000001E-4,"x",null,"xxxx"]
["COPLFR.SAO",null,null,"",{"$f":"VLOOKUP(F804&\".\"&G804,syllabus!B$3:I$99,8,FALSE)&RIGHT(\"00000\"&J804,5)","v":"9000400"},"COPLFR","SAO","COPLFR.SAO: All","BC",400,null,null,"BC:",null,null,"concept",null,"F",null,"",0,"","","","","","",5,2,0,0,2,2,999,null,null,null,5.0000000000000001E-4,"x",null,"xxxx"]
["COPLFR.SAO",null,null,"",{"$f":"VLOOKUP(F805&\".\"&G805,syllabus!B$3:I$99,8,FALSE)&RIGHT(\"00000\"&J805,5)","v":"9000500"},"COPLFR","SAO","COPLFR.SAO: All","BC",500,null,null,"BC:",null,null,"concept",null,"F",null,"",0,"","","","","","",5,2,0,0,2,2,999,null,null,null,5.0000000000000001E-4,"x",null,"xxxx"]
["COPLFR.SAO",null,null,"",{"$f":"VLOOKUP(F806&\".\"&G806,syllabus!B$3:I$99,8,FALSE)&RIGHT(\"00000\"&J806,5)","v":"9000600"},"COPLFR","SAO","COPLFR.SAO: All","BC",600,null,null,"BC:",null,null,"concept",null,"F",null,"",0,"","","","","","",5,2,0,0,2,2,999,null,null,null,5.0000000000000001E-4,"x",null,"xxxx"]
["COPLFR.SAO",null,null,"",{"$f":"VLOOKUP(F807&\".\"&G807,syllabus!B$3:I$99,8,FALSE)&RIGHT(\"00000\"&J807,5)","v":"9000700"},"COPLFR","SAO","COPLFR.SAO: All","BC",700,null,null,"BC:",null,null,"concept",null,"F",null,"",0,"","","","","","",5,2,0,0,2,2,999,null,null,null,5.0000000000000001E-4,"x",null,"xxxx"]
["COPLFR.SAO",null,null,"",{"$f":"VLOOKUP(F808&\".\"&G808,syllabus!B$3:I$99,8,FALSE)&RIGHT(\"00000\"&J808,5)","v":"9000800"},"COPLFR","SAO","COPLFR.SAO: All","BC",800,null,null,"BC:",null,null,"concept",null,"F",null,"",0,"","","","","","",5,2,0,0,2,2,999,null,null,null,5.0000000000000001E-4,"x",null,"xxxx"]
["COPLFR.SAO",null,null,"",{"$f":"VLOOKUP(F809&\".\"&G809,syllabus!B$3:I$99,8,FALSE)&RIGHT(\"00000\"&J809,5)","v":"9000900"},"COPLFR","SAO","COPLFR.SAO: All","BC",900,null,null,"BC:",null,null,"concept",null,"F",null,"",0,"","","","","","",5,2,0,0,2,2,999,null,null,null,5.0000000000000001E-4,"x",null,"xxxx"]
["COPLFR.SAO",null,null,"",{"$f":"VLOOKUP(F810&\".\"&G810,syllabus!B$3:I$99,8,FALSE)&RIGHT(\"00000\"&J810,5)","v":"9001000"},"COPLFR","SAO","COPLFR.SAO: All","BC",1000,null,null,"BC:",null,null,"concept",null,"F",null,"",0,"","","","","","",5,2,0,0,2,2,999,null,null,null,5.0000000000000001E-4,"x",null,"xxxx"]
["COPLFR.SAO",null,null,"",{"$f":"VLOOKUP(F811&\".\"&G811,syllabus!B$3:I$99,8,FALSE)&RIGHT(\"00000\"&J811,5)","v":"9001100"},"COPLFR","SAO","COPLFR.SAO: All","BC",1100,null,null,"BC:",null,null,"concept",null,"F",null,"",0,"","","","","","",5,2,0,0,2,2,999,null,null,null,5.0000000000000001E-4,"x",null,"xxxx"]
["COPLFR.SAO",null,null,"",{"$f":"VLOOKUP(F812&\".\"&G812,syllabus!B$3:I$99,8,FALSE)&RIGHT(\"00000\"&J812,5)","v":"9001200"},"COPLFR","SAO","COPLFR.SAO: All","BC",1200,null,null,"BC:",null,null,"concept",null,"F",null,"",0,"","","","","","",5,2,0,0,2,2,999,null,null,null,5.0000000000000001E-4,"x",null,"xxxx"]
["COPLFR.SAO",null,null,"",{"$f":"VLOOKUP(F813&\".\"&G813,syllabus!B$3:I$99,8,FALSE)&RIGHT(\"00000\"&J813,5)","v":"9001300"},"COPLFR","SAO","COPLFR.SAO: All","BC",1300,null,null,"BC:",null,null,"concept",null,"F",null,"",0,"","","","","","",5,2,0,0,2,2,999,null,null,null,5.0000000000000001E-4,"x",null,"xxxx"]
["COPLFR.SAO",null,null,"",{"$f":"VLOOKUP(F814&\".\"&G814,syllabus!B$3:I$99,8,FALSE)&RIGHT(\"00000\"&J814,5)","v":"9001400"},"COPLFR","SAO","COPLFR.SAO: All","BC",1400,null,null,"BC:",null,null,"concept",null,"F",null,"",0,"","","","","","",5,2,0,0,2,2,999,null,null,null,5.0000000000000001E-4,"x",null,"xxxx"]
["COPLFR.SAO",null,null,"",{"$f":"VLOOKUP(F815&\".\"&G815,syllabus!B$3:I$99,8,FALSE)&RIGHT(\"00000\"&J815,5)","v":"9001500"},"COPLFR","SAO","COPLFR.SAO: All","BC",1500,null,null,"BC:",null,null,"concept",null,"F",null,"",0,"","","","","","",5,2,0,0,2,2,999,null,null,null,5.0000000000000001E-4,"x",null,"xxxx"]
["COPLFR.SAO",null,null,"",{"$f":"VLOOKUP(F816&\".\"&G816,syllabus!B$3:I$99,8,FALSE)&RIGHT(\"00000\"&J816,5)","v":"9001600"},"COPLFR","SAO","COPLFR.SAO: All","BC",1600,null,null,"BC:",null,null,"concept",null,"F",null,"",0,"","","","","","",5,2,0,0,2,2,999,null,null,null,5.0000000000000001E-4,"x",null,"xxxx"]
["COPLFR.SAO",null,null,"",{"$f":"VLOOKUP(F817&\".\"&G817,syllabus!B$3:I$99,8,FALSE)&RIGHT(\"00000\"&J817,5)","v":"9001700"},"COPLFR","SAO","COPLFR.SAO: All","BC",1700,null,null,"BC:",null,null,"concept",null,"F",null,"",0,"","","","","","",5,2,0,0,2,2,999,null,null,null,5.0000000000000001E-4,"x",null,"xxxx"]
["COPLFR.SAO",null,null,"",{"$f":"VLOOKUP(F818&\".\"&G818,syllabus!B$3:I$99,8,FALSE)&RIGHT(\"00000\"&J818,5)","v":"9001800"},"COPLFR","SAO","COPLFR.SAO: All","BC",1800,null,null,"BC:",null,null,"concept",null,"F",null,"",0,"","","","","","",5,2,0,0,2,2,999,null,null,null,5.0000000000000001E-4,"x",null,"xxxx"]
["COPLFR.SAO",null,null,"",{"$f":"VLOOKUP(F819&\".\"&G819,syllabus!B$3:I$99,8,FALSE)&RIGHT(\"00000\"&J819,5)","v":"9001900"},"COPLFR","SAO","COPLFR.SAO: All","BC",1900,null,null,"BC:",null,null,"concept",null,"F",null,"",0,"","","","","","",5,2,0,0,2,2,999,null,null,null,5.0000000000000001E-4,"x",null,"xxxx"]
["COPLFR.SAO",null,null,"",{"$f":"VLOOKUP(F820&\".\"&G820,syllabus!B$3:I$99,8,FALSE)&RIGHT(\"00000\"&J820,5)","v":"9002000"},"COPLFR","SAO","COPLFR.SAO: All","BC",2000,null,null,"BC:",null,null,"concept",null,"F",null,"",0,"","","","","","",5,2,0,0,2,2,999,null,null,null,5.0000000000000001E-4,"x",null,"xxxx"]
["COPLFR.SAO",null,null,"",{"$f":"VLOOKUP(F821&\".\"&G821,syllabus!B$3:I$99,8,FALSE)&RIGHT(\"00000\"&J821,5)","v":"9002100"},"COPLFR","SAO","COPLFR.SAO: All","BC",2100,null,null,"BC:",null,null,"concept",null,"F",null,"",0,"","","","","","",5,2,0,0,2,2,999,null,null,null,5.0000000000000001E-4,"x",null,"xxxx"]
["COPLFR.SAO",null,null,"",{"$f":"VLOOKUP(F822&\".\"&G822,syllabus!B$3:I$99,8,FALSE)&RIGHT(\"00000\"&J822,5)","v":"9002200"},"COPLFR","SAO","COPLFR.SAO: All","BC",2200,null,null,"BC:",null,null,"concept",null,"F",null,"",0,"","","","","","",5,2,0,0,2,2,999,null,null,null,5.0000000000000001E-4,"x",null,"xxxx"]
["COPLFR.SAO",null,null,"",{"$f":"VLOOKUP(F823&\".\"&G823,syllabus!B$3:I$99,8,FALSE)&RIGHT(\"00000\"&J823,5)","v":"9002300"},"COPLFR","SAO","COPLFR.SAO: All","BC",2300,null,null,"BC:",null,null,"concept",null,"F",null,"",0,"","","","","","",5,2,0,0,2,2,999,null,null,null,5.0000000000000001E-4,"x",null,"xxxx"]
["COPLFR.SAO",null,null,"",{"$f":"VLOOKUP(F824&\".\"&G824,syllabus!B$3:I$99,8,FALSE)&RIGHT(\"00000\"&J824,5)","v":"9002400"},"COPLFR","SAO","COPLFR.SAO: All","BC",2400,null,null,"BC:",null,null,"concept",null,"F",null,"",0,"","","","","","",5,2,0,0,2,2,999,null,null,null,5.0000000000000001E-4,"x",null,"xxxx"]
["COPLFR.SAO",null,null,"",{"$f":"VLOOKUP(F825&\".\"&G825,syllabus!B$3:I$99,8,FALSE)&RIGHT(\"00000\"&J825,5)","v":"9002500"},"COPLFR","SAO","COPLFR.SAO: All","BC",2500,null,null,"BC:",null,null,"concept",null,"F",null,"",0,"","","","","","",5,2,0,0,2,2,999,null,null,null,5.0000000000000001E-4,"x",null,"xxxx"]
["COPLFR.SAO",null,null,"",{"$f":"VLOOKUP(F826&\".\"&G826,syllabus!B$3:I$99,8,FALSE)&RIGHT(\"00000\"&J826,5)","v":"9002600"},"COPLFR","SAO","COPLFR.SAO: All","BC",2600,null,null,"BC:",null,null,"concept",null,"F",null,"",0,"","","","","","",5,2,0,0,2,2,999,null,null,null,5.0000000000000001E-4,"x",null,"xxxx"]
["COPLFR.SAO",null,null,"",{"$f":"VLOOKUP(F827&\".\"&G827,syllabus!B$3:I$99,8,FALSE)&RIGHT(\"00000\"&J827,5)","v":"9002700"},"COPLFR","SAO","COPLFR.SAO: All","BC",2700,null,null,"BC:",null,null,"concept",null,"F",null,"",0,"","","","","","",5,2,0,0,2,2,999,null,null,null,5.0000000000000001E-4,"x",null,"xxxx"]
["COPLFR.SAO",null,null,"",{"$f":"VLOOKUP(F828&\".\"&G828,syllabus!B$3:I$99,8,FALSE)&RIGHT(\"00000\"&J828,5)","v":"9002800"},"COPLFR","SAO","COPLFR.SAO: All","BC",2800,null,null,"BC:",null,null,"concept",null,"F",null,"",0,"","","","","","",5,2,0,0,2,2,999,null,null,null,5.0000000000000001E-4,"x",null,"xxxx"]
["COPLFR.SAO",null,null,"",{"$f":"VLOOKUP(F829&\".\"&G829,syllabus!B$3:I$99,8,FALSE)&RIGHT(\"00000\"&J829,5)","v":"9002900"},"COPLFR","SAO","COPLFR.SAO: All","BC",2900,null,null,"BC:",null,null,"concept",null,"F",null,"",0,"","","","","","",5,2,0,0,2,2,999,null,null,null,5.0000000000000001E-4,"x",null,"xxxx"]
["COPLFR.SAO",null,null,"",{"$f":"VLOOKUP(F830&\".\"&G830,syllabus!B$3:I$99,8,FALSE)&RIGHT(\"00000\"&J830,5)","v":"9003000"},"COPLFR","SAO","COPLFR.SAO: All","BC",3000,null,null,"BC:",null,null,"concept",null,"F",null,"",0,"","","","","","",5,2,0,0,2,2,999,null,null,null,5.0000000000000001E-4,"x",null,"xxxx"]
["COPLFR.SAO",null,null,"",{"$f":"VLOOKUP(F831&\".\"&G831,syllabus!B$3:I$99,8,FALSE)&RIGHT(\"00000\"&J831,5)","v":"9003100"},"COPLFR","SAO","COPLFR.SAO: All","BC",3100,null,null,"BC:",null,null,"concept",null,"F",null,"",0,"","","","","","",5,2,0,0,2,2,999,null,null,null,5.0000000000000001E-4,"x",null,"xxxx"]
["COPLFR.SAO",null,null,"",{"$f":"VLOOKUP(F832&\".\"&G832,syllabus!B$3:I$99,8,FALSE)&RIGHT(\"00000\"&J832,5)","v":"9003200"},"COPLFR","SAO","COPLFR.SAO: All","BC",3200,null,null,"BC:",null,null,"concept",null,"F",null,"",0,"","","","","","",5,2,0,0,2,2,999,null,null,null,5.0000000000000001E-4,"x",null,"xxxx"]
["COPLFR.SAO",null,null,"",{"$f":"VLOOKUP(F833&\".\"&G833,syllabus!B$3:I$99,8,FALSE)&RIGHT(\"00000\"&J833,5)","v":"9003300"},"COPLFR","SAO","COPLFR.SAO: All","BC",3300,null,null,"BC:",null,null,"concept",null,"F",null,"",0,"","","","","","",5,2,0,0,2,2,999,null,null,null,5.0000000000000001E-4,"x",null,"xxxx"]
["COPLFR.SAO",null,null,"",{"$f":"VLOOKUP(F834&\".\"&G834,syllabus!B$3:I$99,8,FALSE)&RIGHT(\"00000\"&J834,5)","v":"9003400"},"COPLFR","SAO","COPLFR.SAO: All","BC",3400,null,null,"BC:",null,null,"concept",null,"F",null,"",0,"","","","","","",5,2,0,0,2,2,999,null,null,null,5.0000000000000001E-4,"x",null,"xxxx"]
["COPLFR.SAO",null,null,"",{"$f":"VLOOKUP(F835&\".\"&G835,syllabus!B$3:I$99,8,FALSE)&RIGHT(\"00000\"&J835,5)","v":"9003500"},"COPLFR","SAO","COPLFR.SAO: All","BC",3500,null,null,"BC:",null,null,"concept",null,"F",null,"",0,"","","","","","",5,2,0,0,2,2,999,null,null,null,5.0000000000000001E-4,"x",null,"xxxx"]
["COPLFR.SAO",null,null,"",{"$f":"VLOOKUP(F836&\".\"&G836,syllabus!B$3:I$99,8,FALSE)&RIGHT(\"00000\"&J836,5)","v":"9003600"},"COPLFR","SAO","COPLFR.SAO: All","BC",3600,null,null,"BC:",null,null,"concept",null,"F",null,"",0,"","","","","","",5,2,0,0,2,2,999,null,null,null,5.0000000000000001E-4,"x",null,"xxxx"]
["COPLFR.SAO",null,null,"",{"$f":"VLOOKUP(F837&\".\"&G837,syllabus!B$3:I$99,8,FALSE)&RIGHT(\"00000\"&J837,5)","v":"9003700"},"COPLFR","SAO","COPLFR.SAO: All","BC",3700,null,null,"BC:",null,null,"concept",null,"F",null,"",0,"","","","","","",5,2,0,0,2,2,999,null,null,null,5.0000000000000001E-4,"x",null,"xxxx"]
["COPLFR.SAO",null,null,"",{"$f":"VLOOKUP(F838&\".\"&G838,syllabus!B$3:I$99,8,FALSE)&RIGHT(\"00000\"&J838,5)","v":"9003800"},"COPLFR","SAO","COPLFR.SAO: All","BC",3800,null,null,"BC:",null,null,"concept",null,"F",null,"",0,"","","","","","",5,2,0,0,2,2,999,null,null,null,5.0000000000000001E-4,"x",null,"xxxx"]
["COPLFR.SAO",null,null,"",{"$f":"VLOOKUP(F839&\".\"&G839,syllabus!B$3:I$99,8,FALSE)&RIGHT(\"00000\"&J839,5)","v":"9003900"},"COPLFR","SAO","COPLFR.SAO: All","BC",3900,null,null,"BC:",null,null,"concept",null,"F",null,"",0,"","","","","","",5,2,0,0,2,2,999,null,null,null,5.0000000000000001E-4,"x",null,"xxxx"]
["COPLFR.SAO",null,null,"",{"$f":"VLOOKUP(F840&\".\"&G840,syllabus!B$3:I$99,8,FALSE)&RIGHT(\"00000\"&J840,5)","v":"9004000"},"COPLFR","SAO","COPLFR.SAO: All","BC",4000,null,null,"BC:",null,null,"concept",null,"F",null,"",0,"","","","","","",5,2,0,0,2,2,999,null,null,null,5.0000000000000001E-4,"x",null,"xxxx"]
["COPLFR.SAO",null,null,"",{"$f":"VLOOKUP(F841&\".\"&G841,syllabus!B$3:I$99,8,FALSE)&RIGHT(\"00000\"&J841,5)","v":"9004100"},"COPLFR","SAO","COPLFR.SAO: All","BC",4100,null,null,"BC:",null,null,"concept",null,"F",null,"",0,"","","","","","",5,2,0,0,2,2,999,null,null,null,5.0000000000000001E-4,"x",null,"xxxx"]
["COPLFR.SAO",null,null,"",{"$f":"VLOOKUP(F842&\".\"&G842,syllabus!B$3:I$99,8,FALSE)&RIGHT(\"00000\"&J842,5)","v":"9004200"},"COPLFR","SAO","COPLFR.SAO: All","BC",4200,null,null,"BC:",null,null,"concept",null,"F",null,"",0,"","","","","","",5,2,0,0,2,2,999,null,null,null,5.0000000000000001E-4,"x",null,"xxxx"]
["COPLFR.SAO",null,null,"",{"$f":"VLOOKUP(F843&\".\"&G843,syllabus!B$3:I$99,8,FALSE)&RIGHT(\"00000\"&J843,5)","v":"9004300"},"COPLFR","SAO","COPLFR.SAO: All","BC",4300,null,null,"BC:",null,null,"concept",null,"F",null,"",0,"","","","","","",5,2,0,0,2,2,999,null,null,null,5.0000000000000001E-4,"x",null,"xxxx"]
["COPLFR.SAO",null,null,"",{"$f":"VLOOKUP(F844&\".\"&G844,syllabus!B$3:I$99,8,FALSE)&RIGHT(\"00000\"&J844,5)","v":"9004400"},"COPLFR","SAO","COPLFR.SAO: All","BC",4400,null,null,"BC:",null,null,"concept",null,"F",null,"",0,"","","","","","",5,2,0,0,2,2,999,null,null,null,5.0000000000000001E-4,"x",null,"xxxx"]
["COPLFR.SAO",null,null,"",{"$f":"VLOOKUP(F845&\".\"&G845,syllabus!B$3:I$99,8,FALSE)&RIGHT(\"00000\"&J845,5)","v":"9004500"},"COPLFR","SAO","COPLFR.SAO: All","BC",4500,null,null,"BC:",null,null,"concept",null,"F",null,"",0,"","","","","","",5,2,0,0,2,2,999,null,null,null,5.0000000000000001E-4,"x",null,"xxxx"]
["COPLFR.SAO",null,null,"",{"$f":"VLOOKUP(F846&\".\"&G846,syllabus!B$3:I$99,8,FALSE)&RIGHT(\"00000\"&J846,5)","v":"9004600"},"COPLFR","SAO","COPLFR.SAO: All","BC",4600,null,null,"BC:",null,null,"concept",null,"F",null,"",0,"","","","","","",5,2,0,0,2,2,999,null,null,null,5.0000000000000001E-4,"x",null,"xxxx"]
["COPLFR.SAO",null,null,"",{"$f":"VLOOKUP(F847&\".\"&G847,syllabus!B$3:I$99,8,FALSE)&RIGHT(\"00000\"&J847,5)","v":"9004700"},"COPLFR","SAO","COPLFR.SAO: All","BC",4700,null,null,"BC:",null,null,"concept",null,"F",null,"",0,"","","","","","",5,2,0,0,2,2,999,null,null,null,5.0000000000000001E-4,"x",null,"xxxx"]
["COPLFR.SAO",null,null,"",{"$f":"VLOOKUP(F848&\".\"&G848,syllabus!B$3:I$99,8,FALSE)&RIGHT(\"00000\"&J848,5)","v":"9004800"},"COPLFR","SAO","COPLFR.SAO: All","BC",4800,null,null,"BC:",null,null,"concept",null,"F",null,"",0,"","","","","","",5,2,0,0,2,2,999,null,null,null,5.0000000000000001E-4,"x",null,"xxxx"]
["COPLFR.SAO",null,null,"",{"$f":"VLOOKUP(F849&\".\"&G849,syllabus!B$3:I$99,8,FALSE)&RIGHT(\"00000\"&J849,5)","v":"9004900"},"COPLFR","SAO","COPLFR.SAO: All","BC",4900,null,null,"BC:",null,null,"concept",null,"F",null,"",0,"","","","","","",5,2,0,0,2,2,999,null,null,null,5.0000000000000001E-4,"x",null,"xxxx"]
["COPLFR.SAO",null,null,"",{"$f":"VLOOKUP(F850&\".\"&G850,syllabus!B$3:I$99,8,FALSE)&RIGHT(\"00000\"&J850,5)","v":"9005000"},"COPLFR","SAO","COPLFR.SAO: All","BC",5000,null,null,"BC:",null,null,"concept",null,"F",null,"",0,"","","","","","",5,2,0,0,2,2,999,null,null,null,5.0000000000000001E-4,"x",null,"xxxx"]
["COPLFR.SAO",null,null,"",{"$f":"VLOOKUP(F851&\".\"&G851,syllabus!B$3:I$99,8,FALSE)&RIGHT(\"00000\"&J851,5)","v":"9005100"},"COPLFR","SAO","COPLFR.SAO: All","BC",5100,null,null,"BC:",null,null,"concept",null,"F",null,"",0,"","","","","","",5,2,0,0,2,2,999,null,null,null,5.0000000000000001E-4,"x",null,"xxxx"]
["COPLFR.SAO",null,null,"",{"$f":"VLOOKUP(F852&\".\"&G852,syllabus!B$3:I$99,8,FALSE)&RIGHT(\"00000\"&J852,5)","v":"9005200"},"COPLFR","SAO","COPLFR.SAO: All","BC",5200,null,null,"BC:",null,null,"concept",null,"F",null,"",0,"","","","","","",5,2,0,0,2,2,999,null,null,null,5.0000000000000001E-4,"x",null,"xxxx"]
["COPLFR.SAO",null,null,"",{"$f":"VLOOKUP(F853&\".\"&G853,syllabus!B$3:I$99,8,FALSE)&RIGHT(\"00000\"&J853,5)","v":"9005300"},"COPLFR","SAO","COPLFR.SAO: All","BC",5300,null,null,"BC:",null,null,"concept",null,"F",null,"",0,"","","","","","",5,2,0,0,2,2,999,null,null,null,5.0000000000000001E-4,"x",null,"xxxx"]
["COPLFR.SAO",null,null,"",{"$f":"VLOOKUP(F854&\".\"&G854,syllabus!B$3:I$99,8,FALSE)&RIGHT(\"00000\"&J854,5)","v":"9005400"},"COPLFR","SAO","COPLFR.SAO: All","BC",5400,null,null,"BC:",null,null,"concept",null,"F",null,"",0,"","","","","","",5,2,0,0,2,2,999,null,null,null,5.0000000000000001E-4,"x",null,"xxxx"]
["COPLFR.SAO",null,null,"",{"$f":"VLOOKUP(F855&\".\"&G855,syllabus!B$3:I$99,8,FALSE)&RIGHT(\"00000\"&J855,5)","v":"9005500"},"COPLFR","SAO","COPLFR.SAO: All","BC",5500,null,null,"BC:",null,null,"concept",null,"F",null,"",0,"","","","","","",5,2,0,0,2,2,999,null,null,null,5.0000000000000001E-4,"x",null,"xxxx"]
["COPLFR.SAO",null,null,"",{"$f":"VLOOKUP(F856&\".\"&G856,syllabus!B$3:I$99,8,FALSE)&RIGHT(\"00000\"&J856,5)","v":"9005600"},"COPLFR","SAO","COPLFR.SAO: All","BC",5600,null,null,"BC:",null,null,"concept",null,"F",null,"",0,"","","","","","",5,2,0,0,2,2,999,null,null,null,5.0000000000000001E-4,"x",null,"xxxx"]
["COPLFR.SAO",null,null,"",{"$f":"VLOOKUP(F857&\".\"&G857,syllabus!B$3:I$99,8,FALSE)&RIGHT(\"00000\"&J857,5)","v":"9005700"},"COPLFR","SAO","COPLFR.SAO: All","BC",5700,null,null,"BC:",null,null,"concept",null,"F",null,"",0,"","","","","","",5,2,0,0,2,2,999,null,null,null,5.0000000000000001E-4,"x",null,"xxxx"]
["COPLFR.SAO",null,null,"",{"$f":"VLOOKUP(F858&\".\"&G858,syllabus!B$3:I$99,8,FALSE)&RIGHT(\"00000\"&J858,5)","v":"9005800"},"COPLFR","SAO","COPLFR.SAO: All","BC",5800,null,null,"BC:",null,null,"concept",null,"F",null,"",0,"","","","","","",5,2,0,0,2,2,999,null,null,null,5.0000000000000001E-4,"x",null,"xxxx"]
["COPLFR.SAO",null,null,"",{"$f":"VLOOKUP(F859&\".\"&G859,syllabus!B$3:I$99,8,FALSE)&RIGHT(\"00000\"&J859,5)","v":"9005900"},"COPLFR","SAO","COPLFR.SAO: All","BC",5900,null,null,"BC:",null,null,"concept",null,"F",null,"",0,"","","","","","",5,2,0,0,2,2,999,null,null,null,5.0000000000000001E-4,"x",null,"xxxx"]
["COPLFR.SAO",null,null,"",{"$f":"VLOOKUP(F860&\".\"&G860,syllabus!B$3:I$99,8,FALSE)&RIGHT(\"00000\"&J860,5)","v":"9006000"},"COPLFR","SAO","COPLFR.SAO: All","BC",6000,null,null,"BC:",null,null,"concept",null,"F",null,"",0,"","","","","","",5,2,0,0,2,2,999,null,null,null,5.0000000000000001E-4,"x",null,"xxxx"]
["COPLFR.SAO",null,null,"",{"$f":"VLOOKUP(F861&\".\"&G861,syllabus!B$3:I$99,8,FALSE)&RIGHT(\"00000\"&J861,5)","v":"9006100"},"COPLFR","SAO","COPLFR.SAO: All","BC",6100,null,null,"BC:",null,null,"concept",null,"F",null,"",0,"","","","","","",5,2,0,0,2,2,999,null,null,null,5.0000000000000001E-4,"x",null,"xxxx"]
["COPLFR.SAO",null,null,"",{"$f":"VLOOKUP(F862&\".\"&G862,syllabus!B$3:I$99,8,FALSE)&RIGHT(\"00000\"&J862,5)","v":"9006200"},"COPLFR","SAO","COPLFR.SAO: All","BC",6200,null,null,"BC:",null,null,"concept",null,"F",null,"",0,"","","","","","",5,2,0,0,2,2,999,null,null,null,5.0000000000000001E-4,"x",null,"xxxx"]
["COPLFR.SAO",null,null,"",{"$f":"VLOOKUP(F863&\".\"&G863,syllabus!B$3:I$99,8,FALSE)&RIGHT(\"00000\"&J863,5)","v":"9006300"},"COPLFR","SAO","COPLFR.SAO: All","BC",6300,null,null,"BC:",null,null,"concept",null,"F",null,"",0,"","","","","","",5,2,0,0,2,2,999,null,null,null,5.0000000000000001E-4,"x",null,"xxxx"]
["COPLFR.SAO",null,null,"",{"$f":"VLOOKUP(F864&\".\"&G864,syllabus!B$3:I$99,8,FALSE)&RIGHT(\"00000\"&J864,5)","v":"9006400"},"COPLFR","SAO","COPLFR.SAO: All","BC",6400,null,null,"BC:",null,null,"concept",null,"F",null,"",0,"","","","","","",5,2,0,0,2,2,999,null,null,null,5.0000000000000001E-4,"x",null,"xxxx"]
["COPLFR.SAO",null,null,"",{"$f":"VLOOKUP(F865&\".\"&G865,syllabus!B$3:I$99,8,FALSE)&RIGHT(\"00000\"&J865,5)","v":"9006500"},"COPLFR","SAO","COPLFR.SAO: All","BC",6500,null,null,"BC:",null,null,"concept",null,"F",null,"",0,"","","","","","",5,2,0,0,2,2,999,null,null,null,5.0000000000000001E-4,"x",null,"xxxx"]
["COPLFR.SAO",null,null,"",{"$f":"VLOOKUP(F866&\".\"&G866,syllabus!B$3:I$99,8,FALSE)&RIGHT(\"00000\"&J866,5)","v":"9006600"},"COPLFR","SAO","COPLFR.SAO: All","BC",6600,null,null,"BC:",null,null,"concept",null,"F",null,"",0,"","","","","","",5,2,0,0,2,2,999,null,null,null,5.0000000000000001E-4,"x",null,"xxxx"]
["COPLFR.SAO",null,null,"",{"$f":"VLOOKUP(F867&\".\"&G867,syllabus!B$3:I$99,8,FALSE)&RIGHT(\"00000\"&J867,5)","v":"9006700"},"COPLFR","SAO","COPLFR.SAO: All","BC",6700,null,null,"BC:",null,null,"concept",null,"F",null,"",0,"","","","","","",5,2,0,0,2,2,999,null,null,null,5.0000000000000001E-4,"x",null,"xxxx"]
["COPLFR.SAO",null,null,"",{"$f":"VLOOKUP(F868&\".\"&G868,syllabus!B$3:I$99,8,FALSE)&RIGHT(\"00000\"&J868,5)","v":"9006800"},"COPLFR","SAO","COPLFR.SAO: All","BC",6800,null,null,"BC:",null,null,"concept",null,"F",null,"",0,"","","","","","",5,2,0,0,2,2,999,null,null,null,5.0000000000000001E-4,"x",null,"xxxx"]
["COPLFR.SAO",null,null,"",{"$f":"VLOOKUP(F869&\".\"&G869,syllabus!B$3:I$99,8,FALSE)&RIGHT(\"00000\"&J869,5)","v":"9006900"},"COPLFR","SAO","COPLFR.SAO: All","BC",6900,null,null,"BC:",null,null,"concept",null,"F",null,"",0,"","","","","","",5,2,0,0,2,2,999,null,null,null,5.0000000000000001E-4,"x",null,"xxxx"]
["COPLFR.SAO",null,null,"",{"$f":"VLOOKUP(F870&\".\"&G870,syllabus!B$3:I$99,8,FALSE)&RIGHT(\"00000\"&J870,5)","v":"9007000"},"COPLFR","SAO","COPLFR.SAO: All","BC",7000,null,null,"BC:",null,null,"concept",null,"F",null,"",0,"","","","","","",5,2,0,0,2,2,999,null,null,null,5.0000000000000001E-4,"x",null,"xxxx"]
["COPLFR.SAO",null,null,"",{"$f":"VLOOKUP(F871&\".\"&G871,syllabus!B$3:I$99,8,FALSE)&RIGHT(\"00000\"&J871,5)","v":"9007100"},"COPLFR","SAO","COPLFR.SAO: All","BC",7100,null,null,"BC:",null,null,"concept",null,"F",null,"",0,"","","","","","",5,2,0,0,2,2,999,null,null,null,5.0000000000000001E-4,"x",null,"xxxx"]
["COPLFR.SAO",null,null,"",{"$f":"VLOOKUP(F872&\".\"&G872,syllabus!B$3:I$99,8,FALSE)&RIGHT(\"00000\"&J872,5)","v":"9007200"},"COPLFR","SAO","COPLFR.SAO: All","BC",7200,null,null,"BC:",null,null,"concept",null,"F",null,"",0,"","","","","","",5,2,0,0,2,2,999,null,null,null,5.0000000000000001E-4,"x",null,"xxxx"]
["COPLFR.SAO",null,null,"",{"$f":"VLOOKUP(F873&\".\"&G873,syllabus!B$3:I$99,8,FALSE)&RIGHT(\"00000\"&J873,5)","v":"9007300"},"COPLFR","SAO","COPLFR.SAO: All","BC",7300,null,null,"BC:",null,null,"concept",null,"F",null,"",0,"","","","","","",5,2,0,0,2,2,999,null,null,null,5.0000000000000001E-4,"x",null,"xxxx"]
["COPLFR.SAO",null,null,"",{"$f":"VLOOKUP(F874&\".\"&G874,syllabus!B$3:I$99,8,FALSE)&RIGHT(\"00000\"&J874,5)","v":"9007400"},"COPLFR","SAO","COPLFR.SAO: All","BC",7400,null,null,"BC:",null,null,"concept",null,"F",null,"",0,"","","","","","",5,2,0,0,2,2,999,null,null,null,5.0000000000000001E-4,"x",null,"xxxx"]
["COPLFR.SAO",null,null,"",{"$f":"VLOOKUP(F875&\".\"&G875,syllabus!B$3:I$99,8,FALSE)&RIGHT(\"00000\"&J875,5)","v":"9007500"},"COPLFR","SAO","COPLFR.SAO: All","BC",7500,null,null,"BC:",null,null,"concept",null,"F",null,"",0,"","","","","","",5,2,0,0,2,2,999,null,null,null,5.0000000000000001E-4,"x",null,"xxxx"]
["COPLFR.SAO",null,null,"",{"$f":"VLOOKUP(F876&\".\"&G876,syllabus!B$3:I$99,8,FALSE)&RIGHT(\"00000\"&J876,5)","v":"9007600"},"COPLFR","SAO","COPLFR.SAO: All","BC",7600,null,null,"BC:",null,null,"concept",null,"F",null,"",0,"","","","","","",5,2,0,0,2,2,999,null,null,null,5.0000000000000001E-4,"x",null,"xxxx"]
["COPLFR.SAO",null,null,"",{"$f":"VLOOKUP(F877&\".\"&G877,syllabus!B$3:I$99,8,FALSE)&RIGHT(\"00000\"&J877,5)","v":"9007700"},"COPLFR","SAO","COPLFR.SAO: All","BC",7700,null,null,"BC:",null,null,"concept",null,"F",null,"",0,"","","","","","",5,2,0,0,2,2,999,null,null,null,5.0000000000000001E-4,"x",null,"xxxx"]
["COPLFR.SAO",null,null,"",{"$f":"VLOOKUP(F878&\".\"&G878,syllabus!B$3:I$99,8,FALSE)&RIGHT(\"00000\"&J878,5)","v":"9007800"},"COPLFR","SAO","COPLFR.SAO: All","BC",7800,null,null,"BC:",null,null,"concept",null,"F",null,"",0,"","","","","","",5,2,0,0,2,2,999,null,null,null,5.0000000000000001E-4,"x",null,"xxxx"]
["COPLFR.SAO",null,null,"",{"$f":"VLOOKUP(F879&\".\"&G879,syllabus!B$3:I$99,8,FALSE)&RIGHT(\"00000\"&J879,5)","v":"9007900"},"COPLFR","SAO","COPLFR.SAO: All","BC",7900,null,null,"BC:",null,null,"concept",null,"F",null,"",0,"","","","","","",5,2,0,0,2,2,999,null,null,null,5.0000000000000001E-4,"x",null,"xxxx"]
["COPLFR.SAO",null,null,"",{"$f":"VLOOKUP(F880&\".\"&G880,syllabus!B$3:I$99,8,FALSE)&RIGHT(\"00000\"&J880,5)","v":"9008000"},"COPLFR","SAO","COPLFR.SAO: All","BC",8000,null,null,"BC:",null,null,"concept",null,"F",null,"",0,"","","","","","",5,2,0,0,2,2,999,null,null,null,5.0000000000000001E-4,"x",null,"xxxx"]
["COPLFR.SAO",null,null,"",{"$f":"VLOOKUP(F881&\".\"&G881,syllabus!B$3:I$99,8,FALSE)&RIGHT(\"00000\"&J881,5)","v":"9008100"},"COPLFR","SAO","COPLFR.SAO: All","BC",8100,null,null,"BC:",null,null,"concept",null,"F",null,"",0,"","","","","","",5,2,0,0,2,2,999,null,null,null,5.0000000000000001E-4,"x",null,"xxxx"]
["COPLFR.SAO",null,null,"",{"$f":"VLOOKUP(F882&\".\"&G882,syllabus!B$3:I$99,8,FALSE)&RIGHT(\"00000\"&J882,5)","v":"9008200"},"COPLFR","SAO","COPLFR.SAO: All","BC",8200,null,null,"BC:",null,null,"concept",null,"F",null,"",0,"","","","","","",5,2,0,0,2,2,999,null,null,null,5.0000000000000001E-4,"x",null,"xxxx"]
["COPLFR.SAO",null,null,"",{"$f":"VLOOKUP(F883&\".\"&G883,syllabus!B$3:I$99,8,FALSE)&RIGHT(\"00000\"&J883,5)","v":"9008300"},"COPLFR","SAO","COPLFR.SAO: All","BC",8300,null,null,"BC:",null,null,"concept",null,"F",null,"",0,"","","","","","",5,2,0,0,2,2,999,null,null,null,5.0000000000000001E-4,"x",null,"xxxx"]
["COPLFR.SAO",null,null,"",{"$f":"VLOOKUP(F884&\".\"&G884,syllabus!B$3:I$99,8,FALSE)&RIGHT(\"00000\"&J884,5)","v":"9008400"},"COPLFR","SAO","COPLFR.SAO: All","BC",8400,null,null,"BC:",null,null,"concept",null,"F",null,"",0,"","","","","","",5,2,0,0,2,2,999,null,null,null,5.0000000000000001E-4,"x",null,"xxxx"]
["COPLFR.SAO",null,null,"",{"$f":"VLOOKUP(F885&\".\"&G885,syllabus!B$3:I$99,8,FALSE)&RIGHT(\"00000\"&J885,5)","v":"9008500"},"COPLFR","SAO","COPLFR.SAO: All","BC",8500,null,null,"BC:",null,null,"concept",null,"F",null,"",0,"","","","","","",5,2,0,0,2,2,999,null,null,null,5.0000000000000001E-4,"x",null,"xxxx"]
["COPLFR.SAO",null,null,"",{"$f":"VLOOKUP(F886&\".\"&G886,syllabus!B$3:I$99,8,FALSE)&RIGHT(\"00000\"&J886,5)","v":"9008600"},"COPLFR","SAO","COPLFR.SAO: All","BC",8600,null,null,"BC:",null,null,"concept",null,"F",null,"",0,"","","","","","",5,2,0,0,2,2,999,null,null,null,5.0000000000000001E-4,"x",null,"xxxx"]
["COPLFR.SAO",null,null,"",{"$f":"VLOOKUP(F887&\".\"&G887,syllabus!B$3:I$99,8,FALSE)&RIGHT(\"00000\"&J887,5)","v":"9008700"},"COPLFR","SAO","COPLFR.SAO: All","BC",8700,null,null,"BC:",null,null,"concept",null,"F",null,"",0,"","","","","","",5,2,0,0,2,2,999,null,null,null,5.0000000000000001E-4,"x",null,"xxxx"]
["COPLFR.SAO",null,null,"",{"$f":"VLOOKUP(F888&\".\"&G888,syllabus!B$3:I$99,8,FALSE)&RIGHT(\"00000\"&J888,5)","v":"9008800"},"COPLFR","SAO","COPLFR.SAO: All","BC",8800,null,null,"BC:",null,null,"concept",null,"F",null,"",0,"","","","","","",5,2,0,0,2,2,999,null,null,null,5.0000000000000001E-4,"x",null,"xxxx"]
["COPLFR.SAO",null,null,"",{"$f":"VLOOKUP(F889&\".\"&G889,syllabus!B$3:I$99,8,FALSE)&RIGHT(\"00000\"&J889,5)","v":"9008900"},"COPLFR","SAO","COPLFR.SAO: All","BC",8900,null,null,"BC:",null,null,"concept",null,"F",null,"",0,"","","","","","",5,2,0,0,2,2,999,null,null,null,5.0000000000000001E-4,"x",null,"xxxx"]
["COPLFR.SAO",null,null,"",{"$f":"VLOOKUP(F890&\".\"&G890,syllabus!B$3:I$99,8,FALSE)&RIGHT(\"00000\"&J890,5)","v":"9009000"},"COPLFR","SAO","COPLFR.SAO: All","BC",9000,null,null,"BC:",null,null,"concept",null,"F",null,"",0,"","","","","","",5,2,0,0,2,2,999,null,null,null,5.0000000000000001E-4,"x",null,"xxxx"]
["COPLFR.SAO",null,null,"",{"$f":"VLOOKUP(F891&\".\"&G891,syllabus!B$3:I$99,8,FALSE)&RIGHT(\"00000\"&J891,5)","v":"9009100"},"COPLFR","SAO","COPLFR.SAO: All","BC",9100,null,null,"BC:",null,null,"concept",null,"F",null,"",0,"","","","","","",5,2,0,0,2,2,999,null,null,null,5.0000000000000001E-4,"x",null,"xxxx"]
["COPLFR.SAO",null,null,"",{"$f":"VLOOKUP(F892&\".\"&G892,syllabus!B$3:I$99,8,FALSE)&RIGHT(\"00000\"&J892,5)","v":"9009200"},"COPLFR","SAO","COPLFR.SAO: All","BC",9200,null,null,"BC:",null,null,"concept",null,"F",null,"",0,"","","","","","",5,2,0,0,2,2,999,null,null,null,5.0000000000000001E-4,"x",null,"xxxx"]
["COPLFR.SAO",null,null,"",{"$f":"VLOOKUP(F893&\".\"&G893,syllabus!B$3:I$99,8,FALSE)&RIGHT(\"00000\"&J893,5)","v":"9009300"},"COPLFR","SAO","COPLFR.SAO: All","BC",9300,null,null,"BC:",null,null,"concept",null,"F",null,"",0,"","","","","","",5,2,0,0,2,2,999,null,null,null,5.0000000000000001E-4,"x",null,"xxxx"]
["COPLFR.SAO",null,null,"",{"$f":"VLOOKUP(F894&\".\"&G894,syllabus!B$3:I$99,8,FALSE)&RIGHT(\"00000\"&J894,5)","v":"9009400"},"COPLFR","SAO","COPLFR.SAO: All","BC",9400,null,null,"BC:",null,null,"concept",null,"F",null,"",0,"","","","","","",5,2,0,0,2,2,999,null,null,null,5.0000000000000001E-4,"x",null,"xxxx"]
["COPLFR.SAO",null,null,"",{"$f":"VLOOKUP(F895&\".\"&G895,syllabus!B$3:I$99,8,FALSE)&RIGHT(\"00000\"&J895,5)","v":"9009500"},"COPLFR","SAO","COPLFR.SAO: All","BC",9500,null,null,"BC:",null,null,"concept",null,"F",null,"",0,"","","","","","",5,2,0,0,2,2,999,null,null,null,5.0000000000000001E-4,"x",null,"xxxx"]
["COPLFR.SAO",null,null,"",{"$f":"VLOOKUP(F896&\".\"&G896,syllabus!B$3:I$99,8,FALSE)&RIGHT(\"00000\"&J896,5)","v":"9009600"},"COPLFR","SAO","COPLFR.SAO: All","BC",9600,null,null,"BC:",null,null,"concept",null,"F",null,"",0,"","","","","","",5,2,0,0,2,2,999,null,null,null,5.0000000000000001E-4,"x",null,"xxxx"]
["COPLFR.SAO",null,null,"",{"$f":"VLOOKUP(F897&\".\"&G897,syllabus!B$3:I$99,8,FALSE)&RIGHT(\"00000\"&J897,5)","v":"9009700"},"COPLFR","SAO","COPLFR.SAO: All","BC",9700,null,null,"BC:",null,null,"concept",null,"F",null,"",0,"","","","","","",5,2,0,0,2,2,999,null,null,null,5.0000000000000001E-4,"x",null,"xxxx"]
["COPLFR.SAO",null,null,"",{"$f":"VLOOKUP(F898&\".\"&G898,syllabus!B$3:I$99,8,FALSE)&RIGHT(\"00000\"&J898,5)","v":"9009800"},"COPLFR","SAO","COPLFR.SAO: All","BC",9800,null,null,"BC:",null,null,"concept",null,"F",null,"",0,"","","","","","",5,2,0,0,2,2,999,null,null,null,5.0000000000000001E-4,"x",null,"xxxx"]
["COPLFR.SAO",null,null,"",{"$f":"VLOOKUP(F899&\".\"&G899,syllabus!B$3:I$99,8,FALSE)&RIGHT(\"00000\"&J899,5)","v":"9009900"},"COPLFR","SAO","COPLFR.SAO: All","BC",9900,null,null,"BC:",null,null,"concept",null,"F",null,"",0,"","","","","","",5,2,0,0,2,2,999,null,null,null,5.0000000000000001E-4,"x",null,"xxxx"]
["COPLFR.SAO",null,null,"",{"$f":"VLOOKUP(F900&\".\"&G900,syllabus!B$3:I$99,8,FALSE)&RIGHT(\"00000\"&J900,5)","v":"9010000"},"COPLFR","SAO","COPLFR.SAO: All","exam",10000,2023,null,"exam: ",null,null,"concept",null,"F",null,null,0,null,null,null,null,null,null,5,2,0,0,2,2,999,null,null,null,5.0000000000000001E-4,"x",null,"xxxx"]
["COPLFR.SAO",null,null,"",{"$f":"VLOOKUP(F901&\".\"&G901,syllabus!B$3:I$99,8,FALSE)&RIGHT(\"00000\"&J901,5)","v":"9010100"},"COPLFR","SAO","COPLFR.SAO: All","exam",10100,null,null,"exam: ",null,null,"concept",null,"F",null,null,0,null,null,null,null,null,null,5,2,0,0,2,2,999,null,null,null,5.0000000000000001E-4,"x",null,"xxxx"]
["COPLFR.SAO",null,null,"",{"$f":"VLOOKUP(F902&\".\"&G902,syllabus!B$3:I$99,8,FALSE)&RIGHT(\"00000\"&J902,5)","v":"9010200"},"COPLFR","SAO","COPLFR.SAO: All","exam",10200,null,null,"exam: ",null,null,"concept",null,"F",null,null,0,null,null,null,null,null,null,5,2,0,0,2,2,999,null,null,null,5.0000000000000001E-4,"x",null,"xxxx"]
["COPLFR.SAO",null,null,"",{"$f":"VLOOKUP(F903&\".\"&G903,syllabus!B$3:I$99,8,FALSE)&RIGHT(\"00000\"&J903,5)","v":"9010300"},"COPLFR","SAO","COPLFR.SAO: All","exam",10300,null,null,"exam: ",null,null,"concept",null,"F",null,null,0,null,null,null,null,null,null,5,2,0,0,2,2,999,null,null,null,5.0000000000000001E-4,"x",null,"xxxx"]
["COPLFR.SAO",null,null,"",{"$f":"VLOOKUP(F904&\".\"&G904,syllabus!B$3:I$99,8,FALSE)&RIGHT(\"00000\"&J904,5)","v":"9010400"},"COPLFR","SAO","COPLFR.SAO: All","exam",10400,null,null,"exam: ",null,null,"concept",null,"F",null,null,0,null,null,null,null,null,null,5,2,0,0,2,2,999,null,null,null,5.0000000000000001E-4,"x",null,"xxxx"]
["COPLFR.SAO",null,null,"",{"$f":"VLOOKUP(F905&\".\"&G905,syllabus!B$3:I$99,8,FALSE)&RIGHT(\"00000\"&J905,5)","v":"9010500"},"COPLFR","SAO","COPLFR.SAO: All","exam",10500,null,null,"exam: ",null,null,"concept",null,"F",null,null,0,null,null,null,null,null,null,5,2,0,0,2,2,999,null,null,null,5.0000000000000001E-4,"x",null,"xxxx"]
["COPLFR.SAO",null,null,"",{"$f":"VLOOKUP(F906&\".\"&G906,syllabus!B$3:I$99,8,FALSE)&RIGHT(\"00000\"&J906,5)","v":"9010600"},"COPLFR","SAO","COPLFR.SAO: All","exam",10600,null,null,"exam: ",null,null,"concept",null,"F",null,null,0,null,null,null,null,null,null,5,2,0,0,2,2,999,null,null,null,5.0000000000000001E-4,"x",null,"xxxx"]
["COPLFR.SAO",null,null,"",{"$f":"VLOOKUP(F907&\".\"&G907,syllabus!B$3:I$99,8,FALSE)&RIGHT(\"00000\"&J907,5)","v":"9010700"},"COPLFR","SAO","COPLFR.SAO: All","exam",10700,null,null,"exam: ",null,null,"concept",null,"F",null,null,0,null,null,null,null,null,null,5,2,0,0,2,2,999,null,null,null,5.0000000000000001E-4,"x",null,"xxxx"]
["COPLFR.SAO",null,null,"",{"$f":"VLOOKUP(F908&\".\"&G908,syllabus!B$3:I$99,8,FALSE)&RIGHT(\"00000\"&J908,5)","v":"9010800"},"COPLFR","SAO","COPLFR.SAO: All","exam",10800,null,null,"exam: ",null,null,"concept",null,"F",null,null,0,null,null,null,null,null,null,5,2,0,0,2,2,999,null,null,null,5.0000000000000001E-4,"x",null,"xxxx"]
["COPLFR.SAO",null,null,"",{"$f":"VLOOKUP(F909&\".\"&G909,syllabus!B$3:I$99,8,FALSE)&RIGHT(\"00000\"&J909,5)","v":"9010900"},"COPLFR","SAO","COPLFR.SAO: All","exam",10900,null,null,"exam: ",null,null,"concept",null,"F",null,null,0,null,null,null,null,null,null,5,2,0,0,2,2,999,null,null,null,5.0000000000000001E-4,"x",null,"xxxx"]
["COPLFR.SAO",null,null,"",{"$f":"VLOOKUP(F910&\".\"&G910,syllabus!B$3:I$99,8,FALSE)&RIGHT(\"00000\"&J910,5)","v":"9011000"},"COPLFR","SAO","COPLFR.SAO: All","exam",11000,null,null,"exam: ",null,null,"concept",null,"F",null,null,0,null,null,null,null,null,null,5,2,0,0,2,2,999,null,null,null,5.0000000000000001E-4,"x",null,"xxxx"]
["COPLFR.SAO",null,null,"",{"$f":"VLOOKUP(F911&\".\"&G911,syllabus!B$3:I$99,8,FALSE)&RIGHT(\"00000\"&J911,5)","v":"9011100"},"COPLFR","SAO","COPLFR.SAO: All","exam",11100,null,null,"exam: ",null,null,"concept",null,"F",null,null,0,null,null,null,null,null,null,5,2,0,0,2,2,999,null,null,null,5.0000000000000001E-4,"x",null,"xxxx"]
["COPLFR.SAO",null,null,"",{"$f":"VLOOKUP(F912&\".\"&G912,syllabus!B$3:I$99,8,FALSE)&RIGHT(\"00000\"&J912,5)","v":"9011200"},"COPLFR","SAO","COPLFR.SAO: All","exam",11200,null,null,"exam: ",null,null,"concept",null,"F",null,null,0,null,null,null,null,null,null,5,2,0,0,2,2,999,null,null,null,5.0000000000000001E-4,"x",null,"xxxx"]
["COPLFR.SAO",null,null,"",{"$f":"VLOOKUP(F913&\".\"&G913,syllabus!B$3:I$99,8,FALSE)&RIGHT(\"00000\"&J913,5)","v":"9011300"},"COPLFR","SAO","COPLFR.SAO: All","exam",11300,null,null,"exam: ",null,null,"concept",null,"F",null,null,0,null,null,null,null,null,null,5,2,0,0,2,2,999,null,null,null,5.0000000000000001E-4,"x",null,"xxxx"]
["COPLFR.SAO",null,null,"",{"$f":"VLOOKUP(F914&\".\"&G914,syllabus!B$3:I$99,8,FALSE)&RIGHT(\"00000\"&J914,5)","v":"9011400"},"COPLFR","SAO","COPLFR.SAO: All","exam",11400,null,null,"exam: ",null,null,"concept",null,"F",null,null,0,null,null,null,null,null,null,5,2,0,0,2,2,999,null,null,null,5.0000000000000001E-4,"x",null,"xxxx"]
["COPLFR.SAO",null,null,"",{"$f":"VLOOKUP(F915&\".\"&G915,syllabus!B$3:I$99,8,FALSE)&RIGHT(\"00000\"&J915,5)","v":"9011500"},"COPLFR","SAO","COPLFR.SAO: All","exam",11500,null,null,"exam: ",null,null,"concept",null,"F",null,null,0,null,null,null,null,null,null,5,2,0,0,2,2,999,null,null,null,5.0000000000000001E-4,"x",null,"xxxx"]
["COPLFR.SAO",null,null,"",{"$f":"VLOOKUP(F916&\".\"&G916,syllabus!B$3:I$99,8,FALSE)&RIGHT(\"00000\"&J916,5)","v":"9011600"},"COPLFR","SAO","COPLFR.SAO: All","exam",11600,null,null,"exam: ",null,null,"concept",null,"F",null,null,0,null,null,null,null,null,null,5,2,0,0,2,2,999,null,null,null,5.0000000000000001E-4,"x",null,"xxxx"]
["COPLFR.SAO",null,null,"",{"$f":"VLOOKUP(F917&\".\"&G917,syllabus!B$3:I$99,8,FALSE)&RIGHT(\"00000\"&J917,5)","v":"9011700"},"COPLFR","SAO","COPLFR.SAO: All","exam",11700,null,null,"exam: ",null,null,"concept",null,"F",null,null,0,null,null,null,null,null,null,5,2,0,0,2,2,999,null,null,null,5.0000000000000001E-4,"x",null,"xxxx"]
["COPLFR.SAO",null,null,"",{"$f":"VLOOKUP(F918&\".\"&G918,syllabus!B$3:I$99,8,FALSE)&RIGHT(\"00000\"&J918,5)","v":"9011800"},"COPLFR","SAO","COPLFR.SAO: All","exam",11800,null,null,"exam: ",null,null,"concept",null,"F",null,null,0,null,null,null,null,null,null,5,2,0,0,2,2,999,null,null,null,5.0000000000000001E-4,"x",null,"xxxx"]
["COPLFR.SAO",null,null,"",{"$f":"VLOOKUP(F919&\".\"&G919,syllabus!B$3:I$99,8,FALSE)&RIGHT(\"00000\"&J919,5)","v":"9011900"},"COPLFR","SAO","COPLFR.SAO: All","exam",11900,null,null,"exam: ",null,null,"concept",null,"F",null,null,0,null,null,null,null,null,null,5,2,0,0,2,2,999,null,null,null,5.0000000000000001E-4,"x",null,"xxxx"]
["COPLFR.SAO",null,null,"",{"$f":"VLOOKUP(F920&\".\"&G920,syllabus!B$3:I$99,8,FALSE)&RIGHT(\"00000\"&J920,5)","v":"9012000"},"COPLFR","SAO","COPLFR.SAO: All","exam",12000,null,null,"exam: ",null,null,"concept",null,"F",null,null,0,null,null,null,null,null,null,5,2,0,0,2,2,999,null,null,null,5.0000000000000001E-4,"x",null,"xxxx"]
["COPLFR.SAO",null,null,"",{"$f":"VLOOKUP(F921&\".\"&G921,syllabus!B$3:I$99,8,FALSE)&RIGHT(\"00000\"&J921,5)","v":"9012100"},"COPLFR","SAO","COPLFR.SAO: All","exam",12100,null,null,"exam: ",null,null,"concept",null,"F",null,null,0,null,null,null,null,null,null,5,2,0,0,2,2,999,null,null,null,5.0000000000000001E-4,"x",null,"xxxx"]
["COPLFR.SAO",null,null,"",{"$f":"VLOOKUP(F922&\".\"&G922,syllabus!B$3:I$99,8,FALSE)&RIGHT(\"00000\"&J922,5)","v":"9012200"},"COPLFR","SAO","COPLFR.SAO: All","exam",12200,null,null,"exam: ",null,null,"concept",null,"F",null,null,0,null,null,null,null,null,null,5,2,0,0,2,2,999,null,null,null,5.0000000000000001E-4,"x",null,"xxxx"]
["COPLFR.SAO",null,null,"",{"$f":"VLOOKUP(F923&\".\"&G923,syllabus!B$3:I$99,8,FALSE)&RIGHT(\"00000\"&J923,5)","v":"9012300"},"COPLFR","SAO","COPLFR.SAO: All","exam",12300,null,null,"exam: ",null,null,"concept",null,"F",null,null,0,null,null,null,null,null,null,5,2,0,0,2,2,999,null,null,null,5.0000000000000001E-4,"x",null,"xxxx"]
["COPLFR.SAO",null,null,"",{"$f":"VLOOKUP(F924&\".\"&G924,syllabus!B$3:I$99,8,FALSE)&RIGHT(\"00000\"&J924,5)","v":"9012400"},"COPLFR","SAO","COPLFR.SAO: All","exam",12400,null,null,"exam: ",null,null,"concept",null,"F",null,null,0,null,null,null,null,null,null,5,2,0,0,2,2,999,null,null,null,5.0000000000000001E-4,"x",null,"xxxx"]
["COPLFR.SAO",null,null,"",{"$f":"VLOOKUP(F925&\".\"&G925,syllabus!B$3:I$99,8,FALSE)&RIGHT(\"00000\"&J925,5)","v":"9012500"},"COPLFR","SAO","COPLFR.SAO: All","exam",12500,null,null,"exam: ",null,null,"concept",null,"F",null,null,0,null,null,null,null,null,null,5,2,0,0,2,2,999,null,null,null,5.0000000000000001E-4,"x",null,"xxxx"]
["COPLFR.SAO",null,null,"",{"$f":"VLOOKUP(F926&\".\"&G926,syllabus!B$3:I$99,8,FALSE)&RIGHT(\"00000\"&J926,5)","v":"9012600"},"COPLFR","SAO","COPLFR.SAO: All","exam",12600,null,null,"exam: ",null,null,"concept",null,"F",null,null,0,null,null,null,null,null,null,5,2,0,0,2,2,999,null,null,null,5.0000000000000001E-4,"x",null,"xxxx"]
["COPLFR.SAO",null,null,"",{"$f":"VLOOKUP(F927&\".\"&G927,syllabus!B$3:I$99,8,FALSE)&RIGHT(\"00000\"&J927,5)","v":"9012700"},"COPLFR","SAO","COPLFR.SAO: All","exam",12700,null,null,"exam: ",null,null,"concept",null,"F",null,null,0,null,null,null,null,null,null,5,2,0,0,2,2,999,null,null,null,5.0000000000000001E-4,"x",null,"xxxx"]
["COPLFR.SAO",null,null,"",{"$f":"VLOOKUP(F928&\".\"&G928,syllabus!B$3:I$99,8,FALSE)&RIGHT(\"00000\"&J928,5)","v":"9012800"},"COPLFR","SAO","COPLFR.SAO: All","exam",12800,null,null,"exam: ",null,null,"concept",null,"F",null,null,0,null,null,null,null,null,null,5,2,0,0,2,2,999,null,null,null,5.0000000000000001E-4,"x",null,"xxxx"]
["COPLFR.SAO",null,null,"",{"$f":"VLOOKUP(F929&\".\"&G929,syllabus!B$3:I$99,8,FALSE)&RIGHT(\"00000\"&J929,5)","v":"9012900"},"COPLFR","SAO","COPLFR.SAO: All","exam",12900,null,null,"exam: ",null,null,"concept",null,"F",null,null,0,null,null,null,null,null,null,5,2,0,0,2,2,999,null,null,null,5.0000000000000001E-4,"x",null,"xxxx"]
["COPLFR.SAO",null,null,"",{"$f":"VLOOKUP(F930&\".\"&G930,syllabus!B$3:I$99,8,FALSE)&RIGHT(\"00000\"&J930,5)","v":"9013000"},"COPLFR","SAO","COPLFR.SAO: All","exam",13000,null,null,"exam: ",null,null,"concept",null,"F",null,null,0,null,null,null,null,null,null,5,2,0,0,2,2,999,null,null,null,5.0000000000000001E-4,"x",null,"xxxx"]
["COPLFR.SAO",null,null,"",{"$f":"VLOOKUP(F931&\".\"&G931,syllabus!B$3:I$99,8,FALSE)&RIGHT(\"00000\"&J931,5)","v":"9013100"},"COPLFR","SAO","COPLFR.SAO: All","exam",13100,null,null,"exam: ",null,null,"concept",null,"F",null,null,0,null,null,null,null,null,null,5,2,0,0,2,2,999,null,null,null,5.0000000000000001E-4,"x",null,"xxxx"]
["COPLFR.SAO",null,null,"",{"$f":"VLOOKUP(F932&\".\"&G932,syllabus!B$3:I$99,8,FALSE)&RIGHT(\"00000\"&J932,5)","v":"9013200"},"COPLFR","SAO","COPLFR.SAO: All","exam",13200,null,null,"exam: ",null,null,"concept",null,"F",null,null,0,null,null,null,null,null,null,5,2,0,0,2,2,999,null,null,null,5.0000000000000001E-4,"x",null,"xxxx"]
["COPLFR.SAO",null,null,"",{"$f":"VLOOKUP(F933&\".\"&G933,syllabus!B$3:I$99,8,FALSE)&RIGHT(\"00000\"&J933,5)","v":"9013300"},"COPLFR","SAO","COPLFR.SAO: All","exam",13300,null,null,"exam: ",null,null,"concept",null,"F",null,null,0,null,null,null,null,null,null,5,2,0,0,2,2,999,null,null,null,5.0000000000000001E-4,"x",null,"xxxx"]
["COPLFR.SAO",null,null,"",{"$f":"VLOOKUP(F934&\".\"&G934,syllabus!B$3:I$99,8,FALSE)&RIGHT(\"00000\"&J934,5)","v":"9013400"},"COPLFR","SAO","COPLFR.SAO: All","exam",13400,null,null,"exam: ",null,null,"concept",null,"F",null,null,0,null,null,null,null,null,null,5,2,0,0,2,2,999,null,null,null,5.0000000000000001E-4,"x",null,"xxxx"]
["COPLFR.SAO",null,null,"",{"$f":"VLOOKUP(F935&\".\"&G935,syllabus!B$3:I$99,8,FALSE)&RIGHT(\"00000\"&J935,5)","v":"9013500"},"COPLFR","SAO","COPLFR.SAO: All","exam",13500,null,null,"exam: ",null,null,"concept",null,"F",null,null,0,null,null,null,null,null,null,5,2,0,0,2,2,999,null,null,null,5.0000000000000001E-4,"x",null,"xxxx"]
["COPLFR.SAO",null,null,"",{"$f":"VLOOKUP(F936&\".\"&G936,syllabus!B$3:I$99,8,FALSE)&RIGHT(\"00000\"&J936,5)","v":"9013600"},"COPLFR","SAO","COPLFR.SAO: All","exam",13600,null,null,"exam: ",null,null,"concept",null,"F",null,null,0,null,null,null,null,null,null,5,2,0,0,2,2,999,null,null,null,5.0000000000000001E-4,"x",null,"xxxx"]
["COPLFR.SAO",null,null,"",{"$f":"VLOOKUP(F937&\".\"&G937,syllabus!B$3:I$99,8,FALSE)&RIGHT(\"00000\"&J937,5)","v":"9013700"},"COPLFR","SAO","COPLFR.SAO: All","exam",13700,null,null,"exam: ",null,null,"concept",null,"F",null,null,0,null,null,null,null,null,null,5,2,0,0,2,2,999,null,null,null,5.0000000000000001E-4,"x",null,"xxxx"]
["COPLFR.SAO",null,null,"",{"$f":"VLOOKUP(F938&\".\"&G938,syllabus!B$3:I$99,8,FALSE)&RIGHT(\"00000\"&J938,5)","v":"9013800"},"COPLFR","SAO","COPLFR.SAO: All","exam",13800,null,null,"exam: ",null,null,"concept",null,"F",null,null,0,null,null,null,null,null,null,5,2,0,0,2,2,999,null,null,null,5.0000000000000001E-4,"x",null,"xxxx"]
["COPLFR.SAO",null,null,"",{"$f":"VLOOKUP(F939&\".\"&G939,syllabus!B$3:I$99,8,FALSE)&RIGHT(\"00000\"&J939,5)","v":"9013900"},"COPLFR","SAO","COPLFR.SAO: All","exam",13900,null,null,"exam: ",null,null,"concept",null,"F",null,null,0,null,null,null,null,null,null,5,2,0,0,2,2,999,null,null,null,5.0000000000000001E-4,"x",null,"xxxx"]
["COPLFR.SAO",null,null,"",{"$f":"VLOOKUP(F940&\".\"&G940,syllabus!B$3:I$99,8,FALSE)&RIGHT(\"00000\"&J940,5)","v":"9014000"},"COPLFR","SAO","COPLFR.SAO: All","exam",14000,null,null,"exam: ",null,null,"concept",null,"F",null,null,0,null,null,null,null,null,null,5,2,0,0,2,2,999,null,null,null,5.0000000000000001E-4,"x",null,"xxxx"]
["COPLFR.SAO",null,null,"",{"$f":"VLOOKUP(F941&\".\"&G941,syllabus!B$3:I$99,8,FALSE)&RIGHT(\"00000\"&J941,5)","v":"9014100"},"COPLFR","SAO","COPLFR.SAO: All","exam",14100,null,null,"exam: ",null,null,"concept",null,"F",null,null,0,null,null,null,null,null,null,5,2,0,0,2,2,999,null,null,null,5.0000000000000001E-4,"x",null,"xxxx"]
["COPLFR.SAO",null,null,"",{"$f":"VLOOKUP(F942&\".\"&G942,syllabus!B$3:I$99,8,FALSE)&RIGHT(\"00000\"&J942,5)","v":"9014200"},"COPLFR","SAO","COPLFR.SAO: All","exam",14200,null,null,"exam: ",null,null,"concept",null,"F",null,null,0,null,null,null,null,null,null,5,2,0,0,2,2,999,null,null,null,5.0000000000000001E-4,"x",null,"xxxx"]
["COPLFR.SAO",null,null,"",{"$f":"VLOOKUP(F943&\".\"&G943,syllabus!B$3:I$99,8,FALSE)&RIGHT(\"00000\"&J943,5)","v":"9014300"},"COPLFR","SAO","COPLFR.SAO: All","exam",14300,null,null,"exam: ",null,null,"concept",null,"F",null,null,0,null,null,null,null,null,null,5,2,0,0,2,2,999,null,null,null,5.0000000000000001E-4,"x",null,"xxxx"]
["COPLFR.SAO",null,null,"",{"$f":"VLOOKUP(F944&\".\"&G944,syllabus!B$3:I$99,8,FALSE)&RIGHT(\"00000\"&J944,5)","v":"9014400"},"COPLFR","SAO","COPLFR.SAO: All","exam",14400,null,null,"exam: ",null,null,"concept",null,"F",null,null,0,null,null,null,null,null,null,5,2,0,0,2,2,999,null,null,null,5.0000000000000001E-4,"x",null,"xxxx"]
["COPLFR.SAO",null,null,"",{"$f":"VLOOKUP(F945&\".\"&G945,syllabus!B$3:I$99,8,FALSE)&RIGHT(\"00000\"&J945,5)","v":"9014500"},"COPLFR","SAO","COPLFR.SAO: All","exam",14500,null,null,"exam: ",null,null,"concept",null,"F",null,null,0,null,null,null,null,null,null,5,2,0,0,2,2,999,null,null,null,5.0000000000000001E-4,"x",null,"xxxx"]
["COPLFR.SAO",null,null,"",{"$f":"VLOOKUP(F946&\".\"&G946,syllabus!B$3:I$99,8,FALSE)&RIGHT(\"00000\"&J946,5)","v":"9014600"},"COPLFR","SAO","COPLFR.SAO: All","exam",14600,null,null,"exam: ",null,null,"concept",null,"F",null,null,0,null,null,null,null,null,null,5,2,0,0,2,2,999,null,null,null,5.0000000000000001E-4,"x",null,"xxxx"]
["COPLFR.SAO",null,null,"",{"$f":"VLOOKUP(F947&\".\"&G947,syllabus!B$3:I$99,8,FALSE)&RIGHT(\"00000\"&J947,5)","v":"9014700"},"COPLFR","SAO","COPLFR.SAO: All","exam",14700,null,null,"exam: ",null,null,"concept",null,"F",null,null,0,null,null,null,null,null,null,5,2,0,0,2,2,999,null,null,null,5.0000000000000001E-4,"x",null,"xxxx"]
["COPLFR.SAO",null,null,"",{"$f":"VLOOKUP(F948&\".\"&G948,syllabus!B$3:I$99,8,FALSE)&RIGHT(\"00000\"&J948,5)","v":"9014800"},"COPLFR","SAO","COPLFR.SAO: All","exam",14800,null,null,"exam: ",null,null,"concept",null,"F",null,null,0,null,null,null,null,null,null,5,2,0,0,2,2,999,null,null,null,5.0000000000000001E-4,"x",null,"xxxx"]
["COPLFR.SAO",null,null,"",{"$f":"VLOOKUP(F949&\".\"&G949,syllabus!B$3:I$99,8,FALSE)&RIGHT(\"00000\"&J949,5)","v":"9014900"},"COPLFR","SAO","COPLFR.SAO: All","exam",14900,null,null,"exam: ",null,null,"concept",null,"F",null,null,0,null,null,null,null,null,null,5,2,0,0,2,2,999,null,null,null,5.0000000000000001E-4,"x",null,"xxxx"]
["COPLFR.SAO",null,null,"",{"$f":"VLOOKUP(F950&\".\"&G950,syllabus!B$3:I$99,8,FALSE)&RIGHT(\"00000\"&J950,5)","v":"9015000"},"COPLFR","SAO","COPLFR.SAO: All","exam",15000,2022,null,"exam: ",null,null,"concept",null,"F",null,null,0,null,null,null,null,null,null,5,2,0,0,2,2,999,null,null,null,5.0000000000000001E-4,"x",null,"xxxx"]
["COPLFR.SAO",null,null,"",{"$f":"VLOOKUP(F951&\".\"&G951,syllabus!B$3:I$99,8,FALSE)&RIGHT(\"00000\"&J951,5)","v":"9015100"},"COPLFR","SAO","COPLFR.SAO: All","exam",15100,null,null,"exam: ",null,null,"concept",null,"F",null,null,0,null,null,null,null,null,null,5,2,0,0,2,2,999,null,null,null,5.0000000000000001E-4,"x",null,"xxxx"]
["COPLFR.SAO",null,null,"",{"$f":"VLOOKUP(F952&\".\"&G952,syllabus!B$3:I$99,8,FALSE)&RIGHT(\"00000\"&J952,5)","v":"9015200"},"COPLFR","SAO","COPLFR.SAO: All","exam",15200,null,null,"exam: ",null,null,"concept",null,"F",null,null,0,null,null,null,null,null,null,5,2,0,0,2,2,999,null,null,null,5.0000000000000001E-4,"x",null,"xxxx"]
["COPLFR.SAO",null,null,"",{"$f":"VLOOKUP(F953&\".\"&G953,syllabus!B$3:I$99,8,FALSE)&RIGHT(\"00000\"&J953,5)","v":"9015300"},"COPLFR","SAO","COPLFR.SAO: All","exam",15300,null,null,"exam: ",null,null,"concept",null,"F",null,null,0,null,null,null,null,null,null,5,2,0,0,2,2,999,null,null,null,5.0000000000000001E-4,"x",null,"xxxx"]
["COPLFR.SAO",null,null,"",{"$f":"VLOOKUP(F954&\".\"&G954,syllabus!B$3:I$99,8,FALSE)&RIGHT(\"00000\"&J954,5)","v":"9015400"},"COPLFR","SAO","COPLFR.SAO: All","exam",15400,null,null,"exam: ",null,null,"concept",null,"F",null,null,0,null,null,null,null,null,null,5,2,0,0,2,2,999,null,null,null,5.0000000000000001E-4,"x",null,"xxxx"]
["COPLFR.SAO",null,null,"",{"$f":"VLOOKUP(F955&\".\"&G955,syllabus!B$3:I$99,8,FALSE)&RIGHT(\"00000\"&J955,5)","v":"9015500"},"COPLFR","SAO","COPLFR.SAO: All","exam",15500,null,null,"exam: ",null,null,"concept",null,"F",null,null,0,null,null,null,null,null,null,5,2,0,0,2,2,999,null,null,null,5.0000000000000001E-4,"x",null,"xxxx"]
["COPLFR.SAO",null,null,"",{"$f":"VLOOKUP(F956&\".\"&G956,syllabus!B$3:I$99,8,FALSE)&RIGHT(\"00000\"&J956,5)","v":"9015600"},"COPLFR","SAO","COPLFR.SAO: All","exam",15600,null,null,"exam: ",null,null,"concept",null,"F",null,null,0,null,null,null,null,null,null,5,2,0,0,2,2,999,null,null,null,5.0000000000000001E-4,"x",null,"xxxx"]
["COPLFR.SAO",null,null,"",{"$f":"VLOOKUP(F957&\".\"&G957,syllabus!B$3:I$99,8,FALSE)&RIGHT(\"00000\"&J957,5)","v":"9015700"},"COPLFR","SAO","COPLFR.SAO: All","exam",15700,null,null,"exam: ",null,null,"concept",null,"F",null,null,0,null,null,null,null,null,null,5,2,0,0,2,2,999,null,null,null,5.0000000000000001E-4,"x",null,"xxxx"]
["COPLFR.SAO",null,null,"",{"$f":"VLOOKUP(F958&\".\"&G958,syllabus!B$3:I$99,8,FALSE)&RIGHT(\"00000\"&J958,5)","v":"9015800"},"COPLFR","SAO","COPLFR.SAO: All","exam",15800,null,null,"exam: ",null,null,"concept",null,"F",null,null,0,null,null,null,null,null,null,5,2,0,0,2,2,999,null,null,null,5.0000000000000001E-4,"x",null,"xxxx"]
["COPLFR.SAO",null,null,"",{"$f":"VLOOKUP(F959&\".\"&G959,syllabus!B$3:I$99,8,FALSE)&RIGHT(\"00000\"&J959,5)","v":"9015900"},"COPLFR","SAO","COPLFR.SAO: All","exam",15900,null,null,"exam: ",null,null,"concept",null,"F",null,null,0,null,null,null,null,null,null,5,2,0,0,2,2,999,null,null,null,5.0000000000000001E-4,"x",null,"xxxx"]
["COPLFR.SAO",null,null,"",{"$f":"VLOOKUP(F960&\".\"&G960,syllabus!B$3:I$99,8,FALSE)&RIGHT(\"00000\"&J960,5)","v":"9016000"},"COPLFR","SAO","COPLFR.SAO: All","exam",16000,null,null,"exam: ",null,null,"concept",null,"F",null,null,0,null,null,null,null,null,null,5,2,0,0,2,2,999,null,null,null,5.0000000000000001E-4,"x",null,"xxxx"]
["COPLFR.SAO",null,null,"",{"$f":"VLOOKUP(F961&\".\"&G961,syllabus!B$3:I$99,8,FALSE)&RIGHT(\"00000\"&J961,5)","v":"9016100"},"COPLFR","SAO","COPLFR.SAO: All","exam",16100,null,null,"exam: ",null,null,"concept",null,"F",null,null,0,null,null,null,null,null,null,5,2,0,0,2,2,999,null,null,null,5.0000000000000001E-4,"x",null,"xxxx"]
["COPLFR.SAO",null,null,"",{"$f":"VLOOKUP(F962&\".\"&G962,syllabus!B$3:I$99,8,FALSE)&RIGHT(\"00000\"&J962,5)","v":"9016200"},"COPLFR","SAO","COPLFR.SAO: All","exam",16200,null,null,"exam: ",null,null,"concept",null,"F",null,null,0,null,null,null,null,null,null,5,2,0,0,2,2,999,null,null,null,5.0000000000000001E-4,"x",null,"xxxx"]
["COPLFR.SAO",null,null,"",{"$f":"VLOOKUP(F963&\".\"&G963,syllabus!B$3:I$99,8,FALSE)&RIGHT(\"00000\"&J963,5)","v":"9016300"},"COPLFR","SAO","COPLFR.SAO: All","exam",16300,null,null,"exam: ",null,null,"concept",null,"F",null,null,0,null,null,null,null,null,null,5,2,0,0,2,2,999,null,null,null,5.0000000000000001E-4,"x",null,"xxxx"]
["COPLFR.SAO",null,null,"",{"$f":"VLOOKUP(F964&\".\"&G964,syllabus!B$3:I$99,8,FALSE)&RIGHT(\"00000\"&J964,5)","v":"9016400"},"COPLFR","SAO","COPLFR.SAO: All","exam",16400,null,null,"exam: ",null,null,"concept",null,"F",null,null,0,null,null,null,null,null,null,5,2,0,0,2,2,999,null,null,null,5.0000000000000001E-4,"x",null,"xxxx"]
["COPLFR.SAO",null,null,"",{"$f":"VLOOKUP(F965&\".\"&G965,syllabus!B$3:I$99,8,FALSE)&RIGHT(\"00000\"&J965,5)","v":"9016500"},"COPLFR","SAO","COPLFR.SAO: All","exam",16500,null,null,"exam: ",null,null,"concept",null,"F",null,null,0,null,null,null,null,null,null,5,2,0,0,2,2,999,null,null,null,5.0000000000000001E-4,"x",null,"xxxx"]
["COPLFR.SAO",null,null,"",{"$f":"VLOOKUP(F966&\".\"&G966,syllabus!B$3:I$99,8,FALSE)&RIGHT(\"00000\"&J966,5)","v":"9016600"},"COPLFR","SAO","COPLFR.SAO: All","exam",16600,null,null,"exam: ",null,null,"concept",null,"F",null,null,0,null,null,null,null,null,null,5,2,0,0,2,2,999,null,null,null,5.0000000000000001E-4,"x",null,"xxxx"]
["COPLFR.SAO",null,null,"",{"$f":"VLOOKUP(F967&\".\"&G967,syllabus!B$3:I$99,8,FALSE)&RIGHT(\"00000\"&J967,5)","v":"9016700"},"COPLFR","SAO","COPLFR.SAO: All","exam",16700,null,null,"exam: ",null,null,"concept",null,"F",null,null,0,null,null,null,null,null,null,5,2,0,0,2,2,999,null,null,null,5.0000000000000001E-4,"x",null,"xxxx"]
["COPLFR.SAO",null,null,"",{"$f":"VLOOKUP(F968&\".\"&G968,syllabus!B$3:I$99,8,FALSE)&RIGHT(\"00000\"&J968,5)","v":"9016800"},"COPLFR","SAO","COPLFR.SAO: All","exam",16800,null,null,"exam: ",null,null,"concept",null,"F",null,null,0,null,null,null,null,null,null,5,2,0,0,2,2,999,null,null,null,5.0000000000000001E-4,"x",null,"xxxx"]
["COPLFR.SAO",null,null,"",{"$f":"VLOOKUP(F969&\".\"&G969,syllabus!B$3:I$99,8,FALSE)&RIGHT(\"00000\"&J969,5)","v":"9016900"},"COPLFR","SAO","COPLFR.SAO: All","exam",16900,null,null,"exam: ",null,null,"concept",null,"F",null,null,0,null,null,null,null,null,null,5,2,0,0,2,2,999,null,null,null,5.0000000000000001E-4,"x",null,"xxxx"]
["COPLFR.SAO",null,null,"",{"$f":"VLOOKUP(F970&\".\"&G970,syllabus!B$3:I$99,8,FALSE)&RIGHT(\"00000\"&J970,5)","v":"9017000"},"COPLFR","SAO","COPLFR.SAO: All","exam",17000,null,null,"exam: ",null,null,"concept",null,"F",null,null,0,null,null,null,null,null,null,5,2,0,0,2,2,999,null,null,null,5.0000000000000001E-4,"x",null,"xxxx"]
["COPLFR.SAO",null,null,"",{"$f":"VLOOKUP(F971&\".\"&G971,syllabus!B$3:I$99,8,FALSE)&RIGHT(\"00000\"&J971,5)","v":"9017100"},"COPLFR","SAO","COPLFR.SAO: All","exam",17100,null,null,"exam: ",null,null,"concept",null,"F",null,null,0,null,null,null,null,null,null,5,2,0,0,2,2,999,null,null,null,5.0000000000000001E-4,"x",null,"xxxx"]
["COPLFR.SAO",null,null,"",{"$f":"VLOOKUP(F972&\".\"&G972,syllabus!B$3:I$99,8,FALSE)&RIGHT(\"00000\"&J972,5)","v":"9017200"},"COPLFR","SAO","COPLFR.SAO: All","exam",17200,null,null,"exam: ",null,null,"concept",null,"F",null,null,0,null,null,null,null,null,null,5,2,0,0,2,2,999,null,null,null,5.0000000000000001E-4,"x",null,"xxxx"]
["COPLFR.SAO",null,null,"",{"$f":"VLOOKUP(F973&\".\"&G973,syllabus!B$3:I$99,8,FALSE)&RIGHT(\"00000\"&J973,5)","v":"9017300"},"COPLFR","SAO","COPLFR.SAO: All","exam",17300,null,null,"exam: ",null,null,"concept",null,"F",null,null,0,null,null,null,null,null,null,5,2,0,0,2,2,999,null,null,null,5.0000000000000001E-4,"x",null,"xxxx"]
["COPLFR.SAO",null,null,"",{"$f":"VLOOKUP(F974&\".\"&G974,syllabus!B$3:I$99,8,FALSE)&RIGHT(\"00000\"&J974,5)","v":"9017400"},"COPLFR","SAO","COPLFR.SAO: All","exam",17400,null,null,"exam: ",null,null,"concept",null,"F",null,null,0,null,null,null,null,null,null,5,2,0,0,2,2,999,null,null,null,5.0000000000000001E-4,"x",null,"xxxx"]
["COPLFR.SAO",null,null,"",{"$f":"VLOOKUP(F975&\".\"&G975,syllabus!B$3:I$99,8,FALSE)&RIGHT(\"00000\"&J975,5)","v":"9017500"},"COPLFR","SAO","COPLFR.SAO: All","exam",17500,null,null,"exam: ",null,null,"concept",null,"F",null,null,0,null,null,null,null,null,null,5,2,0,0,2,2,999,null,null,null,5.0000000000000001E-4,"x",null,"xxxx"]
["COPLFR.SAO",null,null,"",{"$f":"VLOOKUP(F976&\".\"&G976,syllabus!B$3:I$99,8,FALSE)&RIGHT(\"00000\"&J976,5)","v":"9017600"},"COPLFR","SAO","COPLFR.SAO: All","exam",17600,null,null,"exam: ",null,null,"concept",null,"F",null,null,0,null,null,null,null,null,null,5,2,0,0,2,2,999,null,null,null,5.0000000000000001E-4,"x",null,"xxxx"]
["COPLFR.SAO",null,null,"",{"$f":"VLOOKUP(F977&\".\"&G977,syllabus!B$3:I$99,8,FALSE)&RIGHT(\"00000\"&J977,5)","v":"9017700"},"COPLFR","SAO","COPLFR.SAO: All","exam",17700,null,null,"exam: ",null,null,"concept",null,"F",null,null,0,null,null,null,null,null,null,5,2,0,0,2,2,999,null,null,null,5.0000000000000001E-4,"x",null,"xxxx"]
["COPLFR.SAO",null,null,"",{"$f":"VLOOKUP(F978&\".\"&G978,syllabus!B$3:I$99,8,FALSE)&RIGHT(\"00000\"&J978,5)","v":"9017800"},"COPLFR","SAO","COPLFR.SAO: All","exam",17800,null,null,"exam: ",null,null,"concept",null,"F",null,null,0,null,null,null,null,null,null,5,2,0,0,2,2,999,null,null,null,5.0000000000000001E-4,"x",null,"xxxx"]
["COPLFR.SAO",null,null,"",{"$f":"VLOOKUP(F979&\".\"&G979,syllabus!B$3:I$99,8,FALSE)&RIGHT(\"00000\"&J979,5)","v":"9017900"},"COPLFR","SAO","COPLFR.SAO: All","exam",17900,null,null,"exam: ",null,null,"concept",null,"F",null,null,0,null,null,null,null,null,null,5,2,0,0,2,2,999,null,null,null,5.0000000000000001E-4,"x",null,"xxxx"]
["COPLFR.SAO",null,null,"",{"$f":"VLOOKUP(F980&\".\"&G980,syllabus!B$3:I$99,8,FALSE)&RIGHT(\"00000\"&J980,5)","v":"9018000"},"COPLFR","SAO","COPLFR.SAO: All","exam",18000,null,null,"exam: ",null,null,"concept",null,"F",null,null,0,null,null,null,null,null,null,5,2,0,0,2,2,999,null,null,null,5.0000000000000001E-4,"x",null,"xxxx"]
["COPLFR.SAO",null,null,"",{"$f":"VLOOKUP(F981&\".\"&G981,syllabus!B$3:I$99,8,FALSE)&RIGHT(\"00000\"&J981,5)","v":"9018100"},"COPLFR","SAO","COPLFR.SAO: All","exam",18100,null,null,"exam: ",null,null,"concept",null,"F",null,null,0,null,null,null,null,null,null,5,2,0,0,2,2,999,null,null,null,5.0000000000000001E-4,"x",null,"xxxx"]
["COPLFR.SAO",null,null,"",{"$f":"VLOOKUP(F982&\".\"&G982,syllabus!B$3:I$99,8,FALSE)&RIGHT(\"00000\"&J982,5)","v":"9018200"},"COPLFR","SAO","COPLFR.SAO: All","exam",18200,null,null,"exam: ",null,null,"concept",null,"F",null,null,0,null,null,null,null,null,null,5,2,0,0,2,2,999,null,null,null,5.0000000000000001E-4,"x",null,"xxxx"]
["COPLFR.SAO",null,null,"",{"$f":"VLOOKUP(F983&\".\"&G983,syllabus!B$3:I$99,8,FALSE)&RIGHT(\"00000\"&J983,5)","v":"9018300"},"COPLFR","SAO","COPLFR.SAO: All","exam",18300,null,null,"exam: ",null,null,"concept",null,"F",null,null,0,null,null,null,null,null,null,5,2,0,0,2,2,999,null,null,null,5.0000000000000001E-4,"x",null,"xxxx"]
["COPLFR.SAO",null,null,"",{"$f":"VLOOKUP(F984&\".\"&G984,syllabus!B$3:I$99,8,FALSE)&RIGHT(\"00000\"&J984,5)","v":"9018400"},"COPLFR","SAO","COPLFR.SAO: All","exam",18400,null,null,"exam: ",null,null,"concept",null,"F",null,null,0,null,null,null,null,null,null,5,2,0,0,2,2,999,null,null,null,5.0000000000000001E-4,"x",null,"xxxx"]
["COPLFR.SAO",null,null,"",{"$f":"VLOOKUP(F985&\".\"&G985,syllabus!B$3:I$99,8,FALSE)&RIGHT(\"00000\"&J985,5)","v":"9018500"},"COPLFR","SAO","COPLFR.SAO: All","exam",18500,null,null,"exam: ",null,null,"concept",null,"F",null,null,0,null,null,null,null,null,null,5,2,0,0,2,2,999,null,null,null,5.0000000000000001E-4,"x",null,"xxxx"]
["COPLFR.SAO",null,null,"",{"$f":"VLOOKUP(F986&\".\"&G986,syllabus!B$3:I$99,8,FALSE)&RIGHT(\"00000\"&J986,5)","v":"9018600"},"COPLFR","SAO","COPLFR.SAO: All","exam",18600,null,null,"exam: ",null,null,"concept",null,"F",null,null,0,null,null,null,null,null,null,5,2,0,0,2,2,999,null,null,null,5.0000000000000001E-4,"x",null,"xxxx"]
["COPLFR.SAO",null,null,"",{"$f":"VLOOKUP(F987&\".\"&G987,syllabus!B$3:I$99,8,FALSE)&RIGHT(\"00000\"&J987,5)","v":"9018700"},"COPLFR","SAO","COPLFR.SAO: All","exam",18700,null,null,"exam: ",null,null,"concept",null,"F",null,null,0,null,null,null,null,null,null,5,2,0,0,2,2,999,null,null,null,5.0000000000000001E-4,"x",null,"xxxx"]
["COPLFR.SAO",null,null,"",{"$f":"VLOOKUP(F988&\".\"&G988,syllabus!B$3:I$99,8,FALSE)&RIGHT(\"00000\"&J988,5)","v":"9018800"},"COPLFR","SAO","COPLFR.SAO: All","exam",18800,null,null,"exam: ",null,null,"concept",null,"F",null,null,0,null,null,null,null,null,null,5,2,0,0,2,2,999,null,null,null,5.0000000000000001E-4,"x",null,"xxxx"]
["COPLFR.SAO",null,null,"",{"$f":"VLOOKUP(F989&\".\"&G989,syllabus!B$3:I$99,8,FALSE)&RIGHT(\"00000\"&J989,5)","v":"9018900"},"COPLFR","SAO","COPLFR.SAO: All","exam",18900,null,null,"exam: ",null,null,"concept",null,"F",null,null,0,null,null,null,null,null,null,5,2,0,0,2,2,999,null,null,null,5.0000000000000001E-4,"x",null,"xxxx"]
["COPLFR.SAO",null,null,"",{"$f":"VLOOKUP(F990&\".\"&G990,syllabus!B$3:I$99,8,FALSE)&RIGHT(\"00000\"&J990,5)","v":"9019000"},"COPLFR","SAO","COPLFR.SAO: All","exam",19000,null,null,"exam: ",null,null,"concept",null,"F",null,null,0,null,null,null,null,null,null,5,2,0,0,2,2,999,null,null,null,5.0000000000000001E-4,"x",null,"xxxx"]
["COPLFR.SAO",null,null,"",{"$f":"VLOOKUP(F991&\".\"&G991,syllabus!B$3:I$99,8,FALSE)&RIGHT(\"00000\"&J991,5)","v":"9019100"},"COPLFR","SAO","COPLFR.SAO: All","exam",19100,null,null,"exam: ",null,null,"concept",null,"F",null,null,0,null,null,null,null,null,null,5,2,0,0,2,2,999,null,null,null,5.0000000000000001E-4,"x",null,"xxxx"]
["COPLFR.SAO",null,null,"",{"$f":"VLOOKUP(F992&\".\"&G992,syllabus!B$3:I$99,8,FALSE)&RIGHT(\"00000\"&J992,5)","v":"9019200"},"COPLFR","SAO","COPLFR.SAO: All","exam",19200,null,null,"exam: ",null,null,"concept",null,"F",null,null,0,null,null,null,null,null,null,5,2,0,0,2,2,999,null,null,null,5.0000000000000001E-4,"x",null,"xxxx"]
["COPLFR.SAO",null,null,"",{"$f":"VLOOKUP(F993&\".\"&G993,syllabus!B$3:I$99,8,FALSE)&RIGHT(\"00000\"&J993,5)","v":"9019300"},"COPLFR","SAO","COPLFR.SAO: All","exam",19300,null,null,"exam: ",null,null,"concept",null,"F",null,null,0,null,null,null,null,null,null,5,2,0,0,2,2,999,null,null,null,5.0000000000000001E-4,"x",null,"xxxx"]
["COPLFR.SAO",null,null,"",{"$f":"VLOOKUP(F994&\".\"&G994,syllabus!B$3:I$99,8,FALSE)&RIGHT(\"00000\"&J994,5)","v":"9019400"},"COPLFR","SAO","COPLFR.SAO: All","exam",19400,null,null,"exam: ",null,null,"concept",null,"F",null,null,0,null,null,null,null,null,null,5,2,0,0,2,2,999,null,null,null,5.0000000000000001E-4,"x",null,"xxxx"]
["COPLFR.SAO",null,null,"",{"$f":"VLOOKUP(F995&\".\"&G995,syllabus!B$3:I$99,8,FALSE)&RIGHT(\"00000\"&J995,5)","v":"9019500"},"COPLFR","SAO","COPLFR.SAO: All","exam",19500,null,null,"exam: ",null,null,"concept",null,"F",null,null,0,null,null,null,null,null,null,5,2,0,0,2,2,999,null,null,null,5.0000000000000001E-4,"x",null,"xxxx"]
["COPLFR.SAO",null,null,"",{"$f":"VLOOKUP(F996&\".\"&G996,syllabus!B$3:I$99,8,FALSE)&RIGHT(\"00000\"&J996,5)","v":"9019600"},"COPLFR","SAO","COPLFR.SAO: All","exam",19600,null,null,"exam: ",null,null,"concept",null,"F",null,null,0,null,null,null,null,null,null,5,2,0,0,2,2,999,null,null,null,5.0000000000000001E-4,"x",null,"xxxx"]
["COPLFR.SAO",null,null,"",{"$f":"VLOOKUP(F997&\".\"&G997,syllabus!B$3:I$99,8,FALSE)&RIGHT(\"00000\"&J997,5)","v":"9019700"},"COPLFR","SAO","COPLFR.SAO: All","exam",19700,null,null,"exam: ",null,null,"concept",null,"F",null,null,0,null,null,null,null,null,null,5,2,0,0,2,2,999,null,null,null,5.0000000000000001E-4,"x",null,"xxxx"]
["COPLFR.SAO",null,null,"",{"$f":"VLOOKUP(F998&\".\"&G998,syllabus!B$3:I$99,8,FALSE)&RIGHT(\"00000\"&J998,5)","v":"9019800"},"COPLFR","SAO","COPLFR.SAO: All","exam",19800,null,null,"exam: ",null,null,"concept",null,"F",null,null,0,null,null,null,null,null,null,5,2,0,0,2,2,999,null,null,null,5.0000000000000001E-4,"x",null,"xxxx"]
["COPLFR.SAO",null,null,"",{"$f":"VLOOKUP(F999&\".\"&G999,syllabus!B$3:I$99,8,FALSE)&RIGHT(\"00000\"&J999,5)","v":"9019900"},"COPLFR","SAO","COPLFR.SAO: All","exam",19900,null,null,"exam: ",null,null,"concept",null,"F",null,null,0,null,null,null,null,null,null,5,2,0,0,2,2,999,null,null,null,5.0000000000000001E-4,"x",null,"xxxx"]
["COPLFR.SAO",null,null,"",{"$f":"VLOOKUP(F1000&\".\"&G1000,syllabus!B$3:I$99,8,FALSE)&RIGHT(\"00000\"&J1000,5)","v":"9020000"},"COPLFR","SAO","COPLFR.SAO: All","exam",20000,2021,null,"exam: ",null,null,"concept",null,"F",null,null,0,null,null,null,null,null,null,5,2,0,0,2,2,999,null,null,null,5.0000000000000001E-4,"x",null,"xxxx"]
["COPLFR.SAO",null,null,"",{"$f":"VLOOKUP(F1004&\".\"&G1004,syllabus!B$3:I$99,8,FALSE)&RIGHT(\"00000\"&J1004,5)","v":"9020400"},"COPLFR","SAO","COPLFR.SAO: All","exam",20400,null,null,"exam: ",null,null,"concept",null,"F",null,null,0,null,null,null,null,null,null,5,2,0,0,2,2,999,null,null,null,5.0000000000000001E-4,"x",null,"xxxx"]
["COPLFR.SAO",null,null,"",{"$f":"VLOOKUP(F1011&\".\"&G1011,syllabus!B$3:I$99,8,FALSE)&RIGHT(\"00000\"&J1011,5)","v":"9021100"},"COPLFR","SAO","COPLFR.SAO: All","exam",21100,null,null,"exam: ",null,null,"concept",null,"F",null,null,0,null,null,null,null,null,null,5,2,0,0,2,2,999,null,null,null,5.0000000000000001E-4,"x",null,"xxxx"]
["COPLFR.SAO",null,null,"",{"$f":"VLOOKUP(F1014&\".\"&G1014,syllabus!B$3:I$99,8,FALSE)&RIGHT(\"00000\"&J1014,5)","v":"9021400"},"COPLFR","SAO","COPLFR.SAO: All","exam",21400,null,null,"exam: ",null,null,"concept",null,"F",null,null,0,null,null,null,null,null,null,5,2,0,0,2,2,999,null,null,null,5.0000000000000001E-4,"x",null,"xxxx"]
["COPLFR.SAO",null,null,"",{"$f":"VLOOKUP(F1020&\".\"&G1020,syllabus!B$3:I$99,8,FALSE)&RIGHT(\"00000\"&J1020,5)","v":"9022000"},"COPLFR","SAO","COPLFR.SAO: All","exam",22000,null,null,"exam: ",null,null,"concept",null,"F",null,null,0,null,null,null,null,null,null,5,2,0,0,2,2,999,null,null,null,5.0000000000000001E-4,"x",null,"xxxx"]
["COPLFR.SAO",null,null,"",{"$f":"VLOOKUP(F1031&\".\"&G1031,syllabus!B$3:I$99,8,FALSE)&RIGHT(\"00000\"&J1031,5)","v":"9023100"},"COPLFR","SAO","COPLFR.SAO: All","exam",23100,null,null,"exam: ",null,null,"concept",null,"F",null,null,0,null,null,null,null,null,null,5,2,0,0,2,2,999,null,null,null,5.0000000000000001E-4,"x",null,"xxxx"]
["COPLFR.SAO",null,null,"",{"$f":"VLOOKUP(F1034&\".\"&G1034,syllabus!B$3:I$99,8,FALSE)&RIGHT(\"00000\"&J1034,5)","v":"9023400"},"COPLFR","SAO","COPLFR.SAO: All","exam",23400,null,null,"exam: ",null,null,"concept",null,"F",null,null,0,null,null,null,null,null,null,5,2,0,0,2,2,999,null,null,null,5.0000000000000001E-4,"x",null,"xxxx"]
["COPLFR.SAO",null,null,"",{"$f":"VLOOKUP(F1041&\".\"&G1041,syllabus!B$3:I$99,8,FALSE)&RIGHT(\"00000\"&J1041,5)","v":"9024100"},"COPLFR","SAO","COPLFR.SAO: All","exam",24100,null,null,"exam: ",null,null,"concept",null,"F",null,null,0,null,null,null,null,null,null,5,2,0,0,2,2,999,null,null,null,5.0000000000000001E-4,"x",null,"xxxx"]
["COPLFR.SAO",null,null,"",{"$f":"VLOOKUP(F1046&\".\"&G1046,syllabus!B$3:I$99,8,FALSE)&RIGHT(\"00000\"&J1046,5)","v":"9024600"},"COPLFR","SAO","COPLFR.SAO: All","exam",24600,null,null,"exam: ",null,null,"concept",null,"F",null,null,0,null,null,null,null,null,null,5,2,0,0,2,2,999,null,null,null,5.0000000000000001E-4,"x",null,"xxxx"]
["COPLFR.SAO",null,null,"",{"$f":"VLOOKUP(F1052&\".\"&G1052,syllabus!B$3:I$99,8,FALSE)&RIGHT(\"00000\"&J1052,5)","v":"9025200"},"COPLFR","SAO","COPLFR.SAO: All","exam",25200,null,null,"exam: ",null,null,"concept",null,"F",null,null,0,null,null,null,null,null,null,5,2,0,0,2,2,999,null,null,null,5.0000000000000001E-4,"x",null,"xxxx"]
["COPLFR.SAO",null,null,"",{"$f":"VLOOKUP(F1061&\".\"&G1061,syllabus!B$3:I$99,8,FALSE)&RIGHT(\"00000\"&J1061,5)","v":"9026100"},"COPLFR","SAO","COPLFR.SAO: All","exam",26100,null,null,"exam: ",null,null,"concept",null,"F",null,null,0,null,null,null,null,null,null,5,2,0,0,2,2,999,null,null,null,5.0000000000000001E-4,"x",null,"xxxx"]
["COPLFR.SAO",null,null,"",{"$f":"VLOOKUP(F1064&\".\"&G1064,syllabus!B$3:I$99,8,FALSE)&RIGHT(\"00000\"&J1064,5)","v":"9026400"},"COPLFR","SAO","COPLFR.SAO: All","exam",26400,null,null,"exam: ",null,null,"concept",null,"F",null,null,0,null,null,null,null,null,null,5,2,0,0,2,2,999,null,null,null,5.0000000000000001E-4,"x",null,"xxxx"]
["COPLFR.SAO",null,null,"",{"$f":"VLOOKUP(F1069&\".\"&G1069,syllabus!B$3:I$99,8,FALSE)&RIGHT(\"00000\"&J1069,5)","v":"9026900"},"COPLFR","SAO","COPLFR.SAO: All","exam",26900,null,null,"exam: ",null,null,"concept",null,"F",null,null,0,null,null,null,null,null,null,5,2,0,0,2,2,999,null,null,null,5.0000000000000001E-4,"x",null,"xxxx"]
["COPLFR.SAO",null,null,"",{"$f":"VLOOKUP(F1081&\".\"&G1081,syllabus!B$3:I$99,8,FALSE)&RIGHT(\"00000\"&J1081,5)","v":"9028100"},"COPLFR","SAO","COPLFR.SAO: All","exam",28100,null,null,"exam: ",null,null,"concept",null,"F",null,null,0,null,null,null,null,null,null,5,2,0,0,2,2,999,null,null,null,5.0000000000000001E-4,"x",null,"xxxx"]
["COPLFR.SAO",null,null,"",{"$f":"VLOOKUP(F1084&\".\"&G1084,syllabus!B$3:I$99,8,FALSE)&RIGHT(\"00000\"&J1084,5)","v":"9028400"},"COPLFR","SAO","COPLFR.SAO: All","exam",28400,null,null,"exam: ",null,null,"concept",null,"F",null,null,0,null,null,null,null,null,null,5,2,0,0,2,2,999,null,null,null,5.0000000000000001E-4,"x",null,"xxxx"]
["COPLFR.SAO",null,null,"",{"$f":"VLOOKUP(F1091&\".\"&G1091,syllabus!B$3:I$99,8,FALSE)&RIGHT(\"00000\"&J1091,5)","v":"9029100"},"COPLFR","SAO","COPLFR.SAO: All","exam",29100,null,null,"exam: ",null,null,"concept",null,"F",null,null,0,null,null,null,null,null,null,5,2,0,0,2,2,999,null,null,null,5.0000000000000001E-4,"x",null,"xxxx"]
["COPLFR.SAO",null,null,"",{"$f":"VLOOKUP(F1095&\".\"&G1095,syllabus!B$3:I$99,8,FALSE)&RIGHT(\"00000\"&J1095,5)","v":"9029500"},"COPLFR","SAO","COPLFR.SAO: All","exam",29500,null,null,"exam: ",null,null,"concept",null,"F",null,null,0,null,null,null,null,null,null,5,2,0,0,2,2,999,null,null,null,5.0000000000000001E-4,"x",null,"xxxx"]
["COPLFR.SAO",null,null,"",{"$f":"VLOOKUP(F1102&\".\"&G1102,syllabus!B$3:I$99,8,FALSE)&RIGHT(\"00000\"&J1102,5)","v":"9030200"},"COPLFR","SAO","COPLFR.SAO: All","exam",30200,null,null,"exam: ",null,null,"concept",null,"F",null,null,0,null,null,null,null,null,null,5,2,0,0,2,2,999,null,null,null,5.0000000000000001E-4,"x",null,"xxxx"]
["COPLFR.SAO",null,null,"",{"$f":"VLOOKUP(F1111&\".\"&G1111,syllabus!B$3:I$99,8,FALSE)&RIGHT(\"00000\"&J1111,5)","v":"9031100"},"COPLFR","SAO","COPLFR.SAO: All","exam",31100,null,null,"exam: ",null,null,"concept",null,"F",null,null,0,null,null,null,null,null,null,5,2,0,0,2,2,999,null,null,null,5.0000000000000001E-4,"x",null,"xxxx"]
["COPLFR.SAO",null,null,"",{"$f":"VLOOKUP(F1114&\".\"&G1114,syllabus!B$3:I$99,8,FALSE)&RIGHT(\"00000\"&J1114,5)","v":"9031400"},"COPLFR","SAO","COPLFR.SAO: All","exam",31400,null,null,"exam: ",null,null,"concept",null,"F",null,null,0,null,null,null,null,null,null,5,2,0,0,2,2,999,null,null,null,5.0000000000000001E-4,"x",null,"xxxx"]
["COPLFR.SAO",null,null,"",{"$f":"VLOOKUP(F1125&\".\"&G1125,syllabus!B$3:I$99,8,FALSE)&RIGHT(\"00000\"&J1125,5)","v":"9032500"},"COPLFR","SAO","COPLFR.SAO: All","exam",32500,null,null,"exam: ",null,null,"concept",null,"F",null,null,0,null,null,null,null,null,null,5,2,0,0,2,2,999,null,null,null,5.0000000000000001E-4,"x",null,"xxxx"]
["COPLFR.SAO",null,null,"",{"$f":"VLOOKUP(F1131&\".\"&G1131,syllabus!B$3:I$99,8,FALSE)&RIGHT(\"00000\"&J1131,5)","v":"9033100"},"COPLFR","SAO","COPLFR.SAO: All","exam",33100,null,null,"exam: ",null,null,"concept",null,"F",null,null,0,null,null,null,null,null,null,5,2,0,0,2,2,999,null,null,null,5.0000000000000001E-4,"x",null,"xxxx"]
["COPLFR.SAO",null,null,"",{"$f":"VLOOKUP(F1132&\".\"&G1132,syllabus!B$3:I$99,8,FALSE)&RIGHT(\"00000\"&J1132,5)","v":"9033200"},"COPLFR","SAO","COPLFR.SAO: All","exam",33200,null,null,"exam: ",null,null,"concept",null,"F",null,null,0,null,null,null,null,null,null,5,2,0,0,2,2,999,null,null,null,5.0000000000000001E-4,"x",null,"xxxx"]
["COPLFR.SAO",null,null,"",{"$f":"VLOOKUP(F1141&\".\"&G1141,syllabus!B$3:I$99,8,FALSE)&RIGHT(\"00000\"&J1141,5)","v":"9034100"},"COPLFR","SAO","COPLFR.SAO: All","exam",34100,null,null,"exam: ",null,null,"concept",null,"F",null,null,0,null,null,null,null,null,null,5,2,0,0,2,2,999,null,null,null,5.0000000000000001E-4,"x",null,"xxxx"]
["COPLFR.SAO",null,null,"",{"$f":"VLOOKUP(F1144&\".\"&G1144,syllabus!B$3:I$99,8,FALSE)&RIGHT(\"00000\"&J1144,5)","v":"9034400"},"COPLFR","SAO","COPLFR.SAO: All","exam",34400,null,null,"exam: ",null,null,"concept",null,"F",null,null,0,null,null,null,null,null,null,5,2,0,0,2,2,999,null,null,null,5.0000000000000001E-4,"x",null,"xxxx"]
["COPLFR.SAO",null,null,"",{"$f":"VLOOKUP(F1152&\".\"&G1152,syllabus!B$3:I$99,8,FALSE)&RIGHT(\"00000\"&J1152,5)","v":"9035200"},"COPLFR","SAO","COPLFR.SAO: All","exam (21c)",35200,null,null,"exam (21c): SAO opinion - type of opinion","see examiner's report - click yellow \"E\" link in \"Section\" column - click yellow \"E\" link in \"Section\" column",null,"concept",null,"A",null,"exam",1,"18","2-Fall",21,"c",null,0.5,5,2,2,14.142135623730951,2,2,999,null,null,null,5.0000000000000001E-4,"x",null,"xxxx"]
["COPLFR.SAO",null,null,"",{"$f":"VLOOKUP(F1161&\".\"&G1161,syllabus!B$3:I$99,8,FALSE)&RIGHT(\"00000\"&J1161,5)","v":"9036100"},"COPLFR","SAO","COPLFR.SAO: All","exam ()",36100,null,null,"exam (): ",null,null,"concept",null,"F",null,"exam",1,"18","2-Fall",null,null,null,null,5,2,0,0,2,2,999,null,null,null,5.0000000000000001E-4,"x",null,"xxxx"]
["COPLFR.SAO",null,null,"",{"$f":"VLOOKUP(F1164&\".\"&G1164,syllabus!B$3:I$99,8,FALSE)&RIGHT(\"00000\"&J1164,5)","v":"9036400"},"COPLFR","SAO","COPLFR.SAO: All","exam ()",36400,null,null,"exam (): ",null,null,"concept",null,"F",null,"exam",1,"18","2-Fall",null,null,null,null,5,2,0,0,2,2,999,null,null,null,5.0000000000000001E-4,"x",null,"xxxx"]
["COPLFR.SAO",null,null,"",{"$f":"VLOOKUP(F1174&\".\"&G1174,syllabus!B$3:I$99,8,FALSE)&RIGHT(\"00000\"&J1174,5)","v":"9037400"},"COPLFR","SAO","COPLFR.SAO: All","exam (20c)",37400,null,null,"exam (20c): SAO - disclosures ",null,null,"concept",null,"A",null,"exam",0,"18","1-Spring",20,"c",null,2,5,2,2,14.142135623730951,2,2,999,null,null,null,5.0000000000000001E-4,"x",null,"xxxx"]
["COPLFR.SAO",null,null,"",{"$f":"VLOOKUP(F1181&\".\"&G1181,syllabus!B$3:I$99,8,FALSE)&RIGHT(\"00000\"&J1181,5)","v":"9038100"},"COPLFR","SAO","COPLFR.SAO: All","exam (23c)",38100,null,null,"exam (23c): SAO opinion - type of opinion","see examiner's report - click yellow \"E\" link in \"Section\" column",null,"4","400_82_23c_C","A",null,"exam",1,"18","1-Spring",23,"c",null,0.5,5,2,2,14.142135623730951,2,2,999,null,null,null,5.0000000000000001E-4,"x",null,1]
["COPLFR.SAO",null,null,"",{"$f":"VLOOKUP(F1182&\".\"&G1182,syllabus!B$3:I$99,8,FALSE)&RIGHT(\"00000\"&J1182,5)","v":"9038200"},"COPLFR","SAO","COPLFR.SAO: All","exam (24a)",38200,null,null,"exam (24a): AOS(A,B,C,D) - identify contents","see examiner's report - click yellow \"E\" link in \"Section\" column",null,"7.3","703_82_24a_C","A",null,"exam",1,"18","1-Spring",24,"a",null,1,5,2,2,14.142135623730951,2,2,999,null,null,null,5.0000000000000001E-4,"x",null,1]
["COPLFR.SAO",null,null,"",{"$f":"VLOOKUP(F1191&\".\"&G1191,syllabus!B$3:I$99,8,FALSE)&RIGHT(\"00000\"&J1191,5)","v":"9039100"},"COPLFR","SAO","COPLFR.SAO: All","exam",39100,null,null,"exam: ",null,null,"concept",null,"F",null,null,0,null,null,null,null,null,null,5,2,0,0,2,2,999,null,null,null,5.0000000000000001E-4,"x",null,"xxxx"]
["COPLFR.SAO",null,null,"",{"$f":"VLOOKUP(F1200&\".\"&G1200,syllabus!B$3:I$99,8,FALSE)&RIGHT(\"00000\"&J1200,5)","v":"9040000"},"COPLFR","SAO","COPLFR.SAO: All","exam (22a)",40000,2017,null,"exam (22a): SAO opinion - propose language","see examiner's report - click yellow \"E\" link in \"Section\" column",null,"4",{"$f":"IF(P1200=\"SAO-general\",\"994\",IF(P1200=\"AOS-general\",\"999\",LEFT(P1200,1)*100+IFERROR(MID(P1200,SEARCH(\".\",P1200)+1,8),0)))&\"_\"&(100-V1200)&\"_\"&X1200&RIGHT(\"x\"&Y1200,1)&\"_C\"","v":"400_83_22a_C"},"A",null,"exam",1,"17","2-Fall",22,"a","",2.25,5,2,2,14.142135623730951,2,2,999,null,null,null,5.0000000000000001E-4,"x",null,2]
["COPLFR.SAO",null,null,"",{"$f":"VLOOKUP(F1202&\".\"&G1202,syllabus!B$3:I$99,8,FALSE)&RIGHT(\"00000\"&J1202,5)","v":"9040200"},"COPLFR","SAO","COPLFR.SAO: All","exam (22c)",40200,null,null,"exam (22c): AOS (A,B,C,D) - construct items A-D","see examiner's report - click yellow \"E\" link in \"Section\" column",null,"7.3","703_83_22c_C","A",null,"exam",1,"17","2-Fall",22,"c","",2,5,2,2,14.142135623730951,2,2,999,null,null,null,5.0000000000000001E-4,"x",null,2]
["COPLFR.SAO",null,null,"",{"$f":"VLOOKUP(F1211&\".\"&G1211,syllabus!B$3:I$99,8,FALSE)&RIGHT(\"00000\"&J1211,5)","v":"9041100"},"COPLFR","SAO","COPLFR.SAO: All","exam (25c)",41100,null,null,"exam (25c): reinsurance collectibility - assessment of","- MANAGEMENT: just ask management for any info they might have regarding uncollectability ~ - RATING: check the reinsurer's rating agency rating ~ - F: check your own schedule F for overdue reinsurance recoverables from this reinsurer",null,"5.10","510_83_25c_C","A",null,"exam",1,"17","2-Fall",25,"c","",0.75,5,4,2,20,2,2,999,null,null,null,5.0000000000000001E-4,"x",null,2]
["COPLFR.SAO",null,null,"",{"$f":"VLOOKUP(F1214&\".\"&G1214,syllabus!B$3:I$99,8,FALSE)&RIGHT(\"00000\"&J1214,5)","v":"9041400"},"COPLFR","SAO","COPLFR.SAO: All","exam (26b)",41400,null,null,"exam (26b): materiality standard - disclosures","depends on whether this is within or exceeds the materiality standard proposed in part (a)",null,"5.1","501_83_26b_C","A",null,"exam",1,"17","2-Fall",26,"b",null,0.25,5,2,2,14.142135623730951,2,2,999,null,null,null,5.0000000000000001E-4,"x",null,2]
["COPLFR.SAO",null,null,"",{"$f":"VLOOKUP(F1223&\".\"&G1223,syllabus!B$3:I$99,8,FALSE)&RIGHT(\"00000\"&J1223,5)","v":"9042300"},"COPLFR","SAO","COPLFR.SAO: All","exam (22a)",42300,null,null,"exam (22a): materiality standard - propose 3 standards","see examiner's report - click yellow \"E\" link in \"Section\" column",null,"5.1",{"$f":"IF(P1223=\"SAO-general\",\"994\",IF(P1223=\"AOS-general\",\"999\",LEFT(P1223,1)*100+IFERROR(MID(P1223,SEARCH(\".\",P1223)+1,8),0)))&\"_\"&(100-V1223)&\"_\"&X1223&RIGHT(\"x\"&Y1223,1)&\"_C\"","v":"501_83_22a_C"},"A",null,"exam",1,"17","1-Spring",22,"a","",1.5,5,2,2,14.142135623730951,2,2,999,null,null,null,5.0000000000000001E-4,"x",null,2]
["COPLFR.SAO",null,null,"",{"$f":"VLOOKUP(F1231&\".\"&G1231,syllabus!B$3:I$99,8,FALSE)&RIGHT(\"00000\"&J1231,5)","v":"9043100"},"COPLFR","SAO","COPLFR.SAO: All","exam (23cii)",43100,null,null,"exam (23cii):  SAO - identify errors","see examiner's report - click yellow \"E\" link in \"Section\" column",null,"SAO-general","994_83_23c_C","A",null,"exam",1,"17","1-Spring",23,"c","ii",0.5,5,2,2,14.142135623730951,2,2,999,null,null,null,5.0000000000000001E-4,"x",null,2]
["COPLFR.SAO",null,null,"",{"$f":"VLOOKUP(F1232&\".\"&G1232,syllabus!B$3:I$99,8,FALSE)&RIGHT(\"00000\"&J1232,5)","v":"9043200"},"COPLFR","SAO","COPLFR.SAO: All","exam (24a)",43200,null,null,"exam (24a): AOS (E) - user/purpose","see examiner's report - click yellow \"E\" link in \"Section\" column",null,"AOS-general","999_83_24a_C","A",null,"exam",1,"17","1-Spring",24,"a","",0.5,5,2,2,14.142135623730951,2,2,999,null,null,null,5.0000000000000001E-4,"x",null,2]
["COPLFR.SAO",null,null,"",{"$f":"VLOOKUP(F1241&\".\"&G1241,syllabus!B$3:I$99,8,FALSE)&RIGHT(\"00000\"&J1241,5)","v":"9044100"},"COPLFR","SAO","COPLFR.SAO: All","exam",44100,null,null,"exam:",null,null,"concept",null,"F",null,"",0,"","","","","","",5,2,0,0,2,2,999,null,null,null,5.0000000000000001E-4,"x",null,"xxxx"]
["COPLFR.SAO",null,null,"",{"$f":"VLOOKUP(F1249&\".\"&G1249,syllabus!B$3:I$99,8,FALSE)&RIGHT(\"00000\"&J1249,5)","v":"9044900"},"COPLFR","SAO","COPLFR.SAO: All","exam",44900,null,null,"exam:",null,null,"concept",null,"F",null,"",0,"","","","","","",5,2,0,0,2,2,999,null,null,null,5.0000000000000001E-4,"x",null,"xxxx"]
["COPLFR.SAO",null,null,"",{"$f":"VLOOKUP(F1252&\".\"&G1252,syllabus!B$3:I$99,8,FALSE)&RIGHT(\"00000\"&J1252,5)","v":"9045200"},"COPLFR","SAO","COPLFR.SAO: All","exam (20c)",45200,null,null,"exam (20c): RMAD - bright line indicator test","see examiner's report - click yellow \"E\" link in \"Section\" column",null,"concept",null,"A",null,"exam",1,"16","2-Fall",20,"c","",1,5,2,2,14.142135623730951,2,2,999,null,null,null,5.0000000000000001E-4,"x",null,3]
["COPLFR.SAO",null,null,"",{"$f":"VLOOKUP(F1261&\".\"&G1261,syllabus!B$3:I$99,8,FALSE)&RIGHT(\"00000\"&J1261,5)","v":"9046100"},"COPLFR","SAO","COPLFR.SAO: All","exam (20ai)",46100,null,null,"exam (20ai): SAO opinion - type & disclosures","see examiner's report - click yellow \"E\" link in \"Section\" column",null,"concept",null,"A",null,"exam",1,"16","1-Spring",20,"a","i",0.75,5,2,2,14.142135623730951,2,2,999,null,null,null,5.0000000000000001E-4,"x",null,3]
["COPLFR.SAO",null,null,"",{"$f":"VLOOKUP(F1268&\".\"&G1268,syllabus!B$3:I$99,8,FALSE)&RIGHT(\"00000\"&J1268,5)","v":"9046800"},"COPLFR","SAO","COPLFR.SAO: All","exam (22b)",46800,null,null,"exam (22b):  SAO opinion - type & disclosures","see examiner's report - click yellow \"E\" link in \"Section\" column",null,"concept",null,"A",null,"exam",1,"16","1-Spring",22,"b","",0.75,5,2,2,14.142135623730951,2,2,999,null,null,null,5.0000000000000001E-4,"x",null,3]
["COPLFR.SAO",null,null,"",{"$f":"VLOOKUP(F1272&\".\"&G1272,syllabus!B$3:I$99,8,FALSE)&RIGHT(\"00000\"&J1272,5)","v":"9047200"},"COPLFR","SAO","COPLFR.SAO: All","exam (24b)",47200,null,null,"exam (24b): RMAD - does RMAD exist","see examiner's report - click yellow \"E\" link in \"Section\" column",null,"concept",null,"A",null,"exam",1,"16","1-Spring",24,"b","",1,5,2,2,14.142135623730951,2,2,999,null,null,null,5.0000000000000001E-4,"x",null,3]
["COPLFR.SAO",null,null,"",{"$f":"VLOOKUP(F1281&\".\"&G1281,syllabus!B$3:I$99,8,FALSE)&RIGHT(\"00000\"&J1281,5)","v":"9048100"},"COPLFR","SAO","COPLFR.SAO: All","exam",48100,null,null,"exam:",null,null,"concept",null,"F",null,"",0,"","","","","","",5,2,0,0,2,2,999,null,null,null,5.0000000000000001E-4,"x",null,"xxxx"]
["COPLFR.SAO",null,null,"",{"$f":"VLOOKUP(F1282&\".\"&G1282,syllabus!B$3:I$99,8,FALSE)&RIGHT(\"00000\"&J1282,5)","v":"9048200"},"COPLFR","SAO","COPLFR.SAO: All","exam",48200,null,null,"exam:",null,null,"concept",null,"F",null,"",0,"","","","","","",5,2,0,0,2,2,999,null,null,null,5.0000000000000001E-4,"x",null,"xxxx"]
["COPLFR.SAO",null,null,"",{"$f":"VLOOKUP(F1291&\".\"&G1291,syllabus!B$3:I$99,8,FALSE)&RIGHT(\"00000\"&J1291,5)","v":"9049100"},"COPLFR","SAO","COPLFR.SAO: All","exam",49100,null,null,"exam:",null,null,"concept",null,"F",null,"",0,"","","","","","",5,2,0,0,2,2,999,null,null,null,5.0000000000000001E-4,"x",null,"xxxx"]
["COPLFR.SAO",null,null,"",{"$f":"VLOOKUP(F1298&\".\"&G1298,syllabus!B$3:I$99,8,FALSE)&RIGHT(\"00000\"&J1298,5)","v":"9049800"},"COPLFR","SAO","COPLFR.SAO: All","exam",49800,null,null,"exam:",null,null,"concept",null,"F",null,"",0,"","","","","","",5,2,0,0,2,2,999,null,null,null,5.0000000000000001E-4,"x",null,"xxxx"]
["COPLFR.SAO",null,null,"",{"$f":"VLOOKUP(F1302&\".\"&G1302,syllabus!B$3:I$99,8,FALSE)&RIGHT(\"00000\"&J1302,5)","v":"9050200"},"COPLFR","SAO","COPLFR.SAO: All","exam (22b)",50200,null,null,"exam (22b): RMAD - does RMAD exist","see examiner's report - click yellow \"E\" link in \"Section\" column",null,"concept",null,"A",null,"exam",1,"15","2-Fall",22,"b","",0.5,5,2,2,14.142135623730951,2,2,999,null,null,null,5.0000000000000001E-4,"x",null,4]
["COPLFR.SAO",null,null,"",{"$f":"VLOOKUP(F1311&\".\"&G1311,syllabus!B$3:I$99,8,FALSE)&RIGHT(\"00000\"&J1311,5)","v":"9051100"},"COPLFR","SAO","COPLFR.SAO: All","exam (25a)",51100,null,null,"exam (25a): Scope - items to disclose","see examiner's report - click yellow \"E\" link in \"Section\" column",null,"concept",null,"A",null,"exam",1,"15","2-Fall",25,"a","",1,5,2,2,14.142135623730951,2,2,999,null,null,null,5.0000000000000001E-4,"x",null,4]
["COPLFR.SAO",null,null,"",{"$f":"VLOOKUP(F1318&\".\"&G1318,syllabus!B$3:I$99,8,FALSE)&RIGHT(\"00000\"&J1318,5)","v":"9051800"},"COPLFR","SAO","COPLFR.SAO: All","exam (23b)",51800,null,null,"exam (23b): SAO - organization","see examiner's report - click yellow \"E\" link in \"Section\" column",null,"concept",null,"A",null,"exam",1,"15","1-Spring",23,"b","",0.75,5,2,2,14.142135623730951,2,2,999,null,null,null,5.0000000000000001E-4,"x",null,4]
["COPLFR.SAO",null,null,"",{"$f":"VLOOKUP(F1321&\".\"&G1321,syllabus!B$3:I$99,8,FALSE)&RIGHT(\"00000\"&J1321,5)","v":"9052100"},"COPLFR","SAO","COPLFR.SAO: All","exam",52100,null,null,"exam:",null,null,"concept",null,"F",null,"",0,"","","","","","",5,2,0,0,2,2,999,null,null,null,5.0000000000000001E-4,"x",null,"xxxx"]
["COPLFR.SAO",null,null,"",{"$f":"VLOOKUP(F1331&\".\"&G1331,syllabus!B$3:I$99,8,FALSE)&RIGHT(\"00000\"&J1331,5)","v":"9053100"},"COPLFR","SAO","COPLFR.SAO: All","exam",53100,null,null,"exam:",null,null,"concept",null,"F",null,"",0,"","","","","","",5,2,0,0,2,2,999,null,null,null,5.0000000000000001E-4,"x",null,"xxxx"]
["COPLFR.SAO",null,null,"",{"$f":"VLOOKUP(F1332&\".\"&G1332,syllabus!B$3:I$99,8,FALSE)&RIGHT(\"00000\"&J1332,5)","v":"9053200"},"COPLFR","SAO","COPLFR.SAO: All","exam",53200,null,null,"exam:",null,null,"concept",null,"F",null,"",0,"","","","","","",5,2,0,0,2,2,999,null,null,null,5.0000000000000001E-4,"x",null,"xxxx"]
["COPLFR.SAO",null,null,"",{"$f":"VLOOKUP(F1341&\".\"&G1341,syllabus!B$3:I$99,8,FALSE)&RIGHT(\"00000\"&J1341,5)","v":"9054100"},"COPLFR","SAO","COPLFR.SAO: All","exam",54100,null,null,"exam:",null,null,"concept",null,"F",null,"",0,"","","","","","",5,2,0,0,2,2,999,null,null,null,5.0000000000000001E-4,"x",null,"xxxx"]
["COPLFR.SAO",null,null,"",{"$f":"VLOOKUP(F1344&\".\"&G1344,syllabus!B$3:I$99,8,FALSE)&RIGHT(\"00000\"&J1344,5)","v":"9054400"},"COPLFR","SAO","COPLFR.SAO: All","exam",54400,null,null,"exam:",null,null,"concept",null,"F",null,"",0,"","","","","","",5,2,0,0,2,2,999,null,null,null,5.0000000000000001E-4,"x",null,"xxxx"]
["COPLFR.SAO",null,null,"",{"$f":"VLOOKUP(F1352&\".\"&G1352,syllabus!B$3:I$99,8,FALSE)&RIGHT(\"00000\"&J1352,5)","v":"9055200"},"COPLFR","SAO","COPLFR.SAO: All","exam (20c)",55200,null,null,"exam (20c): SAO opinion - disclosures for opinion","see examiner's report - click yellow \"E\" link in \"Section\" column",null,"concept",null,"A",null,"exam",1,"14","2-Fall",20,"c","",1,5,2,2,14.142135623730951,2,2,999,null,null,null,5.0000000000000001E-4,"x",null,5]
["COPLFR.SAO",null,null,"",{"$f":"VLOOKUP(F1361&\".\"&G1361,syllabus!B$3:I$99,8,FALSE)&RIGHT(\"00000\"&J1361,5)","v":"9056100"},"COPLFR","SAO","COPLFR.SAO: All","exam (24b)",56100,null,null,"exam (24b): materiality standard - location in SAO","see examiner's report - click yellow \"E\" link in \"Section\" column",null,"concept",null,"A",null,"exam",1,"14","1-Spring",24,"b","",0.5,5,2,2,14.142135623730951,2,2,999,null,null,null,5.0000000000000001E-4,"x",null,5]
["COPLFR.SAO",null,null,"",{"$f":"VLOOKUP(F1368&\".\"&G1368,syllabus!B$3:I$99,8,FALSE)&RIGHT(\"00000\"&J1368,5)","v":"9056800"},"COPLFR","SAO","COPLFR.SAO: All","exam (26a)",56800,null,null,"exam (26a): AOS - non-confidential info","see examiner's report - click yellow \"E\" link in \"Section\" column",null,"concept",null,"A",null,"exam",1,"14","1-Spring",26,"a","",1,5,2,2,14.142135623730951,2,2,999,null,null,null,5.0000000000000001E-4,"x",null,5]
["COPLFR.SAO",null,null,"",{"$f":"VLOOKUP(F1370&\".\"&G1370,syllabus!B$3:I$99,8,FALSE)&RIGHT(\"00000\"&J1370,5)","v":"9057000"},"COPLFR","SAO","COPLFR.SAO: All","exam",57000,null,null,"exam:",null,null,"concept",null,"F",null,"",0,"","","","","","",5,2,0,0,2,2,999,null,null,null,5.0000000000000001E-4,"x",null,"xxxx"]
["COPLFR.SAO",null,null,"",{"$f":"VLOOKUP(F1381&\".\"&G1381,syllabus!B$3:I$99,8,FALSE)&RIGHT(\"00000\"&J1381,5)","v":"9058100"},"COPLFR","SAO","COPLFR.SAO: All","exam",58100,null,null,"exam:",null,null,"concept",null,"F",null,"",0,"","","","","","",5,2,0,0,2,2,999,null,null,null,5.0000000000000001E-4,"x",null,"xxxx"]
["COPLFR.SAO",null,null,"",{"$f":"VLOOKUP(F1382&\".\"&G1382,syllabus!B$3:I$99,8,FALSE)&RIGHT(\"00000\"&J1382,5)","v":"9058200"},"COPLFR","SAO","COPLFR.SAO: All","exam",58200,null,null,"exam:",null,null,"concept",null,"F",null,"",0,"","","","","","",5,2,0,0,2,2,999,null,null,null,5.0000000000000001E-4,"x",null,"xxxx"]
["COPLFR.SAO",null,null,"",{"$f":"VLOOKUP(F1391&\".\"&G1391,syllabus!B$3:I$99,8,FALSE)&RIGHT(\"00000\"&J1391,5)","v":"9059100"},"COPLFR","SAO","COPLFR.SAO: All","exam",59100,null,null,"exam:",null,null,"concept",null,"F",null,"",0,"","","","","","",5,2,0,0,2,2,999,null,null,null,5.0000000000000001E-4,"x",null,"xxxx"]
["COPLFR.SAO",null,null,"",{"$f":"VLOOKUP(F1400&\".\"&G1400,syllabus!B$3:I$99,8,FALSE)&RIGHT(\"00000\"&J1400,5)","v":"9060000"},"COPLFR","SAO","COPLFR.SAO: All","exam (24)",60000,2013,null,"exam (24): Relevant Comments - disclosures ","see examiner's report - click yellow \"E\" link in \"Section\" column",null,"concept",null,"A",null,"exam",1,"13","2-Fall",24,"","",5.25,5,2,2,14.142135623730951,2,2,999,null,null,null,5.0000000000000001E-4,"x",null,6]
["COPLFR.SAO",null,null,"",{"$f":"VLOOKUP(F1402&\".\"&G1402,syllabus!B$3:I$99,8,FALSE)&RIGHT(\"00000\"&J1402,5)","v":"9060200"},"COPLFR","SAO","COPLFR.SAO: All","exam (25b)",60200,null,null,"exam (25b): Scope - identify errors","see examiner's report - click yellow \"E\" link in \"Section\" column",null,"concept",null,"A",null,"exam",1,"13","2-Fall",25,"b","",2,5,2,2,14.142135623730951,2,2,999,null,null,null,5.0000000000000001E-4,"x",null,6]
["COPLFR.SAO",null,null,"",{"$f":"VLOOKUP(F1411&\".\"&G1411,syllabus!B$3:I$99,8,FALSE)&RIGHT(\"00000\"&J1411,5)","v":"9061100"},"COPLFR","SAO","COPLFR.SAO: All","exam",61100,null,null,"exam:",null,null,"concept",null,"F",null,"",0,"","","","","","",5,2,0,0,2,2,999,null,null,null,5.0000000000000001E-4,"x",null,"xxxx"]
["COPLFR.SAO",null,null,"",{"$f":"VLOOKUP(F1418&\".\"&G1418,syllabus!B$3:I$99,8,FALSE)&RIGHT(\"00000\"&J1418,5)","v":"9061800"},"COPLFR","SAO","COPLFR.SAO: All","exam",61800,null,null,"exam:",null,null,"concept",null,"F",null,"",0,"","","","","","",5,2,0,0,2,2,999,null,null,null,5.0000000000000001E-4,"x",null,"xxxx"]
["COPLFR.SAO",null,null,"",{"$f":"VLOOKUP(F1419&\".\"&G1419,syllabus!B$3:I$99,8,FALSE)&RIGHT(\"00000\"&J1419,5)","v":"9061900"},"COPLFR","SAO","COPLFR.SAO: All","exam",61900,null,null,"exam:",null,null,"concept",null,"F",null,"",0,"","","","","","",5,2,0,0,2,2,999,null,null,null,5.0000000000000001E-4,"x",null,"xxxx"]
["COPLFR.SAO",null,null,"",{"$f":"VLOOKUP(F1431&\".\"&G1431,syllabus!B$3:I$99,8,FALSE)&RIGHT(\"00000\"&J1431,5)","v":"9063100"},"COPLFR","SAO","COPLFR.SAO: All","exam (26b)",63100,null,null,"exam (26b): SAO opinion - qualified opinion","see examiner's report - click yellow \"E\" link in \"Section\" column",null,"concept",null,"A",null,"exam",1,"12","2-Fall",26,"b","",0.75,5,2,2,14.142135623730951,2,2,999,null,null,null,5.0000000000000001E-4,"x",null,7]
["COPLFR.SAO",null,null,"",{"$f":"VLOOKUP(F1432&\".\"&G1432,syllabus!B$3:I$99,8,FALSE)&RIGHT(\"00000\"&J1432,5)","v":"9063200"},"COPLFR","SAO","COPLFR.SAO: All","exam (27)",63200,null,null,"exam (27): SAO exemption - analyze 3 scenarios","see examiner's report - click yellow \"E\" link in \"Section\" column",null,"concept",null,"A",null,"exam",1,"12","2-Fall",27,"","",3,5,2,2,14.142135623730951,2,2,999,null,null,null,5.0000000000000001E-4,"x",null,7]
["COPLFR.SAO",null,null,"",{"$f":"VLOOKUP(F1441&\".\"&G1441,syllabus!B$3:I$99,8,FALSE)&RIGHT(\"00000\"&J1441,5)","v":"9064100"},"COPLFR","SAO","COPLFR.SAO: All","exam",64100,null,null,"exam:",null,null,"concept",null,"F",null,"",0,"","","","","","",5,2,0,0,2,2,999,null,null,null,5.0000000000000001E-4,"x",null,"xxxx"]
["COPLFR.SAO",null,null,"",{"$f":"VLOOKUP(F1449&\".\"&G1449,syllabus!B$3:I$99,8,FALSE)&RIGHT(\"00000\"&J1449,5)","v":"9064900"},"COPLFR","SAO","COPLFR.SAO: All","exam",64900,null,null,"exam:",null,null,"concept",null,"F",null,"",0,"","","","","","",5,2,0,0,2,2,999,null,null,null,5.0000000000000001E-4,"x",null,"xxxx"]
["COPLFR.SAO",null,null,"",{"$f":"VLOOKUP(F1452&\".\"&G1452,syllabus!B$3:I$99,8,FALSE)&RIGHT(\"00000\"&J1452,5)","v":"9065200"},"COPLFR","SAO","COPLFR.SAO: All","exam",65200,null,null,"exam:",null,null,"concept",null,"F",null,"",0,"","","","","","",5,2,0,0,2,2,999,null,null,null,5.0000000000000001E-4,"x",null,"xxxx"]
["COPLFR.SAO",null,null,"",{"$f":"VLOOKUP(F1461&\".\"&G1461,syllabus!B$3:I$99,8,FALSE)&RIGHT(\"00000\"&J1461,5)","v":"9066100"},"COPLFR","SAO","COPLFR.SAO: All","exam",66100,null,null,"exam:",null,null,"concept",null,"F",null,"",0,"","","","","","",5,2,0,0,2,2,999,null,null,null,5.0000000000000001E-4,"x",null,"xxxx"]
["COPLFR.SAO",null,null,"",{"$f":"VLOOKUP(F1468&\".\"&G1468,syllabus!B$3:I$99,8,FALSE)&RIGHT(\"00000\"&J1468,5)","v":"9066800"},"COPLFR","SAO","COPLFR.SAO: All","exam",66800,null,null,"exam:",null,null,"concept",null,"F",null,"",0,"","","","","","",5,2,0,0,2,2,999,null,null,null,5.0000000000000001E-4,"x",null,"xxxx"]
["COPLFR.SAO",null,null,"",{"$f":"VLOOKUP(F1475&\".\"&G1475,syllabus!B$3:I$99,8,FALSE)&RIGHT(\"00000\"&J1475,5)","v":"9067500"},"COPLFR","SAO","COPLFR.SAO: All","exam",67500,null,null,"exam:",null,null,"concept",null,"F",null,"",0,"","","","","","",5,2,0,0,2,2,999,null,null,null,5.0000000000000001E-4,"x",null,"xxxx"]
["COPLFR.SAO",null,null,"",{"$f":"VLOOKUP(F1479&\".\"&G1479,syllabus!B$3:I$99,8,FALSE)&RIGHT(\"00000\"&J1479,5)","v":"9067900"},"COPLFR","SAO","COPLFR.SAO: All","exam",67900,null,null,"exam:",null,null,"concept",null,"F",null,"",0,"","","","","","",5,2,0,0,2,2,999,null,null,null,5.0000000000000001E-4,"x",null,"xxxx"]
["COPLFR.SAO",null,null,"",{"$f":"VLOOKUP(F1482&\".\"&G1482,syllabus!B$3:I$99,8,FALSE)&RIGHT(\"00000\"&J1482,5)","v":"9068200"},"COPLFR","SAO","COPLFR.SAO: All","exam",68200,null,null,"exam:",null,null,"concept",null,"F",null,"",0,"","","","","","",5,2,0,0,2,2,999,null,null,null,5.0000000000000001E-4,"x",null,"xxxx"]
["COPLFR.SAO",null,null,"",{"$f":"VLOOKUP(F1491&\".\"&G1491,syllabus!B$3:I$99,8,FALSE)&RIGHT(\"00000\"&J1491,5)","v":"9069100"},"COPLFR","SAO","COPLFR.SAO: All","exam",69100,null,null,"exam:",null,null,"concept",null,"F",null,"",0,"","","","","","",5,2,0,0,2,2,999,null,null,null,5.0000000000000001E-4,"x",null,"xxxx"]
["COPLFR.SAO",null,null,"",{"$f":"VLOOKUP(F1498&\".\"&G1498,syllabus!B$3:I$99,8,FALSE)&RIGHT(\"00000\"&J1498,5)","v":"9069800"},"COPLFR","SAO","COPLFR.SAO: All","exam",69800,null,null,"exam:",null,null,"concept",null,"F",null,"",0,"","","","","","",5,2,0,0,2,2,999,null,null,null,5.0000000000000001E-4,"x",null,"xxxx"]
["Cook.Personal",null,null,"",{"$f":"VLOOKUP(F1502&\".\"&G1502,syllabus!B$3:I$99,8,FALSE)&RIGHT(\"00000\"&J1502,5)","v":"10000200"},"Cook","Personal","Cook.Personal: All","intro & ARPs",200,1,null,"intro & ARPs: does the voluntary auto insurance market cover all customers. explain.","- no, the voluntary market might not cover high-risk insureds ~ - high-risk insureds are likely to be covered by a residual market mechanism",null,"concept",null,"A",null,"",0,"","","","","","",3,3,2,10.392304845413264,13,13,999,null,null,null,5.0000000000000001E-4,"x",null,1]
["Cook.Personal",null,null,"",{"$f":"VLOOKUP(F1511&\".\"&G1511,syllabus!B$3:I$99,8,FALSE)&RIGHT(\"00000\"&J1511,5)","v":"10001000"},"Cook","Personal","Cook.Personal: All","intro & ARPs",1000,"xxxx",null,"intro & ARPs: describe the residual market auto program: 'Assigned Risk Plan'","- driver applies & is rejected by the voluntary market ~ - driver applies to the ARP ~ - driver is assigned to an insurer based on insurer's WP market share (Written Premium) ~~ - regulator sets uniform rates ~~ - insurer fully services policy as if voluntarily written (collects premiums, pays claims) ~ - insurer retains profits/losses",null,"concept",null,"A","dup","exam",7,"13","2-Fall",10,"b","",0.5,3,9,2,0,13,13,999,null,null,null,5.0000000000000001E-4,"x",null,"xxxx"]
["Cook.Personal",null,null,"",{"$f":"VLOOKUP(F1518&\".\"&G1518,syllabus!B$3:I$99,8,FALSE)&RIGHT(\"00000\"&J1518,5)","v":"10001600"},"Cook","Personal","Cook.Personal: All","residual markets",1600,"xxxx",null,"residual markets: describe the residual market auto program: 'Joint Underwriting Association'","- driver applies to insurer in voluntary market ~ - insurer CHOOSES: keep policy or forward to JUA servicing carrier (driver doesn't know if they go to JUA) ~~ - JUA sets uniform rates based on pool experience ~~ - servicing carrier services claims ~ - insurer shares in profits/losses/expenses in proportion to their voluntary business market share ~ - all insurers in state must share EVEN IF they are not in the JUA",null,"concept",null,"A","dup","exam",7,"16","1-Spring",8,"ab","i",1,3,9,2,0,13,13,999,null,null,null,5.0000000000000001E-4,"x",null,"xxxx"]
["Cook.Personal",null,null,"",{"$f":"VLOOKUP(F1524&\".\"&G1524,syllabus!B$3:I$99,8,FALSE)&RIGHT(\"00000\"&J1524,5)","v":"10002100"},"Cook","Personal","Cook.Personal: All","residual markets",2100,"xxxx",null,"residual markets: describe the residual market auto program: 'Reinsurance Facility'","- driver applies to insurer in voluntary market ~ - insurer CHOOSES: keep policy or forward to RF (driver doesn't know if they go to RF) ~ - Cook doesn't really explain how RF rates are set ~ - insurer services claims ~ - insurer shares in profits/losses/expenses in proportion to their voluntary business market share ~ - all insurers in state must share",null,"concept",null,"A","dup","exam",5,"13","2-Fall",10,"b","iii",0.5,3,7,2,0,13,13,999,null,null,null,5.0000000000000001E-4,"x",null,"xxxx"]
["Cook.Personal",null,null,"",{"$f":"VLOOKUP(F1529&\".\"&G1529,syllabus!B$3:I$99,8,FALSE)&RIGHT(\"00000\"&J1529,5)","v":"10002600"},"Cook","Personal","Cook.Personal: All","test understanding",2600,2,null,"test understanding: describe how switching from an ARP to a Reinsurance Facility moght impact the size of a residual market","- insurers have more freedom to set rates RF ~ - so less likely to cede policies to residual market ~ - size of residual market <u>decreases</u>",null,"concept",null,"A",null,"exam",1,"14","1-Spring",8,"a","",0.5,3,4,2,12,13,13,999,null,null,null,5.0000000000000001E-4,"x",null,2]
["Cook.Personal",null,null,"",{"$f":"VLOOKUP(F1532&\".\"&G1532,syllabus!B$3:I$99,8,FALSE)&RIGHT(\"00000\"&J1532,5)","v":"10002900"},"Cook","Personal","Cook.Personal: All","test understanding",2900,2,null,"test understanding: describe the impact of a disapproved rate change on the state's residual market","- insurers may exit market due to projected U/W losses ~ - residual market may increase to fill unmet need",null,"concept",null,"A",null,"exam",1,"17","1-Spring",7,"b","",0.5,3,3,2,10.392304845413264,13,13,999,null,null,null,5.0000000000000001E-4,"x",null,2]
["Cook.Personal",null,null,"",{"$f":"VLOOKUP(F1541&\".\"&G1541,syllabus!B$3:I$99,8,FALSE)&RIGHT(\"00000\"&J1541,5)","v":"10003800"},"Cook","Personal","Cook.Personal: All","residual markets",3800,null,null,"residual markets:",null,null,"concept",null,"F",null,"",0,"","","","","","",3,2,0,0,13,13,999,null,null,null,5.0000000000000001E-4,"x",null,"xxxx"]
["Cook.Personal",null,null,"",{"$f":"VLOOKUP(F1547&\".\"&G1547,syllabus!B$3:I$99,8,FALSE)&RIGHT(\"00000\"&J1547,5)","v":"10004400"},"Cook","Personal","Cook.Personal: All","BC",4400,null,null,"BC:",null,null,"concept",null,"F",null,"",0,"","","","","","",3,2,0,0,13,13,999,null,null,null,5.0000000000000001E-4,"x",null,"xxxx"]
["Cook.Personal",null,null,"",{"$f":"VLOOKUP(F1552&\".\"&G1552,syllabus!B$3:I$99,8,FALSE)&RIGHT(\"00000\"&J1552,5)","v":"10004900"},"Cook","Personal","Cook.Personal: All","BC",4900,null,null,"BC:",null,null,"concept",null,"F",null,"",0,"","","","","","",3,2,0,0,13,13,999,null,null,null,5.0000000000000001E-4,"x",null,"xxxx"]
["Cook.Personal",null,null,"",{"$f":"VLOOKUP(F1561&\".\"&G1561,syllabus!B$3:I$99,8,FALSE)&RIGHT(\"00000\"&J1561,5)","v":"10005800"},"Cook","Personal","Cook.Personal: All","BC",5800,null,null,"BC:",null,null,"concept",null,"F",null,"",0,"","","","","","",3,2,0,0,13,13,999,null,null,null,5.0000000000000001E-4,"x",null,"xxxx"]
["Cook.Personal",null,null,"",{"$f":"VLOOKUP(F1568&\".\"&G1568,syllabus!B$3:I$99,8,FALSE)&RIGHT(\"00000\"&J1568,5)","v":"10006500"},"Cook","Personal","Cook.Personal: All","exam",6500,null,null,"exam:",null,null,"concept",null,"F",null,"",0,"","","","","","",3,2,0,0,13,13,999,null,null,null,5.0000000000000001E-4,"x",null,"xxxx"]
["Cook.Personal",null,null,"",{"$f":"VLOOKUP(F1573&\".\"&G1573,syllabus!B$3:I$99,8,FALSE)&RIGHT(\"00000\"&J1573,5)","v":"10007000"},"Cook","Personal","Cook.Personal: All","exam",7000,null,null,"exam:",null,null,"concept",null,"F",null,"",0,"","","","","","",3,2,0,0,13,13,999,null,null,null,5.0000000000000001E-4,"x",null,"xxxx"]
["Cook.Personal",null,null,"",{"$f":"VLOOKUP(F1579&\".\"&G1579,syllabus!B$3:I$99,8,FALSE)&RIGHT(\"00000\"&J1579,5)","v":"10008000"},"Cook","Personal","Cook.Personal: All","exam",8000,5,null,"exam: would an insurer prefer to do business in a state with an ARP or  JUA","- see examiner's report - click yellow \"E\" link in \"Section\" column (you can argue this both ways) ~ - as long as you demonstrate an understanding of an ARP and JUA, you should get the points",null,"concept",null,"A",null,"exam",1,"18","1-Spring",6,"c","",0.75,3,3,2,10.392304845413264,13,13,999,null,null,null,5.0000000000000001E-4,"x",null,5]
["Cook.Personal",null,null,"",{"$f":"VLOOKUP(F1582&\".\"&G1582,syllabus!B$3:I$99,8,FALSE)&RIGHT(\"00000\"&J1582,5)","v":"10008200"},"Cook","Personal","Cook.Personal: All","exam",8200,4,null,"exam: for the FAIR plan (Fair Access to Insurance Requirements) describe the <strong>rationale</strong>, <strong>operations</strong>, <strong>eligibility</strong>","rationale: ~~ - property owners in urban areas couldn't find coverage due to riot risk ~ operation: ~~ - policies are serviced by a syndicate or private company (who collect premiums & pay claims) ~~ - premiums & losses are shared by all property insurers in state ~ eligibility: ~~ - coverage must have been denied by the private market ~~ - property must not be vacant or trespassed onto, and must meet building codes",null,"concept",null,"A",null,"exam",1,"18","1-Spring",8,"c","",1.5,3,14,2,22.449944320643649,13,13,999,null,null,null,5.0000000000000001E-4,"x",null,4]
["Cook.Personal",null,null,"",{"$f":"VLOOKUP(F1591&\".\"&G1591,syllabus!B$3:I$99,8,FALSE)&RIGHT(\"00000\"&J1591,5)","v":"10009100"},"Cook","Personal","Cook.Personal: All","exam",9100,null,null,"exam:",null,null,"concept",null,"F",null,"",0,"","","","","","",3,2,0,0,13,13,999,null,null,null,5.0000000000000001E-4,"x",null,"xxxx"]
["Cook.Personal",null,null,"",{"$f":"VLOOKUP(F1596&\".\"&G1596,syllabus!B$3:I$99,8,FALSE)&RIGHT(\"00000\"&J1596,5)","v":"10009600"},"Cook","Personal","Cook.Personal: All","exam",9600,null,null,"exam:",null,null,"concept",null,"F",null,"",0,"","","","","","",3,2,0,0,13,13,999,null,null,null,5.0000000000000001E-4,"x",null,"xxxx"]
["Dearie.Excess",null,null,"",{"$f":"VLOOKUP(F1602&\".\"&G1602,syllabus!B$3:I$99,8,FALSE)&RIGHT(\"00000\"&J1602,5)","v":"10500200"},"Dearie","Excess","Dearie.Excess: All","intro",200,1,null,"intro: what is the purpose of NRRA","create a better surplus lines tax payment and regulatory system",null,"concept",null,"A",null,"",0,"","","","","","",1,2,2,2.8284271247461903,27,27,999,null,null,null,5.0000000000000001E-4,"x",null,1]
["Dearie.Excess",null,null,"",{"$f":"VLOOKUP(F1609&\".\"&G1609,syllabus!B$3:I$99,8,FALSE)&RIGHT(\"00000\"&J1609,5)","v":"10500900"},"Dearie","Excess","Dearie.Excess: All","independent procurement",900,3,null,"independent procurement: identify 2 methods of accessing the nonadmitted market","- surplus lines ~~ (use a local licensed broker to buy coverage from a nonadmitted insurer in your home state) ~ - independent procurement ~~ (also called direct placement)",null,"concept",null,"A",null,"",0,"","","","","","",1,7,2,5.2915026221291814,27,27,999,null,null,null,5.0000000000000001E-4,"x",null,3]
["Dearie.Excess",null,null,"",{"$f":"VLOOKUP(F1618&\".\"&G1618,syllabus!B$3:I$99,8,FALSE)&RIGHT(\"00000\"&J1618,5)","v":"10501800"},"Dearie","Excess","Dearie.Excess: All","BC",1800,null,null,"BC: new reading - BattleCards coming soon","~~~",null,"concept",null,"F",null,"",0,"","","","","","",1,5,0,0,27,27,999,null,null,null,5.0000000000000001E-4,"x",null,"xxxx"]
["Dearie.Excess",null,null,"",{"$f":"VLOOKUP(F1622&\".\"&G1622,syllabus!B$3:I$99,8,FALSE)&RIGHT(\"00000\"&J1622,5)","v":"10502200"},"Dearie","Excess","Dearie.Excess: All","BC",2200,null,null,"BC: new reading - BattleCards coming soon","~~~",null,"concept",null,"F",null,"",0,"","","","","","",1,5,0,0,27,27,999,null,null,null,5.0000000000000001E-4,"x",null,"xxxx"]
["Dearie.Excess",null,null,"",{"$f":"VLOOKUP(F1629&\".\"&G1629,syllabus!B$3:I$99,8,FALSE)&RIGHT(\"00000\"&J1629,5)","v":"10502900"},"Dearie","Excess","Dearie.Excess: All","BC",2900,null,null,"BC:",null,null,"concept",null,"F",null,"",0,"","","","","","",1,2,0,0,27,27,999,null,null,null,5.0000000000000001E-4,"x",null,"xxxx"]
["Dearie.Excess",null,null,"",{"$f":"VLOOKUP(F1632&\".\"&G1632,syllabus!B$3:I$99,8,FALSE)&RIGHT(\"00000\"&J1632,5)","v":"10503200"},"Dearie","Excess","Dearie.Excess: All","BC",3200,null,null,"BC:",null,null,"concept",null,"F",null,"",0,"","","","","","",1,2,0,0,27,27,999,null,null,null,5.0000000000000001E-4,"x",null,"xxxx"]
["Dearie.Excess",null,null,"",{"$f":"VLOOKUP(F1641&\".\"&G1641,syllabus!B$3:I$99,8,FALSE)&RIGHT(\"00000\"&J1641,5)","v":"10504100"},"Dearie","Excess","Dearie.Excess: All","BC",4100,null,null,"BC:",null,null,"concept",null,"F",null,"",0,"","","","","","",1,2,0,0,27,27,999,null,null,null,5.0000000000000001E-4,"x",null,"xxxx"]
["Dearie.Excess",null,null,"",{"$f":"VLOOKUP(F1645&\".\"&G1645,syllabus!B$3:I$99,8,FALSE)&RIGHT(\"00000\"&J1645,5)","v":"10504500"},"Dearie","Excess","Dearie.Excess: All","BC",4500,null,null,"BC:",null,null,"concept",null,"F",null,"",0,"","","","","","",1,2,0,0,27,27,999,null,null,null,5.0000000000000001E-4,"x",null,"xxxx"]
["Dearie.Excess",null,null,"",{"$f":"VLOOKUP(F1652&\".\"&G1652,syllabus!B$3:I$99,8,FALSE)&RIGHT(\"00000\"&J1652,5)","v":"10505200"},"Dearie","Excess","Dearie.Excess: All","BC",5200,null,null,"BC:",null,null,"concept",null,"F",null,"",0,"","","","","","",1,2,0,0,27,27,999,null,null,null,5.0000000000000001E-4,"x",null,"xxxx"]
["Dearie.Excess",null,null,"",{"$f":"VLOOKUP(F1659&\".\"&G1659,syllabus!B$3:I$99,8,FALSE)&RIGHT(\"00000\"&J1659,5)","v":"10505900"},"Dearie","Excess","Dearie.Excess: All","BC",5900,null,null,"BC:",null,null,"concept",null,"F",null,"",0,"","","","","","",1,2,0,0,27,27,999,null,null,null,5.0000000000000001E-4,"x",null,"xxxx"]
["Dearie.Excess",null,null,"",{"$f":"VLOOKUP(F1668&\".\"&G1668,syllabus!B$3:I$99,8,FALSE)&RIGHT(\"00000\"&J1668,5)","v":"10506800"},"Dearie","Excess","Dearie.Excess: All","exam",6800,null,null,"exam:",null,null,"concept",null,"F",null,"",0,"","","","","","",1,2,0,0,27,27,999,null,null,null,5.0000000000000001E-4,"x",null,"xxxx"]
["Dearie.Excess",null,null,"",{"$f":"VLOOKUP(F1671&\".\"&G1671,syllabus!B$3:I$99,8,FALSE)&RIGHT(\"00000\"&J1671,5)","v":"10507100"},"Dearie","Excess","Dearie.Excess: All","exam",7100,null,null,"exam:",null,null,"concept",null,"F",null,"",0,"","","","","","",1,2,0,0,27,27,999,null,null,null,5.0000000000000001E-4,"x",null,"xxxx"]
["Dearie.Excess",null,null,"",{"$f":"VLOOKUP(F1679&\".\"&G1679,syllabus!B$3:I$99,8,FALSE)&RIGHT(\"00000\"&J1679,5)","v":"10507900"},"Dearie","Excess","Dearie.Excess: All","exam",7900,null,null,"exam:",null,null,"concept",null,"F",null,"",0,"","","","","","",1,2,0,0,27,27,999,null,null,null,5.0000000000000001E-4,"x",null,"xxxx"]
["Dearie.Excess",null,null,"",{"$f":"VLOOKUP(F1682&\".\"&G1682,syllabus!B$3:I$99,8,FALSE)&RIGHT(\"00000\"&J1682,5)","v":"10508200"},"Dearie","Excess","Dearie.Excess: All","exam",8200,null,null,"exam:",null,null,"concept",null,"F",null,"",0,"","","","","","",1,2,0,0,27,27,999,null,null,null,5.0000000000000001E-4,"x",null,"xxxx"]
["Dearie.Excess",null,null,"",{"$f":"VLOOKUP(F1689&\".\"&G1689,syllabus!B$3:I$99,8,FALSE)&RIGHT(\"00000\"&J1689,5)","v":"10508900"},"Dearie","Excess","Dearie.Excess: All","exam",8900,null,null,"exam:",null,null,"concept",null,"F",null,"",0,"","","","","","",1,2,0,0,27,27,999,null,null,null,5.0000000000000001E-4,"x",null,"xxxx"]
["Dearie.Excess",null,null,"",{"$f":"VLOOKUP(F1694&\".\"&G1694,syllabus!B$3:I$99,8,FALSE)&RIGHT(\"00000\"&J1694,5)","v":"10509400"},"Dearie","Excess","Dearie.Excess: All","exam",9400,null,null,"exam:",null,null,"concept",null,"F",null,"",0,"","","","","","",1,2,0,0,27,27,999,null,null,null,5.0000000000000001E-4,"x",null,"xxxx"]
["Feldblum.Discount",null,null,"",{"$f":"VLOOKUP(F1702&\".\"&G1702,syllabus!B$3:I$99,8,FALSE)&RIGHT(\"00000\"&J1702,5)","v":"11000200"},"Feldblum","Discount","Feldblum.Discount: All","BC",200,null,null,"BC:",null,null,"concept",null,"F",null,"",0,"","","","","","",0,2,0,0,67,67,999,null,null,null,5.0000000000000001E-4,"x",null,"xxxx"]
["Feldblum.Discount",null,null,"",{"$f":"VLOOKUP(F1709&\".\"&G1709,syllabus!B$3:I$99,8,FALSE)&RIGHT(\"00000\"&J1709,5)","v":"11000900"},"Feldblum","Discount","Feldblum.Discount: All","BC",900,null,null,"BC:",null,null,"concept",null,"F",null,"",0,"","","","","","",0,2,0,0,67,67,999,null,null,null,5.0000000000000001E-4,"x",null,"xxxx"]
["Feldblum.Discount",null,null,"",{"$f":"VLOOKUP(F1718&\".\"&G1718,syllabus!B$3:I$99,8,FALSE)&RIGHT(\"00000\"&J1718,5)","v":"11001800"},"Feldblum","Discount","Feldblum.Discount: All","BC",1800,null,null,"BC:",null,null,"concept",null,"F",null,"",0,"","","","","","",0,2,0,0,67,67,999,null,null,null,5.0000000000000001E-4,"x",null,"xxxx"]
["Feldblum.Discount",null,null,"",{"$f":"VLOOKUP(F1720&\".\"&G1720,syllabus!B$3:I$99,8,FALSE)&RIGHT(\"00000\"&J1720,5)","v":"11002000"},"Feldblum","Discount","Feldblum.Discount: All","BC",2000,null,null,"BC:",null,null,"concept",null,"F",null,"",0,"","","","","","",0,2,0,0,67,67,999,null,null,null,5.0000000000000001E-4,"x",null,"xxxx"]
["Feldblum.Discount",null,null,"",{"$f":"VLOOKUP(F1729&\".\"&G1729,syllabus!B$3:I$99,8,FALSE)&RIGHT(\"00000\"&J1729,5)","v":"11002900"},"Feldblum","Discount","Feldblum.Discount: All","BC",2900,null,null,"BC:",null,null,"concept",null,"F",null,"",0,"","","","","","",0,2,0,0,67,67,999,null,null,null,5.0000000000000001E-4,"x",null,"xxxx"]
["Feldblum.Discount",null,null,"",{"$f":"VLOOKUP(F1732&\".\"&G1732,syllabus!B$3:I$99,8,FALSE)&RIGHT(\"00000\"&J1732,5)","v":"11003200"},"Feldblum","Discount","Feldblum.Discount: All","BC",3200,null,null,"BC:",null,null,"concept",null,"F",null,"",0,"","","","","","",0,2,0,0,67,67,999,null,null,null,5.0000000000000001E-4,"x",null,"xxxx"]
["Feldblum.Discount",null,null,"",{"$f":"VLOOKUP(F1739&\".\"&G1739,syllabus!B$3:I$99,8,FALSE)&RIGHT(\"00000\"&J1739,5)","v":"11003900"},"Feldblum","Discount","Feldblum.Discount: All","exam",3900,null,null,"exam:",null,null,"concept",null,"F",null,"",0,"","","","","","",0,2,0,0,67,67,999,null,null,null,5.0000000000000001E-4,"x",null,"xxxx"]
["Feldblum.Discount",null,null,"",{"$f":"VLOOKUP(F1750&\".\"&G1750,syllabus!B$3:I$99,8,FALSE)&RIGHT(\"00000\"&J1750,5)","v":"11005000"},"Feldblum","Discount","Feldblum.Discount: All","exam",5000,null,null,"exam:",null,null,"concept",null,"F",null,"",0,"","","","","","",0,2,0,0,67,67,999,null,null,null,5.0000000000000001E-4,"x",null,"xxxx"]
["Feldblum.Discount",null,null,"",{"$f":"VLOOKUP(F1752&\".\"&G1752,syllabus!B$3:I$99,8,FALSE)&RIGHT(\"00000\"&J1752,5)","v":"11005200"},"Feldblum","Discount","Feldblum.Discount: All","exam",5200,null,null,"exam:",null,null,"concept",null,"F",null,"",0,"","","","","","",0,2,0,0,67,67,999,null,null,null,5.0000000000000001E-4,"x",null,"xxxx"]
["Feldblum.Discount",null,null,"",{"$f":"VLOOKUP(F1759&\".\"&G1759,syllabus!B$3:I$99,8,FALSE)&RIGHT(\"00000\"&J1759,5)","v":"11005900"},"Feldblum","Discount","Feldblum.Discount: All","exam",5900,"x",null,"exam:",null,null,"concept",null,"F",null,"",0,"","","","","","",0,2,0,0,67,67,999,null,null,null,5.0000000000000001E-4,"x",null,"xxxx"]
["Feldblum.Discount",null,null,"",{"$f":"VLOOKUP(F1768&\".\"&G1768,syllabus!B$3:I$99,8,FALSE)&RIGHT(\"00000\"&J1768,5)","v":"11006800"},"Feldblum","Discount","Feldblum.Discount: All","exam",6800,null,null,"exam:",null,null,"concept",null,"F",null,"",0,"","","","","",null,0,2,0,0,67,67,999,null,null,null,5.0000000000000001E-4,"x",null,"xxxx"]
["Feldblum.Discount",null,null,"",{"$f":"VLOOKUP(F1769&\".\"&G1769,syllabus!B$3:I$99,8,FALSE)&RIGHT(\"00000\"&J1769,5)","v":"11006900"},"Feldblum","Discount","Feldblum.Discount: All","exam",6900,null,null,"exam:",null,null,"concept",null,"F",null,"",0,"","","","","",null,0,2,0,0,67,67,999,null,null,null,5.0000000000000001E-4,"x",null,"xxxx"]
["Feldblum.Discount",null,null,"",{"$f":"VLOOKUP(F1779&\".\"&G1779,syllabus!B$3:I$99,8,FALSE)&RIGHT(\"00000\"&J1779,5)","v":"11007900"},"Feldblum","Discount","Feldblum.Discount: All","exam",7900,null,null,"exam:",null,null,"concept",null,"F",null,"",0,"","","","","","",0,2,0,0,67,67,999,null,null,null,5.0000000000000001E-4,"x",null,"xxxx"]
["Feldblum.Discount",null,null,"",{"$f":"VLOOKUP(F1782&\".\"&G1782,syllabus!B$3:I$99,8,FALSE)&RIGHT(\"00000\"&J1782,5)","v":"11008200"},"Feldblum","Discount","Feldblum.Discount: All","exam",8200,null,null,"exam:",null,null,"concept",null,"F",null,"",0,"","","","","","",0,2,0,0,67,67,999,null,null,null,5.0000000000000001E-4,"x",null,"xxxx"]
["Feldblum.Discount",null,null,"",{"$f":"VLOOKUP(F1792&\".\"&G1792,syllabus!B$3:I$99,8,FALSE)&RIGHT(\"00000\"&J1792,5)","v":"11009200"},"Feldblum","Discount","Feldblum.Discount: All","exam",9200,null,null,"exam:",null,null,"concept",null,"F",null,"",0,"","","","","","",0,2,0,0,67,67,999,null,null,null,5.0000000000000001E-4,"x",null,"xxxx"]
["Feldblum.Discount",null,null,"",{"$f":"VLOOKUP(F1799&\".\"&G1799,syllabus!B$3:I$99,8,FALSE)&RIGHT(\"00000\"&J1799,5)","v":"11009900"},"Feldblum","Discount","Feldblum.Discount: All","exam",9900,null,null,"exam:",null,null,"concept",null,"F",null,"",0,"","","","","","",0,2,0,0,67,67,999,null,null,null,5.0000000000000001E-4,"x",null,"xxxx"]
["Feldblum.Ratings",null,null,"",{"$f":"VLOOKUP(F1802&\".\"&G1802,syllabus!B$3:I$99,8,FALSE)&RIGHT(\"00000\"&J1802,5)","v":"12000200"},"Feldblum","Ratings","Feldblum.Ratings: All","intro",200,1,null,"intro: identify the legislative response to criticism of rating agencies","law now requires extensive DISCLOSURE of rating agencies' methods to help users understand ratings",null,"concept",null,"A",null,"",0,"","","","","","",1,2,2,2.8284271247461903,26,26,999,null,null,null,5.0000000000000001E-4,"x",null,1]
["Feldblum.Ratings",null,null,"",{"$f":"VLOOKUP(F1809&\".\"&G1809,syllabus!B$3:I$99,8,FALSE)&RIGHT(\"00000\"&J1809,5)","v":"12000700"},"Feldblum","Ratings","Feldblum.Ratings: All","intro",700,1,null,"intro: identify how ratings agencies ensure consistency across insurers","- <u>standard</u> information-gathering & assessment guidelines ~ - ratings are related to <u>economic capital</u> ~ - analysis & final rating should be issued by <u>separate bodies</u>",null,"concept",null,"A",null,"",0,"","","","","","",1,4,2,4,26,26,999,null,null,null,5.0000000000000001E-4,"x",null,1]
["Feldblum.Ratings",null,null,"",{"$f":"VLOOKUP(F1818&\".\"&G1818,syllabus!B$3:I$99,8,FALSE)&RIGHT(\"00000\"&J1818,5)","v":"12001500"},"Feldblum","Ratings","Feldblum.Ratings: All","interactive ratings",1500,"xxxx",null,"interactive ratings: why do insurers maintain credit ratings with rating agencies","UNRATED INSURERS: ~~ - agents are wary of unrated insurers ~ SOLVENCY ASSESSMENT: ~~ - 3rd parties rely on ratings ~ EFFICIENCY: ~~ - agents, underwriters, & regulators don't have expertise to do their own rating","USE","concept",null,"A","dup","exam",1,"12","2-Fall",3,"a","",0.5,1,10,2,0,26,26,999,null,null,null,5.0000000000000001E-4,"x",null,"xxxx"]
["Feldblum.Ratings",null,null,"",{"$f":"VLOOKUP(F1820&\".\"&G1820,syllabus!B$3:I$99,8,FALSE)&RIGHT(\"00000\"&J1820,5)","v":"12001700"},"Feldblum","Ratings","Feldblum.Ratings: All","capital standards",1700,3,null,"capital standards: identify (Best, Moody, S&P) rating models (capital standard models)","A.M. BEST: ~~ - EPD (Expected Policy holder Deficit) ~ MOODY'S: ~~ - use stochastic cash flows to model economic capital ~ STANDARD & POOR'S: ~~ - PB (principles-based) models & ERM practices (Enterprise Risk Management)",null,"concept",null,"A",null,"",0,"","","","","","",1,10,2,6.324555320336759,26,26,999,null,null,null,5.0000000000000001E-4,"x",null,3]
["Feldblum.Ratings",null,null,"",{"$f":"VLOOKUP(F1829&\".\"&G1829,syllabus!B$3:I$99,8,FALSE)&RIGHT(\"00000\"&J1829,5)","v":"12002600"},"Feldblum","Ratings","Feldblum.Ratings: All","capital standards",2600,3,null,"capital standards: identify an advantage of the capital model used by Standard & Poor's","- uses a weighted average of it's own model & a company model ~ - GOOD because it incorporates company knowledge of risks to the final rating",null,"concept",null,"A",null,"exam",1,"13","2-Fall",7,"d","iii",0.75,1,3,2,3.4641016151377544,26,26,999,null,null,null,5.0000000000000001E-4,"x",null,3]
["Feldblum.Ratings",null,null,"",{"$f":"VLOOKUP(F1832&\".\"&G1832,syllabus!B$3:I$99,8,FALSE)&RIGHT(\"00000\"&J1832,5)","v":"12002900"},"Feldblum","Ratings","Feldblum.Ratings: All","A.M. Best ratings",2900,4,null,"A.M. Best ratings: identify A.M. Best's 2 broad categories of credit quality ratings for bonds","investment grade: ~~ - 4 levels (+ sub-levels) ~ non-investment grade: ~~ - 4 levels (+ sub-levels)",null,"concept",null,"A",null,"",0,"","","","","","",1,7,2,5.2915026221291814,26,26,999,null,null,null,5.0000000000000001E-4,"x",null,4]
["Feldblum.Ratings",null,null,"",{"$f":"VLOOKUP(F1841&\".\"&G1841,syllabus!B$3:I$99,8,FALSE)&RIGHT(\"00000\"&J1841,5)","v":"12004100"},"Feldblum","Ratings","Feldblum.Ratings: All","BC",4100,null,null,"BC:",null,null,"concept",null,"F",null,"",0,"","","","","","",1,2,0,0,26,26,999,null,null,null,5.0000000000000001E-4,"x",null,"xxxx"]
["Feldblum.Ratings",null,null,"",{"$f":"VLOOKUP(F1849&\".\"&G1849,syllabus!B$3:I$99,8,FALSE)&RIGHT(\"00000\"&J1849,5)","v":"12004900"},"Feldblum","Ratings","Feldblum.Ratings: All","exam",4900,null,null,"exam:",null,null,"concept",null,"F",null,"",0,"","","","","","",1,2,0,0,26,26,999,null,null,null,5.0000000000000001E-4,"x",null,"xxxx"]
["Feldblum.Ratings",null,null,"",{"$f":"VLOOKUP(F1852&\".\"&G1852,syllabus!B$3:I$99,8,FALSE)&RIGHT(\"00000\"&J1852,5)","v":"12005200"},"Feldblum","Ratings","Feldblum.Ratings: All","exam",5200,null,null,"exam:",null,null,"concept",null,"F",null,"",0,"","","","","","",1,2,0,0,26,26,999,null,null,null,5.0000000000000001E-4,"x",null,"xxxx"]
["Feldblum.Ratings",null,null,"",{"$f":"VLOOKUP(F1859&\".\"&G1859,syllabus!B$3:I$99,8,FALSE)&RIGHT(\"00000\"&J1859,5)","v":"12005900"},"Feldblum","Ratings","Feldblum.Ratings: All","exam",5900,null,null,"exam:",null,null,"concept",null,"F",null,"",0,"","","","","","",1,2,0,0,26,26,999,null,null,null,5.0000000000000001E-4,"x",null,"xxxx"]
["Feldblum.Ratings",null,null,"",{"$f":"VLOOKUP(F1867&\".\"&G1867,syllabus!B$3:I$99,8,FALSE)&RIGHT(\"00000\"&J1867,5)","v":"12006700"},"Feldblum","Ratings","Feldblum.Ratings: All","exam",6700,null,null,"exam:",null,null,"concept",null,"F",null,"",0,"","","","","","",1,2,0,0,26,26,999,null,null,null,5.0000000000000001E-4,"x",null,"xxxx"]
["Feldblum.Ratings",null,null,"",{"$f":"VLOOKUP(F1870&\".\"&G1870,syllabus!B$3:I$99,8,FALSE)&RIGHT(\"00000\"&J1870,5)","v":"12007000"},"Feldblum","Ratings","Feldblum.Ratings: All","exam",7000,null,null,"exam:",null,null,"concept",null,"F",null,"",0,"","","","","","",1,2,0,0,26,26,999,null,null,null,5.0000000000000001E-4,"x",null,"xxxx"]
["Feldblum.Ratings",null,null,"",{"$f":"VLOOKUP(F1879&\".\"&G1879,syllabus!B$3:I$99,8,FALSE)&RIGHT(\"00000\"&J1879,5)","v":"12007900"},"Feldblum","Ratings","Feldblum.Ratings: All","exam",7900,4,null,"exam: identify similarities & differences between 'interactive ratings' & 'public ratings' (2 each)","similarities: ~~ - both use public financial statement info ~~ - both disclose rating to public ~ differences: ~~ - interactive ratings are more costly & time-consuming than public ratings ~~ - interactive ratings use confidential company information (public ratings using publicly availabe info)",null,"concept",null,"A",null,"exam",1,"13","2-Fall",7,"b","",0.75,1,11,2,6.6332495807107996,26,26,999,null,null,null,5.0000000000000001E-4,"x",null,4]
["Feldblum.Ratings",null,null,"",{"$f":"VLOOKUP(F1882&\".\"&G1882,syllabus!B$3:I$99,8,FALSE)&RIGHT(\"00000\"&J1882,5)","v":"12008005"},"Feldblum","Ratings","Feldblum.Ratings: All","exam",8005,4,null,"exam: identify a reason for a company NOT to disclose damaging information to a rating agency","- insurer doesn't want a lowered rating ~ - adverse development may be less than expected",null,"concept",null,"A",null,"exam",1,"18","2-Fall",4,"d","ii",0.25,1,3,2,3.4641016151377544,26,26,999,null,null,null,5.0000000000000001E-4,"x",null,4]
["Feldblum.Ratings",null,null,"",{"$f":"VLOOKUP(F1890&\".\"&G1890,syllabus!B$3:I$99,8,FALSE)&RIGHT(\"00000\"&J1890,5)","v":"12009000"},"Feldblum","Ratings","Feldblum.Ratings: All","exam",9000,null,null,"exam:",null,null,"concept",null,"F",null,"",0,"","","","","","",1,2,0,0,26,26,999,null,null,null,5.0000000000000001E-4,"x",null,"xxxx"]
["Feldblum.Ratings",null,null,"",{"$f":"VLOOKUP(F1899&\".\"&G1899,syllabus!B$3:I$99,8,FALSE)&RIGHT(\"00000\"&J1899,5)","v":"12009900"},"Feldblum","Ratings","Feldblum.Ratings: All","exam",9900,null,null,"exam:",null,null,"concept",null,"F",null,"",0,"","","","","","",1,2,0,0,26,26,999,null,null,null,5.0000000000000001E-4,"x",null,"xxxx"]
["Feldblum.Surplus",null,null,"",{"$f":"VLOOKUP(F1906&\".\"&G1906,syllabus!B$3:I$99,8,FALSE)&RIGHT(\"00000\"&J1906,5)","v":"13000600"},"Feldblum","Surplus","Feldblum.Surplus: All","liquidate or continue",600,2,null,"liquidate or continue: [setup required] would shareholder's prefer liquidation or continued operation of company","see examiner's report - click yellow \"E\" link in \"Section\" column",null,"concept",null,"A",null,"exam",1,"18","1-Spring",12,"c","",1,1,2,2,2.8284271247461903,25,25,999,null,null,null,5.0000000000000001E-4,"x",null,2]
["Feldblum.Surplus",null,null,"",{"$f":"VLOOKUP(F1909&\".\"&G1909,syllabus!B$3:I$99,8,FALSE)&RIGHT(\"00000\"&J1909,5)","v":"13000900"},"Feldblum","Surplus","Feldblum.Surplus: All","BC",900,null,null,"BC:",null,null,"concept",null,"F",null,"",0,"","","","","","",1,2,0,0,25,25,999,null,null,null,5.0000000000000001E-4,"x",null,"xxxx"]
["Feldblum.Surplus",null,null,"",{"$f":"VLOOKUP(F1916&\".\"&G1916,syllabus!B$3:I$99,8,FALSE)&RIGHT(\"00000\"&J1916,5)","v":"13001600"},"Feldblum","Surplus","Feldblum.Surplus: All","BC",1600,null,null,"BC:",null,null,"concept",null,"F",null,"",0,"","","","","","",1,2,0,0,25,25,999,null,null,null,5.0000000000000001E-4,"x",null,"xxxx"]
["Feldblum.Surplus",null,null,"",{"$f":"VLOOKUP(F1920&\".\"&G1920,syllabus!B$3:I$99,8,FALSE)&RIGHT(\"00000\"&J1920,5)","v":"13002000"},"Feldblum","Surplus","Feldblum.Surplus: All","BC",2000,null,null,"BC:",null,null,"concept",null,"F",null,"",0,"","","","","","",1,2,0,0,25,25,999,null,null,null,5.0000000000000001E-4,"x",null,"xxxx"]
["Feldblum.Surplus",null,null,"",{"$f":"VLOOKUP(F1929&\".\"&G1929,syllabus!B$3:I$99,8,FALSE)&RIGHT(\"00000\"&J1929,5)","v":"13002900"},"Feldblum","Surplus","Feldblum.Surplus: All","BC",2900,null,null,"BC:",null,null,"concept",null,"F",null,"",0,"","","","","","",1,2,0,0,25,25,999,null,null,null,5.0000000000000001E-4,"x",null,"xxxx"]
["Feldblum.Surplus",null,null,"",{"$f":"VLOOKUP(F1932&\".\"&G1932,syllabus!B$3:I$99,8,FALSE)&RIGHT(\"00000\"&J1932,5)","v":"13003200"},"Feldblum","Surplus","Feldblum.Surplus: All","BC",3200,null,null,"BC:",null,null,"concept",null,"F",null,"",0,"","","","","","",1,2,0,0,25,25,999,null,null,null,5.0000000000000001E-4,"x",null,"xxxx"]
["Feldblum.Surplus",null,null,"",{"$f":"VLOOKUP(F1939&\".\"&G1939,syllabus!B$3:I$99,8,FALSE)&RIGHT(\"00000\"&J1939,5)","v":"13003900"},"Feldblum","Surplus","Feldblum.Surplus: All","exam",3900,null,null,"exam:",null,null,"concept",null,"F",null,"",0,"","","","","","",1,2,0,0,25,25,999,null,null,null,5.0000000000000001E-4,"x",null,"xxxx"]
["Feldblum.Surplus",null,null,"",{"$f":"VLOOKUP(F1949&\".\"&G1949,syllabus!B$3:I$99,8,FALSE)&RIGHT(\"00000\"&J1949,5)","v":"13004900"},"Feldblum","Surplus","Feldblum.Surplus: All","exam",4900,null,null,"exam:",null,null,"concept",null,"F",null,"",0,"","","","","","",1,2,0,0,25,25,999,null,null,null,5.0000000000000001E-4,"x",null,"xxxx"]
["Feldblum.Surplus",null,null,"",{"$f":"VLOOKUP(F1956&\".\"&G1956,syllabus!B$3:I$99,8,FALSE)&RIGHT(\"00000\"&J1956,5)","v":"13005600"},"Feldblum","Surplus","Feldblum.Surplus: All","exam",5600,null,null,"exam:",null,null,"concept",null,"F",null,"",0,"","","","","","",1,2,0,0,25,25,999,null,null,null,5.0000000000000001E-4,"x",null,"xxxx"]
["Feldblum.Surplus",null,null,"",{"$f":"VLOOKUP(F1959&\".\"&G1959,syllabus!B$3:I$99,8,FALSE)&RIGHT(\"00000\"&J1959,5)","v":"13005900"},"Feldblum","Surplus","Feldblum.Surplus: All","exam",5900,"x",null,"exam:",null,null,"concept",null,"F",null,"",0,"","","","","","",1,2,0,0,25,25,999,null,null,null,5.0000000000000001E-4,"x",null,"xxxx"]
["Feldblum.Surplus",null,null,"",{"$f":"VLOOKUP(F1965&\".\"&G1965,syllabus!B$3:I$99,8,FALSE)&RIGHT(\"00000\"&J1965,5)","v":"13006500"},"Feldblum","Surplus","Feldblum.Surplus: All","exam",6500,null,null,"exam:",null,null,"concept",null,"F",null,"",0,"","","","","","",1,2,0,0,25,25,999,null,null,null,5.0000000000000001E-4,"x",null,"xxxx"]
["Feldblum.Surplus",null,null,"",{"$f":"VLOOKUP(F1970&\".\"&G1970,syllabus!B$3:I$99,8,FALSE)&RIGHT(\"00000\"&J1970,5)","v":"13007000"},"Feldblum","Surplus","Feldblum.Surplus: All","exam",7000,null,null,"exam:",null,null,"concept",null,"F",null,"",0,"","","","","","",1,2,0,0,25,25,999,null,null,null,5.0000000000000001E-4,"x",null,"xxxx"]
["Feldblum.Surplus",null,null,"",{"$f":"VLOOKUP(F1979&\".\"&G1979,syllabus!B$3:I$99,8,FALSE)&RIGHT(\"00000\"&J1979,5)","v":"13007900"},"Feldblum","Surplus","Feldblum.Surplus: All","exam",7900,null,null,"exam:",null,null,"concept",null,"F",null,"",0,"","","","","","",1,2,0,0,25,25,999,null,null,null,5.0000000000000001E-4,"x",null,"xxxx"]
["Feldblum.Surplus",null,null,"",{"$f":"VLOOKUP(F1982&\".\"&G1982,syllabus!B$3:I$99,8,FALSE)&RIGHT(\"00000\"&J1982,5)","v":"13008200"},"Feldblum","Surplus","Feldblum.Surplus: All","exam",8200,null,null,"exam:",null,null,"concept",null,"F",null,"",0,"","","","","","",1,2,0,0,25,25,999,null,null,null,5.0000000000000001E-4,"x",null,"xxxx"]
["Feldblum.Surplus",null,null,"",{"$f":"VLOOKUP(F1988&\".\"&G1988,syllabus!B$3:I$99,8,FALSE)&RIGHT(\"00000\"&J1988,5)","v":"13008800"},"Feldblum","Surplus","Feldblum.Surplus: All","exam",8800,null,null,"exam:",null,null,"concept",null,"F",null,"",0,"","","","","","",1,2,0,0,25,25,999,null,null,null,5.0000000000000001E-4,"x",null,"xxxx"]
["Feldblum.Surplus",null,null,"",{"$f":"VLOOKUP(F1999&\".\"&G1999,syllabus!B$3:I$99,8,FALSE)&RIGHT(\"00000\"&J1999,5)","v":"13009900"},"Feldblum","Surplus","Feldblum.Surplus: All","exam",9900,null,null,"exam:",null,null,"concept",null,"F",null,"",0,"","","","","","",1,2,0,0,25,25,999,null,null,null,5.0000000000000001E-4,"x",null,"xxxx"]
["FASB.944",null,null,"",{"$f":"VLOOKUP(F2006&\".\"&G2006,syllabus!B$3:I$99,8,FALSE)&RIGHT(\"00000\"&J2006,5)","v":"14000600"},"FASB","944","FASB.944: All","BC",600,null,null,"BC:",null,null,"concept",null,"F",null,"",0,"","","","","","",1,2,0,0,48,48,999,null,null,null,5.0000000000000001E-4,"x",null,"xxxx"]
["FASB.944",null,null,"",{"$f":"VLOOKUP(F2009&\".\"&G2009,syllabus!B$3:I$99,8,FALSE)&RIGHT(\"00000\"&J2009,5)","v":"14000900"},"FASB","944","FASB.944: All","BC",900,null,null,"BC:",null,null,"concept",null,"F",null,"",0,"","","","","","",1,2,0,0,48,48,999,null,null,null,5.0000000000000001E-4,"x",null,"xxxx"]
["FASB.944",null,null,"",{"$f":"VLOOKUP(F2014&\".\"&G2014,syllabus!B$3:I$99,8,FALSE)&RIGHT(\"00000\"&J2014,5)","v":"14001400"},"FASB","944","FASB.944: All","BC",1400,null,null,"BC:",null,null,"concept",null,"F",null,"",0,"","","","","","",1,2,0,0,48,48,999,null,null,null,5.0000000000000001E-4,"x",null,"xxxx"]
["FASB.944",null,null,"",{"$f":"VLOOKUP(F2020&\".\"&G2020,syllabus!B$3:I$99,8,FALSE)&RIGHT(\"00000\"&J2020,5)","v":"14002000"},"FASB","944","FASB.944: All","BC",2000,null,null,"BC:",null,null,"concept",null,"F",null,"",0,"","","","","","",1,2,0,0,48,48,999,null,null,null,5.0000000000000001E-4,"x",null,"xxxx"]
["FASB.944",null,null,"",{"$f":"VLOOKUP(F2029&\".\"&G2029,syllabus!B$3:I$99,8,FALSE)&RIGHT(\"00000\"&J2029,5)","v":"14002900"},"FASB","944","FASB.944: All","BC",2900,null,null,"BC:",null,null,"concept",null,"F",null,"",0,"","","","","","",1,2,0,0,48,48,999,null,null,null,5.0000000000000001E-4,"x",null,"xxxx"]
["FASB.944",null,null,"",{"$f":"VLOOKUP(F2036&\".\"&G2036,syllabus!B$3:I$99,8,FALSE)&RIGHT(\"00000\"&J2036,5)","v":"14003600"},"FASB","944","FASB.944: All","exam",3600,null,null,"exam:",null,null,"concept",null,"F",null,"",0,"","","","","","",1,2,0,0,48,48,999,null,null,null,5.0000000000000001E-4,"x",null,"xxxx"]
["FASB.944",null,null,"",{"$f":"VLOOKUP(F2044&\".\"&G2044,syllabus!B$3:I$99,8,FALSE)&RIGHT(\"00000\"&J2044,5)","v":"14004400"},"FASB","944","FASB.944: All","exam",4400,null,null,"exam:",null,null,"concept",null,"F",null,"",0,"","","","","","",1,2,0,0,48,48,999,null,null,null,5.0000000000000001E-4,"x",null,"xxxx"]
["FASB.944",null,null,"",{"$f":"VLOOKUP(F2049&\".\"&G2049,syllabus!B$3:I$99,8,FALSE)&RIGHT(\"00000\"&J2049,5)","v":"14004900"},"FASB","944","FASB.944: All","exam",4900,null,null,"exam:",null,null,"concept",null,"F",null,"",0,"","","","","","",1,2,0,0,48,48,999,null,null,null,5.0000000000000001E-4,"x",null,"xxxx"]
["FASB.944",null,null,"",{"$f":"VLOOKUP(F2056&\".\"&G2056,syllabus!B$3:I$99,8,FALSE)&RIGHT(\"00000\"&J2056,5)","v":"14005600"},"FASB","944","FASB.944: All","exam",5600,null,null,"exam:",null,null,"concept",null,"F",null,"",0,"","","","","","",1,2,0,0,48,48,999,null,null,null,5.0000000000000001E-4,"x",null,"xxxx"]
["FASB.944",null,null,"",{"$f":"VLOOKUP(F2059&\".\"&G2059,syllabus!B$3:I$99,8,FALSE)&RIGHT(\"00000\"&J2059,5)","v":"14005900"},"FASB","944","FASB.944: All","exam",5900,null,null,"exam:",null,null,"concept",null,"F",null,"",0,"","","","","","",1,2,0,0,48,48,999,null,null,null,5.0000000000000001E-4,"x",null,"xxxx"]
["FASB.944",null,null,"",{"$f":"VLOOKUP(F2063&\".\"&G2063,syllabus!B$3:I$99,8,FALSE)&RIGHT(\"00000\"&J2063,5)","v":"14006300"},"FASB","944","FASB.944: All","exam",6300,null,null,"exam:",null,null,"concept",null,"F",null,"",0,"","","","","","",1,2,0,0,48,48,999,null,null,null,5.0000000000000001E-4,"x",null,"xxxx"]
["FASB.944",null,null,"",{"$f":"VLOOKUP(F2070&\".\"&G2070,syllabus!B$3:I$99,8,FALSE)&RIGHT(\"00000\"&J2070,5)","v":"14007000"},"FASB","944","FASB.944: All","exam",7000,null,null,"exam:",null,null,"concept",null,"F",null,"",0,"","","","","","",1,2,0,0,48,48,999,null,null,null,5.0000000000000001E-4,"x",null,"xxxx"]
["FASB.944",null,null,"",{"$f":"VLOOKUP(F2079&\".\"&G2079,syllabus!B$3:I$99,8,FALSE)&RIGHT(\"00000\"&J2079,5)","v":"14007900"},"FASB","944","FASB.944: All","exam",7900,null,null,"exam:",null,null,"concept",null,"F",null,"",0,"","","","","","",1,2,0,0,48,48,999,null,null,null,5.0000000000000001E-4,"x",null,"xxxx"]
["FASB.944",null,null,"",{"$f":"VLOOKUP(F2086&\".\"&G2086,syllabus!B$3:I$99,8,FALSE)&RIGHT(\"00000\"&J2086,5)","v":"14008600"},"FASB","944","FASB.944: All","exam",8600,null,null,"exam:",null,null,"concept",null,"F",null,"",0,"","","","","","",1,2,0,0,48,48,999,null,null,null,5.0000000000000001E-4,"x",null,"xxxx"]
["FASB.944",null,null,"",{"$f":"VLOOKUP(F2093&\".\"&G2093,syllabus!B$3:I$99,8,FALSE)&RIGHT(\"00000\"&J2093,5)","v":"14009300"},"FASB","944","FASB.944: All","exam",9300,null,null,"exam:",null,null,"concept",null,"F",null,"",0,"","","","","","",1,2,0,0,48,48,999,null,null,null,5.0000000000000001E-4,"x",null,"xxxx"]
["FASB.944",null,null,"",{"$f":"VLOOKUP(F2099&\".\"&G2099,syllabus!B$3:I$99,8,FALSE)&RIGHT(\"00000\"&J2099,5)","v":"14009900"},"FASB","944","FASB.944: All","exam",9900,null,null,"exam:",null,null,"concept",null,"F",null,"",0,"","","","","","",1,2,0,0,48,48,999,null,null,null,5.0000000000000001E-4,"x",null,"xxxx"]
["Freihaut.Reins",null,null,"",{"$f":"VLOOKUP(F2106&\".\"&G2106,syllabus!B$3:I$99,8,FALSE)&RIGHT(\"00000\"&J2106,5)","v":"15000600"},"Freihaut","Reins","Freihaut.Reins: All","intro",600,1,null,"intro: who usually performs the risk transfer analysis & why","actuary - since (CEO, CFO) likely don't have required expertise",null,"concept",null,"A",null,"",0,"","","","","","",4,2,2,11.313708498984761,11,11,999,null,null,null,5.0000000000000001E-4,"x",null,1]
["Freihaut.Reins",null,null,"",{"$f":"VLOOKUP(F2109&\".\"&G2109,syllabus!B$3:I$99,8,FALSE)&RIGHT(\"00000\"&J2109,5)","v":"15000900"},"Freihaut","Reins","Freihaut.Reins: All","methods",900,2,null,"methods: list 4 methods for assessing the existence of risk transfer and state whether each is qualitative or quantitative","METHOD 1: self-evident? ~~ - qualitative ~ METHOD 2: \"substantially all\" exception ~~ qualitative ~ METHOD 3: ERD rule (Expected Reinsurer Deficit) ~~ quantitative ~ METHOD 4: 10-10 rule ~~ quantitative",null,"concept",null,"A",null,"",0,"","","","","","",4,13,2,28.844410203711913,11,11,999,null,null,null,5.0000000000000001E-4,"x",null,2]
["Freihaut.Reins",null,null,"",{"$f":"VLOOKUP(F2119&\".\"&G2119,syllabus!B$3:I$99,8,FALSE)&RIGHT(\"00000\"&J2119,5)","v":"15001900"},"Freihaut","Reins","Freihaut.Reins: All","methods",1900,2,null,"methods: use the 10-10 method to assess whether risk transfer exists","click button with pencil",null,"calc","calc04","A",null,"",0,"","","","","","",10,4,2,160,11,11,999,null,"CP","US_R12_Freihaut_010_10_10_rule",1E-4,"x",null,2]
["Freihaut.Reins",null,null,"",{"$f":"VLOOKUP(F2120&\".\"&G2120,syllabus!B$3:I$99,8,FALSE)&RIGHT(\"00000\"&J2120,5)","v":"15001910"},"Freihaut","Reins","Freihaut.Reins: All","methods",1910,2,null,"methods: [setup required] test risk transfer - 10-10 rule","see examiner's report - click yellow \"E\" link in \"Section\" column",null,"calc","calc04","A","current","exam",4,"18","2-Fall",25,"a","i",1,10,4,2,40,11,11,999,null,null,null,1E-4,"x",null,"xxxx"]
["Freihaut.Reins",null,null,"",{"$f":"VLOOKUP(F2129&\".\"&G2129,syllabus!B$3:I$99,8,FALSE)&RIGHT(\"00000\"&J2129,5)","v":"15002700"},"Freihaut","Reins","Freihaut.Reins: All","exam",2700,3,null,"exam: [setup required] test risk transfer - 10-10 rule","see examiner's report - click yellow \"E\" link in \"Section\" column",null,"calc","calc08","A","dup","exam",4,"15","1-Spring",25,"a","",0.75,10,8,2,56.568542494923804,11,11,999,null,null,null,1E-4,"x",null,3]
["Freihaut.Reins",null,null,"",{"$f":"VLOOKUP(F2136&\".\"&G2136,syllabus!B$3:I$99,8,FALSE)&RIGHT(\"00000\"&J2136,5)","v":"15003400"},"Freihaut","Reins","Freihaut.Reins: All","pitfalls",3400,4,null,"pitfalls: profit commissions - should they be included in risk tranfer test","NO: ~~ - focus only on reinsurer losses, not results of cedant ~ NOTE: ~~ - commissions may have an INDIRECT effect ~~ - depends on other features of the contract (for example, on premiums)",null,"concept",null,"A","current","exam",1,"17","1-Spring",27,"b","i",0.5,4,9,2,24,11,11,999,null,null,null,5.0000000000000001E-4,"x",null,4]
["Freihaut.Reins",null,null,"",{"$f":"VLOOKUP(F2142&\".\"&G2142,syllabus!B$3:I$99,8,FALSE)&RIGHT(\"00000\"&J2142,5)","v":"15004000"},"Freihaut","Reins","Freihaut.Reins: All","pitfalls",4000,"xxxx",null,"pitfalls: interest/discount rate - identify considerations in selecting a discount rate for a risk transfer test","- should be reasonable & appropriate (per SSAP 62) ~ - may use risk-free rate ~ - duration of risk-free rate should MATCH reinsurer's cash flows  ~ - use SAME rate for all cash flows ~ (Note that reinsurer's expected investment rate is IRRELEVANT in a risk transfer test)","RFR (Risk-Free Rate)","concept",null,"A","dup","exam",1,"12","2-Fall",31,"b","",0.5,4,6,2,0,11,11,999,null,null,null,5.0000000000000001E-4,"x",null,"xxxx"]
["Freihaut.Reins",null,null,"",{"$f":"VLOOKUP(F2149&\".\"&G2149,syllabus!B$3:I$99,8,FALSE)&RIGHT(\"00000\"&J2149,5)","v":"15004700"},"Freihaut","Reins","Freihaut.Reins: All","pitfalls",4700,4,null,"pitfalls: (commutation, timing) - should prescribed payment patterns be used in a risk transfer test","NO: this would eliminate timing risk ~ NOTE: to pass risk transfer test, there must be U/W risk AND timing risk",null,"concept",null,"B",null,"",0,"","","","","","",4,3,0.2,1.3856406460551018,11,11,999,null,null,null,5.0000000000000001E-4,"x",null,4]
["Freihaut.Reins",null,null,"",{"$f":"VLOOKUP(F2156&\".\"&G2156,syllabus!B$3:I$99,8,FALSE)&RIGHT(\"00000\"&J2156,5)","v":"15005400"},"Freihaut","Reins","Freihaut.Reins: All","PracCons",5400,5,null,"PracCons: Interest Rate - identify an alternate to the risk-free in a risk transfer test & identify an advantage","reinsurer's Expected Investment Return ~~ ==> more reflective of reinsurer operations ~~ ==> more accurate estimate of reinsurer loss",null,"concept",null,"A",null,"",0,"","","","","","",4,6,2,19.595917942265423,11,11,999,null,null,null,5.0000000000000001E-4,"x",null,5]
["Freihaut.Reins",null,null,"",{"$f":"VLOOKUP(F2159&\".\"&G2159,syllabus!B$3:I$99,8,FALSE)&RIGHT(\"00000\"&J2159,5)","v":"15005700"},"Freihaut","Reins","Freihaut.Reins: All","PracCons",5700,5,null,"PracCons: LossDist - most important aspect of a loss distribution in risk transfer test + an example","- reasonableness of tail results ~ - Ex: especially important for high excess-of-loss contracts","L-Dist: tail","concept",null,"A",null,"",0,"","","","","","",4,3,2,13.856406460551018,11,11,999,null,null,null,5.0000000000000001E-4,"x",null,5]
["Freihaut.Reins",null,null,"",{"$f":"VLOOKUP(F2165&\".\"&G2165,syllabus!B$3:I$99,8,FALSE)&RIGHT(\"00000\"&J2165,5)","v":"15006300"},"Freihaut","Reins","Freihaut.Reins: All","PracCons",6300,5,null,"PracCons: Pricing Assumpions - disadvantages of using pricing assumptions in a risk transfer test","- reinsurance pricing assumptions are market-driven (may not reflect true expected loss) ~ - pricing assumptions were derived for a different purpose",null,"concept",null,"A",null,"",0,"","","","","","",4,3,2,13.856406460551018,11,11,999,null,null,null,5.0000000000000001E-4,"x",null,5]
["Freihaut.Reins",null,null,"",{"$f":"VLOOKUP(F2170&\".\"&G2170,syllabus!B$3:I$99,8,FALSE)&RIGHT(\"00000\"&J2170,5)","v":"15006800"},"Freihaut","Reins","Freihaut.Reins: All","BC",6800,null,null,"BC:",null,null,"list",null,"F",null,"",0,"","","","","","",4,2,0,0,11,11,999,null,null,null,5.0000000000000001E-4,"x",null,"xxxx"]
["Freihaut.Reins",null,null,"",{"$f":"VLOOKUP(F2179&\".\"&G2179,syllabus!B$3:I$99,8,FALSE)&RIGHT(\"00000\"&J2179,5)","v":"15007900"},"Freihaut","Reins","Freihaut.Reins: All","exam",7900,6,null,"exam: is 1 test better better than the other (see part a) for a particular scenario","ERD may be MORE SENSITIVE for loss distributions with a large tail: ~ Example: given an 8% of a 20% loss ~~ - '10-10' rule fails (no risk transfer) ~~ - ERD = 8% x 20% = 1.6% > 1.0% (passes - there is risk transfer)",null,"concept",null,"B",null,"exam",1,"14","1-Spring",27,"b","",0.5,4,7,0.2,2.1166010488516727,11,11,999,null,null,null,5.0000000000000001E-4,"x",null,6]
["Freihaut.Reins",null,null,"",{"$f":"VLOOKUP(F2186&\".\"&G2186,syllabus!B$3:I$99,8,FALSE)&RIGHT(\"00000\"&J2186,5)","v":"15008600"},"Freihaut","Reins","Freihaut.Reins: All","exam",8600,null,null,"exam:",null,null,"concept",null,"F",null,"",0,"","","","","","",4,2,0,0,11,11,999,null,null,null,5.0000000000000001E-4,"x",null,"xxxx"]
["Freihaut.Reins",null,null,"",{"$f":"VLOOKUP(F2191&\".\"&G2191,syllabus!B$3:I$99,8,FALSE)&RIGHT(\"00000\"&J2191,5)","v":"15009100"},"Freihaut","Reins","Freihaut.Reins: All","exam",9100,null,null,"exam:",null,null,"concept",null,"F",null,"",0,"","","","","","",4,2,0,0,11,11,999,null,null,null,5.0000000000000001E-4,"x",null,"xxxx"]
["Freihaut.Reins",null,null,"",{"$f":"VLOOKUP(F2199&\".\"&G2199,syllabus!B$3:I$99,8,FALSE)&RIGHT(\"00000\"&J2199,5)","v":"15009900"},"Freihaut","Reins","Freihaut.Reins: All","exam",9900,null,null,"exam:",null,null,"concept",null,"F",null,"",0,"","","","","","",4,2,0,0,11,11,999,null,null,null,5.0000000000000001E-4,"x",null,"xxxx"]
["GAO.Report",null,null,"",{"$f":"VLOOKUP(F2206&\".\"&G2206,syllabus!B$3:I$99,8,FALSE)&RIGHT(\"00000\"&J2206,5)","v":"16000600"},"GAO","Report","GAO.Report: All","intro",600,1,null,"intro: identify some characteristics of a captive insurer","- captives may provide <u>property</u> coverages (unlike RRGs) ~ - group captives <u>do not</u> need to insure similar risks (unlike RRGs) ~ - captives enjoy <u>tax benefits</u>",null,"concept",null,"A",null,"",0,"","","","","","",1,4,2,4,35,35,999,null,null,null,5.0000000000000001E-4,"x",null,1]
["GAO.Report",null,null,"",{"$f":"VLOOKUP(F2209&\".\"&G2209,syllabus!B$3:I$99,8,FALSE)&RIGHT(\"00000\"&J2209,5)","v":"16000900"},"GAO","Report","GAO.Report: All","practice",900,2,null,"practice: [setup required] identify & justify a risk management strategy for Company B","see wiki for justification and full answer (or examiner's report) ~ best option: start or create a Risk Retention Group",null,"concept",null,"A",null,"exam",1,"15","2-Fall",4,"b","",1,1,3,2,3.4641016151377544,35,35,999,null,null,null,5.0000000000000001E-4,"x",null,2]
["GAO.Report",null,null,"",{"$f":"VLOOKUP(F2214&\".\"&G2214,syllabus!B$3:I$99,8,FALSE)&RIGHT(\"00000\"&J2214,5)","v":"16001400"},"GAO","Report","GAO.Report: All","NAIC accreditation",1400,3,null,"NAIC accreditation: do the NAIC accreditation standards require RRGs to file their financial statements using SAP. explain.\n","<strong>no</strong>, but if they don't use SAP they must provide a reconciliation to SAP ~ <span style=\"color: red;\"><strong>this requirement facilitates:</strong></span> ~~ - financial strength assessments since diagnostic tools were designed for SAP ~~ - inter-company comparison (moves RRG financial reporting closer to that of traditional insurers)",null,"concept",null,"A",null,"",0,"","","","","","",1,7,2,5.2915026221291814,35,35,999,null,null,null,5.0000000000000001E-4,"x",null,3]
["GAO.Report",null,null,"",{"$f":"VLOOKUP(F2220&\".\"&G2220,syllabus!B$3:I$99,8,FALSE)&RIGHT(\"00000\"&J2220,5)","v":"16002000"},"GAO","Report","GAO.Report: All","BC",2000,null,null,"BC:",null,null,"concept",null,"F",null,"",0,"","","","","","",1,2,0,0,35,35,999,null,null,null,5.0000000000000001E-4,"x",null,"xxxx"]
["GAO.Report",null,null,"",{"$f":"VLOOKUP(F2229&\".\"&G2229,syllabus!B$3:I$99,8,FALSE)&RIGHT(\"00000\"&J2229,5)","v":"16002900"},"GAO","Report","GAO.Report: All","BC",2900,null,null,"BC:",null,null,"concept",null,"F",null,"",0,"","","","","","",1,2,0,0,35,35,999,null,null,null,5.0000000000000001E-4,"x",null,"xxxx"]
["GAO.Report",null,null,"",{"$f":"VLOOKUP(F2236&\".\"&G2236,syllabus!B$3:I$99,8,FALSE)&RIGHT(\"00000\"&J2236,5)","v":"16003600"},"GAO","Report","GAO.Report: All","BC",3600,null,null,"BC:",null,null,"concept",null,"F",null,"",0,"","","","","","",1,2,0,0,35,35,999,null,null,null,5.0000000000000001E-4,"x",null,"xxxx"]
["GAO.Report",null,null,"",{"$f":"VLOOKUP(F2240&\".\"&G2240,syllabus!B$3:I$99,8,FALSE)&RIGHT(\"00000\"&J2240,5)","v":"16004000"},"GAO","Report","GAO.Report: All","BC",4000,null,null,"BC:",null,null,"concept",null,"F",null,"",0,"","","","","","",1,2,0,0,35,35,999,null,null,null,5.0000000000000001E-4,"x",null,"xxxx"]
["GAO.Report",null,null,"",{"$f":"VLOOKUP(F2247&\".\"&G2247,syllabus!B$3:I$99,8,FALSE)&RIGHT(\"00000\"&J2247,5)","v":"16004700"},"GAO","Report","GAO.Report: All","exam",4700,null,null,"exam:",null,null,"concept",null,"F",null,"",0,"","","","","","",1,2,0,0,35,35,999,null,null,null,5.0000000000000001E-4,"x",null,"xxxx"]
["GAO.Report",null,null,"",{"$f":"VLOOKUP(F2256&\".\"&G2256,syllabus!B$3:I$99,8,FALSE)&RIGHT(\"00000\"&J2256,5)","v":"16005600"},"GAO","Report","GAO.Report: All","exam",5600,null,null,"exam:",null,null,"concept",null,"F",null,"",0,"","","","","","",1,2,0,0,35,35,999,null,null,null,5.0000000000000001E-4,"x",null,"xxxx"]
["GAO.Report",null,null,"",{"$f":"VLOOKUP(F2259&\".\"&G2259,syllabus!B$3:I$99,8,FALSE)&RIGHT(\"00000\"&J2259,5)","v":"16005900"},"GAO","Report","GAO.Report: All","exam",5900,null,null,"exam:",null,null,"concept",null,"F",null,"",0,"","","","","","",1,2,0,0,35,35,999,null,null,null,5.0000000000000001E-4,"x",null,"xxxx"]
["GAO.Report",null,null,"",{"$f":"VLOOKUP(F2263&\".\"&G2263,syllabus!B$3:I$99,8,FALSE)&RIGHT(\"00000\"&J2263,5)","v":"16006300"},"GAO","Report","GAO.Report: All","exam",6300,null,null,"exam:",null,null,"concept",null,"F",null,"",0,"","","","","","",1,2,0,0,35,35,999,null,null,null,5.0000000000000001E-4,"x",null,"xxxx"]
["GAO.Report",null,null,"",{"$f":"VLOOKUP(F2270&\".\"&G2270,syllabus!B$3:I$99,8,FALSE)&RIGHT(\"00000\"&J2270,5)","v":"16007000"},"GAO","Report","GAO.Report: All","exam",7000,null,null,"exam: ",null,null,"concept",null,"F",null,null,0,null,null,null,null,null,null,1,2,0,0,35,35,999,null,null,null,5.0000000000000001E-4,"x",null,"xxxx"]
["GAO.Report",null,null,"",{"$f":"VLOOKUP(F2279&\".\"&G2279,syllabus!B$3:I$99,8,FALSE)&RIGHT(\"00000\"&J2279,5)","v":"16007900"},"GAO","Report","GAO.Report: All","exam",7900,null,null,"exam:",null,null,"concept",null,"F",null,"",0,"","","","","","",1,2,0,0,35,35,999,null,null,null,5.0000000000000001E-4,"x",null,"xxxx"]
["GAO.Report",null,null,"",{"$f":"VLOOKUP(F2286&\".\"&G2286,syllabus!B$3:I$99,8,FALSE)&RIGHT(\"00000\"&J2286,5)","v":"16008600"},"GAO","Report","GAO.Report: All","exam",8600,null,null,"exam:",null,null,"concept",null,"F",null,"",0,"","","","","","",1,2,0,0,35,35,999,null,null,null,5.0000000000000001E-4,"x",null,"xxxx"]
["GAO.Report",null,null,"",{"$f":"VLOOKUP(F2289&\".\"&G2289,syllabus!B$3:I$99,8,FALSE)&RIGHT(\"00000\"&J2289,5)","v":"16008900"},"GAO","Report","GAO.Report: All","exam",8900,null,null,"exam:",null,null,"concept",null,"F",null,"",0,"","","","","","",1,2,0,0,35,35,999,null,null,null,5.0000000000000001E-4,"x",null,"xxxx"]
["GAO.Report",null,null,"",{"$f":"VLOOKUP(F2297&\".\"&G2297,syllabus!B$3:I$99,8,FALSE)&RIGHT(\"00000\"&J2297,5)","v":"16009700"},"GAO","Report","GAO.Report: All","exam",9700,null,null,"exam:",null,null,"concept",null,"F",null,"",0,"","","","","","",1,2,0,0,35,35,999,null,null,null,5.0000000000000001E-4,"x",null,"xxxx"]
["Germani.GovtIns",null,null,"",{"$f":"VLOOKUP(F2306&\".\"&G2306,syllabus!B$3:I$99,8,FALSE)&RIGHT(\"00000\"&J2306,5)","v":"17000600"},"Germani","GovtIns","Germani.GovtIns: All","general facts",600,1,null,"general facts: discuss the motivation for, and effectivenss of, the assigned risk plan","See last paragraph of the section: Complusory Purchase of Insurance ~~ - motivation: ~~~ - provide auto insurance for poor risks who could not find coverage in the voluntary market ~~ - effectiveness: ~~~ - effective because everyone can get coverage (number of uninsured drivers decreases) ~~~ - but there is a stigma to being in assigned risk plan ~~~ - rates must be subsidized because they are not actuarially sound",null,"concept",null,"A",null,"exam",1,"15","2-Fall",11,"ab","iii",1,3,18,2,25.45584412271571,14,14,999,null,null,null,5.0000000000000001E-4,"x",null,1]
["Germani.GovtIns",null,null,"",{"$f":"VLOOKUP(F2309&\".\"&G2309,syllabus!B$3:I$99,8,FALSE)&RIGHT(\"00000\"&J2309,5)","v":"17000900"},"Germani","GovtIns","Germani.GovtIns: All","crop",900,2,null,"crop: what COVERAGE do private insurers provide in federal crop insurance (2)","- indemnification for YIELDS below a baseline (for natural causes: drought, flood,..) ~ - indemnification for PRICES below a baseline (not all policies)","low yields, low prices (sometimes)","concept",null,"A",null,null,0,null,null,null,null,null,null,3,3,2,10.392304845413264,14,14,999,null,null,null,5.0000000000000001E-4,"x",null,2]
["Germani.GovtIns",null,null,"",{"$f":"VLOOKUP(F2319&\".\"&G2319,syllabus!B$3:I$99,8,FALSE)&RIGHT(\"00000\"&J2319,5)","v":"17001900"},"Germani","GovtIns","Germani.GovtIns: All","WC (federal)",1900,3,null,"WC (federal): describe the federal WC program: Longshore & Harbor WC Acts (1927)","- for workers (other than seamen) injured on/near navigable waters ~ - created because it wasn't always clear which state's WC program would apply ~ - considered EFFECTIVE: fills a coverage gap (& reduces benefits if state funds are available)",null,"concept",null,"A",null,"exam",1,"15","2-Fall",11,"ab","ii",1,3,4,2,12,14,14,999,null,null,null,5.0000000000000001E-4,"x",null,3]
["Germani.GovtIns",null,null,"",{"$f":"VLOOKUP(F2320&\".\"&G2320,syllabus!B$3:I$99,8,FALSE)&RIGHT(\"00000\"&J2320,5)","v":"17002000"},"Germani","GovtIns","Germani.GovtIns: All","WC (federal)",2000,3,null,"WC (federal): describe the federal WC program: BLBA (1969)","- wage replacement & medical benefits to totally disabled coal-miners (for black lung disease) ~ - created because of inadequate state compensation ~~ - note that federal compensation is reduced by amount of state compensation ~ - FUNDING: federal excise tax on coal miner operators ~~ - if fund goes into deficit, may borrow from federal government",null,"concept",null,"A",null,null,0,null,null,null,null,null,null,3,8,2,16.970562748477143,14,14,999,null,null,null,5.0000000000000001E-4,"x",null,3]
["Germani.GovtIns",null,null,"",{"$f":"VLOOKUP(F2329&\".\"&G2329,syllabus!B$3:I$99,8,FALSE)&RIGHT(\"00000\"&J2329,5)","v":"17002900"},"Germani","GovtIns","Germani.GovtIns: All","WC (state)",2900,4,null,"WC (state): as of 2016, how many states have state funds for WC","- 23 (4 have exclusive state funds, 19 have competitive state funds) ~ - accounts for about 20% of benefits paid nationally ~ - private markets: about 55% ~ - self-insureds: about 25%",null,"concept",null,"A",null,null,0,null,null,null,null,null,null,3,5,2,13.416407864998739,14,14,999,null,null,null,5.0000000000000001E-4,"x",null,4]
["Germani.GovtIns",null,null,"",{"$f":"VLOOKUP(F2336&\".\"&G2336,syllabus!B$3:I$99,8,FALSE)&RIGHT(\"00000\"&J2336,5)","v":"17003600"},"Germani","GovtIns","Germani.GovtIns: All","WC (state)",3600,5,null,"WC (state): describe rationales for the existence of state funds for WC (2)","- insurer of last resort (since WC is mandatory & private markets may not want risk) ~ - provides affordable alternative to private market ~~ - motivated by social benefits not profits ~~ - no advertising or commissions (pass savings to customer) ~ - better medical rehabilitation services (since state funds are WC specialists)",null,"concept",null,"A",null,"exam",1,"15","2-Fall",12,"a",null,1,3,8,2,16.970562748477143,14,14,999,null,null,null,5.0000000000000001E-4,"x",null,5]
["Germani.GovtIns",null,null,"",{"$f":"VLOOKUP(F2338&\".\"&G2338,syllabus!B$3:I$99,8,FALSE)&RIGHT(\"00000\"&J2338,5)","v":"17003800"},"Germani","GovtIns","Germani.GovtIns: All","WC (state)",3800,5,null,"WC (state): identify 2 ways (aside from exclusive state funds) that a government may be involved in WC","- competitive state funds ~ - partner / residual market",null,"concept",null,"A",null,"exam",1,"15","2-Fall",12,"c",null,0.5,3,3,2,10.392304845413264,14,14,999,null,null,null,5.0000000000000001E-4,"x",null,5]
["Germani.GovtIns",null,null,"",{"$f":"VLOOKUP(F2347&\".\"&G2347,syllabus!B$3:I$99,8,FALSE)&RIGHT(\"00000\"&J2347,5)","v":"17004700"},"Germani","GovtIns","Germani.GovtIns: All","WC (medicare)",4700,6,null,"WC (medicare): what was the solution to the problem of MSAs not originally working as intended","passage of MMSEA: Medicare & Medicaid SCHIP Extension Act (2007) ~~ MSAs must be reviewed & approved by CMS ~~ INCENTIVE: if MSAs are not approved, Medicare can REFUSE payment for any future medical care",null,"concept",null,"A",null,"",0,null,null,null,null,null,null,3,6,2,14.696938456699067,14,14,999,null,null,null,5.0000000000000001E-4,"x",null,6]
["Germani.GovtIns",null,null,"",{"$f":"VLOOKUP(F2356&\".\"&G2356,syllabus!B$3:I$99,8,FALSE)&RIGHT(\"00000\"&J2356,5)","v":"17005600"},"Germani","GovtIns","Germani.GovtIns: All","exam",5600,"xxxx",null,"exam:",null,null,"concept",null,"F",null,"",0,"","","","","","",3,2,0,0,14,14,999,null,null,null,5.0000000000000001E-4,"x",null,"xxxx"]
["Germani.GovtIns",null,null,"",{"$f":"VLOOKUP(F2359&\".\"&G2359,syllabus!B$3:I$99,8,FALSE)&RIGHT(\"00000\"&J2359,5)","v":"17005900"},"Germani","GovtIns","Germani.GovtIns: All","exam",5900,"xxxx",null,"exam:",null,null,"concept",null,"F",null,"",0,"","","","","","",3,2,0,0,14,14,999,null,null,null,5.0000000000000001E-4,"x",null,"xxxx"]
["Germani.GovtIns",null,null,"",{"$f":"VLOOKUP(F2368&\".\"&G2368,syllabus!B$3:I$99,8,FALSE)&RIGHT(\"00000\"&J2368,5)","v":"17006700"},"Germani","GovtIns","Germani.GovtIns: All","exam",6700,null,null,"exam: [setup required] provide examples of government insurance","see examiner's report - click yellow \"E\" link in \"Section\" column",null,"concept",null,"A",null,"exam",1,"12","2-Fall",12,"a","",1.5,3,2,2,8.4852813742385713,14,14,999,null,null,null,5.0000000000000001E-4,"x",null,"xxxx"]
["Germani.GovtIns",null,null,"",{"$f":"VLOOKUP(F2370&\".\"&G2370,syllabus!B$3:I$99,8,FALSE)&RIGHT(\"00000\"&J2370,5)","v":"17007000"},"Germani","GovtIns","Germani.GovtIns: All","exam",7000,null,null,"exam:",null,null,"concept",null,"F",null,"",0,"","","","","","",3,2,0,0,14,14,999,null,null,null,5.0000000000000001E-4,"x",null,"xxxx"]
["Germani.GovtIns",null,null,"",{"$f":"VLOOKUP(F2377&\".\"&G2377,syllabus!B$3:I$99,8,FALSE)&RIGHT(\"00000\"&J2377,5)","v":"17007700"},"Germani","GovtIns","Germani.GovtIns: All","exam",7700,null,null,"exam:",null,null,"concept",null,"F",null,"",0,"","","","","","",3,2,0,0,14,14,999,null,null,null,5.0000000000000001E-4,"x",null,"xxxx"]
["Germani.GovtIns",null,null,"",{"$f":"VLOOKUP(F2386&\".\"&G2386,syllabus!B$3:I$99,8,FALSE)&RIGHT(\"00000\"&J2386,5)","v":"17008600"},"Germani","GovtIns","Germani.GovtIns: All","exam",8600,null,null,"exam:",null,null,"concept",null,"F",null,"",0,"","","","","","",3,2,0,0,14,14,999,null,null,null,5.0000000000000001E-4,"x",null,"xxxx"]
["Germani.GovtIns",null,null,"",{"$f":"VLOOKUP(F2394&\".\"&G2394,syllabus!B$3:I$99,8,FALSE)&RIGHT(\"00000\"&J2394,5)","v":"17009400"},"Germani","GovtIns","Germani.GovtIns: All","exam",9400,null,null,"exam:",null,null,"concept",null,"F",null,"",0,"","","","","","",3,2,0,0,14,14,999,null,null,null,5.0000000000000001E-4,"x",null,"xxxx"]
["Germani.GovtIns",null,null,"",{"$f":"VLOOKUP(F2397&\".\"&G2397,syllabus!B$3:I$99,8,FALSE)&RIGHT(\"00000\"&J2397,5)","v":"17009700"},"Germani","GovtIns","Germani.GovtIns: All","exam",9700,null,null,"exam:",null,null,"concept",null,"F",null,"",0,"","","","","","",3,2,0,0,14,14,999,null,null,null,5.0000000000000001E-4,"x",null,"xxxx"]
["Horn2018.Flood",null,null,"",{"$f":"VLOOKUP(F2406&\".\"&G2406,syllabus!B$3:I$99,8,FALSE)&RIGHT(\"00000\"&J2406,5)","v":"17400600"},"Horn2018","Flood","Horn2018.Flood: All","background",600,1,null,"background: what are the policy goals of NFIP","<span style=\"color: red;\"><strong>A</strong></span>ccess: ~~ &rarr; provide access to primary insurance (transfers some of the financial risk to the federal government) ~ <span style=\"color: red;\"><strong>M</strong></span>itigate & <span style=\"color: red;\"><strong>R</strong></span>educe: ~~ &rarr; mitigate & reduce flood risk through floodplain management standards","AM&R","concept",null,"A",null,"",0,"","","","","","",3,7,2,15.874507866387544,15,15,999,null,null,null,5.0000000000000001E-4,"x",null,1]
["Horn2018.Flood",null,null,"",{"$f":"VLOOKUP(F2409&\".\"&G2409,syllabus!B$3:I$99,8,FALSE)&RIGHT(\"00000\"&J2409,5)","v":"17400900"},"Horn2018","Flood","Horn2018.Flood: All","details",900,2,null,"details: how are these concepts related: FEMA-FIRMS-SHFAs","recall: ~~ <strong>FEMA</strong> = Federal Emergency Management Agency ~~ <strong>FIRMs</strong> = Flood Insurance Risk Maps ~~ <strong>SFHAs</strong> = Special Flood Hazard Areas ~ then: ~~ FEMA makes FIRMS ~~ FIRMs identify SFHAs","Bears. Beets. Battlestar Galactica.","concept",null,"A",null,"",0,"","","","","","",3,13,2,21.633307652783934,15,15,999,null,null,null,5.0000000000000001E-4,"x",null,2]
["Horn2018.Flood",null,null,"",{"$f":"VLOOKUP(F2417&\".\"&G2417,syllabus!B$3:I$99,8,FALSE)&RIGHT(\"00000\"&J2417,5)","v":"17401700"},"Horn2018","Flood","Horn2018.Flood: All","issues & barriers",1700,4,null,"issues & barriers: identify issues & barriers to private flood insurance (7)","<u>list of issues</u>: (see wiki for more details) ~~ (1) coverage must be \"at least as broad\" as NFIP coverage (hard to determine) ~~ (2) continuous coverage requirement (does private insurance \"count\") ~~ (3) non-compete clause (WYO can't sell NFIP-type policies) ~~ (4) NFIP subsidized rates (private insurers can't compete with that) ~~ (5) regulatory uncertainty (states all have different rules) ~~ (6) accurate assessment of flood risk (private insurers don't have credible data) ~~ (7) participation rates (must be high to spread risk)",null,"concept",null,"A",null,"",0,"","","","","","",3,16,2,24,15,15,999,null,null,null,5.0000000000000001E-4,"x",null,4]
["Horn2018.Flood",null,null,"",{"$f":"VLOOKUP(F2420&\".\"&G2420,syllabus!B$3:I$99,8,FALSE)&RIGHT(\"00000\"&J2420,5)","v":"17402000"},"Horn2018","Flood","Horn2018.Flood: All","BC",2000,null,null,"BC: new reading - BattleCards coming soon","~~~",null,"concept",null,"F",null,"",0,"","","","","","",3,5,0,0,15,15,999,null,null,null,5.0000000000000001E-4,"x",null,"xxxx"]
["Horn2018.Flood",null,null,"",{"$f":"VLOOKUP(F2427&\".\"&G2427,syllabus!B$3:I$99,8,FALSE)&RIGHT(\"00000\"&J2427,5)","v":"17402700"},"Horn2018","Flood","Horn2018.Flood: All","BC",2700,null,null,"BC:",null,null,"concept",null,"F",null,"",0,"","","","","","",3,2,0,0,15,15,999,null,null,null,5.0000000000000001E-4,"x",null,"xxxx"]
["Horn2018.Flood",null,null,"",{"$f":"VLOOKUP(F2436&\".\"&G2436,syllabus!B$3:I$99,8,FALSE)&RIGHT(\"00000\"&J2436,5)","v":"17403600"},"Horn2018","Flood","Horn2018.Flood: All","BC",3600,null,null,"BC:",null,null,"concept",null,"F",null,"",0,"","","","","","",3,2,0,0,15,15,999,null,null,null,5.0000000000000001E-4,"x",null,"xxxx"]
["Horn2018.Flood",null,null,"",{"$f":"VLOOKUP(F2443&\".\"&G2443,syllabus!B$3:I$99,8,FALSE)&RIGHT(\"00000\"&J2443,5)","v":"17404300"},"Horn2018","Flood","Horn2018.Flood: All","BC",4300,null,null,"BC:",null,null,"concept",null,"F",null,"",0,"","","","","","",3,2,0,0,15,15,999,null,null,null,5.0000000000000001E-4,"x",null,"xxxx"]
["Horn2018.Flood",null,null,"",{"$f":"VLOOKUP(F2447&\".\"&G2447,syllabus!B$3:I$99,8,FALSE)&RIGHT(\"00000\"&J2447,5)","v":"17404700"},"Horn2018","Flood","Horn2018.Flood: All","BC",4700,null,null,"BC:",null,null,"concept",null,"F",null,"",0,"","","","","","",3,2,0,0,15,15,999,null,null,null,5.0000000000000001E-4,"x",null,"xxxx"]
["Horn2018.Flood",null,null,"",{"$f":"VLOOKUP(F2456&\".\"&G2456,syllabus!B$3:I$99,8,FALSE)&RIGHT(\"00000\"&J2456,5)","v":"17405600"},"Horn2018","Flood","Horn2018.Flood: All","BC",5600,null,null,"BC:",null,null,"concept",null,"F",null,"",0,"","","","","","",3,2,0,0,15,15,999,null,null,null,5.0000000000000001E-4,"x",null,"xxxx"]
["Horn2018.Flood",null,null,"",{"$f":"VLOOKUP(F2459&\".\"&G2459,syllabus!B$3:I$99,8,FALSE)&RIGHT(\"00000\"&J2459,5)","v":"17405900"},"Horn2018","Flood","Horn2018.Flood: All","BC",5900,null,null,"BC:",null,null,"concept",null,"F",null,"",0,"","","","","","",3,2,0,0,15,15,999,null,null,null,5.0000000000000001E-4,"x",null,"xxxx"]
["Horn2018.Flood",null,null,"",{"$f":"VLOOKUP(F2466&\".\"&G2466,syllabus!B$3:I$99,8,FALSE)&RIGHT(\"00000\"&J2466,5)","v":"17406600"},"Horn2018","Flood","Horn2018.Flood: All","exam",6600,null,null,"exam:",null,null,"concept",null,"F",null,"",0,"","","","","","",3,2,0,0,15,15,999,null,null,null,5.0000000000000001E-4,"x",null,"xxxx"]
["Horn2018.Flood",null,null,"",{"$f":"VLOOKUP(F2470&\".\"&G2470,syllabus!B$3:I$99,8,FALSE)&RIGHT(\"00000\"&J2470,5)","v":"17407000"},"Horn2018","Flood","Horn2018.Flood: All","exam",7000,null,null,"exam:",null,null,"concept",null,"F",null,"",0,"","","","","","",3,2,0,0,15,15,999,null,null,null,5.0000000000000001E-4,"x",null,"xxxx"]
["Horn2018.Flood",null,null,"",{"$f":"VLOOKUP(F2477&\".\"&G2477,syllabus!B$3:I$99,8,FALSE)&RIGHT(\"00000\"&J2477,5)","v":"17407700"},"Horn2018","Flood","Horn2018.Flood: All","exam",7700,null,null,"exam:",null,null,"concept",null,"F",null,"",0,"","","","","","",3,2,0,0,15,15,999,null,null,null,5.0000000000000001E-4,"x",null,"xxxx"]
["Horn2018.Flood",null,null,"",{"$f":"VLOOKUP(F2486&\".\"&G2486,syllabus!B$3:I$99,8,FALSE)&RIGHT(\"00000\"&J2486,5)","v":"17408600"},"Horn2018","Flood","Horn2018.Flood: All","exam",8600,null,null,"exam:",null,null,"concept",null,"F",null,"",0,"","","","","","",3,2,0,0,15,15,999,null,null,null,5.0000000000000001E-4,"x",null,"xxxx"]
["Horn2018.Flood",null,null,"",{"$f":"VLOOKUP(F2492&\".\"&G2492,syllabus!B$3:I$99,8,FALSE)&RIGHT(\"00000\"&J2492,5)","v":"17409200"},"Horn2018","Flood","Horn2018.Flood: All","exam",9200,null,null,"exam:",null,null,"concept",null,"F",null,"",0,"","","","","","",3,2,0,0,15,15,999,null,null,null,5.0000000000000001E-4,"x",null,"xxxx"]
["Horn2018.Flood",null,null,"",{"$f":"VLOOKUP(F2497&\".\"&G2497,syllabus!B$3:I$99,8,FALSE)&RIGHT(\"00000\"&J2497,5)","v":"17409700"},"Horn2018","Flood","Horn2018.Flood: All","exam",9700,null,null,"exam:",null,null,"concept",null,"F",null,"",0,"","","","","","",3,2,0,0,15,15,999,null,null,null,5.0000000000000001E-4,"x",null,"xxxx"]
["Horn.Flood",null,null,"",{"$f":"VLOOKUP(F2506&\".\"&G2506,syllabus!B$3:I$99,8,FALSE)&RIGHT(\"00000\"&J2506,5)","v":"17500600"},"Horn","Flood","Horn.Flood: All","flood maps",600,2,null,"flood maps: identify <u>specific intentions</u> of the minimum floodplain management standards","- restrict development on flood-prone land ~ - guide development away from flood-prone land ~ - reduce damage caused by floods\n","restrict, guide, reduce","concept",null,"outdated",null,"",0,"","","","","","",0,4,0,0,68,68,999,null,null,null,5.0000000000000001E-4,"x",null,2]
["Horn.Flood",null,null,"",{"$f":"VLOOKUP(F2507&\".\"&G2507,syllabus!B$3:I$99,8,FALSE)&RIGHT(\"00000\"&J2507,5)","v":"17500700"},"Horn","Flood","Horn.Flood: All","flood maps",700,2,null,"flood maps: what is a SFHA or Special Flood Hazard Area","an area, according to FIRMs, that has greater than 1% chance of flooding in any given year",null,"concept",null,"outdated",null,"",0,"","","","","","",0,2,0,0,68,68,999,null,null,null,5.0000000000000001E-4,"x",null,2]
["Horn.Flood",null,null,"",{"$f":"VLOOKUP(F2515&\".\"&G2515,syllabus!B$3:I$99,8,FALSE)&RIGHT(\"00000\"&J2515,5)","v":"17501500"},"Horn","Flood","Horn.Flood: All","premiums",1500,4,null,"premiums: without cross-subsidization, will rates for high-risk customers be unaffordable","not necessarily: ~~ - enforcement of minimum floodplain management standards will reduce risk (and premiums) ~~ - NFIP's Community Rating System (CRS) gives credit for improvements to minimum standards",null,"concept",null,"outdated",null,"",0,"","","","","","",0,6,0,0,68,68,999,null,null,null,5.0000000000000001E-4,"x",null,4]
["Horn.Flood",null,null,"",{"$f":"VLOOKUP(F2520&\".\"&G2520,syllabus!B$3:I$99,8,FALSE)&RIGHT(\"00000\"&J2520,5)","v":"17502000"},"Horn","Flood","Horn.Flood: All","funding",2000,6,null,"funding: describe a major issue regarding congressional authorization related to NFIP","- authority to provide new flood insurance will expire without Congressional reauthorization ~ - borrowing limit will be reduced from $30 billion to $1 billion",null,"concept",null,"outdated",null,"",0,"","","","","","",0,3,0,0,68,68,999,null,null,null,5.0000000000000001E-4,"x",null,6]
["Horn.Flood",null,null,"",{"$f":"VLOOKUP(F2527&\".\"&G2527,syllabus!B$3:I$99,8,FALSE)&RIGHT(\"00000\"&J2527,5)","v":"17502700"},"Horn","Flood","Horn.Flood: All","BC",2700,null,null,"BC:",null,null,"concept",null,"F",null,"",0,"","","","","","",0,2,0,0,68,68,999,null,null,null,5.0000000000000001E-4,"x",null,"xxxx"]
["Horn.Flood",null,null,"",{"$f":"VLOOKUP(F2536&\".\"&G2536,syllabus!B$3:I$99,8,FALSE)&RIGHT(\"00000\"&J2536,5)","v":"17503600"},"Horn","Flood","Horn.Flood: All","exam",3600,null,null,"exam:",null,null,"concept",null,"F",null,"",0,"","","","","","",0,2,0,0,68,68,999,null,null,null,5.0000000000000001E-4,"x",null,"xxxx"]
["Horn.Flood",null,null,"",{"$f":"VLOOKUP(F2541&\".\"&G2541,syllabus!B$3:I$99,8,FALSE)&RIGHT(\"00000\"&J2541,5)","v":"17504100"},"Horn","Flood","Horn.Flood: All","exam",4100,null,null,"exam:",null,null,"concept",null,"F",null,"",0,"","","","","","",0,2,0,0,68,68,999,null,null,null,5.0000000000000001E-4,"x",null,"xxxx"]
["Horn.Flood",null,null,"",{"$f":"VLOOKUP(F2547&\".\"&G2547,syllabus!B$3:I$99,8,FALSE)&RIGHT(\"00000\"&J2547,5)","v":"17504700"},"Horn","Flood","Horn.Flood: All","exam",4700,null,null,"exam:",null,null,"concept",null,"F",null,"",0,"","","","","","",0,2,0,0,68,68,999,null,null,null,5.0000000000000001E-4,"x",null,"xxxx"]
["Horn.Flood",null,null,"",{"$f":"VLOOKUP(F2556&\".\"&G2556,syllabus!B$3:I$99,8,FALSE)&RIGHT(\"00000\"&J2556,5)","v":"17505600"},"Horn","Flood","Horn.Flood: All","exam",5600,null,null,"exam:",null,null,"concept",null,"F",null,"",0,"","","","","","",0,2,0,0,68,68,999,null,null,null,5.0000000000000001E-4,"x",null,"xxxx"]
["Horn.Flood",null,null,"",{"$f":"VLOOKUP(F2557&\".\"&G2557,syllabus!B$3:I$99,8,FALSE)&RIGHT(\"00000\"&J2557,5)","v":"17505700"},"Horn","Flood","Horn.Flood: All","exam",5700,null,null,"exam:",null,null,"concept",null,"F",null,"",0,"","","","","","",0,2,0,0,68,68,999,null,null,null,5.0000000000000001E-4,"x",null,"xxxx"]
["Horn.Flood",null,null,"",{"$f":"VLOOKUP(F2567&\".\"&G2567,syllabus!B$3:I$99,8,FALSE)&RIGHT(\"00000\"&J2567,5)","v":"17506700"},"Horn","Flood","Horn.Flood: All","exam",6700,null,null,"exam:",null,null,"concept",null,"F",null,"",0,"","","","","","",0,2,0,0,68,68,999,null,null,null,5.0000000000000001E-4,"x",null,"xxxx"]
["Horn.Flood",null,null,"",{"$f":"VLOOKUP(F2570&\".\"&G2570,syllabus!B$3:I$99,8,FALSE)&RIGHT(\"00000\"&J2570,5)","v":"17507000"},"Horn","Flood","Horn.Flood: All","exam",7000,null,null,"exam:",null,null,"concept",null,"F",null,"",0,"","","","","","",0,2,0,0,68,68,999,null,null,null,5.0000000000000001E-4,"x",null,"xxxx"]
["Horn.Flood",null,null,"",{"$f":"VLOOKUP(F2577&\".\"&G2577,syllabus!B$3:I$99,8,FALSE)&RIGHT(\"00000\"&J2577,5)","v":"17507700"},"Horn","Flood","Horn.Flood: All","exam",7700,null,null,"exam:",null,null,"concept",null,"F",null,"",0,"","","","","","",0,2,0,0,68,68,999,null,null,null,5.0000000000000001E-4,"x",null,"xxxx"]
["Horn.Flood",null,null,"",{"$f":"VLOOKUP(F2583&\".\"&G2583,syllabus!B$3:I$99,8,FALSE)&RIGHT(\"00000\"&J2583,5)","v":"17508300"},"Horn","Flood","Horn.Flood: All","exam",8300,null,null,"exam:",null,null,"concept",null,"F",null,"",0,"","","","","","",0,2,0,0,68,68,999,null,null,null,5.0000000000000001E-4,"x",null,"xxxx"]
["Horn.Flood",null,null,"",{"$f":"VLOOKUP(F2594&\".\"&G2594,syllabus!B$3:I$99,8,FALSE)&RIGHT(\"00000\"&J2594,5)","v":"17509400"},"Horn","Flood","Horn.Flood: All","exam",9400,null,null,"exam:",null,null,"concept",null,"F",null,"",0,"","","","","","",0,2,0,0,68,68,999,null,null,null,5.0000000000000001E-4,"x",null,"xxxx"]
["Horn.Flood",null,null,"",{"$f":"VLOOKUP(F2597&\".\"&G2597,syllabus!B$3:I$99,8,FALSE)&RIGHT(\"00000\"&J2597,5)","v":"17509700"},"Horn","Flood","Horn.Flood: All","exam",9700,null,null,"exam:",null,null,"concept",null,"F",null,"",0,"","","","","","",0,2,0,0,68,68,999,null,null,null,5.0000000000000001E-4,"x",null,"xxxx"]
["NAIC.Telematics",null,null,"",{"$f":"VLOOKUP(F2606&\".\"&G2606,syllabus!B$3:I$99,8,FALSE)&RIGHT(\"00000\"&J2606,5)","v":"18000600"},"NAIC","Telematics","NAIC.Telematics: All","benefits",600,2,null,"benefits: identify benefits of telematics to the CONSUMER","availability: ~~ - insurers can price more accurately ~~ - will accept more risk & write more policies ~ affordability: ~~ - UBI is better at identifying good drivers ~~ - good drivers will have lower rates under telematics ~ consumer control: ~~ - all drivers can improve driving habits and get lower rates",null,"concept",null,"A",null,"",0,"","","","","","",1,14,2,7.4833147735478827,32,32,999,null,null,null,5.0000000000000001E-4,"x",null,2]
["NAIC.Telematics",null,null,"",{"$f":"VLOOKUP(F2613&\".\"&G2613,syllabus!B$3:I$99,8,FALSE)&RIGHT(\"00000\"&J2613,5)","v":"18001300"},"NAIC","Telematics","NAIC.Telematics: All","BC",1300,null,null,"BC:",null,null,"concept",null,"F",null,"",0,"","","","","","",1,2,0,0,32,32,999,null,null,null,5.0000000000000001E-4,"x",null,"xxxx"]
["NAIC.Telematics",null,null,"",{"$f":"VLOOKUP(F2617&\".\"&G2617,syllabus!B$3:I$99,8,FALSE)&RIGHT(\"00000\"&J2617,5)","v":"18001700"},"NAIC","Telematics","NAIC.Telematics: All","BC",1700,null,null,"BC:",null,null,"concept",null,"F",null,"",0,"","","","","","",1,2,0,0,32,32,999,null,null,null,5.0000000000000001E-4,"x",null,"xxxx"]
["NAIC.Telematics",null,null,"",{"$f":"VLOOKUP(F2620&\".\"&G2620,syllabus!B$3:I$99,8,FALSE)&RIGHT(\"00000\"&J2620,5)","v":"18002000"},"NAIC","Telematics","NAIC.Telematics: All","BC",2000,null,null,"BC:",null,null,"concept",null,"F",null,"",0,"","","","","","",1,2,0,0,32,32,999,null,null,null,5.0000000000000001E-4,"x",null,"xxxx"]
["NAIC.Telematics",null,null,"",{"$f":"VLOOKUP(F2627&\".\"&G2627,syllabus!B$3:I$99,8,FALSE)&RIGHT(\"00000\"&J2627,5)","v":"18002700"},"NAIC","Telematics","NAIC.Telematics: All","BC",2700,null,null,"BC:",null,null,"concept",null,"F",null,"",0,"","","","","","",1,2,0,0,32,32,999,null,null,null,5.0000000000000001E-4,"x",null,"xxxx"]
["NAIC.Telematics",null,null,"",{"$f":"VLOOKUP(F2632&\".\"&G2632,syllabus!B$3:I$99,8,FALSE)&RIGHT(\"00000\"&J2632,5)","v":"18003200"},"NAIC","Telematics","NAIC.Telematics: All","BC",3200,null,null,"BC:",null,null,"concept",null,"F",null,"",0,"","","","","","",1,2,0,0,32,32,999,null,null,null,5.0000000000000001E-4,"x",null,"xxxx"]
["NAIC.Telematics",null,null,"",{"$f":"VLOOKUP(F2644&\".\"&G2644,syllabus!B$3:I$99,8,FALSE)&RIGHT(\"00000\"&J2644,5)","v":"18004400"},"NAIC","Telematics","NAIC.Telematics: All","exam",4400,null,null,"exam:",null,null,"concept",null,"F",null,"",0,"","","","","","",1,2,0,0,32,32,999,null,null,null,5.0000000000000001E-4,"x",null,"xxxx"]
["NAIC.Telematics",null,null,"",{"$f":"VLOOKUP(F2647&\".\"&G2647,syllabus!B$3:I$99,8,FALSE)&RIGHT(\"00000\"&J2647,5)","v":"18004700"},"NAIC","Telematics","NAIC.Telematics: All","exam",4700,null,null,"exam:",null,null,"concept",null,"F",null,"",0,"","","","","","",1,2,0,0,32,32,999,null,null,null,5.0000000000000001E-4,"x",null,"xxxx"]
["NAIC.Telematics",null,null,"",{"$f":"VLOOKUP(F2656&\".\"&G2656,syllabus!B$3:I$99,8,FALSE)&RIGHT(\"00000\"&J2656,5)","v":"18005600"},"NAIC","Telematics","NAIC.Telematics: All","exam",5600,null,null,"exam:",null,null,"concept",null,"F",null,"",0,"","","","","","",1,2,0,0,32,32,999,null,null,null,5.0000000000000001E-4,"x",null,"xxxx"]
["NAIC.Telematics",null,null,"",{"$f":"VLOOKUP(F2662&\".\"&G2662,syllabus!B$3:I$99,8,FALSE)&RIGHT(\"00000\"&J2662,5)","v":"18006200"},"NAIC","Telematics","NAIC.Telematics: All","exam",6200,3,null,"exam: identify driver habits that cause higher premiums in Usage-Based Insurance (7)","high mileage, driving in heavy traffic, speeding, rapid acceleration, hard braking, swerving, cell-phone use",null,"concept",null,"A",null,"exam",1,"17","2-Fall",2,"b",null,1,1,2,2,2.8284271247461903,32,32,999,null,null,null,5.0000000000000001E-4,"x",null,3]
["NAIC.Telematics",null,null,"",{"$f":"VLOOKUP(F2667&\".\"&G2667,syllabus!B$3:I$99,8,FALSE)&RIGHT(\"00000\"&J2667,5)","v":"18006600"},"NAIC","Telematics","NAIC.Telematics: All","exam",6600,null,null,"exam: ",null,null,"concept",null,"F",null,null,0,null,null,null,null,null,null,1,2,0,0,32,32,999,null,null,null,5.0000000000000001E-4,"x",null,"xxxx"]
["NAIC.Telematics",null,null,"",{"$f":"VLOOKUP(F2670&\".\"&G2670,syllabus!B$3:I$99,8,FALSE)&RIGHT(\"00000\"&J2670,5)","v":"18006900"},"NAIC","Telematics","NAIC.Telematics: All","exam",6900,null,null,"exam: ",null,null,"concept",null,"F",null,null,0,null,null,null,null,null,null,1,2,0,0,32,32,999,null,null,null,5.0000000000000001E-4,"x",null,"xxxx"]
["NAIC.Telematics",null,null,"",{"$f":"VLOOKUP(F2677&\".\"&G2677,syllabus!B$3:I$99,8,FALSE)&RIGHT(\"00000\"&J2677,5)","v":"18007600"},"NAIC","Telematics","NAIC.Telematics: All","exam",7600,null,null,"exam:",null,null,"concept",null,"F",null,"",0,"","","","","","",1,2,0,0,32,32,999,null,null,null,5.0000000000000001E-4,"x",null,"xxxx"]
["NAIC.Telematics",null,null,"",{"$f":"VLOOKUP(F2688&\".\"&G2688,syllabus!B$3:I$99,8,FALSE)&RIGHT(\"00000\"&J2688,5)","v":"18008700"},"NAIC","Telematics","NAIC.Telematics: All","exam",8700,null,null,"exam:",null,null,"concept",null,"F",null,"",0,"","","","","","",1,2,0,0,32,32,999,null,null,null,5.0000000000000001E-4,"x",null,"xxxx"]
["NAIC.Telematics",null,null,"",{"$f":"VLOOKUP(F2694&\".\"&G2694,syllabus!B$3:I$99,8,FALSE)&RIGHT(\"00000\"&J2694,5)","v":"18009400"},"NAIC","Telematics","NAIC.Telematics: All","exam",9400,null,null,"exam:",null,null,"concept",null,"F",null,"",0,"","","","","","",1,2,0,0,32,32,999,null,null,null,5.0000000000000001E-4,"x",null,"xxxx"]
["NAIC.Telematics",null,null,"",{"$f":"VLOOKUP(F2697&\".\"&G2697,syllabus!B$3:I$99,8,FALSE)&RIGHT(\"00000\"&J2697,5)","v":"18009700"},"NAIC","Telematics","NAIC.Telematics: All","exam",9700,null,null,"exam:",null,null,"concept",null,"F",null,"",0,"","","","","","",1,2,0,0,32,32,999,null,null,null,5.0000000000000001E-4,"x",null,"xxxx"]
["King.Flood",null,null,"",{"$f":"VLOOKUP(F2706&\".\"&G2706,syllabus!B$3:I$99,8,FALSE)&RIGHT(\"00000\"&J2706,5)","v":"19000600"},"King","Flood","King.Flood: All","BC",600,null,null,"BC:",null,null,"concept",null,"F",null,"",0,"","","","","","",0,2,0,0,69,69,999,null,null,null,5.0000000000000001E-4,"x",null,"xxxx"]
["King.Flood",null,null,"",{"$f":"VLOOKUP(F2711&\".\"&G2711,syllabus!B$3:I$99,8,FALSE)&RIGHT(\"00000\"&J2711,5)","v":"19001100"},"King","Flood","King.Flood: All","BC",1100,null,null,"BC:",null,null,"concept",null,"F",null,"",0,"","","","","","",0,2,0,0,69,69,999,null,null,null,5.0000000000000001E-4,"x",null,"xxxx"]
["King.Flood",null,null,"",{"$f":"VLOOKUP(F2717&\".\"&G2717,syllabus!B$3:I$99,8,FALSE)&RIGHT(\"00000\"&J2717,5)","v":"19001700"},"King","Flood","King.Flood: All","BC",1700,null,null,"BC:",null,null,"concept",null,"F",null,"",0,"","","","","","",0,2,0,0,69,69,999,null,null,null,5.0000000000000001E-4,"x",null,"xxxx"]
["King.Flood",null,null,"",{"$f":"VLOOKUP(F2724&\".\"&G2724,syllabus!B$3:I$99,8,FALSE)&RIGHT(\"00000\"&J2724,5)","v":"19002400"},"King","Flood","King.Flood: All","BC",2400,null,null,"BC:",null,null,"concept",null,"F",null,"",0,"","","","","","",0,2,0,0,69,69,999,null,null,null,5.0000000000000001E-4,"x",null,"xxxx"]
["King.Flood",null,null,"",{"$f":"VLOOKUP(F2727&\".\"&G2727,syllabus!B$3:I$99,8,FALSE)&RIGHT(\"00000\"&J2727,5)","v":"19002700"},"King","Flood","King.Flood: All","BC",2700,null,null,"BC:",null,null,"concept",null,"F",null,"",0,"","","","","","",0,2,0,0,69,69,999,null,null,null,5.0000000000000001E-4,"x",null,"xxxx"]
["King.Flood",null,null,"",{"$f":"VLOOKUP(F2737&\".\"&G2737,syllabus!B$3:I$99,8,FALSE)&RIGHT(\"00000\"&J2737,5)","v":"19003700"},"King","Flood","King.Flood: All","exam",3700,null,null,"exam:",null,null,"concept",null,"F",null,"",0,"","","","","","",0,2,0,0,69,69,999,null,null,null,5.0000000000000001E-4,"x",null,"xxxx"]
["King.Flood",null,null,"",{"$f":"VLOOKUP(F2744&\".\"&G2744,syllabus!B$3:I$99,8,FALSE)&RIGHT(\"00000\"&J2744,5)","v":"19004400"},"King","Flood","King.Flood: All","exam",4400,null,null,"exam:",null,null,"concept",null,"F",null,"",0,"","","","","","",0,2,0,0,69,69,999,null,null,null,5.0000000000000001E-4,"x",null,"xxxx"]
["King.Flood",null,null,"",{"$f":"VLOOKUP(F2747&\".\"&G2747,syllabus!B$3:I$99,8,FALSE)&RIGHT(\"00000\"&J2747,5)","v":"19004700"},"King","Flood","King.Flood: All","exam",4700,null,null,"exam:",null,null,"concept",null,"F",null,"",0,"","","","","","",0,2,0,0,69,69,999,null,null,null,5.0000000000000001E-4,"x",null,"xxxx"]
["King.Flood",null,null,"",{"$f":"VLOOKUP(F2756&\".\"&G2756,syllabus!B$3:I$99,8,FALSE)&RIGHT(\"00000\"&J2756,5)","v":"19005600"},"King","Flood","King.Flood: All","exam",5600,null,null,"exam:",null,null,"concept",null,"F",null,"",0,"","","","","","",0,2,0,0,69,69,999,null,null,null,5.0000000000000001E-4,"x",null,"xxxx"]
["King.Flood",null,null,"",{"$f":"VLOOKUP(F2760&\".\"&G2760,syllabus!B$3:I$99,8,FALSE)&RIGHT(\"00000\"&J2760,5)","v":"19006000"},"King","Flood","King.Flood: All","exam",6000,"x",null,"exam: identify a funding concern with NFIP (National Flood Insurance Protection) and describe how the Flood Insurance Reform Act of 2012 addressed this","CONCERN: inadequate rates lead to unsustainable debt ~ 2012 ACT: increased rates, decreased subsidies","rates & subsidies","concept",null,"outdated",null,"exam",1,"17","2-Fall",8,"a","",0.5,0,3,0,0,69,69,999,null,null,null,5.0000000000000001E-4,"x",null,"xxxx"]
["King.Flood",null,null,"",{"$f":"VLOOKUP(F2767&\".\"&G2767,syllabus!B$3:I$99,8,FALSE)&RIGHT(\"00000\"&J2767,5)","v":"19006700"},"King","Flood","King.Flood: All","exam",6700,null,null,"exam:     9a.ii",null,null,"concept",null,"outdated",null,"exam",1,"16","2-Fall",9,"a","ii",0.5,0,2,0,0,69,69,999,null,null,null,5.0000000000000001E-4,"x",null,"xxxx"]
["King.Flood",null,null,"",{"$f":"VLOOKUP(F2774&\".\"&G2774,syllabus!B$3:I$99,8,FALSE)&RIGHT(\"00000\"&J2774,5)","v":"19007400"},"King","Flood","King.Flood: All","exam",7400,null,null,"exam:    8c",null,null,"concept",null,"outdated",null,"exam",1,"15","2-Fall",8,"c","",0.5,0,2,0,0,69,69,999,null,null,null,5.0000000000000001E-4,"x",null,"xxxx"]
["King.Flood",null,null,"",{"$f":"VLOOKUP(F2777&\".\"&G2777,syllabus!B$3:I$99,8,FALSE)&RIGHT(\"00000\"&J2777,5)","v":"19007700"},"King","Flood","King.Flood: All","exam",7700,null,null,"exam: 9c",null,null,"concept",null,"outdated",null,"exam",1,"15","1-Spring",9,"c","",0.5,0,2,0,0,69,69,999,null,null,null,5.0000000000000001E-4,"x",null,"xxxx"]
["King.Flood",null,null,"",{"$f":"VLOOKUP(F2786&\".\"&G2786,syllabus!B$3:I$99,8,FALSE)&RIGHT(\"00000\"&J2786,5)","v":"19008600"},"King","Flood","King.Flood: All","(OUTDATED BRQ pts = 0) exam",8600,null,null,"(OUTDATED BRQ pts = 0) exam: ",null,null,"concept",null,"F",null,"",0,"","","","","","",0,2,0,0,69,69,999,null,null,null,5.0000000000000001E-4,"x",null,"xxxx"]
["King.Flood",null,null,"",{"$f":"VLOOKUP(F2794&\".\"&G2794,syllabus!B$3:I$99,8,FALSE)&RIGHT(\"00000\"&J2794,5)","v":"19009400"},"King","Flood","King.Flood: All","(OUTDATED BRQ pts = 0) exam",9400,null,null,"(OUTDATED BRQ pts = 0) exam: ",null,null,"concept",null,"F",null,"",0,"","","","","","",0,2,0,0,69,69,999,null,null,null,5.0000000000000001E-4,"x",null,"xxxx"]
["King.Flood",null,null,"",{"$f":"VLOOKUP(F2797&\".\"&G2797,syllabus!B$3:I$99,8,FALSE)&RIGHT(\"00000\"&J2797,5)","v":"19009700"},"King","Flood","King.Flood: All","(OUTDATED BRQ pts = 0) exam",9700,null,null,"(OUTDATED BRQ pts = 0) exam: ",null,null,"concept",null,"F",null,"",0,"","","","","","",0,2,0,0,69,69,999,null,null,null,5.0000000000000001E-4,"x",null,"xxxx"]
["Klann.ReinsComm",null,null,"",{"$f":"VLOOKUP(F2804&\".\"&G2804,syllabus!B$3:I$99,8,FALSE)&RIGHT(\"00000\"&J2804,5)","v":"20000400"},"Klann","ReinsComm","Klann.ReinsComm: All","intro",400,null,null,"intro: identify reasons for a reinsurance commutation to occur (4)","Solvency: ~~ - primary insurer & reinsurer may have concerns about each other's solvency ~ Exit: ~~ - commutation provides a way for the reinsurer (& primary insurer) to exit a particular market ~ Disputes: ~~ - primary insurer & reinsurer may want to end their relationship because of disputes (Ex: contract provisions) ~ Reserves: ~~ - primary & reinsurer may disagree over the value of the ceded/assumed reserves ~~ - both may think they're getting a good deal under the commutation","SEDR","concept",null,"A",null,"exam",1,"18","2-Fall",26,"a","",1.5,4,15,2,30.983866769659336,10,10,999,null,null,null,5.0000000000000001E-4,"x",null,"xxxx"]
["Klann.ReinsComm",null,null,"",{"$f":"VLOOKUP(F2809&\".\"&G2809,syllabus!B$3:I$99,8,FALSE)&RIGHT(\"00000\"&J2809,5)","v":"20000900"},"Klann","ReinsComm","Klann.ReinsComm: All","intro",900,null,null,"intro: describe the 'EXIT' motivation for a commutation","- commutation allows reinsurer to exit the line of business immediately ~ - commutation is first step in exiting for primary insurer ~~ - the second step is a LOSS PORTFOLIO TRANSFER ~~ - easier to execute if they own 100% of claims without reinsurance overlay",null,"concept",null,"A",null,"",0,"","","","","","",4,7,2,21.166010488516726,10,10,999,null,null,null,5.0000000000000001E-4,"x",null,1]
["Klann.ReinsComm",null,null,"",{"$f":"VLOOKUP(F2817&\".\"&G2817,syllabus!B$3:I$99,8,FALSE)&RIGHT(\"00000\"&J2817,5)","v":"20001700"},"Klann","ReinsComm","Klann.ReinsComm: All","triangles",1700,null,null,"triangles: restate loss triangles after commutation (basic)","click the button with the pencil",null,"calc","calc06","F",null,"",0,"","","","","","",10,6,0,0,10,10,999,null,"CP","US_R06_Klann_010_restate",1E-4,"x",null,2]
["Klann.ReinsComm",null,null,"",{"$f":"VLOOKUP(F2824&\".\"&G2824,syllabus!B$3:I$99,8,FALSE)&RIGHT(\"00000\"&J2824,5)","v":"20002400"},"Klann","ReinsComm","Klann.ReinsComm: All","tax effect",2400,null,null,"tax effect: calculate the tax effect of a commutation (HARD version)","click the button with the pencil",null,"calc","calc08","A",null,"",0,"","","","","","",10,8,2,226.27416997969522,10,10,999,null,"CP","US_R06_Klann_040_tax_hard",1E-4,"x",null,3]
["Klann.ReinsComm",null,null,"",{"$f":"VLOOKUP(F2827&\".\"&G2827,syllabus!B$3:I$99,8,FALSE)&RIGHT(\"00000\"&J2827,5)","v":"20002700"},"Klann","ReinsComm","Klann.ReinsComm: All","BC",2700,null,null,"BC:",null,null,"concept",null,"F",null,"",0,"","","","","","",4,2,0,0,10,10,999,null,null,null,5.0000000000000001E-4,"x",null,"xxxx"]
["Klann.ReinsComm",null,null,"",{"$f":"VLOOKUP(F2835&\".\"&G2835,syllabus!B$3:I$99,8,FALSE)&RIGHT(\"00000\"&J2835,5)","v":"20003500"},"Klann","ReinsComm","Klann.ReinsComm: All","BC",3500,null,null,"BC:",null,null,"concept",null,"F",null,"",0,"","","","","","",4,2,0,0,10,10,999,null,null,null,5.0000000000000001E-4,"x",null,"xxxx"]
["Klann.ReinsComm",null,null,"",{"$f":"VLOOKUP(F2844&\".\"&G2844,syllabus!B$3:I$99,8,FALSE)&RIGHT(\"00000\"&J2844,5)","v":"20004400"},"Klann","ReinsComm","Klann.ReinsComm: All","exam",4400,null,null,"exam:",null,null,"concept",null,"F",null,"",0,"","","","","","",4,2,0,0,10,10,999,null,null,null,5.0000000000000001E-4,"x",null,"xxxx"]
["Klann.ReinsComm",null,null,"",{"$f":"VLOOKUP(F2847&\".\"&G2847,syllabus!B$3:I$99,8,FALSE)&RIGHT(\"00000\"&J2847,5)","v":"20004700"},"Klann","ReinsComm","Klann.ReinsComm: All","exam",4700,null,null,"exam:",null,null,"concept",null,"F",null,"",0,"","","","","","",4,2,0,0,10,10,999,null,null,null,5.0000000000000001E-4,"x",null,"xxxx"]
["Klann.ReinsComm",null,null,"",{"$f":"VLOOKUP(F2854&\".\"&G2854,syllabus!B$3:I$99,8,FALSE)&RIGHT(\"00000\"&J2854,5)","v":"20005400"},"Klann","ReinsComm","Klann.ReinsComm: All","exam",5400,null,null,"exam:",null,null,"concept",null,"F",null,"",0,"","","","","","",4,2,0,0,10,10,999,null,null,null,5.0000000000000001E-4,"x",null,"xxxx"]
["Klann.ReinsComm",null,null,"",{"$f":"VLOOKUP(F2858&\".\"&G2858,syllabus!B$3:I$99,8,FALSE)&RIGHT(\"00000\"&J2858,5)","v":"20005800"},"Klann","ReinsComm","Klann.ReinsComm: All","exam",5800,null,null,"exam:",null,null,"concept",null,"F",null,"",0,"","","","","","",4,2,0,0,10,10,999,null,null,null,5.0000000000000001E-4,"x",null,"xxxx"]
["Klann.ReinsComm",null,null,"",{"$f":"VLOOKUP(F2867&\".\"&G2867,syllabus!B$3:I$99,8,FALSE)&RIGHT(\"00000\"&J2867,5)","v":"20006700"},"Klann","ReinsComm","Klann.ReinsComm: All","exam 27a",6700,null,null,"exam 27a: [setup required] calculate commutation price",null,null,"calc","calc06","A",null,"exam",1,"16","1-Spring",27,"a","",2.5,10,6,2,48.989794855663561,10,10,999,null,null,null,1E-4,"x",null,4]
["Klann.ReinsComm",null,null,"",{"$f":"VLOOKUP(F2874&\".\"&G2874,syllabus!B$3:I$99,8,FALSE)&RIGHT(\"00000\"&J2874,5)","v":"20007400"},"Klann","ReinsComm","Klann.ReinsComm: All","exam 29b",7400,null,null,"exam 29b: [setup required] discuss factors affecting pricing",null,null,"concept",null,"A",null,"exam",1,"13","2-Fall",29,"b","",1,4,2,2,11.313708498984761,10,10,999,null,null,null,5.0000000000000001E-4,"x",null,5]
["Klann.ReinsComm",null,null,"",{"$f":"VLOOKUP(F2877&\".\"&G2877,syllabus!B$3:I$99,8,FALSE)&RIGHT(\"00000\"&J2877,5)","v":"20007700"},"Klann","ReinsComm","Klann.ReinsComm: All","exam",7700,null,null,"exam: ",null,null,"concept",null,"F",null,null,0,null,null,null,null,null,null,4,2,0,0,10,10,999,null,null,null,5.0000000000000001E-4,"x",null,"xxxx"]
["Klann.ReinsComm",null,null,"",{"$f":"VLOOKUP(F2884&\".\"&G2884,syllabus!B$3:I$99,8,FALSE)&RIGHT(\"00000\"&J2884,5)","v":"20008400"},"Klann","ReinsComm","Klann.ReinsComm: All","exam",8400,null,null,"exam:",null,null,"concept",null,"F",null,null,1,null,null,null,null,null,null,4,2,0,0,10,10,999,null,null,null,5.0000000000000001E-4,"x",null,"xxxx"]
["Klann.ReinsComm",null,null,"",{"$f":"VLOOKUP(F2894&\".\"&G2894,syllabus!B$3:I$99,8,FALSE)&RIGHT(\"00000\"&J2894,5)","v":"20009400"},"Klann","ReinsComm","Klann.ReinsComm: All","exam",9400,null,null,"exam:",null,null,"concept",null,"F",null,"",0,"","","","","","",4,2,0,0,10,10,999,null,null,null,5.0000000000000001E-4,"x",null,"xxxx"]
["Klann.ReinsComm",null,null,"",{"$f":"VLOOKUP(F2897&\".\"&G2897,syllabus!B$3:I$99,8,FALSE)&RIGHT(\"00000\"&J2897,5)","v":"20009700"},"Klann","ReinsComm","Klann.ReinsComm: All","exam",9700,null,null,"exam:",null,null,"concept",null,"F",null,"",0,"","","","","","",4,2,0,0,10,10,999,null,null,null,5.0000000000000001E-4,"x",null,"xxxx"]
["Kucera.Credit",null,null,"",{"$f":"VLOOKUP(F2904&\".\"&G2904,syllabus!B$3:I$99,8,FALSE)&RIGHT(\"00000\"&J2904,5)","v":"21000400"},"Kucera","Credit","Kucera.Credit: All","intro",400,null,null,"intro: identify attributes correlated with credit score (2)","# of inquiries into opening new accounts ~ # accounts 30+ days past due","# inquiries, accounts pas due","list",null,"B",null,null,0,null,null,null,null,null,null,1,3,0.2,0.34641016151377546,30,30,999,null,null,null,5.0000000000000001E-4,"x",null,1]
["Kucera.Credit",null,null,"",{"$f":"VLOOKUP(F2907&\".\"&G2907,syllabus!B$3:I$99,8,FALSE)&RIGHT(\"00000\"&J2907,5)","v":"21000700"},"Kucera","Credit","Kucera.Credit: All","impact",700,null,null,"impact: what is the credit score impact on aggregate premium (vs individual premium)","USE/PROHIBITION of credit scores doesn't necessarily affect aggregate premium (even if individual premium is redistributed)","use/prohibition..","concept",null,"A",null,null,0,null,null,null,null,null,null,1,2,2,2.8284271247461903,30,30,999,null,null,null,5.0000000000000001E-4,"x",null,2]
["Kucera.Credit",null,null,"",{"$f":"VLOOKUP(F2917&\".\"&G2917,syllabus!B$3:I$99,8,FALSE)&RIGHT(\"00000\"&J2917,5)","v":"21001500"},"Kucera","Credit","Kucera.Credit: All","downturn",1500,null,null,"downturn: (T/F) in an economic downturn, a shift in credit scores disrupts relativities & causes incorrect individual premiums","FALSE: ~~ - relativities are reviewed regularly and are adjusted accordingly based on up-to-date loss costs",null,"concept",null,"A",null,null,0,null,null,null,null,null,null,1,4,2,4,30,30,999,null,null,null,5.0000000000000001E-4,"x",null,3]
["Kucera.Credit",null,null,"",{"$f":"VLOOKUP(F2924&\".\"&G2924,syllabus!B$3:I$99,8,FALSE)&RIGHT(\"00000\"&J2924,5)","v":"21002200"},"Kucera","Credit","Kucera.Credit: All","BC",2200,null,null,"BC:",null,null,"concept",null,"F",null,"",0,"","","","","","",1,2,0,0,30,30,999,null,null,null,5.0000000000000001E-4,"x",null,"xxxx"]
["Kucera.Credit",null,null,"",{"$f":"VLOOKUP(F2927&\".\"&G2927,syllabus!B$3:I$99,8,FALSE)&RIGHT(\"00000\"&J2927,5)","v":"21002500"},"Kucera","Credit","Kucera.Credit: All","BC",2500,null,null,"BC:",null,null,"concept",null,"F",null,"",0,"","","","","","",1,2,0,0,30,30,999,null,null,null,5.0000000000000001E-4,"x",null,"xxxx"]
["Kucera.Credit",null,null,"",{"$f":"VLOOKUP(F2937&\".\"&G2937,syllabus!B$3:I$99,8,FALSE)&RIGHT(\"00000\"&J2937,5)","v":"21003500"},"Kucera","Credit","Kucera.Credit: All","BC",3500,null,null,"BC:",null,null,"concept",null,"F",null,"",0,"","","","","","",1,2,0,0,30,30,999,null,null,null,5.0000000000000001E-4,"x",null,"xxxx"]
["Kucera.Credit",null,null,"",{"$f":"VLOOKUP(F2944&\".\"&G2944,syllabus!B$3:I$99,8,FALSE)&RIGHT(\"00000\"&J2944,5)","v":"21004200"},"Kucera","Credit","Kucera.Credit: All","exam",4200,null,null,"exam:",null,null,"concept",null,"F",null,"",0,"","","","","","",1,2,0,0,30,30,999,null,null,null,5.0000000000000001E-4,"x",null,"xxxx"]
["Kucera.Credit",null,null,"",{"$f":"VLOOKUP(F2947&\".\"&G2947,syllabus!B$3:I$99,8,FALSE)&RIGHT(\"00000\"&J2947,5)","v":"21004500"},"Kucera","Credit","Kucera.Credit: All","exam",4500,null,null,"exam:",null,null,"concept",null,"F",null,"",0,"","","","","","",1,2,0,0,30,30,999,null,null,null,5.0000000000000001E-4,"x",null,"xxxx"]
["Kucera.Credit",null,null,"",{"$f":"VLOOKUP(F2954&\".\"&G2954,syllabus!B$3:I$99,8,FALSE)&RIGHT(\"00000\"&J2954,5)","v":"21005200"},"Kucera","Credit","Kucera.Credit: All","exam",5200,null,null,"exam:",null,null,"concept",null,"F",null,"",0,"","","","","","",1,2,0,0,30,30,999,null,null,null,5.0000000000000001E-4,"x",null,"xxxx"]
["Kucera.Credit",null,null,"",{"$f":"VLOOKUP(F2963&\".\"&G2963,syllabus!B$3:I$99,8,FALSE)&RIGHT(\"00000\"&J2963,5)","v":"21006100"},"Kucera","Credit","Kucera.Credit: All","exam",6100,null,null,"exam:",null,null,"concept",null,"F",null,"",0,"","","","","","",1,2,0,0,30,30,999,null,null,null,5.0000000000000001E-4,"x",null,"xxxx"]
["Kucera.Credit",null,null,"",{"$f":"VLOOKUP(F2967&\".\"&G2967,syllabus!B$3:I$99,8,FALSE)&RIGHT(\"00000\"&J2967,5)","v":"21006700"},"Kucera","Credit","Kucera.Credit: All","exam",6700,null,null,"exam:",null,null,"concept",null,"F",null,"",0,"","","","","","",1,2,0,0,30,30,999,null,null,null,5.0000000000000001E-4,"x",null,"xxxx"]
["Kucera.Credit",null,null,"",{"$f":"VLOOKUP(F2974&\".\"&G2974,syllabus!B$3:I$99,8,FALSE)&RIGHT(\"00000\"&J2974,5)","v":"21007400"},"Kucera","Credit","Kucera.Credit: All","exam",7400,null,null,"exam:",null,null,"concept",null,"F",null,"",0,"","","","","","",1,2,0,0,30,30,999,null,null,null,5.0000000000000001E-4,"x",null,"xxxx"]
["Kucera.Credit",null,null,"",{"$f":"VLOOKUP(F2977&\".\"&G2977,syllabus!B$3:I$99,8,FALSE)&RIGHT(\"00000\"&J2977,5)","v":"21007700"},"Kucera","Credit","Kucera.Credit: All","exam",7700,null,null,"exam:",null,null,"concept",null,"F",null,"",0,"","","","","","",1,2,0,0,30,30,999,null,null,null,5.0000000000000001E-4,"x",null,"xxxx"]
["Kucera.Credit",null,null,"",{"$f":"VLOOKUP(F2986&\".\"&G2986,syllabus!B$3:I$99,8,FALSE)&RIGHT(\"00000\"&J2986,5)","v":"21008600"},"Kucera","Credit","Kucera.Credit: All","exam",8600,null,null,"exam:",null,null,"concept",null,"F",null,"",0,"","","","","","",1,2,0,0,30,30,999,null,null,null,5.0000000000000001E-4,"x",null,"xxxx"]
["Kucera.Credit",null,null,"",{"$f":"VLOOKUP(F2994&\".\"&G2994,syllabus!B$3:I$99,8,FALSE)&RIGHT(\"00000\"&J2994,5)","v":"21009400"},"Kucera","Credit","Kucera.Credit: All","exam",9400,null,null,"exam:",null,null,"concept",null,"F",null,"",0,"","","","","","",1,2,0,0,30,30,999,null,null,null,5.0000000000000001E-4,"x",null,"xxxx"]
["Kucera.Credit",null,null,"",{"$f":"VLOOKUP(F2997&\".\"&G2997,syllabus!B$3:I$99,8,FALSE)&RIGHT(\"00000\"&J2997,5)","v":"21009700"},"Kucera","Credit","Kucera.Credit: All","exam",9700,null,null,"exam:",null,null,"concept",null,"F",null,"",0,"","","","","","",1,2,0,0,30,30,999,null,null,null,5.0000000000000001E-4,"x",null,"xxxx"]
["McCarty.Credit",null,null,"",{"$f":"VLOOKUP(F3004&\".\"&G3004,syllabus!B$3:I$99,8,FALSE)&RIGHT(\"00000\"&J3004,5)","v":"22000400"},"McCarty","Credit","McCarty.Credit: All","BC",400,null,null,"BC:",null,null,"concept",null,"F",null,"",0,"","","","","","",1,2,0,0,29,29,999,null,null,null,5.0000000000000001E-4,"x",null,"xxxx"]
["McCarty.Credit",null,null,"",{"$f":"VLOOKUP(F3012&\".\"&G3012,syllabus!B$3:I$99,8,FALSE)&RIGHT(\"00000\"&J3012,5)","v":"22001200"},"McCarty","Credit","McCarty.Credit: All","BC",1200,null,null,"BC:",null,null,"concept",null,"F",null,"",0,"","","","","","",1,2,0,0,29,29,999,null,null,null,5.0000000000000001E-4,"x",null,"xxxx"]
["McCarty.Credit",null,null,"",{"$f":"VLOOKUP(F3017&\".\"&G3017,syllabus!B$3:I$99,8,FALSE)&RIGHT(\"00000\"&J3017,5)","v":"22001700"},"McCarty","Credit","McCarty.Credit: All","BC",1700,null,null,"BC:",null,null,"concept",null,"F",null,"",0,"","","","","","",1,2,0,0,29,29,999,null,null,null,5.0000000000000001E-4,"x",null,"xxxx"]
["McCarty.Credit",null,null,"",{"$f":"VLOOKUP(F3024&\".\"&G3024,syllabus!B$3:I$99,8,FALSE)&RIGHT(\"00000\"&J3024,5)","v":"22002400"},"McCarty","Credit","McCarty.Credit: All","BC",2400,null,null,"BC:",null,null,"concept",null,"F",null,"",0,"","","","","","",1,2,0,0,29,29,999,null,null,null,5.0000000000000001E-4,"x",null,"xxxx"]
["McCarty.Credit",null,null,"",{"$f":"VLOOKUP(F3027&\".\"&G3027,syllabus!B$3:I$99,8,FALSE)&RIGHT(\"00000\"&J3027,5)","v":"22002700"},"McCarty","Credit","McCarty.Credit: All","BC",2700,null,null,"BC:",null,null,"concept",null,"F",null,"",0,"","","","","","",1,2,0,0,29,29,999,null,null,null,5.0000000000000001E-4,"x",null,"xxxx"]
["McCarty.Credit",null,null,"",{"$f":"VLOOKUP(F3035&\".\"&G3035,syllabus!B$3:I$99,8,FALSE)&RIGHT(\"00000\"&J3035,5)","v":"22003500"},"McCarty","Credit","McCarty.Credit: All","exam",3500,null,null,"exam:",null,null,"concept",null,"F",null,"",0,"","","","","","",1,2,0,0,29,29,999,null,null,null,5.0000000000000001E-4,"x",null,"xxxx"]
["McCarty.Credit",null,null,"",{"$f":"VLOOKUP(F3044&\".\"&G3044,syllabus!B$3:I$99,8,FALSE)&RIGHT(\"00000\"&J3044,5)","v":"22004400"},"McCarty","Credit","McCarty.Credit: All","exam",4400,null,null,"exam:",null,null,"concept",null,"F",null,"",0,"","","","","","",1,2,0,0,29,29,999,null,null,null,5.0000000000000001E-4,"x",null,"xxxx"]
["McCarty.Credit",null,null,"",{"$f":"VLOOKUP(F3047&\".\"&G3047,syllabus!B$3:I$99,8,FALSE)&RIGHT(\"00000\"&J3047,5)","v":"22004700"},"McCarty","Credit","McCarty.Credit: All","exam",4700,null,null,"exam:",null,null,"concept",null,"F",null,"",0,"","","","","","",1,2,0,0,29,29,999,null,null,null,5.0000000000000001E-4,"x",null,"xxxx"]
["McCarty.Credit",null,null,"",{"$f":"VLOOKUP(F3054&\".\"&G3054,syllabus!B$3:I$99,8,FALSE)&RIGHT(\"00000\"&J3054,5)","v":"22005400"},"McCarty","Credit","McCarty.Credit: All","exam",5400,null,null,"exam:",null,null,"concept",null,"F",null,"",0,"","","","","","",1,2,0,0,29,29,999,null,null,null,5.0000000000000001E-4,"x",null,"xxxx"]
["McCarty.Credit",null,null,"",{"$f":"VLOOKUP(F3061&\".\"&G3061,syllabus!B$3:I$99,8,FALSE)&RIGHT(\"00000\"&J3061,5)","v":"22006005"},"McCarty","Credit","McCarty.Credit: All","general",6005,null,null,"general: arguments against the use of credit-scoring in ratemaking","Frequency: ~~ - credit score is correlated only with <u>frequency</u>, not with severity of claims ~ Errors: ~~ - 50% of credit reports have errors, sometimes due to identity theft ~ Economic downturns: ~~ - downturns in economy may have a disparate credit impact on vulnerable populations ~ Discriminatory: ~~ - credit scoring may lead to rates that are unfairly discriminatory - see below for details ","FEED","concept",null,"A","dup","exam",3,"14","1-Spring",5,"b","",0.75,1,13,2,0,29,29,999,null,null,null,5.0000000000000001E-4,"x",null,"xxxx"]
["McCarty.Credit",null,null,"",{"$f":"VLOOKUP(F3065&\".\"&G3065,syllabus!B$3:I$99,8,FALSE)&RIGHT(\"00000\"&J3065,5)","v":"22006400"},"McCarty","Credit","McCarty.Credit: All","disparate impact",6400,null,null,"disparate impact: describe 2 age groups disparately impacted by credit","young people: ~~ - shorter credit history (you have to use credit to get a good credit score) ~ elderly people: ~~ - tend to have lower incomes and use less credit (you have to use credit to get a good credit score)",null,"concept",null,"A",null,"exam",1,"15","2-Fall",1,"a","",1,1,7,2,5.2915026221291814,29,29,999,null,null,null,5.0000000000000001E-4,"x",null,2]
["McCarty.Credit",null,null,"",{"$f":"VLOOKUP(F3074&\".\"&G3074,syllabus!B$3:I$99,8,FALSE)&RIGHT(\"00000\"&J3074,5)","v":"22007300"},"McCarty","Credit","McCarty.Credit: All","miscellaneous",7300,null,null,"miscellaneous: other than using TEXTING frequency, identify an action insurer X could take to remain competitive","use a proxy variable for TEXTING to avoid adverse selection",null,"concept",null,"A",null,"exam",1,"14","2-Fall",2,"f","",0.5,1,2,2,2.8284271247461903,29,29,999,null,null,null,5.0000000000000001E-4,"x",null,3]
["McCarty.Credit",null,null,"",{"$f":"VLOOKUP(F3077&\".\"&G3077,syllabus!B$3:I$99,8,FALSE)&RIGHT(\"00000\"&J3077,5)","v":"22007700"},"McCarty","Credit","McCarty.Credit: All","exam",7700,null,null,"exam:",null,null,"concept",null,"F",null,"",0,"","","","","","",1,2,0,0,29,29,999,null,null,null,5.0000000000000001E-4,"x",null,"xxxx"]
["McCarty.Credit",null,null,"",{"$f":"VLOOKUP(F3084&\".\"&G3084,syllabus!B$3:I$99,8,FALSE)&RIGHT(\"00000\"&J3084,5)","v":"22008400"},"McCarty","Credit","McCarty.Credit: All","exam",8400,null,null,"exam:",null,null,"concept",null,"F",null,"",0,"","","","","","",1,2,0,0,29,29,999,null,null,null,5.0000000000000001E-4,"x",null,"xxxx"]
["McCarty.Credit",null,null,"",{"$f":"VLOOKUP(F3094&\".\"&G3094,syllabus!B$3:I$99,8,FALSE)&RIGHT(\"00000\"&J3094,5)","v":"22009400"},"McCarty","Credit","McCarty.Credit: All","exam",9400,null,null,"exam:",null,null,"concept",null,"F",null,"",0,"","","","","","",1,2,0,0,29,29,999,null,null,null,5.0000000000000001E-4,"x",null,"xxxx"]
["McCarty.Credit",null,null,"",{"$f":"VLOOKUP(F3097&\".\"&G3097,syllabus!B$3:I$99,8,FALSE)&RIGHT(\"00000\"&J3097,5)","v":"22009700"},"McCarty","Credit","McCarty.Credit: All","exam",9700,null,null,"exam:",null,null,"concept",null,"F",null,"",0,"","","","","","",1,2,0,0,29,29,999,null,null,null,5.0000000000000001E-4,"x",null,"xxxx"]
["NAIC.APPM",null,null,"",{"$f":"VLOOKUP(F3104&\".\"&G3104,syllabus!B$3:I$99,8,FALSE)&RIGHT(\"00000\"&J3104,5)","v":"23000400"},"NAIC","APPM","NAIC.APPM: All","general",400,1,null,"general: identify the concepts underlying the SSAPs","- conservatism ~~ (estimates should be conservative to protect policyholders) ~ - consistency ~~ (regulators need financial information that's comparable across companies) ~ - recognition ~~ (solvency assessments are based on the balance sheet, the income statement is secondary)",null,"concept",null,"A",null,"",0,"","","","","","",1,10,2,6.324555320336759,43,43,999,null,null,null,5.0000000000000001E-4,"x",null,1]
["NAIC.APPM",null,null,"",{"$f":"VLOOKUP(F3110&\".\"&G3110,syllabus!B$3:I$99,8,FALSE)&RIGHT(\"00000\"&J3110,5)","v":"23001000"},"NAIC","APPM","NAIC.APPM: All","BC",1000,null,null,"BC:",null,null,"concept",null,"F",null,"",0,"","","","","","",1,2,0,0,43,43,999,null,null,null,5.0000000000000001E-4,"x",null,"xxxx"]
["NAIC.APPM",null,null,"",{"$f":"VLOOKUP(F3115&\".\"&G3115,syllabus!B$3:I$99,8,FALSE)&RIGHT(\"00000\"&J3115,5)","v":"23001500"},"NAIC","APPM","NAIC.APPM: All","BC",1500,null,null,"BC:",null,null,"concept",null,"F",null,"",0,"","","","","","",1,2,0,0,43,43,999,null,null,null,5.0000000000000001E-4,"x",null,"xxxx"]
["NAIC.APPM",null,null,"",{"$f":"VLOOKUP(F3124&\".\"&G3124,syllabus!B$3:I$99,8,FALSE)&RIGHT(\"00000\"&J3124,5)","v":"23002400"},"NAIC","APPM","NAIC.APPM: All","BC",2400,null,null,"BC:",null,null,"concept",null,"F",null,"",0,"","","","","","",1,2,0,0,43,43,999,null,null,null,5.0000000000000001E-4,"x",null,"xxxx"]
["NAIC.APPM",null,null,"",{"$f":"VLOOKUP(F3127&\".\"&G3127,syllabus!B$3:I$99,8,FALSE)&RIGHT(\"00000\"&J3127,5)","v":"23002700"},"NAIC","APPM","NAIC.APPM: All","BC",2700,null,null,"BC:",null,null,"concept",null,"F",null,"",0,"","","","","","",1,2,0,0,43,43,999,null,null,null,5.0000000000000001E-4,"x",null,"xxxx"]
["NAIC.APPM",null,null,"",{"$f":"VLOOKUP(F3133&\".\"&G3133,syllabus!B$3:I$99,8,FALSE)&RIGHT(\"00000\"&J3133,5)","v":"23003300"},"NAIC","APPM","NAIC.APPM: All","BC",3300,null,null,"BC:",null,null,"concept",null,"F",null,"",0,"","","","","","",1,2,0,0,43,43,999,null,null,null,5.0000000000000001E-4,"x",null,"xxxx"]
["NAIC.APPM",null,null,"",{"$f":"VLOOKUP(F3144&\".\"&G3144,syllabus!B$3:I$99,8,FALSE)&RIGHT(\"00000\"&J3144,5)","v":"23004400"},"NAIC","APPM","NAIC.APPM: All","exam",4400,null,null,"exam:",null,null,"concept",null,"F",null,"",0,"","","","","","",1,2,0,0,43,43,999,null,null,null,5.0000000000000001E-4,"x",null,"xxxx"]
["NAIC.APPM",null,null,"",{"$f":"VLOOKUP(F3145&\".\"&G3145,syllabus!B$3:I$99,8,FALSE)&RIGHT(\"00000\"&J3145,5)","v":"23004500"},"NAIC","APPM","NAIC.APPM: All","exam",4500,null,null,"exam:",null,null,"concept",null,"F",null,"",0,"","","","","","",1,2,0,0,43,43,999,null,null,null,5.0000000000000001E-4,"x",null,"xxxx"]
["NAIC.APPM",null,null,"",{"$f":"VLOOKUP(F3154&\".\"&G3154,syllabus!B$3:I$99,8,FALSE)&RIGHT(\"00000\"&J3154,5)","v":"23005400"},"NAIC","APPM","NAIC.APPM: All","exam",5400,null,null,"exam:",null,null,"concept",null,"F",null,"",0,"","","","","","",1,2,0,0,43,43,999,null,null,null,5.0000000000000001E-4,"x",null,"xxxx"]
["NAIC.APPM",null,null,"",{"$f":"VLOOKUP(F3159&\".\"&G3159,syllabus!B$3:I$99,8,FALSE)&RIGHT(\"00000\"&J3159,5)","v":"23005900"},"NAIC","APPM","NAIC.APPM: All","exam",5900,"x",null,"exam:",null,null,"concept",null,"F",null,"",0,"","","","","","",1,2,0,0,43,43,999,null,null,null,5.0000000000000001E-4,"x",null,"xxxx"]
["NAIC.APPM",null,null,"",{"$f":"VLOOKUP(F3165&\".\"&G3165,syllabus!B$3:I$99,8,FALSE)&RIGHT(\"00000\"&J3165,5)","v":"23006500"},"NAIC","APPM","NAIC.APPM: All","exam",6500,null,null,"exam:",null,null,"concept",null,"F",null,"",0,"","","","","","",1,2,0,0,43,43,999,null,null,null,5.0000000000000001E-4,"x",null,"xxxx"]
["NAIC.APPM",null,null,"",{"$f":"VLOOKUP(F3174&\".\"&G3174,syllabus!B$3:I$99,8,FALSE)&RIGHT(\"00000\"&J3174,5)","v":"23007400"},"NAIC","APPM","NAIC.APPM: All","exam",7400,null,null,"exam:",null,null,"concept",null,"F",null,"",0,"","","","","","",1,2,0,0,43,43,999,null,null,null,5.0000000000000001E-4,"x",null,"xxxx"]
["NAIC.APPM",null,null,"",{"$f":"VLOOKUP(F3177&\".\"&G3177,syllabus!B$3:I$99,8,FALSE)&RIGHT(\"00000\"&J3177,5)","v":"23007700"},"NAIC","APPM","NAIC.APPM: All","exam",7700,null,null,"exam:",null,null,"concept",null,"F",null,"",0,"","","","","","",1,2,0,0,43,43,999,null,null,null,5.0000000000000001E-4,"x",null,"xxxx"]
["NAIC.APPM",null,null,"",{"$f":"VLOOKUP(F3182&\".\"&G3182,syllabus!B$3:I$99,8,FALSE)&RIGHT(\"00000\"&J3182,5)","v":"23008200"},"NAIC","APPM","NAIC.APPM: All","exam",8200,null,null,"exam:",null,null,"concept",null,"F",null,"",0,"","","","","","",1,2,0,0,43,43,999,null,null,null,5.0000000000000001E-4,"x",null,"xxxx"]
["NAIC.APPM",null,null,"",{"$f":"VLOOKUP(F3194&\".\"&G3194,syllabus!B$3:I$99,8,FALSE)&RIGHT(\"00000\"&J3194,5)","v":"23009400"},"NAIC","APPM","NAIC.APPM: All","exam",9400,null,null,"exam:",null,null,"concept",null,"F",null,"",0,"","","","","","",1,2,0,0,43,43,999,null,null,null,5.0000000000000001E-4,"x",null,"xxxx"]
["NAIC.APPM",null,null,"",{"$f":"VLOOKUP(F3195&\".\"&G3195,syllabus!B$3:I$99,8,FALSE)&RIGHT(\"00000\"&J3195,5)","v":"23009500"},"NAIC","APPM","NAIC.APPM: All","exam",9500,null,null,"exam:",null,null,"concept",null,"F",null,"",0,"","","","","","",1,2,0,0,43,43,999,null,null,null,5.0000000000000001E-4,"x",null,"xxxx"]
["NAIC.SSAP-5R",null,null,"",{"$f":"VLOOKUP(F3204&\".\"&G3204,syllabus!B$3:I$99,8,FALSE)&RIGHT(\"00000\"&J3204,5)","v":"24000400"},"NAIC","SSAP-5R","NAIC.SSAP-5R: All","BC",400,null,null,"BC:",null,null,"concept",null,"F",null,"",0,"","","","","","",1,2,0,0,50,50,999,null,null,null,5.0000000000000001E-4,"x",null,"xxxx"]
["NAIC.SSAP-5R",null,null,"",{"$f":"VLOOKUP(F3208&\".\"&G3208,syllabus!B$3:I$99,8,FALSE)&RIGHT(\"00000\"&J3208,5)","v":"24000800"},"NAIC","SSAP-5R","NAIC.SSAP-5R: All","BC",800,null,null,"BC:",null,null,"concept",null,"F",null,"",0,"","","","","","",1,2,0,0,50,50,999,null,null,null,5.0000000000000001E-4,"x",null,"xxxx"]
["NAIC.SSAP-5R",null,null,"",{"$f":"VLOOKUP(F3215&\".\"&G3215,syllabus!B$3:I$99,8,FALSE)&RIGHT(\"00000\"&J3215,5)","v":"24001500"},"NAIC","SSAP-5R","NAIC.SSAP-5R: All","BC",1500,null,null,"BC:",null,null,"concept",null,"F",null,"",0,"","","","","","",1,2,0,0,50,50,999,null,null,null,5.0000000000000001E-4,"x",null,"xxxx"]
["NAIC.SSAP-5R",null,null,"",{"$f":"VLOOKUP(F3224&\".\"&G3224,syllabus!B$3:I$99,8,FALSE)&RIGHT(\"00000\"&J3224,5)","v":"24002400"},"NAIC","SSAP-5R","NAIC.SSAP-5R: All","BC",2400,null,null,"BC:",null,null,"concept",null,"F",null,"",0,"","","","","","",1,2,0,0,50,50,999,null,null,null,5.0000000000000001E-4,"x",null,"xxxx"]
["NAIC.SSAP-5R",null,null,"",{"$f":"VLOOKUP(F3227&\".\"&G3227,syllabus!B$3:I$99,8,FALSE)&RIGHT(\"00000\"&J3227,5)","v":"24002700"},"NAIC","SSAP-5R","NAIC.SSAP-5R: All","BC",2700,null,null,"BC:",null,null,"concept",null,"F",null,"",0,"","","","","","",1,2,0,0,50,50,999,null,null,null,5.0000000000000001E-4,"x",null,"xxxx"]
["NAIC.SSAP-5R",null,null,"",{"$f":"VLOOKUP(F3238&\".\"&G3238,syllabus!B$3:I$99,8,FALSE)&RIGHT(\"00000\"&J3238,5)","v":"24003800"},"NAIC","SSAP-5R","NAIC.SSAP-5R: All","exam",3800,null,null,"exam:",null,null,"concept",null,"F",null,"",0,"","","","","","",1,2,0,0,50,50,999,null,null,null,5.0000000000000001E-4,"x",null,"xxxx"]
["NAIC.SSAP-5R",null,null,"",{"$f":"VLOOKUP(F3244&\".\"&G3244,syllabus!B$3:I$99,8,FALSE)&RIGHT(\"00000\"&J3244,5)","v":"24004400"},"NAIC","SSAP-5R","NAIC.SSAP-5R: All","exam",4400,null,null,"exam:",null,null,"concept",null,"F",null,"",0,"","","","","","",1,2,0,0,50,50,999,null,null,null,5.0000000000000001E-4,"x",null,"xxxx"]
["NAIC.SSAP-5R",null,null,"",{"$f":"VLOOKUP(F3245&\".\"&G3245,syllabus!B$3:I$99,8,FALSE)&RIGHT(\"00000\"&J3245,5)","v":"24004500"},"NAIC","SSAP-5R","NAIC.SSAP-5R: All","exam",4500,null,null,"exam:",null,null,"concept",null,"F",null,"",0,"","","","","","",1,2,0,0,50,50,999,null,null,null,5.0000000000000001E-4,"x",null,"xxxx"]
["NAIC.SSAP-5R",null,null,"",{"$f":"VLOOKUP(F3254&\".\"&G3254,syllabus!B$3:I$99,8,FALSE)&RIGHT(\"00000\"&J3254,5)","v":"24005400"},"NAIC","SSAP-5R","NAIC.SSAP-5R: All","exam",5400,null,null,"exam:",null,null,"concept",null,"F",null,"",0,"","","","","","",1,2,0,0,50,50,999,null,null,null,5.0000000000000001E-4,"x",null,"xxxx"]
["NAIC.SSAP-5R",null,null,"",{"$f":"VLOOKUP(F3257&\".\"&G3257,syllabus!B$3:I$99,8,FALSE)&RIGHT(\"00000\"&J3257,5)","v":"24005700"},"NAIC","SSAP-5R","NAIC.SSAP-5R: All","exam",5700,null,null,"exam:",null,null,"concept",null,"F",null,"",0,"","","","","","",1,2,0,0,50,50,999,null,null,null,5.0000000000000001E-4,"x",null,"xxxx"]
["NAIC.SSAP-5R",null,null,"",{"$f":"VLOOKUP(F3265&\".\"&G3265,syllabus!B$3:I$99,8,FALSE)&RIGHT(\"00000\"&J3265,5)","v":"24006500"},"NAIC","SSAP-5R","NAIC.SSAP-5R: All","exam",6500,null,null,"exam:",null,null,"concept",null,"F",null,"",0,"","","","","","",1,2,0,0,50,50,999,null,null,null,5.0000000000000001E-4,"x",null,"xxxx"]
["NAIC.SSAP-5R",null,null,"",{"$f":"VLOOKUP(F3274&\".\"&G3274,syllabus!B$3:I$99,8,FALSE)&RIGHT(\"00000\"&J3274,5)","v":"24007400"},"NAIC","SSAP-5R","NAIC.SSAP-5R: All","exam",7400,null,null,"exam:",null,null,"concept",null,"F",null,"",0,"","","","","","",1,2,0,0,50,50,999,null,null,null,5.0000000000000001E-4,"x",null,"xxxx"]
["NAIC.SSAP-5R",null,null,"",{"$f":"VLOOKUP(F3281&\".\"&G3281,syllabus!B$3:I$99,8,FALSE)&RIGHT(\"00000\"&J3281,5)","v":"24008100"},"NAIC","SSAP-5R","NAIC.SSAP-5R: All","exam",8100,null,null,"exam:",null,null,"concept",null,"F",null,"",0,"","","","","","",1,2,0,0,50,50,999,null,null,null,5.0000000000000001E-4,"x",null,"xxxx"]
["NAIC.SSAP-5R",null,null,"",{"$f":"VLOOKUP(F3287&\".\"&G3287,syllabus!B$3:I$99,8,FALSE)&RIGHT(\"00000\"&J3287,5)","v":"24008700"},"NAIC","SSAP-5R","NAIC.SSAP-5R: All","exam",8700,null,null,"exam:",null,null,"concept",null,"F",null,"",0,"","","","","","",1,2,0,0,50,50,999,null,null,null,5.0000000000000001E-4,"x",null,"xxxx"]
["NAIC.SSAP-5R",null,null,"",{"$f":"VLOOKUP(F3294&\".\"&G3294,syllabus!B$3:I$99,8,FALSE)&RIGHT(\"00000\"&J3294,5)","v":"24009400"},"NAIC","SSAP-5R","NAIC.SSAP-5R: All","exam",9400,null,null,"exam:",null,null,"concept",null,"F",null,"",0,"","","","","","",1,2,0,0,50,50,999,null,null,null,5.0000000000000001E-4,"x",null,"xxxx"]
["NAIC.SSAP-5R",null,null,"",{"$f":"VLOOKUP(F3295&\".\"&G3295,syllabus!B$3:I$99,8,FALSE)&RIGHT(\"00000\"&J3295,5)","v":"24009500"},"NAIC","SSAP-5R","NAIC.SSAP-5R: All","exam",9500,null,null,"exam:",null,null,"concept",null,"F",null,"",0,"","","","","","",1,2,0,0,50,50,999,null,null,null,5.0000000000000001E-4,"x",null,"xxxx"]
["NAIC.SSAP-9",null,null,"",{"$f":"VLOOKUP(F3304&\".\"&G3304,syllabus!B$3:I$99,8,FALSE)&RIGHT(\"00000\"&J3304,5)","v":"25000400"},"NAIC","SSAP-9","NAIC.SSAP-9: All","general",400,1,null,"general: identify the actions required for each type of subsequent event","Type I: must be recognized in the financial statements ~ Type II: must be disclosed in the notes to the financial statements",null,"concept",null,"A",null,"",0,"","","","","","",1,3,2,3.4641016151377544,44,44,999,null,null,null,5.0000000000000001E-4,"x",null,1]
["NAIC.SSAP-9",null,null,"",{"$f":"VLOOKUP(F3313&\".\"&G3313,syllabus!B$3:I$99,8,FALSE)&RIGHT(\"00000\"&J3313,5)","v":"25001300"},"NAIC","SSAP-9","NAIC.SSAP-9: All","BC",1300,null,null,"BC:",null,null,"concept",null,"F",null,"",0,"","","","","","",1,2,0,0,44,44,999,null,null,null,5.0000000000000001E-4,"x",null,"xxxx"]
["NAIC.SSAP-9",null,null,"",{"$f":"VLOOKUP(F3315&\".\"&G3315,syllabus!B$3:I$99,8,FALSE)&RIGHT(\"00000\"&J3315,5)","v":"25001500"},"NAIC","SSAP-9","NAIC.SSAP-9: All","BC",1500,null,null,"BC:",null,null,"concept",null,"F",null,"",0,"","","","","","",1,2,0,0,44,44,999,null,null,null,5.0000000000000001E-4,"x",null,"xxxx"]
["NAIC.SSAP-9",null,null,"",{"$f":"VLOOKUP(F3324&\".\"&G3324,syllabus!B$3:I$99,8,FALSE)&RIGHT(\"00000\"&J3324,5)","v":"25002400"},"NAIC","SSAP-9","NAIC.SSAP-9: All","BC",2400,null,null,"BC:",null,null,"concept",null,"F",null,"",0,"","","","","","",1,2,0,0,44,44,999,null,null,null,5.0000000000000001E-4,"x",null,"xxxx"]
["NAIC.SSAP-9",null,null,"",{"$f":"VLOOKUP(F3331&\".\"&G3331,syllabus!B$3:I$99,8,FALSE)&RIGHT(\"00000\"&J3331,5)","v":"25003100"},"NAIC","SSAP-9","NAIC.SSAP-9: All","BC",3100,null,null,"BC:",null,null,"concept",null,"F",null,"",0,"","","","","","",1,2,0,0,44,44,999,null,null,null,5.0000000000000001E-4,"x",null,"xxxx"]
["NAIC.SSAP-9",null,null,"",{"$f":"VLOOKUP(F3336&\".\"&G3336,syllabus!B$3:I$99,8,FALSE)&RIGHT(\"00000\"&J3336,5)","v":"25003600"},"NAIC","SSAP-9","NAIC.SSAP-9: All","exam",3600,null,null,"exam:",null,null,"concept",null,"F",null,"",0,"","","","","","",1,2,0,0,44,44,999,null,null,null,5.0000000000000001E-4,"x",null,"xxxx"]
["NAIC.SSAP-9",null,null,"",{"$f":"VLOOKUP(F3344&\".\"&G3344,syllabus!B$3:I$99,8,FALSE)&RIGHT(\"00000\"&J3344,5)","v":"25004400"},"NAIC","SSAP-9","NAIC.SSAP-9: All","exam",4400,null,null,"exam:",null,null,"concept",null,"F",null,"",0,"","","","","","",1,2,0,0,44,44,999,null,null,null,5.0000000000000001E-4,"x",null,"xxxx"]
["NAIC.SSAP-9",null,null,"",{"$f":"VLOOKUP(F3345&\".\"&G3345,syllabus!B$3:I$99,8,FALSE)&RIGHT(\"00000\"&J3345,5)","v":"25004500"},"NAIC","SSAP-9","NAIC.SSAP-9: All","exam",4500,null,null,"exam:",null,null,"concept",null,"F",null,"",0,"","","","","","",1,2,0,0,44,44,999,null,null,null,5.0000000000000001E-4,"x",null,"xxxx"]
["NAIC.SSAP-9",null,null,"",{"$f":"VLOOKUP(F3355&\".\"&G3355,syllabus!B$3:I$99,8,FALSE)&RIGHT(\"00000\"&J3355,5)","v":"25005500"},"NAIC","SSAP-9","NAIC.SSAP-9: All","exam",5500,null,null,"exam:",null,null,"concept",null,"F",null,"",0,"","","","","","",1,2,0,0,44,44,999,null,null,null,5.0000000000000001E-4,"x",null,"xxxx"]
["NAIC.SSAP-9",null,null,"",{"$f":"VLOOKUP(F3362&\".\"&G3362,syllabus!B$3:I$99,8,FALSE)&RIGHT(\"00000\"&J3362,5)","v":"25006200"},"NAIC","SSAP-9","NAIC.SSAP-9: All","exam",6200,1,null,"exam: [setup required] describe the action required for the given subsequent event","large claim: ~~ - update financial statements to reflect new reserve",null,"concept",null,"A",null,"exam",1,"14","2-Fall",14,"b","i",0.5,1,4,2,4,44,44,999,null,null,null,5.0000000000000001E-4,"x",null,1]
["NAIC.SSAP-9",null,null,"",{"$f":"VLOOKUP(F3365&\".\"&G3365,syllabus!B$3:I$99,8,FALSE)&RIGHT(\"00000\"&J3365,5)","v":"25006500"},"NAIC","SSAP-9","NAIC.SSAP-9: All","exam",6500,null,null,"exam:",null,null,"concept",null,"F",null,"",0,"","","","","","",1,2,0,0,44,44,999,null,null,null,5.0000000000000001E-4,"x",null,"xxxx"]
["NAIC.SSAP-9",null,null,"",{"$f":"VLOOKUP(F3374&\".\"&G3374,syllabus!B$3:I$99,8,FALSE)&RIGHT(\"00000\"&J3374,5)","v":"25007400"},"NAIC","SSAP-9","NAIC.SSAP-9: All","exam",7400,null,null,"exam:",null,null,"concept",null,"F",null,"",0,"","","","","","",1,2,0,0,44,44,999,null,null,null,5.0000000000000001E-4,"x",null,"xxxx"]
["NAIC.SSAP-9",null,null,"",{"$f":"VLOOKUP(F3378&\".\"&G3378,syllabus!B$3:I$99,8,FALSE)&RIGHT(\"00000\"&J3378,5)","v":"25007800"},"NAIC","SSAP-9","NAIC.SSAP-9: All","exam",7800,null,null,"exam:",null,null,"concept",null,"F",null,"",0,"","","","","","",1,2,0,0,44,44,999,null,null,null,5.0000000000000001E-4,"x",null,"xxxx"]
["NAIC.SSAP-9",null,null,"",{"$f":"VLOOKUP(F3385&\".\"&G3385,syllabus!B$3:I$99,8,FALSE)&RIGHT(\"00000\"&J3385,5)","v":"25008500"},"NAIC","SSAP-9","NAIC.SSAP-9: All","exam",8500,null,null,"exam:",null,null,"concept",null,"F",null,"",0,"","","","","","",1,2,0,0,44,44,999,null,null,null,5.0000000000000001E-4,"x",null,"xxxx"]
["NAIC.SSAP-9",null,null,"",{"$f":"VLOOKUP(F3394&\".\"&G3394,syllabus!B$3:I$99,8,FALSE)&RIGHT(\"00000\"&J3394,5)","v":"25009400"},"NAIC","SSAP-9","NAIC.SSAP-9: All","exam",9400,null,null,"exam:",null,null,"concept",null,"F",null,"",0,"","","","","","",1,2,0,0,44,44,999,null,null,null,5.0000000000000001E-4,"x",null,"xxxx"]
["NAIC.SSAP-9",null,null,"",{"$f":"VLOOKUP(F3395&\".\"&G3395,syllabus!B$3:I$99,8,FALSE)&RIGHT(\"00000\"&J3395,5)","v":"25009500"},"NAIC","SSAP-9","NAIC.SSAP-9: All","exam",9500,null,null,"exam:",null,null,"concept",null,"F",null,"",0,"","","","","","",1,2,0,0,44,44,999,null,null,null,5.0000000000000001E-4,"x",null,"xxxx"]
["NAIC.SSAP-53",null,null,"",{"$f":"VLOOKUP(F3404&\".\"&G3404,syllabus!B$3:I$99,8,FALSE)&RIGHT(\"00000\"&J3404,5)","v":"26000400"},"NAIC","SSAP-53","NAIC.SSAP-53: All","BC",400,null,null,"BC:",null,null,"concept",null,"F",null,"",0,"","","","","","",1,2,0,0,51,51,999,null,null,null,5.0000000000000001E-4,"x",null,"xxxx"]
["NAIC.SSAP-53",null,null,"",{"$f":"VLOOKUP(F3412&\".\"&G3412,syllabus!B$3:I$99,8,FALSE)&RIGHT(\"00000\"&J3412,5)","v":"26001200"},"NAIC","SSAP-53","NAIC.SSAP-53: All","BC",1200,null,null,"BC:",null,null,"concept",null,"F",null,"",0,"","","","","","",1,2,0,0,51,51,999,null,null,null,5.0000000000000001E-4,"x",null,"xxxx"]
["NAIC.SSAP-53",null,null,"",{"$f":"VLOOKUP(F3415&\".\"&G3415,syllabus!B$3:I$99,8,FALSE)&RIGHT(\"00000\"&J3415,5)","v":"26001500"},"NAIC","SSAP-53","NAIC.SSAP-53: All","BC",1500,null,null,"BC:",null,null,"concept",null,"F",null,"",0,"","","","","","",1,2,0,0,51,51,999,null,null,null,5.0000000000000001E-4,"x",null,"xxxx"]
["NAIC.SSAP-53",null,null,"",{"$f":"VLOOKUP(F3424&\".\"&G3424,syllabus!B$3:I$99,8,FALSE)&RIGHT(\"00000\"&J3424,5)","v":"26002400"},"NAIC","SSAP-53","NAIC.SSAP-53: All","BC",2400,null,null,"BC:",null,null,"concept",null,"F",null,"",0,"","","","","","",1,2,0,0,51,51,999,null,null,null,5.0000000000000001E-4,"x",null,"xxxx"]
["NAIC.SSAP-53",null,null,"",{"$f":"VLOOKUP(F3427&\".\"&G3427,syllabus!B$3:I$99,8,FALSE)&RIGHT(\"00000\"&J3427,5)","v":"26002700"},"NAIC","SSAP-53","NAIC.SSAP-53: All","BC",2700,null,null,"BC:",null,null,"concept",null,"F",null,"",0,"","","","","","",1,2,0,0,51,51,999,null,null,null,5.0000000000000001E-4,"x",null,"xxxx"]
["NAIC.SSAP-53",null,null,"",{"$f":"VLOOKUP(F3435&\".\"&G3435,syllabus!B$3:I$99,8,FALSE)&RIGHT(\"00000\"&J3435,5)","v":"26003500"},"NAIC","SSAP-53","NAIC.SSAP-53: All","exam",3500,null,null,"exam:",null,null,"concept",null,"F",null,"",0,"","","","","","",1,2,0,0,51,51,999,null,null,null,5.0000000000000001E-4,"x",null,"xxxx"]
["NAIC.SSAP-53",null,null,"",{"$f":"VLOOKUP(F3444&\".\"&G3444,syllabus!B$3:I$99,8,FALSE)&RIGHT(\"00000\"&J3444,5)","v":"26004400"},"NAIC","SSAP-53","NAIC.SSAP-53: All","exam",4400,null,null,"exam:",null,null,"concept",null,"F",null,"",0,"","","","","","",1,2,0,0,51,51,999,null,null,null,5.0000000000000001E-4,"x",null,"xxxx"]
["NAIC.SSAP-53",null,null,"",{"$f":"VLOOKUP(F3445&\".\"&G3445,syllabus!B$3:I$99,8,FALSE)&RIGHT(\"00000\"&J3445,5)","v":"26004500"},"NAIC","SSAP-53","NAIC.SSAP-53: All","exam",4500,null,null,"exam:",null,null,"concept",null,"F",null,"",0,"","","","","","",1,2,0,0,51,51,999,null,null,null,5.0000000000000001E-4,"x",null,"xxxx"]
["NAIC.SSAP-53",null,null,"",{"$f":"VLOOKUP(F3453&\".\"&G3453,syllabus!B$3:I$99,8,FALSE)&RIGHT(\"00000\"&J3453,5)","v":"26005300"},"NAIC","SSAP-53","NAIC.SSAP-53: All","exam",5300,null,null,"exam:",null,null,"concept",null,"F",null,"",0,"","","","","","",1,2,0,0,51,51,999,null,null,null,5.0000000000000001E-4,"x",null,"xxxx"]
["NAIC.SSAP-53",null,null,"",{"$f":"VLOOKUP(F3462&\".\"&G3462,syllabus!B$3:I$99,8,FALSE)&RIGHT(\"00000\"&J3462,5)","v":"26006200"},"NAIC","SSAP-53","NAIC.SSAP-53: All","exam",6200,null,null,"exam:",null,null,"concept",null,"F",null,"",0,"","","","","","",1,2,0,0,51,51,999,null,null,null,5.0000000000000001E-4,"x",null,"xxxx"]
["NAIC.SSAP-53",null,null,"",{"$f":"VLOOKUP(F3465&\".\"&G3465,syllabus!B$3:I$99,8,FALSE)&RIGHT(\"00000\"&J3465,5)","v":"26006500"},"NAIC","SSAP-53","NAIC.SSAP-53: All","exam",6500,null,null,"exam:",null,null,"concept",null,"F",null,"",0,"","","","","","",1,2,0,0,51,51,999,null,null,null,5.0000000000000001E-4,"x",null,"xxxx"]
["NAIC.SSAP-53",null,null,"",{"$f":"VLOOKUP(F3474&\".\"&G3474,syllabus!B$3:I$99,8,FALSE)&RIGHT(\"00000\"&J3474,5)","v":"26007400"},"NAIC","SSAP-53","NAIC.SSAP-53: All","exam",7400,null,null,"exam:",null,null,"concept",null,"F",null,"",0,"","","","","","",1,2,0,0,51,51,999,null,null,null,5.0000000000000001E-4,"x",null,"xxxx"]
["NAIC.SSAP-53",null,null,"",{"$f":"VLOOKUP(F3476&\".\"&G3476,syllabus!B$3:I$99,8,FALSE)&RIGHT(\"00000\"&J3476,5)","v":"26007600"},"NAIC","SSAP-53","NAIC.SSAP-53: All","exam",7600,null,null,"exam:",null,null,"concept",null,"F",null,"",0,"","","","","","",1,2,0,0,51,51,999,null,null,null,5.0000000000000001E-4,"x",null,"xxxx"]
["NAIC.SSAP-53",null,null,"",{"$f":"VLOOKUP(F3485&\".\"&G3485,syllabus!B$3:I$99,8,FALSE)&RIGHT(\"00000\"&J3485,5)","v":"26008500"},"NAIC","SSAP-53","NAIC.SSAP-53: All","exam",8500,null,null,"exam:",null,null,"concept",null,"F",null,"",0,"","","","","","",1,2,0,0,51,51,999,null,null,null,5.0000000000000001E-4,"x",null,"xxxx"]
["NAIC.SSAP-53",null,null,"",{"$f":"VLOOKUP(F3492&\".\"&G3492,syllabus!B$3:I$99,8,FALSE)&RIGHT(\"00000\"&J3492,5)","v":"26009200"},"NAIC","SSAP-53","NAIC.SSAP-53: All","exam",9200,null,null,"exam:",null,null,"concept",null,"F",null,"",0,"","","","","","",1,2,0,0,51,51,999,null,null,null,5.0000000000000001E-4,"x",null,"xxxx"]
["NAIC.SSAP-53",null,null,"",{"$f":"VLOOKUP(F3495&\".\"&G3495,syllabus!B$3:I$99,8,FALSE)&RIGHT(\"00000\"&J3495,5)","v":"26009500"},"NAIC","SSAP-53","NAIC.SSAP-53: All","exam",9500,null,null,"exam:",null,null,"concept",null,"F",null,"",0,"","","","","","",1,2,0,0,51,51,999,null,null,null,5.0000000000000001E-4,"x",null,"xxxx"]
["NAIC.SSAP-55",null,null,"",{"$f":"VLOOKUP(F3502&\".\"&G3502,syllabus!B$3:I$99,8,FALSE)&RIGHT(\"00000\"&J3502,5)","v":"27000200"},"NAIC","SSAP-55","NAIC.SSAP-55: All","general",200,null,null,"general: identify examples of DCC expenses (Defence & Cost Containment) (2)","litigation management, rehab nurses",null,"concept",null,"B",null,"",0,"","","","","","",1,2,0.2,0.28284271247461906,52,52,999,null,null,null,5.0000000000000001E-4,"x",null,1]
["NAIC.SSAP-55",null,null,"",{"$f":"VLOOKUP(F3512&\".\"&G3512,syllabus!B$3:I$99,8,FALSE)&RIGHT(\"00000\"&J3512,5)","v":"27001200"},"NAIC","SSAP-55","NAIC.SSAP-55: All","BC",1200,null,null,"BC:",null,null,"concept",null,"F",null,"",0,"","","","","","",1,2,0,0,52,52,999,null,null,null,5.0000000000000001E-4,"x",null,"xxxx"]
["NAIC.SSAP-55",null,null,"",{"$f":"VLOOKUP(F3515&\".\"&G3515,syllabus!B$3:I$99,8,FALSE)&RIGHT(\"00000\"&J3515,5)","v":"27001500"},"NAIC","SSAP-55","NAIC.SSAP-55: All","BC",1500,null,null,"BC:",null,null,"concept",null,"F",null,"",0,"","","","","","",1,2,0,0,52,52,999,null,null,null,5.0000000000000001E-4,"x",null,"xxxx"]
["NAIC.SSAP-55",null,null,"",{"$f":"VLOOKUP(F3524&\".\"&G3524,syllabus!B$3:I$99,8,FALSE)&RIGHT(\"00000\"&J3524,5)","v":"27002400"},"NAIC","SSAP-55","NAIC.SSAP-55: All","BC",2400,null,null,"BC:",null,null,"concept",null,"F",null,"",0,"","","","","","",1,2,0,0,52,52,999,null,null,null,5.0000000000000001E-4,"x",null,"xxxx"]
["NAIC.SSAP-55",null,null,"",{"$f":"VLOOKUP(F3532&\".\"&G3532,syllabus!B$3:I$99,8,FALSE)&RIGHT(\"00000\"&J3532,5)","v":"27003200"},"NAIC","SSAP-55","NAIC.SSAP-55: All","BC",3200,null,null,"BC:",null,null,"concept",null,"F",null,"",0,"","","","","","",1,2,0,0,52,52,999,null,null,null,5.0000000000000001E-4,"x",null,"xxxx"]
["NAIC.SSAP-55",null,null,"",{"$f":"VLOOKUP(F3535&\".\"&G3535,syllabus!B$3:I$99,8,FALSE)&RIGHT(\"00000\"&J3535,5)","v":"27003500"},"NAIC","SSAP-55","NAIC.SSAP-55: All","exam",3500,null,null,"exam:",null,null,"concept",null,"F",null,"",0,"","","","","","",1,2,0,0,52,52,999,null,null,null,5.0000000000000001E-4,"x",null,"xxxx"]
["NAIC.SSAP-55",null,null,"",{"$f":"VLOOKUP(F3542&\".\"&G3542,syllabus!B$3:I$99,8,FALSE)&RIGHT(\"00000\"&J3542,5)","v":"27004200"},"NAIC","SSAP-55","NAIC.SSAP-55: All","exam",4200,null,null,"exam:",null,null,"concept",null,"F",null,"",0,"","","","","","",1,2,0,0,52,52,999,null,null,null,5.0000000000000001E-4,"x",null,"xxxx"]
["NAIC.SSAP-55",null,null,"",{"$f":"VLOOKUP(F3545&\".\"&G3545,syllabus!B$3:I$99,8,FALSE)&RIGHT(\"00000\"&J3545,5)","v":"27004500"},"NAIC","SSAP-55","NAIC.SSAP-55: All","exam",4500,null,null,"exam:",null,null,"concept",null,"F",null,"",0,"","","","","","",1,2,0,0,52,52,999,null,null,null,5.0000000000000001E-4,"x",null,"xxxx"]
["NAIC.SSAP-55",null,null,"",{"$f":"VLOOKUP(F3551&\".\"&G3551,syllabus!B$3:I$99,8,FALSE)&RIGHT(\"00000\"&J3551,5)","v":"27005100"},"NAIC","SSAP-55","NAIC.SSAP-55: All","exam",5100,null,null,"exam:",null,null,"concept",null,"F",null,"",0,"","","","","","",1,2,0,0,52,52,999,null,null,null,5.0000000000000001E-4,"x",null,"xxxx"]
["NAIC.SSAP-55",null,null,"",{"$f":"VLOOKUP(F3562&\".\"&G3562,syllabus!B$3:I$99,8,FALSE)&RIGHT(\"00000\"&J3562,5)","v":"27006200"},"NAIC","SSAP-55","NAIC.SSAP-55: All","exam",6200,null,null,"exam:",null,null,"concept",null,"F",null,"",0,"","","","","","",1,2,0,0,52,52,999,null,null,null,5.0000000000000001E-4,"x",null,"xxxx"]
["NAIC.SSAP-55",null,null,"",{"$f":"VLOOKUP(F3565&\".\"&G3565,syllabus!B$3:I$99,8,FALSE)&RIGHT(\"00000\"&J3565,5)","v":"27006500"},"NAIC","SSAP-55","NAIC.SSAP-55: All","exam",6500,null,null,"exam:",null,null,"concept",null,"F",null,"",0,"","","","","","",1,2,0,0,52,52,999,null,null,null,5.0000000000000001E-4,"x",null,"xxxx"]
["NAIC.SSAP-55",null,null,"",{"$f":"VLOOKUP(F3574&\".\"&G3574,syllabus!B$3:I$99,8,FALSE)&RIGHT(\"00000\"&J3574,5)","v":"27007400"},"NAIC","SSAP-55","NAIC.SSAP-55: All","exam",7400,null,null,"exam:",null,null,"concept",null,"F",null,"",0,"","","","","","",1,2,0,0,52,52,999,null,null,null,5.0000000000000001E-4,"x",null,"xxxx"]
["NAIC.SSAP-55",null,null,"",{"$f":"VLOOKUP(F3581&\".\"&G3581,syllabus!B$3:I$99,8,FALSE)&RIGHT(\"00000\"&J3581,5)","v":"27008100"},"NAIC","SSAP-55","NAIC.SSAP-55: All","exam",8100,null,null,"exam:",null,null,"concept",null,"F",null,"",0,"","","","","","",1,2,0,0,52,52,999,null,null,null,5.0000000000000001E-4,"x",null,"xxxx"]
["NAIC.SSAP-55",null,null,"",{"$f":"VLOOKUP(F3585&\".\"&G3585,syllabus!B$3:I$99,8,FALSE)&RIGHT(\"00000\"&J3585,5)","v":"27008500"},"NAIC","SSAP-55","NAIC.SSAP-55: All","exam",8500,null,null,"exam:",null,null,"concept",null,"F",null,"",0,"","","","","","",1,2,0,0,52,52,999,null,null,null,5.0000000000000001E-4,"x",null,"xxxx"]
["NAIC.SSAP-55",null,null,"",{"$f":"VLOOKUP(F3592&\".\"&G3592,syllabus!B$3:I$99,8,FALSE)&RIGHT(\"00000\"&J3592,5)","v":"27009200"},"NAIC","SSAP-55","NAIC.SSAP-55: All","exam",9200,null,null,"exam:",null,null,"concept",null,"F",null,"",0,"","","","","","",1,2,0,0,52,52,999,null,null,null,5.0000000000000001E-4,"x",null,"xxxx"]
["NAIC.SSAP-55",null,null,"",{"$f":"VLOOKUP(F3595&\".\"&G3595,syllabus!B$3:I$99,8,FALSE)&RIGHT(\"00000\"&J3595,5)","v":"27009500"},"NAIC","SSAP-55","NAIC.SSAP-55: All","exam",9500,null,null,"exam:",null,null,"concept",null,"F",null,"",0,"","","","","","",1,2,0,0,52,52,999,null,null,null,5.0000000000000001E-4,"x",null,"xxxx"]
["NAIC.SSAP-62R",null,null,"",{"$f":"VLOOKUP(F3607&\".\"&G3607,syllabus!B$3:I$99,8,FALSE)&RIGHT(\"00000\"&J3607,5)","v":"28000700"},"NAIC","SSAP-62R","NAIC.SSAP-62R: All","general",700,1,null,"general: describe an advantage of reinsurance accounting over deposit accounting","<span style=\"color: green;\"><strong>reinsurance accounting:</strong></span> ~~ - paid losses flow through income ~~ - this reduction income lowers taxes ~ <span style=\"color: red;\"><strong>deposit accounting:</strong></span> ~~ - paid losses <u>do not</u> flow through income ~~ - income is unaffected so taxes cannot be lowered",null,"concept",null,"A",null,"",0,"","","","","","",1,11,2,6.6332495807107996,36,36,999,null,null,null,5.0000000000000001E-4,"x",null,1]
["NAIC.SSAP-62R",null,null,"",{"$f":"VLOOKUP(F3612&\".\"&G3612,syllabus!B$3:I$99,8,FALSE)&RIGHT(\"00000\"&J3612,5)","v":"28001200"},"NAIC","SSAP-62R","NAIC.SSAP-62R: All","BC",1200,null,null,"BC:",null,null,"concept",null,"F",null,"",0,"","","","","","",1,2,0,0,36,36,999,null,null,null,5.0000000000000001E-4,"x",null,"xxxx"]
["NAIC.SSAP-62R",null,null,"",{"$f":"VLOOKUP(F3615&\".\"&G3615,syllabus!B$3:I$99,8,FALSE)&RIGHT(\"00000\"&J3615,5)","v":"28001500"},"NAIC","SSAP-62R","NAIC.SSAP-62R: All","BC",1500,null,null,"BC:",null,null,"concept",null,"F",null,"",0,"","","","","","",1,2,0,0,36,36,999,null,null,null,5.0000000000000001E-4,"x",null,"xxxx"]
["NAIC.SSAP-62R",null,null,"",{"$f":"VLOOKUP(F3622&\".\"&G3622,syllabus!B$3:I$99,8,FALSE)&RIGHT(\"00000\"&J3622,5)","v":"28002200"},"NAIC","SSAP-62R","NAIC.SSAP-62R: All","BC",2200,null,null,"BC:",null,null,"concept",null,"F",null,"",0,"","","","","","",1,2,0,0,36,36,999,null,null,null,5.0000000000000001E-4,"x",null,"xxxx"]
["NAIC.SSAP-62R",null,null,"",{"$f":"VLOOKUP(F3630&\".\"&G3630,syllabus!B$3:I$99,8,FALSE)&RIGHT(\"00000\"&J3630,5)","v":"28003000"},"NAIC","SSAP-62R","NAIC.SSAP-62R: All","BC",3000,null,null,"BC:",null,null,"concept",null,"F",null,"",0,"","","","","","",1,2,0,0,36,36,999,null,null,null,5.0000000000000001E-4,"x",null,"xxxx"]
["NAIC.SSAP-62R",null,null,"",{"$f":"VLOOKUP(F3635&\".\"&G3635,syllabus!B$3:I$99,8,FALSE)&RIGHT(\"00000\"&J3635,5)","v":"28003500"},"NAIC","SSAP-62R","NAIC.SSAP-62R: All","exam",3500,null,null,"exam:",null,null,"concept",null,"F",null,"",0,"","","","","","",1,2,0,0,36,36,999,null,null,null,5.0000000000000001E-4,"x",null,"xxxx"]
["NAIC.SSAP-62R",null,null,"",{"$f":"VLOOKUP(F3642&\".\"&G3642,syllabus!B$3:I$99,8,FALSE)&RIGHT(\"00000\"&J3642,5)","v":"28004200"},"NAIC","SSAP-62R","NAIC.SSAP-62R: All","exam",4200,null,null,"exam:",null,null,"concept",null,"F",null,"",0,"","","","","","",1,2,0,0,36,36,999,null,null,null,5.0000000000000001E-4,"x",null,"xxxx"]
["NAIC.SSAP-62R",null,null,"",{"$f":"VLOOKUP(F3645&\".\"&G3645,syllabus!B$3:I$99,8,FALSE)&RIGHT(\"00000\"&J3645,5)","v":"28004500"},"NAIC","SSAP-62R","NAIC.SSAP-62R: All","exam",4500,null,null,"exam:",null,null,"concept",null,"F",null,"",0,"","","","","","",1,2,0,0,36,36,999,null,null,null,5.0000000000000001E-4,"x",null,"xxxx"]
["NAIC.SSAP-62R",null,null,"",{"$f":"VLOOKUP(F3656&\".\"&G3656,syllabus!B$3:I$99,8,FALSE)&RIGHT(\"00000\"&J3656,5)","v":"28005600"},"NAIC","SSAP-62R","NAIC.SSAP-62R: All","exam",5600,null,null,"exam:",null,null,"concept",null,"F",null,"",0,"","","","","","",1,2,0,0,36,36,999,null,null,null,5.0000000000000001E-4,"x",null,"xxxx"]
["NAIC.SSAP-62R",null,null,"",{"$f":"VLOOKUP(F3662&\".\"&G3662,syllabus!B$3:I$99,8,FALSE)&RIGHT(\"00000\"&J3662,5)","v":"28006200"},"NAIC","SSAP-62R","NAIC.SSAP-62R: All","exam",6200,2,null,"exam: in deposit accounting, how does a reinsurer record assumed losses on the balance sheet","as a write-in liability",null,"concept",null,"A",null,"exam",1,"17","2-Fall",28,"c",null,0.25,1,2,2,2.8284271247461903,36,36,999,null,null,null,5.0000000000000001E-4,"x",null,2]
["NAIC.SSAP-62R",null,null,"",{"$f":"VLOOKUP(F3665&\".\"&G3665,syllabus!B$3:I$99,8,FALSE)&RIGHT(\"00000\"&J3665,5)","v":"28006500"},"NAIC","SSAP-62R","NAIC.SSAP-62R: All","exam",6500,4,null,"exam: describe items a regulator might review before approving reinsurance accounting treatment for runoff agreement (4)","from paragraph 82 of SSAP-62R: (many possible answers) ~~ - reinsurer is properly licensed (obvious!) ~~ - contract must meet normal risk transfer requirements (obvious!) ~~ - policy limits & coverage don't change (the liabilities are being transferred \"as is\") ~~ - reinsurer must be rated at least as high as cedant by 2 different rating agencies",null,"concept",null,"A",null,"exam",1,"14","2-Fall",24,"c","",1,1,10,2,6.324555320336759,36,36,999,null,null,null,5.0000000000000001E-4,"x",null,4]
["NAIC.SSAP-62R",null,null,"",{"$f":"VLOOKUP(F3672&\".\"&G3672,syllabus!B$3:I$99,8,FALSE)&RIGHT(\"00000\"&J3672,5)","v":"28007200"},"NAIC","SSAP-62R","NAIC.SSAP-62R: All","exam",7200,null,null,"exam:",null,null,"concept",null,"F",null,"",0,"","","","","","",1,2,0,0,36,36,999,null,null,null,5.0000000000000001E-4,"x",null,"xxxx"]
["NAIC.SSAP-62R",null,null,"",{"$f":"VLOOKUP(F3679&\".\"&G3679,syllabus!B$3:I$99,8,FALSE)&RIGHT(\"00000\"&J3679,5)","v":"28007900"},"NAIC","SSAP-62R","NAIC.SSAP-62R: All","exam",7900,null,null,"exam:",null,null,"concept",null,"F",null,"",0,"","","","","","",1,2,0,0,36,36,999,null,null,null,5.0000000000000001E-4,"x",null,"xxxx"]
["NAIC.SSAP-62R",null,null,"",{"$f":"VLOOKUP(F3685&\".\"&G3685,syllabus!B$3:I$99,8,FALSE)&RIGHT(\"00000\"&J3685,5)","v":"28008500"},"NAIC","SSAP-62R","NAIC.SSAP-62R: All","exam",8500,null,null,"exam:",null,null,"concept",null,"F",null,"",0,"","","","","","",1,2,0,0,36,36,999,null,null,null,5.0000000000000001E-4,"x",null,"xxxx"]
["NAIC.SSAP-62R",null,null,"",{"$f":"VLOOKUP(F3692&\".\"&G3692,syllabus!B$3:I$99,8,FALSE)&RIGHT(\"00000\"&J3692,5)","v":"28009200"},"NAIC","SSAP-62R","NAIC.SSAP-62R: All","exam",9200,null,null,"exam:",null,null,"concept",null,"F",null,"",0,"","","","","","",1,2,0,0,36,36,999,null,null,null,5.0000000000000001E-4,"x",null,"xxxx"]
["NAIC.SSAP-62R",null,null,"",{"$f":"VLOOKUP(F3695&\".\"&G3695,syllabus!B$3:I$99,8,FALSE)&RIGHT(\"00000\"&J3695,5)","v":"28009500"},"NAIC","SSAP-62R","NAIC.SSAP-62R: All","exam",9500,null,null,"exam:",null,null,"concept",null,"F",null,"",0,"","","","","","",1,2,0,0,36,36,999,null,null,null,5.0000000000000001E-4,"x",null,"xxxx"]
["NAIC.SSAP-65",null,null,"",{"$f":"VLOOKUP(F3702&\".\"&G3702,syllabus!B$3:I$99,8,FALSE)&RIGHT(\"00000\"&J3702,5)","v":"29000200"},"NAIC","SSAP-65","NAIC.SSAP-65: All","general",200,1,null,"general: identify types of P&C contracts (3)","occurrence, claims-made, extended reporting",null,"concept",null,"B",null,"",0,"","","","","","",1,2,0.2,0.28284271247461906,53,53,999,null,null,null,5.0000000000000001E-4,"x",null,1]
["NAIC.SSAP-65",null,null,"",{"$f":"VLOOKUP(F3712&\".\"&G3712,syllabus!B$3:I$99,8,FALSE)&RIGHT(\"00000\"&J3712,5)","v":"29001200"},"NAIC","SSAP-65","NAIC.SSAP-65: All","BC",1200,null,null,"BC:",null,null,"concept",null,"F",null,"",0,"","","","","","",1,2,0,0,53,53,999,null,null,null,5.0000000000000001E-4,"x",null,"xxxx"]
["NAIC.SSAP-65",null,null,"",{"$f":"VLOOKUP(F3715&\".\"&G3715,syllabus!B$3:I$99,8,FALSE)&RIGHT(\"00000\"&J3715,5)","v":"29001500"},"NAIC","SSAP-65","NAIC.SSAP-65: All","BC",1500,null,null,"BC:",null,null,"concept",null,"F",null,"",0,"","","","","","",1,2,0,0,53,53,999,null,null,null,5.0000000000000001E-4,"x",null,"xxxx"]
["NAIC.SSAP-65",null,null,"",{"$f":"VLOOKUP(F3722&\".\"&G3722,syllabus!B$3:I$99,8,FALSE)&RIGHT(\"00000\"&J3722,5)","v":"29002200"},"NAIC","SSAP-65","NAIC.SSAP-65: All","BC",2200,null,null,"BC:",null,null,"concept",null,"F",null,"",0,"","","","","","",1,2,0,0,53,53,999,null,null,null,5.0000000000000001E-4,"x",null,"xxxx"]
["NAIC.SSAP-65",null,null,"",{"$f":"VLOOKUP(F3728&\".\"&G3728,syllabus!B$3:I$99,8,FALSE)&RIGHT(\"00000\"&J3728,5)","v":"29002800"},"NAIC","SSAP-65","NAIC.SSAP-65: All","BC",2800,null,null,"BC:",null,null,"concept",null,"F",null,"",0,"","","","","","",1,2,0,0,53,53,999,null,null,null,5.0000000000000001E-4,"x",null,"xxxx"]
["NAIC.SSAP-65",null,null,"",{"$f":"VLOOKUP(F3735&\".\"&G3735,syllabus!B$3:I$99,8,FALSE)&RIGHT(\"00000\"&J3735,5)","v":"29003500"},"NAIC","SSAP-65","NAIC.SSAP-65: All","exam",3500,null,null,"exam:",null,null,"concept",null,"F",null,"",0,"","","","","","",1,2,0,0,53,53,999,null,null,null,5.0000000000000001E-4,"x",null,"xxxx"]
["NAIC.SSAP-65",null,null,"",{"$f":"VLOOKUP(F3742&\".\"&G3742,syllabus!B$3:I$99,8,FALSE)&RIGHT(\"00000\"&J3742,5)","v":"29004200"},"NAIC","SSAP-65","NAIC.SSAP-65: All","exam",4200,null,null,"exam:",null,null,"concept",null,"F",null,"",0,"","","","","","",1,2,0,0,53,53,999,null,null,null,5.0000000000000001E-4,"x",null,"xxxx"]
["NAIC.SSAP-65",null,null,"",{"$f":"VLOOKUP(F3745&\".\"&G3745,syllabus!B$3:I$99,8,FALSE)&RIGHT(\"00000\"&J3745,5)","v":"29004500"},"NAIC","SSAP-65","NAIC.SSAP-65: All","exam",4500,null,null,"exam:",null,null,"concept",null,"F",null,"",0,"","","","","","",1,2,0,0,53,53,999,null,null,null,5.0000000000000001E-4,"x",null,"xxxx"]
["NAIC.SSAP-65",null,null,"",{"$f":"VLOOKUP(F3751&\".\"&G3751,syllabus!B$3:I$99,8,FALSE)&RIGHT(\"00000\"&J3751,5)","v":"29005100"},"NAIC","SSAP-65","NAIC.SSAP-65: All","exam",5100,null,null,"exam:",null,null,"concept",null,"F",null,"",0,"","","","","","",1,2,0,0,53,53,999,null,null,null,5.0000000000000001E-4,"x",null,"xxxx"]
["NAIC.SSAP-65",null,null,"",{"$f":"VLOOKUP(F3762&\".\"&G3762,syllabus!B$3:I$99,8,FALSE)&RIGHT(\"00000\"&J3762,5)","v":"29006200"},"NAIC","SSAP-65","NAIC.SSAP-65: All","exam",6200,null,null,"exam:",null,null,"concept",null,"F",null,"",0,"","","","","","",1,2,0,0,53,53,999,null,null,null,5.0000000000000001E-4,"x",null,"xxxx"]
["NAIC.SSAP-65",null,null,"",{"$f":"VLOOKUP(F3765&\".\"&G3765,syllabus!B$3:I$99,8,FALSE)&RIGHT(\"00000\"&J3765,5)","v":"29006500"},"NAIC","SSAP-65","NAIC.SSAP-65: All","exam",6500,null,null,"exam:",null,null,"concept",null,"F",null,"",0,"","","","","","",1,2,0,0,53,53,999,null,null,null,5.0000000000000001E-4,"x",null,"xxxx"]
["NAIC.SSAP-65",null,null,"",{"$f":"VLOOKUP(F3772&\".\"&G3772,syllabus!B$3:I$99,8,FALSE)&RIGHT(\"00000\"&J3772,5)","v":"29007200"},"NAIC","SSAP-65","NAIC.SSAP-65: All","exam",7200,null,null,"exam:",null,null,"concept",null,"F",null,"",0,"","","","","","",1,2,0,0,53,53,999,null,null,null,5.0000000000000001E-4,"x",null,"xxxx"]
["NAIC.SSAP-65",null,null,"",{"$f":"VLOOKUP(F3777&\".\"&G3777,syllabus!B$3:I$99,8,FALSE)&RIGHT(\"00000\"&J3777,5)","v":"29007700"},"NAIC","SSAP-65","NAIC.SSAP-65: All","exam",7700,null,null,"exam:",null,null,"concept",null,"F",null,"",0,"","","","","","",1,2,0,0,53,53,999,null,null,null,5.0000000000000001E-4,"x",null,"xxxx"]
["NAIC.SSAP-65",null,null,"",{"$f":"VLOOKUP(F3785&\".\"&G3785,syllabus!B$3:I$99,8,FALSE)&RIGHT(\"00000\"&J3785,5)","v":"29008500"},"NAIC","SSAP-65","NAIC.SSAP-65: All","exam",8500,null,null,"exam:",null,null,"concept",null,"F",null,"",0,"","","","","","",1,2,0,0,53,53,999,null,null,null,5.0000000000000001E-4,"x",null,"xxxx"]
["NAIC.SSAP-65",null,null,"",{"$f":"VLOOKUP(F3792&\".\"&G3792,syllabus!B$3:I$99,8,FALSE)&RIGHT(\"00000\"&J3792,5)","v":"29009200"},"NAIC","SSAP-65","NAIC.SSAP-65: All","exam",9200,null,null,"exam:",null,null,"concept",null,"F",null,"",0,"","","","","","",1,2,0,0,53,53,999,null,null,null,5.0000000000000001E-4,"x",null,"xxxx"]
["NAIC.SSAP-65",null,null,"",{"$f":"VLOOKUP(F3795&\".\"&G3795,syllabus!B$3:I$99,8,FALSE)&RIGHT(\"00000\"&J3795,5)","v":"29009500"},"NAIC","SSAP-65","NAIC.SSAP-65: All","exam",9500,null,null,"exam:",null,null,"concept",null,"F",null,"",0,"","","","","","",1,2,0,0,53,53,999,null,null,null,5.0000000000000001E-4,"x",null,"xxxx"]
["NAIC.IRIS",null,null,"",{"$f":"VLOOKUP(F3807&\".\"&G3807,syllabus!B$3:I$99,8,FALSE)&RIGHT(\"00000\"&J3807,5)","v":"30000700"},"NAIC","IRIS","NAIC.IRIS: All","profitability ratios (5-8)",700,2,null,"profitability ratios (5-8): calculate IRIS Profitability ratios (5,6,7,8)","click on button with pencil to see problem",null,"calc","calc06","A",null,"",0,"","","","","","",12.5,6,2,244.94897427831779,4,4,999,null,"CP","US_R04_IRIS_030_profitability",1E-4,"x",null,2]
["NAIC.IRIS",null,null,"",{"$f":"VLOOKUP(F3812&\".\"&G3812,syllabus!B$3:I$99,8,FALSE)&RIGHT(\"00000\"&J3812,5)","v":"30001200"},"NAIC","IRIS","NAIC.IRIS: All","liquidity ratios (9-10)",1200,3,null,"liquidity ratios (9-10): calculate IRIS Liquidity ratios (9,10)","click on button with pencil to see problem",null,"calc","calc02","A",null,"",0,"","","","","","",12.5,2,2,141.42135623730951,4,4,999,null,"CP","US_R04_IRIS_040_liquidity",1E-4,"x",null,3]
["NAIC.IRIS",null,null,"",{"$f":"VLOOKUP(F3815&\".\"&G3815,syllabus!B$3:I$99,8,FALSE)&RIGHT(\"00000\"&J3815,5)","v":"30001500"},"NAIC","IRIS","NAIC.IRIS: All","reserve ratios (11-13)",1500,4,null,"reserve ratios (11-13): calculate IRIS Reserve ratios (11,12,13)","click on button with pencil to see problem",null,"calc","calc08","A",null,"",0,"","","","","","",12.5,8,2,282.84271247461902,4,4,999,null,"CP","US_R04_IRIS_050_reserve",1E-4,"x",null,4]
["NAIC.IRIS",null,null,"",{"$f":"VLOOKUP(F3822&\".\"&G3822,syllabus!B$3:I$99,8,FALSE)&RIGHT(\"00000\"&J3822,5)","v":"30002200"},"NAIC","IRIS","NAIC.IRIS: All","BC",2200,null,null,"BC:",null,null,"concept",null,"F",null,"",0,"","","","","","",5,2,0,0,4,4,999,null,null,null,5.0000000000000001E-4,"x",null,"xxxx"]
["NAIC.IRIS",null,null,"",{"$f":"VLOOKUP(F3826&\".\"&G3826,syllabus!B$3:I$99,8,FALSE)&RIGHT(\"00000\"&J3826,5)","v":"30002600"},"NAIC","IRIS","NAIC.IRIS: All","BC",2600,null,null,"BC:",null,null,"concept",null,"F",null,"",0,"","","","","","",5,2,0,0,4,4,999,null,null,null,5.0000000000000001E-4,"x",null,"xxxx"]
["NAIC.IRIS",null,null,"",{"$f":"VLOOKUP(F3833&\".\"&G3833,syllabus!B$3:I$99,8,FALSE)&RIGHT(\"00000\"&J3833,5)","v":"30003300"},"NAIC","IRIS","NAIC.IRIS: All","BC",3300,null,null,"BC:",null,null,"concept",null,"F",null,"",0,"","","","","","",5,2,0,0,4,4,999,null,null,null,5.0000000000000001E-4,"x",null,"xxxx"]
["NAIC.IRIS",null,null,"",{"$f":"VLOOKUP(F3842&\".\"&G3842,syllabus!B$3:I$99,8,FALSE)&RIGHT(\"00000\"&J3842,5)","v":"30004200"},"NAIC","IRIS","NAIC.IRIS: All","exam",4200,null,null,"exam:",null,null,"concept",null,"F",null,"",0,"","","","","","",5,2,0,0,4,4,999,null,null,null,5.0000000000000001E-4,"x",null,"xxxx"]
["NAIC.IRIS",null,null,"",{"$f":"VLOOKUP(F3845&\".\"&G3845,syllabus!B$3:I$99,8,FALSE)&RIGHT(\"00000\"&J3845,5)","v":"30004500"},"NAIC","IRIS","NAIC.IRIS: All","exam",4500,null,null,"exam:",null,null,"concept",null,"F",null,"",0,"","","","","","",5,2,0,0,4,4,999,null,null,null,5.0000000000000001E-4,"x",null,"xxxx"]
["NAIC.IRIS",null,null,"",{"$f":"VLOOKUP(F3856&\".\"&G3856,syllabus!B$3:I$99,8,FALSE)&RIGHT(\"00000\"&J3856,5)","v":"30005600"},"NAIC","IRIS","NAIC.IRIS: All","exam",5600,6,null,"exam: [setup required] calculate IRIS 11 & say if it's in range [ (1-yr reserve development) / surplus ]","see examiner's report - click yellow \"E\" link in \"Section\" column",null,"calc",null,"A",null,"exam",1,"17","2-Fall",15,"c","",1.25,12.5,2,2,35.355339059327378,4,4,999,null,null,null,1E-4,"x",null,6]
["NAIC.IRIS",null,null,"",{"$f":"VLOOKUP(F3862&\".\"&G3862,syllabus!B$3:I$99,8,FALSE)&RIGHT(\"00000\"&J3862,5)","v":"30006200"},"NAIC","IRIS","NAIC.IRIS: All","exam",6200,6,null,"exam: [setup required] describe 'Note 23 - Reinsurance' in Notes to Fin. Stmts. and why a regulator might look at it here","Note 23: ~~ - discloses reinsurance recoverables > 3% of surplus ~~ - also unsecured recoverables, reinsurance assumed & ceded which are significant why regulator may look at Note 23: ~~ - significant or unsecured recoverables could indicate credit risk",null,"concept",null,"A",null,"exam",1,"17","1-Spring",12,"c","",0.5,5,8,2,28.284271247461902,4,4,999,null,null,null,5.0000000000000001E-4,"x",null,6]
["NAIC.IRIS",null,null,"",{"$f":"VLOOKUP(F3865&\".\"&G3865,syllabus!B$3:I$99,8,FALSE)&RIGHT(\"00000\"&J3865,5)","v":"30006500"},"NAIC","IRIS","NAIC.IRIS: All","exam",6500,1,null,"exam: [setup required] describe a strategy to improve IRIS 2 for the following year","decrease NWP: ~~ - write less business, secure more reinsurance, increase cession on existing reinsurance ~ increase surplus ~~ - reduce expenses, reduce reserves, secure capital from parent",null,"concept",null,"A",null,"exam",1,"17","1-Spring",17,"b","",0.5,5,7,2,26.457513110645905,4,4,999,null,null,null,5.0000000000000001E-4,"x",null,1]
["NAIC.IRIS",null,null,"",{"$f":"VLOOKUP(F3872&\".\"&G3872,syllabus!B$3:I$99,8,FALSE)&RIGHT(\"00000\"&J3872,5)","v":"30007200"},"NAIC","IRIS","NAIC.IRIS: All","exam",7200,4,null,"exam: [setup required] calculate IRIS 13 & say if it's in range [estimated reserve deficiency (redundancy)] / surplus","see examiner's report - click yellow \"E\" link in \"Section\" column",null,"calc",null,"A",null,"exam",1,"16","1-Spring",16,"a","",2,12.5,2,2,35.355339059327378,4,4,999,null,null,null,1E-4,"x",null,4]
["NAIC.IRIS",null,null,"",{"$f":"VLOOKUP(F3882&\".\"&G3882,syllabus!B$3:I$99,8,FALSE)&RIGHT(\"00000\"&J3882,5)","v":"30008200"},"NAIC","IRIS","NAIC.IRIS: All","exam",8200,8,null,"exam: [setup required] calculate policy holder's surplus","see examiner's report - click yellow \"E\" link in \"Section\" column",null,"concept",null,"A",null,"exam",1,"14","2-Fall",12,"a","",1.5,5,2,2,14.142135623730951,4,4,999,null,null,null,5.0000000000000001E-4,"x",null,8]
["NAIC.IRIS",null,null,"",{"$f":"VLOOKUP(F3883&\".\"&G3883,syllabus!B$3:I$99,8,FALSE)&RIGHT(\"00000\"&J3883,5)","v":"30008300"},"NAIC","IRIS","NAIC.IRIS: All","exam",8300,8,null,"exam: [setup required] calculate IRIS 2,4 & say if they're in range & how regulator might respond","see examiner's report - click yellow \"E\" link in \"Section\" column",null,"calc",null,"A",null,"exam",1,"14","2-Fall",12,"b","",1.125,12.5,2,2,35.355339059327378,4,4,999,null,null,null,1E-4,"x",null,8]
["NAIC.IRIS",null,null,"",{"$f":"VLOOKUP(F3892&\".\"&G3892,syllabus!B$3:I$99,8,FALSE)&RIGHT(\"00000\"&J3892,5)","v":"30009200"},"NAIC","IRIS","NAIC.IRIS: All","exam",9200,8,null,"exam: [setup required] calculate IRIS 4 & say if it's in range & state purpose of IRIS 4","see examiner's report - click yellow \"E\" link in \"Section\" column",null,"calc",null,"A",null,"exam",1,"14","1-Spring",19,"a","",1.5,12.5,2,2,35.355339059327378,4,4,999,null,null,null,1E-4,"x",null,8]
["NAIC.IRIS",null,null,"",{"$f":"VLOOKUP(F3895&\".\"&G3895,syllabus!B$3:I$99,8,FALSE)&RIGHT(\"00000\"&J3895,5)","v":"30009500"},"NAIC","IRIS","NAIC.IRIS: All","exam",9500,null,null,"exam: [setup required] given a company's RBC ratio and several IRIS ratios, evaluate company health and suggest any regulatory action","see examiner's report - click yellow \"E\" link in \"Section\" column",null,"calc",null,"B",null,"exam",1,"13","2-Fall",6,null,"",3.5,12.5,2,0.2,3.5355339059327378,4,4,999,null,null,null,1E-4,"x",null,"xxxx"]
["NAIC.Annual",null,null,"",{"$f":"VLOOKUP(F3905&\".\"&G3905,syllabus!B$3:I$99,8,FALSE)&RIGHT(\"00000\"&J3905,5)","v":"31000500"},"NAIC","Annual","NAIC.Annual: All","BC",500,null,null,"BC:",null,null,"concept",null,"F",null,"",0,"","","","","","",1,2,0,0,63,63,999,null,null,null,5.0000000000000001E-4,"x",null,"xxxx"]
["NAIC.Annual",null,null,"",{"$f":"VLOOKUP(F3912&\".\"&G3912,syllabus!B$3:I$99,8,FALSE)&RIGHT(\"00000\"&J3912,5)","v":"31001200"},"NAIC","Annual","NAIC.Annual: All","BC",1200,null,null,"BC:",null,null,"concept",null,"F",null,"",0,"","","","","","",1,2,0,0,63,63,999,null,null,null,5.0000000000000001E-4,"x",null,"xxxx"]
["NAIC.Annual",null,null,"",{"$f":"VLOOKUP(F3915&\".\"&G3915,syllabus!B$3:I$99,8,FALSE)&RIGHT(\"00000\"&J3915,5)","v":"31001500"},"NAIC","Annual","NAIC.Annual: All","BC",1500,null,null,"BC:",null,null,"concept",null,"F",null,"",0,"","","","","","",1,2,0,0,63,63,999,null,null,null,5.0000000000000001E-4,"x",null,"xxxx"]
["NAIC.Annual",null,null,"",{"$f":"VLOOKUP(F3922&\".\"&G3922,syllabus!B$3:I$99,8,FALSE)&RIGHT(\"00000\"&J3922,5)","v":"31002200"},"NAIC","Annual","NAIC.Annual: All","BC",2200,null,null,"BC:",null,null,"concept",null,"F",null,"",0,"","","","","","",1,2,0,0,63,63,999,null,null,null,5.0000000000000001E-4,"x",null,"xxxx"]
["NAIC.Annual",null,null,"",{"$f":"VLOOKUP(F3931&\".\"&G3931,syllabus!B$3:I$99,8,FALSE)&RIGHT(\"00000\"&J3931,5)","v":"31003100"},"NAIC","Annual","NAIC.Annual: All","BC",3100,null,null,"BC:",null,null,"concept",null,"F",null,"",0,"","","","","","",1,2,0,0,63,63,999,null,null,null,5.0000000000000001E-4,"x",null,"xxxx"]
["NAIC.Annual",null,null,"",{"$f":"VLOOKUP(F3933&\".\"&G3933,syllabus!B$3:I$99,8,FALSE)&RIGHT(\"00000\"&J3933,5)","v":"31003300"},"NAIC","Annual","NAIC.Annual: All","BC",3300,null,null,"BC:",null,null,"concept",null,"F",null,"",0,"","","","","","",1,2,0,0,63,63,999,null,null,null,5.0000000000000001E-4,"x",null,"xxxx"]
["NAIC.Annual",null,null,"",{"$f":"VLOOKUP(F3942&\".\"&G3942,syllabus!B$3:I$99,8,FALSE)&RIGHT(\"00000\"&J3942,5)","v":"31004200"},"NAIC","Annual","NAIC.Annual: All","exam",4200,null,null,"exam:",null,null,"concept",null,"F",null,"",0,"","","","","","",1,2,0,0,63,63,999,null,null,null,5.0000000000000001E-4,"x",null,"xxxx"]
["NAIC.Annual",null,null,"",{"$f":"VLOOKUP(F3945&\".\"&G3945,syllabus!B$3:I$99,8,FALSE)&RIGHT(\"00000\"&J3945,5)","v":"31004500"},"NAIC","Annual","NAIC.Annual: All","exam",4500,null,null,"exam:",null,null,"concept",null,"F",null,"",0,"","","","","","",1,2,0,0,63,63,999,null,null,null,5.0000000000000001E-4,"x",null,"xxxx"]
["NAIC.Annual",null,null,"",{"$f":"VLOOKUP(F3954&\".\"&G3954,syllabus!B$3:I$99,8,FALSE)&RIGHT(\"00000\"&J3954,5)","v":"31005400"},"NAIC","Annual","NAIC.Annual: All","exam",5400,null,null,"exam:",null,null,"concept",null,"F",null,"",0,"","","","","","",1,2,0,0,63,63,999,null,null,null,5.0000000000000001E-4,"x",null,"xxxx"]
["NAIC.Annual",null,null,"",{"$f":"VLOOKUP(F3962&\".\"&G3962,syllabus!B$3:I$99,8,FALSE)&RIGHT(\"00000\"&J3962,5)","v":"31006200"},"NAIC","Annual","NAIC.Annual: All","exam",6200,null,null,"exam:",null,null,"concept",null,"F",null,"",0,"","","","","","",1,2,0,0,63,63,999,null,null,null,5.0000000000000001E-4,"x",null,"xxxx"]
["NAIC.Annual",null,null,"",{"$f":"VLOOKUP(F3969&\".\"&G3969,syllabus!B$3:I$99,8,FALSE)&RIGHT(\"00000\"&J3969,5)","v":"31006900"},"NAIC","Annual","NAIC.Annual: All","exam",6900,null,null,"exam:",null,null,"concept",null,"F",null,"",0,"","","","","","",1,2,0,0,63,63,999,null,null,null,5.0000000000000001E-4,"x",null,"xxxx"]
["NAIC.Annual",null,null,"",{"$f":"VLOOKUP(F3972&\".\"&G3972,syllabus!B$3:I$99,8,FALSE)&RIGHT(\"00000\"&J3972,5)","v":"31007200"},"NAIC","Annual","NAIC.Annual: All","exam",7200,null,null,"exam:",null,null,"concept",null,"F",null,"",0,"","","","","","",1,2,0,0,63,63,999,null,null,null,5.0000000000000001E-4,"x",null,"xxxx"]
["NAIC.Annual",null,null,"",{"$f":"VLOOKUP(F3980&\".\"&G3980,syllabus!B$3:I$99,8,FALSE)&RIGHT(\"00000\"&J3980,5)","v":"31008000"},"NAIC","Annual","NAIC.Annual: All","exam",8000,null,null,"exam:",null,null,"concept",null,"F",null,"",0,"","","","","","",1,2,0,0,63,63,999,null,null,null,5.0000000000000001E-4,"x",null,"xxxx"]
["NAIC.Annual",null,null,"",{"$f":"VLOOKUP(F3983&\".\"&G3983,syllabus!B$3:I$99,8,FALSE)&RIGHT(\"00000\"&J3983,5)","v":"31008300"},"NAIC","Annual","NAIC.Annual: All","exam",8300,null,null,"exam:",null,null,"concept",null,"F",null,"",0,"","","","","","",1,2,0,0,63,63,999,null,null,null,5.0000000000000001E-4,"x",null,"xxxx"]
["NAIC.Annual",null,null,"",{"$f":"VLOOKUP(F3992&\".\"&G3992,syllabus!B$3:I$99,8,FALSE)&RIGHT(\"00000\"&J3992,5)","v":"31009200"},"NAIC","Annual","NAIC.Annual: All","exam",9200,null,null,"exam:",null,null,"concept",null,"F",null,"",0,"","","","","","",1,2,0,0,63,63,999,null,null,null,5.0000000000000001E-4,"x",null,"xxxx"]
["NAIC.Annual",null,null,"",{"$f":"VLOOKUP(F3995&\".\"&G3995,syllabus!B$3:I$99,8,FALSE)&RIGHT(\"00000\"&J3995,5)","v":"31009500"},"NAIC","Annual","NAIC.Annual: All","exam",9500,null,null,"exam:",null,null,"concept",null,"F",null,"",0,"","","","","","",1,2,0,0,63,63,999,null,null,null,5.0000000000000001E-4,"x",null,"xxxx"]
["NAIC.AnnualExs",null,null,"",{"$f":"VLOOKUP(F4003&\".\"&G4003,syllabus!B$3:I$99,8,FALSE)&RIGHT(\"00000\"&J4003,5)","v":"32000300"},"NAIC","AnnualExs","NAIC.AnnualExs: All","general",300,1,null,"general: where would you find information about 'detailed recorded losses & LAE' in an insurer's annual statement","Schedule P",null,"concept",null,"B",null,"",0,"","","","","","",1,2,0.2,0.28284271247461906,64,64,999,null,null,null,5.0000000000000001E-4,"x",null,1]
["NAIC.AnnualExs",null,null,"",{"$f":"VLOOKUP(F4012&\".\"&G4012,syllabus!B$3:I$99,8,FALSE)&RIGHT(\"00000\"&J4012,5)","v":"32001200"},"NAIC","AnnualExs","NAIC.AnnualExs: All","BC",1200,null,null,"BC:",null,null,"concept",null,"F",null,"",0,"","","","","","",1,2,0,0,64,64,999,null,null,null,5.0000000000000001E-4,"x",null,"xxxx"]
["NAIC.AnnualExs",null,null,"",{"$f":"VLOOKUP(F4019&\".\"&G4019,syllabus!B$3:I$99,8,FALSE)&RIGHT(\"00000\"&J4019,5)","v":"32001900"},"NAIC","AnnualExs","NAIC.AnnualExs: All","BC",1900,null,null,"BC:",null,null,"concept",null,"F",null,"",0,"","","","","","",1,2,0,0,64,64,999,null,null,null,5.0000000000000001E-4,"x",null,"xxxx"]
["NAIC.AnnualExs",null,null,"",{"$f":"VLOOKUP(F4022&\".\"&G4022,syllabus!B$3:I$99,8,FALSE)&RIGHT(\"00000\"&J4022,5)","v":"32002200"},"NAIC","AnnualExs","NAIC.AnnualExs: All","BC",2200,null,null,"BC:",null,null,"concept",null,"F",null,"",0,"","","","","","",1,2,0,0,64,64,999,null,null,null,5.0000000000000001E-4,"x",null,"xxxx"]
["NAIC.AnnualExs",null,null,"",{"$f":"VLOOKUP(F4029&\".\"&G4029,syllabus!B$3:I$99,8,FALSE)&RIGHT(\"00000\"&J4029,5)","v":"32002900"},"NAIC","AnnualExs","NAIC.AnnualExs: All","BC",2900,null,null,"BC:",null,null,"concept",null,"F",null,"",0,"","","","","","",1,2,0,0,64,64,999,null,null,null,5.0000000000000001E-4,"x",null,"xxxx"]
["NAIC.AnnualExs",null,null,"",{"$f":"VLOOKUP(F4033&\".\"&G4033,syllabus!B$3:I$99,8,FALSE)&RIGHT(\"00000\"&J4033,5)","v":"32003300"},"NAIC","AnnualExs","NAIC.AnnualExs: All","BC",3300,null,null,"BC:",null,null,"concept",null,"F",null,"",0,"","","","","","",1,2,0,0,64,64,999,null,null,null,5.0000000000000001E-4,"x",null,"xxxx"]
["NAIC.AnnualExs",null,null,"",{"$f":"VLOOKUP(F4042&\".\"&G4042,syllabus!B$3:I$99,8,FALSE)&RIGHT(\"00000\"&J4042,5)","v":"32004200"},"NAIC","AnnualExs","NAIC.AnnualExs: All","exam",4200,null,null,"exam:",null,null,"concept",null,"F",null,"",0,"","","","","","",1,2,0,0,64,64,999,null,null,null,5.0000000000000001E-4,"x",null,"xxxx"]
["NAIC.AnnualExs",null,null,"",{"$f":"VLOOKUP(F4049&\".\"&G4049,syllabus!B$3:I$99,8,FALSE)&RIGHT(\"00000\"&J4049,5)","v":"32004900"},"NAIC","AnnualExs","NAIC.AnnualExs: All","exam",4900,null,null,"exam:",null,null,"concept",null,"F",null,"",0,"","","","","","",1,2,0,0,64,64,999,null,null,null,5.0000000000000001E-4,"x",null,"xxxx"]
["NAIC.AnnualExs",null,null,"",{"$f":"VLOOKUP(F4052&\".\"&G4052,syllabus!B$3:I$99,8,FALSE)&RIGHT(\"00000\"&J4052,5)","v":"32005200"},"NAIC","AnnualExs","NAIC.AnnualExs: All","exam",5200,null,null,"exam:",null,null,"concept",null,"F",null,"",0,"","","","","","",1,2,0,0,64,64,999,null,null,null,5.0000000000000001E-4,"x",null,"xxxx"]
["NAIC.AnnualExs",null,null,"",{"$f":"VLOOKUP(F4062&\".\"&G4062,syllabus!B$3:I$99,8,FALSE)&RIGHT(\"00000\"&J4062,5)","v":"32006200"},"NAIC","AnnualExs","NAIC.AnnualExs: All","exam",6200,null,null,"exam:",null,null,"concept",null,"F",null,"",0,"","","","","","",1,2,0,0,64,64,999,null,null,null,5.0000000000000001E-4,"x",null,"xxxx"]
["NAIC.AnnualExs",null,null,"",{"$f":"VLOOKUP(F4069&\".\"&G4069,syllabus!B$3:I$99,8,FALSE)&RIGHT(\"00000\"&J4069,5)","v":"32006900"},"NAIC","AnnualExs","NAIC.AnnualExs: All","exam",6900,null,null,"exam:",null,null,"concept",null,"F",null,"",0,"","","","","","",1,2,0,0,64,64,999,null,null,null,5.0000000000000001E-4,"x",null,"xxxx"]
["NAIC.AnnualExs",null,null,"",{"$f":"VLOOKUP(F4072&\".\"&G4072,syllabus!B$3:I$99,8,FALSE)&RIGHT(\"00000\"&J4072,5)","v":"32007200"},"NAIC","AnnualExs","NAIC.AnnualExs: All","exam",7200,null,null,"exam:",null,null,"concept",null,"F",null,"",0,"","","","","","",1,2,0,0,64,64,999,null,null,null,5.0000000000000001E-4,"x",null,"xxxx"]
["NAIC.AnnualExs",null,null,"",{"$f":"VLOOKUP(F4078&\".\"&G4078,syllabus!B$3:I$99,8,FALSE)&RIGHT(\"00000\"&J4078,5)","v":"32007800"},"NAIC","AnnualExs","NAIC.AnnualExs: All","exam",7800,null,null,"exam:",null,null,"concept",null,"F",null,"",0,"","","","","","",1,2,0,0,64,64,999,null,null,null,5.0000000000000001E-4,"x",null,"xxxx"]
["NAIC.AnnualExs",null,null,"",{"$f":"VLOOKUP(F4083&\".\"&G4083,syllabus!B$3:I$99,8,FALSE)&RIGHT(\"00000\"&J4083,5)","v":"32008300"},"NAIC","AnnualExs","NAIC.AnnualExs: All","exam",8300,null,null,"exam:",null,null,"concept",null,"F",null,"",0,"","","","","","",1,2,0,0,64,64,999,null,null,null,5.0000000000000001E-4,"x",null,"xxxx"]
["NAIC.AnnualExs",null,null,"",{"$f":"VLOOKUP(F4092&\".\"&G4092,syllabus!B$3:I$99,8,FALSE)&RIGHT(\"00000\"&J4092,5)","v":"32009200"},"NAIC","AnnualExs","NAIC.AnnualExs: All","exam",9200,null,null,"exam:",null,null,"concept",null,"F",null,"",0,"","","","","","",1,2,0,0,64,64,999,null,null,null,5.0000000000000001E-4,"x",null,"xxxx"]
["NAIC.AnnualExs",null,null,"",{"$f":"VLOOKUP(F4099&\".\"&G4099,syllabus!B$3:I$99,8,FALSE)&RIGHT(\"00000\"&J4099,5)","v":"32009900"},"NAIC","AnnualExs","NAIC.AnnualExs: All","exam",9900,null,null,"exam:",null,null,"concept",null,"F",null,"",0,"","","","","","",1,2,0,0,64,64,999,null,null,null,5.0000000000000001E-4,"x",null,"xxxx"]
["NAIC.Price","x",null,"",{"$f":"VLOOKUP(F4101&\".\"&G4101,syllabus!B$3:I$99,8,FALSE)&RIGHT(\"00000\"&J4101,5)","v":"33000100"},"NAIC","Price","NAIC.Price: All","--",100,null,null,{"$f":"A4101&\": All\"","v":"NAIC.Price: All"},null,null,"--",null,"info",null,"",0,"","","","","","","","",0,0,31,31,999,null,null,null,5.0000000000000001E-4,"x",null,"xxxx"]
["NAIC.Price",null,null,"",{"$f":"VLOOKUP(F4112&\".\"&G4112,syllabus!B$3:I$99,8,FALSE)&RIGHT(\"00000\"&J4112,5)","v":"33001200"},"NAIC","Price","NAIC.Price: All","price optimization",1200,2,null,"price optimization: define <u>constrained</u> optimization","- setting minimum & maximum limits on a model's output ~~ (Ex: <span style=\"color: green;\">min</span> = current price, <span style=\"color: red;\">max</span> = cost-based indication)\n ~ - note that <u>un</u>constrained optimization does not impose these limits",null,"concept",null,"A",null,"",0,"","","","","","",1,5,2,4.4721359549995796,31,31,999,null,null,null,5.0000000000000001E-4,"x",null,2]
["NAIC.Price",null,null,"",{"$f":"VLOOKUP(F4119&\".\"&G4119,syllabus!B$3:I$99,8,FALSE)&RIGHT(\"00000\"&J4119,5)","v":"33001900"},"NAIC","Price","NAIC.Price: All","regulation",1900,3,null,"regulation: identify possible regulatory responses to price optimization rating plans","<span style=\"color: green;\"><strong>paragraph 42a</strong></span>\n ~~ - determine <u>permissibility</u> with respect to state laws\n ~ <span style=\"color: green;\"><strong>paragraph 42b</strong></span>\n ~~ - define regulatory <u>constraints</u> ~~~ ==> min/max rate swings ~~~ ===> require that methods are applied only to rate classes of at least a certain size\n ~ <span style=\"color: green;\"><strong>paragraph 42f</strong></span>\n ~~ - transparency: require <u>full explanation</u> of..\n ~~~ ==> DAM - Data / Methods / Assumptions\n ~~~ ==> rate differences between customers with identical risk profiles (if any)",null,"concept",null,"A",null,"",0,"","","","","","",1,22,2,9.3808315196468595,31,31,999,null,null,null,5.0000000000000001E-4,"x",null,3]
["NAIC.Price",null,null,"",{"$f":"VLOOKUP(F4120&\".\"&G4120,syllabus!B$3:I$99,8,FALSE)&RIGHT(\"00000\"&J4120,5)","v":"33002000"},"NAIC","Price","NAIC.Price: All","regulation",2000,3,null,"regulation: describe disclosures a regulator may require when price optimization is used in rating","- rate adjustments that are not cost-based\n ~ - <u>whether</u> price optimization was used (Ex: demand models)\n ~ - <u>which</u> rating factors are affected by price optimization and their quantitative impact\n ~ - <u>whether</u> customers with the same risk profile have different rates\n ~ - data sources and models that affected the rate charged in any way",null,"concept",null,"A","current","exam",2,"18","2-Fall",1,"b","",1,1,6,2,4.8989794855663558,31,31,999,null,null,null,5.0000000000000001E-4,"x",null,3]
["NAIC.Price",null,null,"",{"$f":"VLOOKUP(F4132&\".\"&G4132,syllabus!B$3:I$99,8,FALSE)&RIGHT(\"00000\"&J4132,5)","v":"33003200"},"NAIC","Price","NAIC.Price: All","BC",3200,null,null,"BC:",null,null,"concept",null,"F",null,"",0,"","","","","","",1,2,0,0,31,31,999,null,null,null,5.0000000000000001E-4,"x",null,"xxxx"]
["NAIC.Price",null,null,"",{"$f":"VLOOKUP(F4133&\".\"&G4133,syllabus!B$3:I$99,8,FALSE)&RIGHT(\"00000\"&J4133,5)","v":"33003300"},"NAIC","Price","NAIC.Price: All","BC",3300,null,null,"BC:",null,null,"concept",null,"F",null,"",0,"","","","","","",1,2,0,0,31,31,999,null,null,null,5.0000000000000001E-4,"x",null,"xxxx"]
["NAIC.Price",null,null,"",{"$f":"VLOOKUP(F4142&\".\"&G4142,syllabus!B$3:I$99,8,FALSE)&RIGHT(\"00000\"&J4142,5)","v":"33004200"},"NAIC","Price","NAIC.Price: All","exam",4200,null,null,"exam:",null,null,"concept",null,"F",null,"",0,"","","","","","",1,2,0,0,31,31,999,null,null,null,5.0000000000000001E-4,"x",null,"xxxx"]
["NAIC.Price",null,null,"",{"$f":"VLOOKUP(F4150&\".\"&G4150,syllabus!B$3:I$99,8,FALSE)&RIGHT(\"00000\"&J4150,5)","v":"33005000"},"NAIC","Price","NAIC.Price: All","exam",5000,null,null,"exam:",null,null,"concept",null,"F",null,"",0,"","","","","","",1,2,0,0,31,31,999,null,null,null,5.0000000000000001E-4,"x",null,"xxxx"]
["NAIC.Price",null,null,"",{"$f":"VLOOKUP(F4153&\".\"&G4153,syllabus!B$3:I$99,8,FALSE)&RIGHT(\"00000\"&J4153,5)","v":"33005300"},"NAIC","Price","NAIC.Price: All","exam",5300,null,null,"exam:",null,null,"concept",null,"F",null,"",0,"","","","","","",1,2,0,0,31,31,999,null,null,null,5.0000000000000001E-4,"x",null,"xxxx"]
["NAIC.Price",null,null,"",{"$f":"VLOOKUP(F4162&\".\"&G4162,syllabus!B$3:I$99,8,FALSE)&RIGHT(\"00000\"&J4162,5)","v":"33006200"},"NAIC","Price","NAIC.Price: All","exam",6200,null,null,"exam:",null,null,"concept",null,"F",null,"",0,"","","","","","",1,2,0,0,31,31,999,null,null,null,5.0000000000000001E-4,"x",null,"xxxx"]
["NAIC.Price",null,null,"",{"$f":"VLOOKUP(F4169&\".\"&G4169,syllabus!B$3:I$99,8,FALSE)&RIGHT(\"00000\"&J4169,5)","v":"33006900"},"NAIC","Price","NAIC.Price: All","exam",6900,5,null,"exam: identify 2 pieces of info in a price optimized  plan that may cause unfairly discriminatory rates and explain 1 of them","- price elasticity of demand ~ - propensity to shop around ~ ==> may cause identical risks to be charged different prices",null,"concept",null,"A",null,"exam",1,"18","1-Spring",1,"b","",0.75,1,4,2,4,31,31,999,null,null,null,5.0000000000000001E-4,"x",null,5]
["NAIC.Price",null,null,"",{"$f":"VLOOKUP(F4176&\".\"&G4176,syllabus!B$3:I$99,8,FALSE)&RIGHT(\"00000\"&J4176,5)","v":"33007600"},"NAIC","Price","NAIC.Price: All","exam",7600,null,null,"exam:",null,null,"concept",null,"F",null,"",0,"","","","","","",1,2,0,0,31,31,999,null,null,null,5.0000000000000001E-4,"x",null,"xxxx"]
["NAIC.Price",null,null,"",{"$f":"VLOOKUP(F4180&\".\"&G4180,syllabus!B$3:I$99,8,FALSE)&RIGHT(\"00000\"&J4180,5)","v":"33008000"},"NAIC","Price","NAIC.Price: All","exam",8000,null,null,"exam:",null,null,"concept",null,"F",null,"",0,"","","","","","",1,2,0,0,31,31,999,null,null,null,5.0000000000000001E-4,"x",null,"xxxx"]
["NAIC.Price",null,null,"",{"$f":"VLOOKUP(F4183&\".\"&G4183,syllabus!B$3:I$99,8,FALSE)&RIGHT(\"00000\"&J4183,5)","v":"33008300"},"NAIC","Price","NAIC.Price: All","exam",8300,null,null,"exam:",null,null,"concept",null,"F",null,"",0,"","","","","","",1,2,0,0,31,31,999,null,null,null,5.0000000000000001E-4,"x",null,"xxxx"]
["NAIC.Price",null,null,"",{"$f":"VLOOKUP(F4192&\".\"&G4192,syllabus!B$3:I$99,8,FALSE)&RIGHT(\"00000\"&J4192,5)","v":"33009200"},"NAIC","Price","NAIC.Price: All","exam",9200,null,null,"exam:",null,null,"concept",null,"F",null,"",0,"","","","","","",1,2,0,0,31,31,999,null,null,null,5.0000000000000001E-4,"x",null,"xxxx"]
["NAIC.Price",null,null,"",{"$f":"VLOOKUP(F4199&\".\"&G4199,syllabus!B$3:I$99,8,FALSE)&RIGHT(\"00000\"&J4199,5)","v":"33009900"},"NAIC","Price","NAIC.Price: All","exam",9900,null,null,"exam:",null,null,"concept",null,"F",null,"",0,"","","","","","",1,2,0,0,31,31,999,null,null,null,5.0000000000000001E-4,"x",null,"xxxx"]
["NAIC.Solvency",null,null,"",{"$f":"VLOOKUP(F4203&\".\"&G4203,syllabus!B$3:I$99,8,FALSE)&RIGHT(\"00000\"&J4203,5)","v":"34000300"},"NAIC","Solvency","NAIC.Solvency: All","section 1",300,1,null,"section 1: identify the purpose of the 'Solvency Modernization Initiative'","evaluate & improve the regulatory framework for insurer solvency",null,"concept",null,"A",null,"",0,"","","","","","",2,2,2,5.6568542494923806,21,21,999,null,null,null,5.0000000000000001E-4,"x",null,1]
["NAIC.Solvency",null,null,"",{"$f":"VLOOKUP(F4212&\".\"&G4212,syllabus!B$3:I$99,8,FALSE)&RIGHT(\"00000\"&J4212,5)","v":"34001000"},"NAIC","Solvency","NAIC.Solvency: All","section 5",1000,2,null,"section 5: identify provisions of NRRA (Nonadmitted and Reinsurance Reform Act of 2010) (3)","a state <u>cannot deny credit</u> for reinsurance if certain conditions are met: ~~ - if domiciliary state has already granted credit ~~ - if domiciliary state is an NAIC-accredited state ~ a NAIC-accredited state may proceed with <u>reinsurance collateral reforms</u> on an individual basis ~ a state is given <u>sole responsibility</u> to regulate solvency for reinsurer",null,"concept",null,"A",null,"exam",1,"15","2-Fall",3,"c","",1,2,8,2,11.313708498984761,21,21,999,null,null,null,5.0000000000000001E-4,"x",null,2]
["NAIC.Solvency",null,null,"",{"$f":"VLOOKUP(F4219&\".\"&G4219,syllabus!B$3:I$99,8,FALSE)&RIGHT(\"00000\"&J4219,5)","v":"34001800"},"NAIC","Solvency","NAIC.Solvency: All","BC",1800,null,null,"BC:",null,null,"concept",null,"F",null,"",0,"","","","","","",2,2,0,0,21,21,999,null,null,null,5.0000000000000001E-4,"x",null,"xxxx"]
["NAIC.Solvency",null,null,"",{"$f":"VLOOKUP(F4225&\".\"&G4225,syllabus!B$3:I$99,8,FALSE)&RIGHT(\"00000\"&J4225,5)","v":"34002400"},"NAIC","Solvency","NAIC.Solvency: All","BC",2400,null,null,"BC:",null,null,"concept",null,"F",null,"",0,"","","","","","",2,2,0,0,21,21,999,null,null,null,5.0000000000000001E-4,"x",null,"xxxx"]
["NAIC.Solvency",null,null,"",{"$f":"VLOOKUP(F4230&\".\"&G4230,syllabus!B$3:I$99,8,FALSE)&RIGHT(\"00000\"&J4230,5)","v":"34002900"},"NAIC","Solvency","NAIC.Solvency: All","BC",2900,null,null,"BC:",null,null,"concept",null,"F",null,"",0,"","","","","","",2,2,0,0,21,21,999,null,null,null,5.0000000000000001E-4,"x",null,"xxxx"]
["NAIC.Solvency",null,null,"",{"$f":"VLOOKUP(F4233&\".\"&G4233,syllabus!B$3:I$99,8,FALSE)&RIGHT(\"00000\"&J4233,5)","v":"34003200"},"NAIC","Solvency","NAIC.Solvency: All","BC",3200,null,null,"BC:",null,null,"concept",null,"F",null,"",0,"","","","","","",2,2,0,0,21,21,999,null,null,null,5.0000000000000001E-4,"x",null,"xxxx"]
["NAIC.Solvency",null,null,"",{"$f":"VLOOKUP(F4242&\".\"&G4242,syllabus!B$3:I$99,8,FALSE)&RIGHT(\"00000\"&J4242,5)","v":"34004100"},"NAIC","Solvency","NAIC.Solvency: All","exam",4100,null,null,"exam:",null,null,"concept",null,"F",null,"",0,"","","","","","",2,2,0,0,21,21,999,null,null,null,5.0000000000000001E-4,"x",null,"xxxx"]
["NAIC.Solvency",null,null,"",{"$f":"VLOOKUP(F4248&\".\"&G4248,syllabus!B$3:I$99,8,FALSE)&RIGHT(\"00000\"&J4248,5)","v":"34004700"},"NAIC","Solvency","NAIC.Solvency: All","exam",4700,null,null,"exam:",null,null,"concept",null,"F",null,"",0,"","","","","","",2,2,0,0,21,21,999,null,null,null,5.0000000000000001E-4,"x",null,"xxxx"]
["NAIC.Solvency",null,null,"",{"$f":"VLOOKUP(F4253&\".\"&G4253,syllabus!B$3:I$99,8,FALSE)&RIGHT(\"00000\"&J4253,5)","v":"34005200"},"NAIC","Solvency","NAIC.Solvency: All","exam",5200,null,null,"exam:",null,null,"concept",null,"F",null,"",0,"","","","","","",2,2,0,0,21,21,999,null,null,null,5.0000000000000001E-4,"x",null,"xxxx"]
["NAIC.Solvency",null,null,"",{"$f":"VLOOKUP(F4260&\".\"&G4260,syllabus!B$3:I$99,8,FALSE)&RIGHT(\"00000\"&J4260,5)","v":"34005900"},"NAIC","Solvency","NAIC.Solvency: All","exam",5900,null,null,"exam:",null,null,"concept",null,"F",null,"",0,"","","","","","",2,2,0,0,21,21,999,null,null,null,5.0000000000000001E-4,"x",null,"xxxx"]
["NAIC.Solvency",null,null,"",{"$f":"VLOOKUP(F4269&\".\"&G4269,syllabus!B$3:I$99,8,FALSE)&RIGHT(\"00000\"&J4269,5)","v":"34006800"},"NAIC","Solvency","NAIC.Solvency: All","exam",6800,3,null,"exam: in a state solvency regulatory system, describe 1 rationale for 'regulatory approval of reinsurance transactions'","verify insurer isn't using reinsurance to inflate surplus and hide problems",null,"concept",null,"A",null,"exam",1,"15","2-Fall",3,"a","iii",1,2,2,2,5.6568542494923806,21,21,999,null,null,null,5.0000000000000001E-4,"x",null,3]
["NAIC.Solvency",null,null,"",{"$f":"VLOOKUP(F4274&\".\"&G4274,syllabus!B$3:I$99,8,FALSE)&RIGHT(\"00000\"&J4274,5)","v":"34007600"},"NAIC","Solvency","NAIC.Solvency: All","exam",7600,3,null,"exam: [setup required] identify regulatory concerns regarding the company's financial health","- shift in assets from bonds to stocks & real estate (which are riskier) ~ - excessive NWP growth (IRIS 3 = 40/27-1 = 48% > 33% &rarr; unusual value)",null,"concept",null,"A",null,"exam",1,"14","2-Fall",5,"b","",1,2,3,2,6.9282032302755088,21,21,999,null,null,null,5.0000000000000001E-4,"x",null,3]
["NAIC.Solvency",null,null,"",{"$f":"VLOOKUP(F4280&\".\"&G4280,syllabus!B$3:I$99,8,FALSE)&RIGHT(\"00000\"&J4280,5)","v":"34008200"},"NAIC","Solvency","NAIC.Solvency: All","exam",8200,3,null,"exam: identify the 4 types of IRIS ratios and give an example of each","overall ratios (GWP -to- surplus) ~ profitability ratios (2-yr Combined Operating Ratio) ~ liquidity ratios (liabilities -to- liquid assets) ~ reserve ratios (1-yr reserve development -to- surplus)",null,"concept",null,"A",null,"exam",1,"14","1-Spring",6,"b","",2,2,5,2,8.9442719099991592,21,21,999,null,null,null,5.0000000000000001E-4,"x",null,3]
["NAIC.Solvency",null,null,"",{"$f":"VLOOKUP(F4283&\".\"&G4283,syllabus!B$3:I$99,8,FALSE)&RIGHT(\"00000\"&J4283,5)","v":"34008302"},"NAIC","Solvency","NAIC.Solvency: All","exam",8302,null,null,"exam:",null,null,"concept",null,"F",null,"",0,"","","","","","",2,2,0,0,21,21,999,null,null,null,5.0000000000000001E-4,"x",null,"xxxx"]
["NAIC.Solvency",null,null,"",{"$f":"VLOOKUP(F4292&\".\"&G4292,syllabus!B$3:I$99,8,FALSE)&RIGHT(\"00000\"&J4292,5)","v":"34009200"},"NAIC","Solvency","NAIC.Solvency: All","exam",9200,null,null,"exam:",null,null,"concept",null,"F",null,"",0,"","","","","","",2,2,0,0,21,21,999,null,null,null,5.0000000000000001E-4,"x",null,"xxxx"]
["NAIC.Solvency",null,null,"",{"$f":"VLOOKUP(F4297&\".\"&G4297,syllabus!B$3:I$99,8,FALSE)&RIGHT(\"00000\"&J4297,5)","v":"34009700"},"NAIC","Solvency","NAIC.Solvency: All","exam",9700,null,null,"exam:",null,null,"concept",null,"F",null,"",0,"","","","","","",2,2,0,0,21,21,999,null,null,null,5.0000000000000001E-4,"x",null,"xxxx"]
["Odomirok.1-5-Intro",null,null,"",{"$f":"VLOOKUP(F4303&\".\"&G4303,syllabus!B$3:I$99,8,FALSE)&RIGHT(\"00000\"&J4303,5)","v":"36000300"},"Odomirok","1-5-Intro","Odomirok.1-5-Intro: All","general",300,1,null,"general: contrast the terms 'fair value' and 'historical cost'","fair value: ~~ - value in open market ~~ - more accurate ~ historical cost: ~~ - original cost MINUS depreciation ~~ - easier to calculate",null,"concept",null,"A",null,"",0,"","","","","","",1,11,2,6.6332495807107996,54,54,999,null,null,null,5.0000000000000001E-4,"x",null,1]
["Odomirok.1-5-Intro",null,null,"",{"$f":"VLOOKUP(F4310&\".\"&G4310,syllabus!B$3:I$99,8,FALSE)&RIGHT(\"00000\"&J4310,5)","v":"36001000"},"Odomirok","1-5-Intro","Odomirok.1-5-Intro: All","BC",1000,null,null,"BC:",null,null,"concept",null,"F",null,"",0,"","","","","","",1,2,0,0,54,54,999,null,null,null,5.0000000000000001E-4,"x",null,"xxxx"]
["Odomirok.1-5-Intro",null,null,"",{"$f":"VLOOKUP(F4319&\".\"&G4319,syllabus!B$3:I$99,8,FALSE)&RIGHT(\"00000\"&J4319,5)","v":"36001900"},"Odomirok","1-5-Intro","Odomirok.1-5-Intro: All","BC",1900,null,null,"BC:",null,null,"concept",null,"F",null,"",0,"","","","","","",1,2,0,0,54,54,999,null,null,null,5.0000000000000001E-4,"x",null,"xxxx"]
["Odomirok.1-5-Intro",null,null,"",{"$f":"VLOOKUP(F4323&\".\"&G4323,syllabus!B$3:I$99,8,FALSE)&RIGHT(\"00000\"&J4323,5)","v":"36002300"},"Odomirok","1-5-Intro","Odomirok.1-5-Intro: All","BC",2300,null,null,"BC:",null,null,"concept",null,"F",null,"",0,"","","","","","",1,2,0,0,54,54,999,null,null,null,5.0000000000000001E-4,"x",null,"xxxx"]
["Odomirok.1-5-Intro",null,null,"",{"$f":"VLOOKUP(F4330&\".\"&G4330,syllabus!B$3:I$99,8,FALSE)&RIGHT(\"00000\"&J4330,5)","v":"36003000"},"Odomirok","1-5-Intro","Odomirok.1-5-Intro: All","BC",3000,null,null,"BC:",null,null,"concept",null,"F",null,"",0,"","","","","","",1,2,0,0,54,54,999,null,null,null,5.0000000000000001E-4,"x",null,"xxxx"]
["Odomirok.1-5-Intro",null,null,"",{"$f":"VLOOKUP(F4333&\".\"&G4333,syllabus!B$3:I$99,8,FALSE)&RIGHT(\"00000\"&J4333,5)","v":"36003300"},"Odomirok","1-5-Intro","Odomirok.1-5-Intro: All","BC",3300,null,null,"BC:",null,null,"concept",null,"F",null,"",0,"","","","","","",1,2,0,0,54,54,999,null,null,null,5.0000000000000001E-4,"x",null,"xxxx"]
["Odomirok.1-5-Intro",null,null,"",{"$f":"VLOOKUP(F4342&\".\"&G4342,syllabus!B$3:I$99,8,FALSE)&RIGHT(\"00000\"&J4342,5)","v":"36004200"},"Odomirok","1-5-Intro","Odomirok.1-5-Intro: All","exam",4200,null,null,"exam:",null,null,"concept",null,"F",null,"",0,"","","","","","",1,2,0,0,54,54,999,null,null,null,5.0000000000000001E-4,"x",null,"xxxx"]
["Odomirok.1-5-Intro",null,null,"",{"$f":"VLOOKUP(F4346&\".\"&G4346,syllabus!B$3:I$99,8,FALSE)&RIGHT(\"00000\"&J4346,5)","v":"36004600"},"Odomirok","1-5-Intro","Odomirok.1-5-Intro: All","exam",4600,null,null,"exam:",null,null,"concept",null,"F",null,"",0,"","","","","","",1,2,0,0,54,54,999,null,null,null,5.0000000000000001E-4,"x",null,"xxxx"]
["Odomirok.1-5-Intro",null,null,"",{"$f":"VLOOKUP(F4353&\".\"&G4353,syllabus!B$3:I$99,8,FALSE)&RIGHT(\"00000\"&J4353,5)","v":"36005300"},"Odomirok","1-5-Intro","Odomirok.1-5-Intro: All","exam",5300,null,null,"exam:",null,null,"concept",null,"F",null,"",0,"","","","","","",1,2,0,0,54,54,999,null,null,null,5.0000000000000001E-4,"x",null,"xxxx"]
["Odomirok.1-5-Intro",null,null,"",{"$f":"VLOOKUP(F4360&\".\"&G4360,syllabus!B$3:I$99,8,FALSE)&RIGHT(\"00000\"&J4360,5)","v":"36006000"},"Odomirok","1-5-Intro","Odomirok.1-5-Intro: All","exam",6000,"x",null,"exam: start Fall.2017 here (at numID = 6000)",null,null,"concept",null,"F",null,"",0,"","","","","","",1,2,0,0,54,54,999,null,null,null,5.0000000000000001E-4,"x",null,"xxxx"]
["Odomirok.1-5-Intro",null,null,"",{"$f":"VLOOKUP(F4369&\".\"&G4369,syllabus!B$3:I$99,8,FALSE)&RIGHT(\"00000\"&J4369,5)","v":"36006900"},"Odomirok","1-5-Intro","Odomirok.1-5-Intro: All","exam",6900,null,null,"exam:",null,null,"concept",null,"F",null,"",0,"","","","","","",1,2,0,0,54,54,999,null,null,null,5.0000000000000001E-4,"x",null,"xxxx"]
["Odomirok.1-5-Intro",null,null,"",{"$f":"VLOOKUP(F4372&\".\"&G4372,syllabus!B$3:I$99,8,FALSE)&RIGHT(\"00000\"&J4372,5)","v":"36007200"},"Odomirok","1-5-Intro","Odomirok.1-5-Intro: All","exam",7200,null,null,"exam:",null,null,"concept",null,"F",null,"",0,"","","","","","",1,2,0,0,54,54,999,null,null,null,5.0000000000000001E-4,"x",null,"xxxx"]
["Odomirok.1-5-Intro",null,null,"",{"$f":"VLOOKUP(F4380&\".\"&G4380,syllabus!B$3:I$99,8,FALSE)&RIGHT(\"00000\"&J4380,5)","v":"36008000"},"Odomirok","1-5-Intro","Odomirok.1-5-Intro: All","exam",8000,null,null,"exam:",null,null,"concept",null,"F",null,"",0,"","","","","","",1,2,0,0,54,54,999,null,null,null,5.0000000000000001E-4,"x",null,"xxxx"]
["Odomirok.1-5-Intro",null,null,"",{"$f":"VLOOKUP(F4383&\".\"&G4383,syllabus!B$3:I$99,8,FALSE)&RIGHT(\"00000\"&J4383,5)","v":"36008300"},"Odomirok","1-5-Intro","Odomirok.1-5-Intro: All","exam",8300,null,null,"exam:",null,null,"concept",null,"F",null,"",0,"","","","","","",1,2,0,0,54,54,999,null,null,null,5.0000000000000001E-4,"x",null,"xxxx"]
["Odomirok.1-5-Intro",null,null,"",{"$f":"VLOOKUP(F4390&\".\"&G4390,syllabus!B$3:I$99,8,FALSE)&RIGHT(\"00000\"&J4390,5)","v":"36009000"},"Odomirok","1-5-Intro","Odomirok.1-5-Intro: All","exam",9000,null,null,"exam:",null,null,"concept",null,"F",null,"",0,"","","","","","",1,2,0,0,54,54,999,null,null,null,5.0000000000000001E-4,"x",null,"xxxx"]
["Odomirok.1-5-Intro",null,null,"",{"$f":"VLOOKUP(F4395&\".\"&G4395,syllabus!B$3:I$99,8,FALSE)&RIGHT(\"00000\"&J4395,5)","v":"36009500"},"Odomirok","1-5-Intro","Odomirok.1-5-Intro: All","exam",9500,null,null,"exam:",null,null,"concept",null,"F",null,"",0,"","","","","","",1,2,0,0,54,54,999,null,null,null,5.0000000000000001E-4,"x",null,"xxxx"]
["Odomirok.6-7-BS",null,null,"",{"$f":"VLOOKUP(F4403&\".\"&G4403,syllabus!B$3:I$99,8,FALSE)&RIGHT(\"00000\"&J4403,5)","v":"37000300"},"Odomirok","6-7-BS","Odomirok.6-7-BS: All","B/S layout",300,1,null,"B/S layout: define 'asset' as it pertains to financial statements","a property, right, or claim arising from past events that has future value",null,"concept",null,"A",null,"",0,"","","","","","",1,2,2,2.8284271247461903,37,37,999,null,null,null,5.0000000000000001E-4,"x",null,1]
["Odomirok.6-7-BS",null,null,"",{"$f":"VLOOKUP(F4410&\".\"&G4410,syllabus!B$3:I$99,8,FALSE)&RIGHT(\"00000\"&J4410,5)","v":"37001000"},"Odomirok","6-7-BS","Odomirok.6-7-BS: All","B/S layout",1000,1,null,"B/S layout: provide a few examples of 'liabilities' that may appear on an insurer's balance sheet (6)","- loss ~ - UEP (Unearned Premium) ~ - LAE ~ - reinsurance payables for losses and premiums ~ - funds held, provision for reinsurance",null,"concept",null,"A",null,"",0,"","","","","","",1,6,2,4.8989794855663558,37,37,999,null,null,null,5.0000000000000001E-4,"x",null,1]
["Odomirok.6-7-BS",null,null,"",{"$f":"VLOOKUP(F4419&\".\"&G4419,syllabus!B$3:I$99,8,FALSE)&RIGHT(\"00000\"&J4419,5)","v":"37001900"},"Odomirok","6-7-BS","Odomirok.6-7-BS: All","bonds",1900,2,null,"bonds: [setup required] describe possible regulator concerns based on this insurer's assets (3)","liquidity concerns: ~~ - cash is only 1.6% of admitted assets ~ credit concerns: ~~ - 42.9% of uncollected premiums is not admitted (possibly because > 90 days overdue) ~ asset mix concerns: ~~ - high proportion ot stocks relative to bonds (stocks are more volatile)",null,"concept",null,"A",null,"exam",1,"17","2-Fall",13,"b","",1.5,1,10,2,6.324555320336759,37,37,999,null,null,null,5.0000000000000001E-4,"x",null,2]
["Odomirok.6-7-BS",null,null,"",{"$f":"VLOOKUP(F4421&\".\"&G4421,syllabus!B$3:I$99,8,FALSE)&RIGHT(\"00000\"&J4421,5)","v":"37002100"},"Odomirok","6-7-BS","Odomirok.6-7-BS: All","DTA",2100,3,null,"DTA: identify examples of DTAs relevant to the actuary","- <u>difference</u> in tax accounting & statutory accounting for loss reserves ~ - <u>carryforward</u> of net operating loss from previous years",null,"concept",null,"A",null,"",0,"","","","","","",1,3,2,3.4641016151377544,37,37,999,null,null,null,5.0000000000000001E-4,"x",null,3]
["Odomirok.6-7-BS",null,null,"",{"$f":"VLOOKUP(F4430&\".\"&G4430,syllabus!B$3:I$99,8,FALSE)&RIGHT(\"00000\"&J4430,5)","v":"37003000"},"Odomirok","6-7-BS","Odomirok.6-7-BS: All","BC",3000,null,null,"BC:",null,null,"concept",null,"F",null,"",0,"","","","","","",1,2,0,0,37,37,999,null,null,null,5.0000000000000001E-4,"x",null,"xxxx"]
["Odomirok.6-7-BS",null,null,"",{"$f":"VLOOKUP(F4433&\".\"&G4433,syllabus!B$3:I$99,8,FALSE)&RIGHT(\"00000\"&J4433,5)","v":"37003300"},"Odomirok","6-7-BS","Odomirok.6-7-BS: All","BC",3300,null,null,"BC:",null,null,"concept",null,"F",null,"",0,"","","","","","",1,2,0,0,37,37,999,null,null,null,5.0000000000000001E-4,"x",null,"xxxx"]
["Odomirok.6-7-BS",null,null,"",{"$f":"VLOOKUP(F4440&\".\"&G4440,syllabus!B$3:I$99,8,FALSE)&RIGHT(\"00000\"&J4440,5)","v":"37004000"},"Odomirok","6-7-BS","Odomirok.6-7-BS: All","exam",4000,null,null,"exam:",null,null,"concept",null,"F",null,"",0,"","","","","","",1,2,0,0,37,37,999,null,null,null,5.0000000000000001E-4,"x",null,"xxxx"]
["Odomirok.6-7-BS",null,null,"",{"$f":"VLOOKUP(F4451&\".\"&G4451,syllabus!B$3:I$99,8,FALSE)&RIGHT(\"00000\"&J4451,5)","v":"37005100"},"Odomirok","6-7-BS","Odomirok.6-7-BS: All","exam",5100,null,null,"exam:",null,null,"concept",null,"F",null,"",0,"","","","","","",1,2,0,0,37,37,999,null,null,null,5.0000000000000001E-4,"x",null,"xxxx"]
["Odomirok.6-7-BS",null,null,"",{"$f":"VLOOKUP(F4453&\".\"&G4453,syllabus!B$3:I$99,8,FALSE)&RIGHT(\"00000\"&J4453,5)","v":"37005300"},"Odomirok","6-7-BS","Odomirok.6-7-BS: All","exam",5300,null,null,"exam:",null,null,"concept",null,"F",null,"",0,"","","","","","",1,2,0,0,37,37,999,null,null,null,5.0000000000000001E-4,"x",null,"xxxx"]
["Odomirok.6-7-BS",null,null,"",{"$f":"VLOOKUP(F4460&\".\"&G4460,syllabus!B$3:I$99,8,FALSE)&RIGHT(\"00000\"&J4460,5)","v":"37006000"},"Odomirok","6-7-BS","Odomirok.6-7-BS: All","exam",6000,null,null,"exam:",null,null,"concept",null,"F",null,"",0,"","","","","","",1,2,0,0,37,37,999,null,null,null,5.0000000000000001E-4,"x",null,"xxxx"]
["Odomirok.6-7-BS",null,null,"",{"$f":"VLOOKUP(F4469&\".\"&G4469,syllabus!B$3:I$99,8,FALSE)&RIGHT(\"00000\"&J4469,5)","v":"37006900"},"Odomirok","6-7-BS","Odomirok.6-7-BS: All","exam",6900,null,null,"exam:",null,null,"concept",null,"F",null,"",0,"","","","","","",1,2,0,0,37,37,999,null,null,null,5.0000000000000001E-4,"x",null,"xxxx"]
["Odomirok.6-7-BS",null,null,"",{"$f":"VLOOKUP(F4470&\".\"&G4470,syllabus!B$3:I$99,8,FALSE)&RIGHT(\"00000\"&J4470,5)","v":"37007000"},"Odomirok","6-7-BS","Odomirok.6-7-BS: All","exam",7000,null,null,"exam:",null,null,"concept",null,"F",null,"",0,"","","","","","",1,2,0,0,37,37,999,null,null,null,5.0000000000000001E-4,"x",null,"xxxx"]
["Odomirok.6-7-BS",null,null,"",{"$f":"VLOOKUP(F4480&\".\"&G4480,syllabus!B$3:I$99,8,FALSE)&RIGHT(\"00000\"&J4480,5)","v":"37008000"},"Odomirok","6-7-BS","Odomirok.6-7-BS: All","exam",8000,null,null,"exam:",null,null,"concept",null,"F",null,"",0,"","","","","","",1,2,0,0,37,37,999,null,null,null,5.0000000000000001E-4,"x",null,"xxxx"]
["Odomirok.6-7-BS",null,null,"",{"$f":"VLOOKUP(F4483&\".\"&G4483,syllabus!B$3:I$99,8,FALSE)&RIGHT(\"00000\"&J4483,5)","v":"37008300"},"Odomirok","6-7-BS","Odomirok.6-7-BS: All","exam",8300,null,null,"exam:",null,null,"concept",null,"F",null,"",0,"","","","","","",1,2,0,0,37,37,999,null,null,null,5.0000000000000001E-4,"x",null,"xxxx"]
["Odomirok.6-7-BS",null,null,"",{"$f":"VLOOKUP(F4490&\".\"&G4490,syllabus!B$3:I$99,8,FALSE)&RIGHT(\"00000\"&J4490,5)","v":"37009000"},"Odomirok","6-7-BS","Odomirok.6-7-BS: All","exam",9000,null,null,"exam:",null,null,"concept",null,"F",null,"",0,"","","","","","",1,2,0,0,37,37,999,null,null,null,5.0000000000000001E-4,"x",null,"xxxx"]
["Odomirok.6-7-BS",null,null,"",{"$f":"VLOOKUP(F4500&\".\"&G4500,syllabus!B$3:I$99,8,FALSE)&RIGHT(\"00000\"&J4500,5)","v":"37009999"},"Odomirok","6-7-BS","Odomirok.6-7-BS: All","exam",9999,null,null,"exam:",null,null,"concept",null,"F",null,"",0,"","","","","","",1,2,0,0,37,37,999,null,null,null,5.0000000000000001E-4,"x",null,"xxxx"]
["Odomirok.8-9-IS",null,null,"",{"$f":"VLOOKUP(F4503&\".\"&G4503,syllabus!B$3:I$99,8,FALSE)&RIGHT(\"00000\"&J4503,5)","v":"38000300"},"Odomirok","8-9-IS","Odomirok.8-9-IS: All","intro",300,1,null,"intro: why do insurers follow different accounting rules versus non-insurers","- insurers have policyholders who must be protected ~ - SAP facilitates this by focusing on solvency ~ - GAAP focuses more on measurement of earnings for investors",null,"concept",null,"A",null,"",0,"","","","","","",4,4,2,16,7,7,999,null,null,null,5.0000000000000001E-4,"x",null,1]
["Odomirok.8-9-IS",null,null,"",{"$f":"VLOOKUP(F4510&\".\"&G4510,syllabus!B$3:I$99,8,FALSE)&RIGHT(\"00000\"&J4510,5)","v":"38001000"},"Odomirok","8-9-IS","Odomirok.8-9-IS: All","intro",1000,2,null,"intro: define the 'capital & surplus' exhibit","shows changes in surplus NOT recorded in the income statement",null,"concept",null,"A",null,"",0,"","","","","","",4,2,2,11.313708498984761,7,7,999,null,null,null,5.0000000000000001E-4,"x",null,2]
["Odomirok.8-9-IS",null,null,"",{"$f":"VLOOKUP(F4519&\".\"&G4519,syllabus!B$3:I$99,8,FALSE)&RIGHT(\"00000\"&J4519,5)","v":"38001900"},"Odomirok","8-9-IS","Odomirok.8-9-IS: All","formulas",1900,3,null,"formulas: what is the formla for EP (Earned Premium) in terms of WP & UEP (Written Premium & Unearned Premium)","EP ~~ = WP <span style=\"color: red;\"><strong>&ndash;</strong></span> (change in UEP)",null,"concept",null,"A",null,"",0,"","","","","","",4,4,2,16,7,7,999,null,null,null,5.0000000000000001E-4,"x",null,3]
["Odomirok.8-9-IS",null,null,"",{"$f":"VLOOKUP(F4523&\".\"&G4523,syllabus!B$3:I$99,8,FALSE)&RIGHT(\"00000\"&J4523,5)","v":"38002300"},"Odomirok","8-9-IS","Odomirok.8-9-IS: All","net income",2300,3,null,"net income: expense allocation - actuary's involvement: why might the actuary be involved in expense allocation to lines of business","expense allocation to lines of business has actuarial implications: ~~ - misallocation distorts profitability of individual lines and affects business strategy ~~ - misallocation may cause incorrect pricing",null,"concept",null,"A",null,"exam",1,"18","1-Spring",10,"c","",0.5,4,6,2,19.595917942265423,7,7,999,null,null,null,5.0000000000000001E-4,"x",null,3]
["Odomirok.8-9-IS",null,null,"",{"$f":"VLOOKUP(F4530&\".\"&G4530,syllabus!B$3:I$99,8,FALSE)&RIGHT(\"00000\"&J4530,5)","v":"38003000"},"Odomirok","8-9-IS","Odomirok.8-9-IS: All","surplus",3000,4,null,"surplus: [setup required]: calculate policyholder's surplus","see examiner's report - click yellow \"E\" link in \"Section\" column (Answer = 86,490)",null,"calc","calc08","A","dup","exam",3,"16","2-Fall",14,"a","",2.25,10,8,2,56.568542494923804,7,7,999,null,null,null,1E-4,"x",null,4]
["Odomirok.8-9-IS",null,null,"",{"$f":"VLOOKUP(F4533&\".\"&G4533,syllabus!B$3:I$99,8,FALSE)&RIGHT(\"00000\"&J4533,5)","v":"38003300"},"Odomirok","8-9-IS","Odomirok.8-9-IS: All","net income revisited",3300,5,null,"net income revisited: identify the components of 'other surplus changes' (6)","- changes in unrealized capital gains ~ - changes in unrealized foreign exchange ~ - changes in deferred income tax ~ - <span style=\"color: red;\">changes in changes in nonadmitted assets</span> ~ - <span style=\"color: red;\">changes in provision for reinsurance</span> ~ - cumulative effect of changes in accounting principles",null,"concept",null,"A",null,"",0,"","","","","","",4,7,2,21.166010488516726,7,7,999,null,null,null,5.0000000000000001E-4,"x",null,5]
["Odomirok.8-9-IS",null,null,"",{"$f":"VLOOKUP(F4540&\".\"&G4540,syllabus!B$3:I$99,8,FALSE)&RIGHT(\"00000\"&J4540,5)","v":"38004000"},"Odomirok","8-9-IS","Odomirok.8-9-IS: All","BC",4000,null,null,"BC:",null,null,"concept",null,"F",null,"",0,"","","","","","",4,2,0,0,7,7,999,null,null,null,5.0000000000000001E-4,"x",null,"xxxx"]
["Odomirok.8-9-IS",null,null,"",{"$f":"VLOOKUP(F4549&\".\"&G4549,syllabus!B$3:I$99,8,FALSE)&RIGHT(\"00000\"&J4549,5)","v":"38004900"},"Odomirok","8-9-IS","Odomirok.8-9-IS: All","exam",4900,null,null,"exam:",null,null,"concept",null,"F",null,"",0,"","","","","","",4,2,0,0,7,7,999,null,null,null,5.0000000000000001E-4,"x",null,"xxxx"]
["Odomirok.8-9-IS",null,null,"",{"$f":"VLOOKUP(F4553&\".\"&G4553,syllabus!B$3:I$99,8,FALSE)&RIGHT(\"00000\"&J4553,5)","v":"38005300"},"Odomirok","8-9-IS","Odomirok.8-9-IS: All","exam",5300,null,null,"exam:",null,null,"concept",null,"F",null,"",0,"","","","","","",4,2,0,0,7,7,999,null,null,null,5.0000000000000001E-4,"x",null,"xxxx"]
["Odomirok.8-9-IS",null,null,"",{"$f":"VLOOKUP(F4560&\".\"&G4560,syllabus!B$3:I$99,8,FALSE)&RIGHT(\"00000\"&J4560,5)","v":"38006000"},"Odomirok","8-9-IS","Odomirok.8-9-IS: All","exam",6000,6,null,"exam: when should the PDR (Premium Deficiency Reserve) be non-zero","when the UEP reserve won't cover losses & expenses for the unexpired portion of the related policies",null,"concept",null,"A",null,"exam",1,"18","2-Fall",11,"c","",0.5,4,2,2,11.313708498984761,7,7,999,null,null,null,5.0000000000000001E-4,"x",null,"xxxx"]
["Odomirok.8-9-IS",null,null,"",{"$f":"VLOOKUP(F4569&\".\"&G4569,syllabus!B$3:I$99,8,FALSE)&RIGHT(\"00000\"&J4569,5)","v":"38006900"},"Odomirok","8-9-IS","Odomirok.8-9-IS: All","exam",6900,7,null,"exam: [setup required] identify reasons for this insurer to purchase reinsurance","see examiner's report - click yellow \"E\" link in \"Section\" column",null,"concept",null,"A",null,"exam",1,"13","2-Fall",19,"c","",0.5,4,2,2,11.313708498984761,7,7,999,null,null,null,5.0000000000000001E-4,"x",null,6]
["Odomirok.8-9-IS",null,null,"",{"$f":"VLOOKUP(F4572&\".\"&G4572,syllabus!B$3:I$99,8,FALSE)&RIGHT(\"00000\"&J4572,5)","v":"38007200"},"Odomirok","8-9-IS","Odomirok.8-9-IS: All","exam",7200,null,null,"exam: ",null,null,"concept",null,"F",null,null,0,null,null,null,null,null,null,4,2,0,0,7,7,999,null,null,null,5.0000000000000001E-4,"x",null,"xxxx"]
["Odomirok.8-9-IS",null,null,"",{"$f":"VLOOKUP(F4580&\".\"&G4580,syllabus!B$3:I$99,8,FALSE)&RIGHT(\"00000\"&J4580,5)","v":"38008000"},"Odomirok","8-9-IS","Odomirok.8-9-IS: All","exam",8000,null,null,"exam:",null,null,"concept",null,"F",null,"",0,"","","","","","",4,2,0,0,7,7,999,null,null,null,5.0000000000000001E-4,"x",null,"xxxx"]
["Odomirok.8-9-IS",null,null,"",{"$f":"VLOOKUP(F4583&\".\"&G4583,syllabus!B$3:I$99,8,FALSE)&RIGHT(\"00000\"&J4583,5)","v":"38008300"},"Odomirok","8-9-IS","Odomirok.8-9-IS: All","exam",8300,null,null,"exam:",null,null,"concept",null,"F",null,"",0,"","","","","","",4,2,0,0,7,7,999,null,null,null,5.0000000000000001E-4,"x",null,"xxxx"]
["Odomirok.8-9-IS",null,null,"",{"$f":"VLOOKUP(F4590&\".\"&G4590,syllabus!B$3:I$99,8,FALSE)&RIGHT(\"00000\"&J4590,5)","v":"38009000"},"Odomirok","8-9-IS","Odomirok.8-9-IS: All","exam",9000,null,null,"exam:",null,null,"concept",null,"F",null,"",0,"","","","","","",4,2,0,0,7,7,999,null,null,null,5.0000000000000001E-4,"x",null,"xxxx"]
["Odomirok.8-9-IS",null,null,"",{"$f":"VLOOKUP(F4598&\".\"&G4598,syllabus!B$3:I$99,8,FALSE)&RIGHT(\"00000\"&J4598,5)","v":"38009800"},"Odomirok","8-9-IS","Odomirok.8-9-IS: All","exam",9800,null,null,"exam:",null,null,"concept",null,"F",null,"",0,"","","","","","",4,2,0,0,7,7,999,null,null,null,5.0000000000000001E-4,"x",null,"xxxx"]
["Odomirok.10-Notes",null,null,"",{"$f":"VLOOKUP(F4607&\".\"&G4607,syllabus!B$3:I$99,8,FALSE)&RIGHT(\"00000\"&J4607,5)","v":"39000700"},"Odomirok","10-Notes","Odomirok.10-Notes: All","content",700,2,null,"content: describe the Financial Statement NOTE: <span style=\"color: red;\"><strong>PDR</strong></span> (Premium Deficiency Reserve)","- inclusion of investment income is optional ~ - disclose amount and effective date of PDR\n ~ - if PDR is recorded as part of UEP then this Note is the only way to know if PDR exists",null,"concept",null,"A",null,"",0,"","","","","","",1,4,2,4,28,28,999,null,null,null,5.0000000000000001E-4,"x",null,2]
["Odomirok.10-Notes",null,null,"",{"$f":"VLOOKUP(F4610&\".\"&G4610,syllabus!B$3:I$99,8,FALSE)&RIGHT(\"00000\"&J4610,5)","v":"39001000"},"Odomirok","10-Notes","Odomirok.10-Notes: All","content",1000,2,null,"content: describe the Financial Statement NOTE: <span style=\"color: red;\"><strong>I</strong></span>ntercompany pooling","this is when companies in a group cede all business to lead company\n ~~ &rarr; each member of group then assumes back a specified percentage\n ~~ &rarr; note must disclose pooling arrangements\n ~ <strong>pooling affects:</strong> U&IE, Schedule F Parts 1 & 3, Schedule P\n ~~ &rarr; Schedule P shows only pool member's share of pooled results",null,"concept",null,"A",null,"",0,"","","","","","",1,9,2,6,28,28,999,null,null,null,5.0000000000000001E-4,"x",null,2]
["Odomirok.10-Notes",null,null,"",{"$f":"VLOOKUP(F4619&\".\"&G4619,syllabus!B$3:I$99,8,FALSE)&RIGHT(\"00000\"&J4619,5)","v":"39001900"},"Odomirok","10-Notes","Odomirok.10-Notes: All","BC",1900,null,null,"BC:",null,null,"concept",null,"F",null,"",0,"","","","","","",1,2,0,0,28,28,999,null,null,null,5.0000000000000001E-4,"x",null,"xxxx"]
["Odomirok.10-Notes",null,null,"",{"$f":"VLOOKUP(F4621&\".\"&G4621,syllabus!B$3:I$99,8,FALSE)&RIGHT(\"00000\"&J4621,5)","v":"39002100"},"Odomirok","10-Notes","Odomirok.10-Notes: All","BC",2100,null,null,"BC:",null,null,"concept",null,"F",null,"",0,"","","","","","",1,2,0,0,28,28,999,null,null,null,5.0000000000000001E-4,"x",null,"xxxx"]
["Odomirok.10-Notes",null,null,"",{"$f":"VLOOKUP(F4630&\".\"&G4630,syllabus!B$3:I$99,8,FALSE)&RIGHT(\"00000\"&J4630,5)","v":"39003000"},"Odomirok","10-Notes","Odomirok.10-Notes: All","BC",3000,null,null,"BC:",null,null,"concept",null,"F",null,"",0,"","","","","","",1,2,0,0,28,28,999,null,null,null,5.0000000000000001E-4,"x",null,"xxxx"]
["Odomirok.10-Notes",null,null,"",{"$f":"VLOOKUP(F4633&\".\"&G4633,syllabus!B$3:I$99,8,FALSE)&RIGHT(\"00000\"&J4633,5)","v":"39003300"},"Odomirok","10-Notes","Odomirok.10-Notes: All","BC",3300,null,null,"BC:",null,null,"concept",null,"F",null,"",0,"","","","","","",1,2,0,0,28,28,999,null,null,null,5.0000000000000001E-4,"x",null,"xxxx"]
["Odomirok.10-Notes",null,null,"",{"$f":"VLOOKUP(F4640&\".\"&G4640,syllabus!B$3:I$99,8,FALSE)&RIGHT(\"00000\"&J4640,5)","v":"39004000"},"Odomirok","10-Notes","Odomirok.10-Notes: All","exam",4000,null,null,"exam:",null,null,"concept",null,"F",null,"",0,"","","","","","",1,2,0,0,28,28,999,null,null,null,5.0000000000000001E-4,"x",null,"xxxx"]
["Odomirok.10-Notes",null,null,"",{"$f":"VLOOKUP(F4647&\".\"&G4647,syllabus!B$3:I$99,8,FALSE)&RIGHT(\"00000\"&J4647,5)","v":"39004700"},"Odomirok","10-Notes","Odomirok.10-Notes: All","exam",4700,null,null,"exam:",null,null,"concept",null,"F",null,"",0,"","","","","","",1,2,0,0,28,28,999,null,null,null,5.0000000000000001E-4,"x",null,"xxxx"]
["Odomirok.10-Notes",null,null,"",{"$f":"VLOOKUP(F4657&\".\"&G4657,syllabus!B$3:I$99,8,FALSE)&RIGHT(\"00000\"&J4657,5)","v":"39005700"},"Odomirok","10-Notes","Odomirok.10-Notes: All","exam",5700,null,null,"exam:",null,null,"concept",null,"F",null,"",0,"","","","","","",1,2,0,0,28,28,999,null,null,null,5.0000000000000001E-4,"x",null,"xxxx"]
["Odomirok.10-Notes",null,null,"",{"$f":"VLOOKUP(F4660&\".\"&G4660,syllabus!B$3:I$99,8,FALSE)&RIGHT(\"00000\"&J4660,5)","v":"39006000"},"Odomirok","10-Notes","Odomirok.10-Notes: All","exam",6000,3,null,"exam: describe required items from Note to Financial Statements 30 (Premium Deficiency Reserves)","amount & evaluation date of premium deficiency reserves",null,"concept",null,"A",null,"exam",1,"17","1-Spring",16,"a","",0.5,1,2,2,2.8284271247461903,28,28,999,null,null,null,5.0000000000000001E-4,"x",null,3]
["Odomirok.10-Notes",null,null,"",{"$f":"VLOOKUP(F4669&\".\"&G4669,syllabus!B$3:I$99,8,FALSE)&RIGHT(\"00000\"&J4669,5)","v":"39006900"},"Odomirok","10-Notes","Odomirok.10-Notes: All","exam",6900,3,null,"exam: assess the effectiveness of the credit risk indicators from part (c)","<u>examiner's report answer was pretty much copied & pasted from Odomirok</u> (lazy much?) ~ CATEGORY 1: (actuaries directly involved) \n ~~ <span style=\"color: red;\"><strong>R</strong></span>einsurance ~~~ &rarr; assesses unsecured, disputed, uncollectible recoveries (good) ~~~ &rarr; not all sources of reinsurance <span style=\"color: purple;\"><strong><u>credit risk</u></strong></span> are covered (bad)\n ~ CATEGORY 2: (relevant to actuaries)\n ~~ <span style=\"color: red;\"><strong>H</strong></span>igh deductibles ~~~ &rarr; discloses structured settlements where insurer could be liable (good) ~~~ rarr; identifies providers of structured settlements for further scrutiny (good)\n ~~ <span style=\"color: red;\"><strong>E</strong></span>vents subsequent ~~~ &rarr; identifies subsequent events that may materially impact insurer (good) (Ex: large cat) ~~~ &rarr; alerts regulator that reinsurer <span style=\"color: purple;\"><strong><u>credit risk</u></strong></span> needs attention (good) ~~~ &rarr; but does not mention <strong>amounts</strong> recoverable (bad)\n ~~ <span style=\"color: red;\"><strong>S</strong></span>tructured settlements ~~~ &rarr; deductible amounts are not included in reserves ~~~ &rarr; this note identifies high deductible policies (good) ~~~ &rarr; can evaluate if insured will pay the deductible (good)",null,"concept",null,"A",null,"exam",1,"15","1-Spring",11,"d","",1,1,42,2,12.961481396815721,28,28,999,null,null,null,5.0000000000000001E-4,"x",null,3]
["Odomirok.10-Notes",null,null,"",{"$f":"VLOOKUP(F4670&\".\"&G4670,syllabus!B$3:I$99,8,FALSE)&RIGHT(\"00000\"&J4670,5)","v":"39007000"},"Odomirok","10-Notes","Odomirok.10-Notes: All","exam",7000,4,null,"exam: [setup required] identify a required disclosure in the Notes to the Financial Statements","reinsurance assumed & ceded: ~~ - must disclose unearned premium & ceded commission REFUNDED if reinsurance was cancelled",null,"concept",null,"A",null,"exam",1,"14","2-Fall",12,"c","",0.75,1,4,2,4,28,28,999,null,null,null,5.0000000000000001E-4,"x",null,4]
["Odomirok.10-Notes",null,null,"",{"$f":"VLOOKUP(F4680&\".\"&G4680,syllabus!B$3:I$99,8,FALSE)&RIGHT(\"00000\"&J4680,5)","v":"39008000"},"Odomirok","10-Notes","Odomirok.10-Notes: All","exam",8000,null,null,"exam:",null,null,"concept",null,"F",null,"",0,"","","","","","",1,2,0,0,28,28,999,null,null,null,5.0000000000000001E-4,"x",null,"xxxx"]
["Odomirok.10-Notes",null,null,"",{"$f":"VLOOKUP(F4683&\".\"&G4683,syllabus!B$3:I$99,8,FALSE)&RIGHT(\"00000\"&J4683,5)","v":"39008300"},"Odomirok","10-Notes","Odomirok.10-Notes: All","exam",8300,null,null,"exam:",null,null,"concept",null,"F",null,"",0,"","","","","","",1,2,0,0,28,28,999,null,null,null,5.0000000000000001E-4,"x",null,"xxxx"]
["Odomirok.10-Notes",null,null,"",{"$f":"VLOOKUP(F4690&\".\"&G4690,syllabus!B$3:I$99,8,FALSE)&RIGHT(\"00000\"&J4690,5)","v":"39009000"},"Odomirok","10-Notes","Odomirok.10-Notes: All","exam",9000,null,null,"exam:",null,null,"concept",null,"F",null,"",0,"","","","","","",1,2,0,0,28,28,999,null,null,null,5.0000000000000001E-4,"x",null,"xxxx"]
["Odomirok.10-Notes",null,null,"",{"$f":"VLOOKUP(F4696&\".\"&G4696,syllabus!B$3:I$99,8,FALSE)&RIGHT(\"00000\"&J4696,5)","v":"39009600"},"Odomirok","10-Notes","Odomirok.10-Notes: All","exam",9600,null,null,"exam:",null,null,"concept",null,"F",null,"",0,"","","","","","",1,2,0,0,28,28,999,null,null,null,5.0000000000000001E-4,"x",null,"xxxx"]
["Odomirok.11-GenInt",null,null,"",{"$f":"VLOOKUP(F4707&\".\"&G4707,syllabus!B$3:I$99,8,FALSE)&RIGHT(\"00000\"&J4707,5)","v":"40000700"},"Odomirok","11-GenInt","Odomirok.11-GenInt: All","BC",700,null,null,"BC:",null,null,"concept",null,"F",null,"",0,"","","","","","",1,2,0,0,55,55,999,null,null,null,5.0000000000000001E-4,"x",null,"xxxx"]
["Odomirok.11-GenInt",null,null,"",{"$f":"VLOOKUP(F4710&\".\"&G4710,syllabus!B$3:I$99,8,FALSE)&RIGHT(\"00000\"&J4710,5)","v":"40001000"},"Odomirok","11-GenInt","Odomirok.11-GenInt: All","BC",1000,null,null,"BC:",null,null,"concept",null,"F",null,"",0,"","","","","","",1,2,0,0,55,55,999,null,null,null,5.0000000000000001E-4,"x",null,"xxxx"]
["Odomirok.11-GenInt",null,null,"",{"$f":"VLOOKUP(F4719&\".\"&G4719,syllabus!B$3:I$99,8,FALSE)&RIGHT(\"00000\"&J4719,5)","v":"40001900"},"Odomirok","11-GenInt","Odomirok.11-GenInt: All","BC",1900,null,null,"BC:",null,null,"concept",null,"F",null,"",0,"","","","","","",1,2,0,0,55,55,999,null,null,null,5.0000000000000001E-4,"x",null,"xxxx"]
["Odomirok.11-GenInt",null,null,"",{"$f":"VLOOKUP(F4726&\".\"&G4726,syllabus!B$3:I$99,8,FALSE)&RIGHT(\"00000\"&J4726,5)","v":"40002600"},"Odomirok","11-GenInt","Odomirok.11-GenInt: All","BC",2600,null,null,"BC:",null,null,"concept",null,"F",null,"",0,"","","","","","",1,2,0,0,55,55,999,null,null,null,5.0000000000000001E-4,"x",null,"xxxx"]
["Odomirok.11-GenInt",null,null,"",{"$f":"VLOOKUP(F4730&\".\"&G4730,syllabus!B$3:I$99,8,FALSE)&RIGHT(\"00000\"&J4730,5)","v":"40003000"},"Odomirok","11-GenInt","Odomirok.11-GenInt: All","BC",3000,null,null,"BC:",null,null,"concept",null,"F",null,"",0,"","","","","","",1,2,0,0,55,55,999,null,null,null,5.0000000000000001E-4,"x",null,"xxxx"]
["Odomirok.11-GenInt",null,null,"",{"$f":"VLOOKUP(F4737&\".\"&G4737,syllabus!B$3:I$99,8,FALSE)&RIGHT(\"00000\"&J4737,5)","v":"40003700"},"Odomirok","11-GenInt","Odomirok.11-GenInt: All","exam",3700,null,null,"exam:",null,null,"concept",null,"F",null,"",0,"","","","","","",1,2,0,0,55,55,999,null,null,null,5.0000000000000001E-4,"x",null,"xxxx"]
["Odomirok.11-GenInt",null,null,"",{"$f":"VLOOKUP(F4740&\".\"&G4740,syllabus!B$3:I$99,8,FALSE)&RIGHT(\"00000\"&J4740,5)","v":"40004000"},"Odomirok","11-GenInt","Odomirok.11-GenInt: All","exam",4000,null,null,"exam:",null,null,"concept",null,"F",null,"",0,"","","","","","",1,2,0,0,55,55,999,null,null,null,5.0000000000000001E-4,"x",null,"xxxx"]
["Odomirok.11-GenInt",null,null,"",{"$f":"VLOOKUP(F4745&\".\"&G4745,syllabus!B$3:I$99,8,FALSE)&RIGHT(\"00000\"&J4745,5)","v":"40004500"},"Odomirok","11-GenInt","Odomirok.11-GenInt: All","exam",4500,null,null,"exam:",null,null,"concept",null,"F",null,"",0,"","","","","","",1,2,0,0,55,55,999,null,null,null,5.0000000000000001E-4,"x",null,"xxxx"]
["Odomirok.11-GenInt",null,null,"",{"$f":"VLOOKUP(F4757&\".\"&G4757,syllabus!B$3:I$99,8,FALSE)&RIGHT(\"00000\"&J4757,5)","v":"40005700"},"Odomirok","11-GenInt","Odomirok.11-GenInt: All","exam",5700,null,null,"exam:",null,null,"concept",null,"F",null,"",0,"","","","","","",1,2,0,0,55,55,999,null,null,null,5.0000000000000001E-4,"x",null,"xxxx"]
["Odomirok.11-GenInt",null,null,"",{"$f":"VLOOKUP(F4760&\".\"&G4760,syllabus!B$3:I$99,8,FALSE)&RIGHT(\"00000\"&J4760,5)","v":"40006000"},"Odomirok","11-GenInt","Odomirok.11-GenInt: All","exam",6000,"x",null,"exam: start Fall.2017 here (at numID = 6000)",null,null,"concept",null,"F",null,"",0,"","","","","","",1,2,0,0,55,55,999,null,null,null,5.0000000000000001E-4,"x",null,"xxxx"]
["Odomirok.11-GenInt",null,null,"",{"$f":"VLOOKUP(F4769&\".\"&G4769,syllabus!B$3:I$99,8,FALSE)&RIGHT(\"00000\"&J4769,5)","v":"40006900"},"Odomirok","11-GenInt","Odomirok.11-GenInt: All","exam",6900,null,null,"exam:",null,null,"concept",null,"F",null,"",0,"","","","","","",1,2,0,0,55,55,999,null,null,null,5.0000000000000001E-4,"x",null,"xxxx"]
["Odomirok.11-GenInt",null,null,"",{"$f":"VLOOKUP(F4775&\".\"&G4775,syllabus!B$3:I$99,8,FALSE)&RIGHT(\"00000\"&J4775,5)","v":"40007500"},"Odomirok","11-GenInt","Odomirok.11-GenInt: All","exam",7500,null,null,"exam:",null,null,"concept",null,"F",null,"",0,"","","","","","",1,2,0,0,55,55,999,null,null,null,5.0000000000000001E-4,"x",null,"xxxx"]
["Odomirok.11-GenInt",null,null,"",{"$f":"VLOOKUP(F4780&\".\"&G4780,syllabus!B$3:I$99,8,FALSE)&RIGHT(\"00000\"&J4780,5)","v":"40008000"},"Odomirok","11-GenInt","Odomirok.11-GenInt: All","exam",8000,null,null,"exam:",null,null,"concept",null,"F",null,"",0,"","","","","","",1,2,0,0,55,55,999,null,null,null,5.0000000000000001E-4,"x",null,"xxxx"]
["Odomirok.11-GenInt",null,null,"",{"$f":"VLOOKUP(F4787&\".\"&G4787,syllabus!B$3:I$99,8,FALSE)&RIGHT(\"00000\"&J4787,5)","v":"40008700"},"Odomirok","11-GenInt","Odomirok.11-GenInt: All","exam",8700,null,null,"exam:",null,null,"concept",null,"F",null,"",0,"","","","","","",1,2,0,0,55,55,999,null,null,null,5.0000000000000001E-4,"x",null,"xxxx"]
["Odomirok.11-GenInt",null,null,"",{"$f":"VLOOKUP(F4790&\".\"&G4790,syllabus!B$3:I$99,8,FALSE)&RIGHT(\"00000\"&J4790,5)","v":"40009000"},"Odomirok","11-GenInt","Odomirok.11-GenInt: All","exam",9000,null,null,"exam:",null,null,"concept",null,"F",null,"",0,"","","","","","",1,2,0,0,55,55,999,null,null,null,5.0000000000000001E-4,"x",null,"xxxx"]
["Odomirok.12-5yr","x",null,"",{"$f":"VLOOKUP(F4801&\".\"&G4801,syllabus!B$3:I$99,8,FALSE)&RIGHT(\"00000\"&J4801,5)","v":"41000100"},"Odomirok","12-5yr","Odomirok.12-5yr: All","--",100,null,null,{"$f":"A4801&\": All\"","v":"Odomirok.12-5yr: All"},null,null,"--",null,"info",null,"",0,"","","","","","","","",0,0,33,33,999,null,null,null,5.0000000000000001E-4,"x",null,"xxxx"]
["Odomirok.12-5yr",null,null,"",{"$f":"VLOOKUP(F4807&\".\"&G4807,syllabus!B$3:I$99,8,FALSE)&RIGHT(\"00000\"&J4807,5)","v":"41000700"},"Odomirok","12-5yr","Odomirok.12-5yr: All","BC",700,null,null,"BC:",null,null,"concept",null,"F",null,"",0,"","","","","","",1,2,0,0,33,33,999,null,null,null,5.0000000000000001E-4,"x",null,"xxxx"]
["Odomirok.12-5yr",null,null,"",{"$f":"VLOOKUP(F4810&\".\"&G4810,syllabus!B$3:I$99,8,FALSE)&RIGHT(\"00000\"&J4810,5)","v":"41001000"},"Odomirok","12-5yr","Odomirok.12-5yr: All","BC",1000,null,null,"BC:",null,null,"concept",null,"F",null,"",0,"","","","","","",1,2,0,0,33,33,999,null,null,null,5.0000000000000001E-4,"x",null,"xxxx"]
["Odomirok.12-5yr",null,null,"",{"$f":"VLOOKUP(F4819&\".\"&G4819,syllabus!B$3:I$99,8,FALSE)&RIGHT(\"00000\"&J4819,5)","v":"41001900"},"Odomirok","12-5yr","Odomirok.12-5yr: All","BC",1900,null,null,"BC:",null,null,"concept",null,"F",null,"",0,"","","","","","",1,2,0,0,33,33,999,null,null,null,5.0000000000000001E-4,"x",null,"xxxx"]
["Odomirok.12-5yr",null,null,"",{"$f":"VLOOKUP(F4824&\".\"&G4824,syllabus!B$3:I$99,8,FALSE)&RIGHT(\"00000\"&J4824,5)","v":"41002400"},"Odomirok","12-5yr","Odomirok.12-5yr: All","BC",2400,null,null,"BC:",null,null,"concept",null,"F",null,"",0,"","","","","","",1,2,0,0,33,33,999,null,null,null,5.0000000000000001E-4,"x",null,"xxxx"]
["Odomirok.12-5yr",null,null,"",{"$f":"VLOOKUP(F4830&\".\"&G4830,syllabus!B$3:I$99,8,FALSE)&RIGHT(\"00000\"&J4830,5)","v":"41003000"},"Odomirok","12-5yr","Odomirok.12-5yr: All","BC",3000,null,null,"BC:",null,null,"concept",null,"F",null,"",0,"","","","","","",1,2,0,0,33,33,999,null,null,null,5.0000000000000001E-4,"x",null,"xxxx"]
["Odomirok.12-5yr",null,null,"",{"$f":"VLOOKUP(F4837&\".\"&G4837,syllabus!B$3:I$99,8,FALSE)&RIGHT(\"00000\"&J4837,5)","v":"41003700"},"Odomirok","12-5yr","Odomirok.12-5yr: All","exam",3700,null,null,"exam:",null,null,"concept",null,"F",null,"",0,"","","","","","",1,2,0,0,33,33,999,null,null,null,5.0000000000000001E-4,"x",null,"xxxx"]
["Odomirok.12-5yr",null,null,"",{"$f":"VLOOKUP(F4840&\".\"&G4840,syllabus!B$3:I$99,8,FALSE)&RIGHT(\"00000\"&J4840,5)","v":"41004000"},"Odomirok","12-5yr","Odomirok.12-5yr: All","exam",4000,null,null,"exam:",null,null,"concept",null,"F",null,"",0,"","","","","","",1,2,0,0,33,33,999,null,null,null,5.0000000000000001E-4,"x",null,"xxxx"]
["Odomirok.12-5yr",null,null,"",{"$f":"VLOOKUP(F4850&\".\"&G4850,syllabus!B$3:I$99,8,FALSE)&RIGHT(\"00000\"&J4850,5)","v":"41005000"},"Odomirok","12-5yr","Odomirok.12-5yr: All","exam",5000,null,null,"exam:",null,null,"concept",null,"F",null,"",0,"","","","","","",1,2,0,0,33,33,999,null,null,null,5.0000000000000001E-4,"x",null,"xxxx"]
["Odomirok.12-5yr",null,null,"",{"$f":"VLOOKUP(F4857&\".\"&G4857,syllabus!B$3:I$99,8,FALSE)&RIGHT(\"00000\"&J4857,5)","v":"41005700"},"Odomirok","12-5yr","Odomirok.12-5yr: All","exam",5700,null,null,"exam:",null,null,"concept",null,"F",null,"",0,"","","","","","",1,2,0,0,33,33,999,null,null,null,5.0000000000000001E-4,"x",null,"xxxx"]
["Odomirok.12-5yr",null,null,"",{"$f":"VLOOKUP(F4860&\".\"&G4860,syllabus!B$3:I$99,8,FALSE)&RIGHT(\"00000\"&J4860,5)","v":"41006000"},"Odomirok","12-5yr","Odomirok.12-5yr: All","exam",6000,"x",null,"exam: [setup required] identify areas of concerns based on the given exerpt of the 5-Year Historical Data Exhibit","see examiner's report - click yellow \"E\" link in \"Section\" column ||||",null,"concept",null,"A",null,"exam",1,"18","1-Spring",13,"","",4,1,6,2,4.8989794855663558,33,33,999,null,null,null,5.0000000000000001E-4,"x",null,1]
["Odomirok.12-5yr",null,null,"",{"$f":"VLOOKUP(F4867&\".\"&G4867,syllabus!B$3:I$99,8,FALSE)&RIGHT(\"00000\"&J4867,5)","v":"41006700"},"Odomirok","12-5yr","Odomirok.12-5yr: All","exam",6700,null,null,"exam:",null,null,"concept",null,"F",null,"",0,"","","","","","",1,2,0,0,33,33,999,null,null,null,5.0000000000000001E-4,"x",null,"xxxx"]
["Odomirok.12-5yr",null,null,"",{"$f":"VLOOKUP(F4873&\".\"&G4873,syllabus!B$3:I$99,8,FALSE)&RIGHT(\"00000\"&J4873,5)","v":"41007300"},"Odomirok","12-5yr","Odomirok.12-5yr: All","exam",7300,null,null,"exam:",null,null,"concept",null,"F",null,"",0,"","","","","","",1,2,0,0,33,33,999,null,null,null,5.0000000000000001E-4,"x",null,"xxxx"]
["Odomirok.12-5yr",null,null,"",{"$f":"VLOOKUP(F4880&\".\"&G4880,syllabus!B$3:I$99,8,FALSE)&RIGHT(\"00000\"&J4880,5)","v":"41008000"},"Odomirok","12-5yr","Odomirok.12-5yr: All","exam",8000,null,null,"exam:",null,null,"concept",null,"F",null,"",0,"","","","","","",1,2,0,0,33,33,999,null,null,null,5.0000000000000001E-4,"x",null,"xxxx"]
["Odomirok.12-5yr",null,null,"",{"$f":"VLOOKUP(F4887&\".\"&G4887,syllabus!B$3:I$99,8,FALSE)&RIGHT(\"00000\"&J4887,5)","v":"41008700"},"Odomirok","12-5yr","Odomirok.12-5yr: All","exam",8700,null,null,"exam:",null,null,"concept",null,"F",null,"",0,"","","","","","",1,2,0,0,33,33,999,null,null,null,5.0000000000000001E-4,"x",null,"xxxx"]
["Odomirok.12-5yr",null,null,"",{"$f":"VLOOKUP(F4890&\".\"&G4890,syllabus!B$3:I$99,8,FALSE)&RIGHT(\"00000\"&J4890,5)","v":"41009000"},"Odomirok","12-5yr","Odomirok.12-5yr: All","exam",9000,null,null,"exam:",null,null,"concept",null,"F",null,"",0,"","","","","","",1,2,0,0,33,33,999,null,null,null,5.0000000000000001E-4,"x",null,"xxxx"]
["Odomirok.12-5yr",null,null,"",{"$f":"VLOOKUP(F4899&\".\"&G4899,syllabus!B$3:I$99,8,FALSE)&RIGHT(\"00000\"&J4899,5)","v":"41009900"},"Odomirok","12-5yr","Odomirok.12-5yr: All","exam",9900,null,null,"exam:",null,null,"concept",null,"F",null,"",0,"","","","","","",1,2,0,0,33,33,999,null,null,null,5.0000000000000001E-4,"x",null,"xxxx"]
["Odomirok.13",null,null,"",{"$f":"VLOOKUP(F4907&\".\"&G4907,syllabus!B$3:I$99,8,FALSE)&RIGHT(\"00000\"&J4907,5)","v":"42000700"},"Odomirok","13","Odomirok.13: All","BC",700,null,null,"BC:",null,null,"concept",null,"F",null,"",0,"","","","","","",1,2,0,0,56,56,999,null,null,null,5.0000000000000001E-4,"x",null,"xxxx"]
["Odomirok.13",null,null,"",{"$f":"VLOOKUP(F4910&\".\"&G4910,syllabus!B$3:I$99,8,FALSE)&RIGHT(\"00000\"&J4910,5)","v":"42001000"},"Odomirok","13","Odomirok.13: All","BC",1000,null,null,"BC:",null,null,"concept",null,"F",null,"",0,"","","","","","",1,2,0,0,56,56,999,null,null,null,5.0000000000000001E-4,"x",null,"xxxx"]
["Odomirok.13",null,null,"",{"$f":"VLOOKUP(F4915&\".\"&G4915,syllabus!B$3:I$99,8,FALSE)&RIGHT(\"00000\"&J4915,5)","v":"42001500"},"Odomirok","13","Odomirok.13: All","BC",1500,null,null,"BC:",null,null,"concept",null,"F",null,"",0,"","","","","","",1,2,0,0,56,56,999,null,null,null,5.0000000000000001E-4,"x",null,"xxxx"]
["Odomirok.13",null,null,"",{"$f":"VLOOKUP(F4921&\".\"&G4921,syllabus!B$3:I$99,8,FALSE)&RIGHT(\"00000\"&J4921,5)","v":"42002100"},"Odomirok","13","Odomirok.13: All","BC",2100,null,null,"BC:",null,null,"concept",null,"F",null,"",0,"","","","","","",1,2,0,0,56,56,999,null,null,null,5.0000000000000001E-4,"x",null,"xxxx"]
["Odomirok.13",null,null,"",{"$f":"VLOOKUP(F4930&\".\"&G4930,syllabus!B$3:I$99,8,FALSE)&RIGHT(\"00000\"&J4930,5)","v":"42003000"},"Odomirok","13","Odomirok.13: All","BC",3000,null,null,"BC:",null,null,"concept",null,"F",null,"",0,"","","","","","",1,2,0,0,56,56,999,null,null,null,5.0000000000000001E-4,"x",null,"xxxx"]
["Odomirok.13",null,null,"",{"$f":"VLOOKUP(F4937&\".\"&G4937,syllabus!B$3:I$99,8,FALSE)&RIGHT(\"00000\"&J4937,5)","v":"42003700"},"Odomirok","13","Odomirok.13: All","exam",3700,null,null,"exam:",null,null,"concept",null,"F",null,"",0,"","","","","","",1,2,0,0,56,56,999,null,null,null,5.0000000000000001E-4,"x",null,"xxxx"]
["Odomirok.13",null,null,"",{"$f":"VLOOKUP(F4941&\".\"&G4941,syllabus!B$3:I$99,8,FALSE)&RIGHT(\"00000\"&J4941,5)","v":"42004100"},"Odomirok","13","Odomirok.13: All","exam",4100,null,null,"exam:",null,null,"concept",null,"F",null,"",0,"","","","","","",1,2,0,0,56,56,999,null,null,null,5.0000000000000001E-4,"x",null,"xxxx"]
["Odomirok.13",null,null,"",{"$f":"VLOOKUP(F4948&\".\"&G4948,syllabus!B$3:I$99,8,FALSE)&RIGHT(\"00000\"&J4948,5)","v":"42004800"},"Odomirok","13","Odomirok.13: All","exam",4800,null,null,"exam:",null,null,"concept",null,"F",null,"",0,"","","","","","",1,2,0,0,56,56,999,null,null,null,5.0000000000000001E-4,"x",null,"xxxx"]
["Odomirok.13",null,null,"",{"$f":"VLOOKUP(F4957&\".\"&G4957,syllabus!B$3:I$99,8,FALSE)&RIGHT(\"00000\"&J4957,5)","v":"42005700"},"Odomirok","13","Odomirok.13: All","exam",5700,null,null,"exam:",null,null,"concept",null,"F",null,"",0,"","","","","","",1,2,0,0,56,56,999,null,null,null,5.0000000000000001E-4,"x",null,"xxxx"]
["Odomirok.13",null,null,"",{"$f":"VLOOKUP(F4960&\".\"&G4960,syllabus!B$3:I$99,8,FALSE)&RIGHT(\"00000\"&J4960,5)","v":"42006000"},"Odomirok","13","Odomirok.13: All","exam",6000,"x",null,"exam: start Fall.2017 here (at numID = 6000)",null,null,"concept",null,"F",null,"",0,"","","","","","",1,2,0,0,56,56,999,null,null,null,5.0000000000000001E-4,"x",null,"xxxx"]
["Odomirok.13",null,null,"",{"$f":"VLOOKUP(F4964&\".\"&G4964,syllabus!B$3:I$99,8,FALSE)&RIGHT(\"00000\"&J4964,5)","v":"42006400"},"Odomirok","13","Odomirok.13: All","exam",6400,null,null,"exam:",null,null,"concept",null,"F",null,"",0,"","","","","","",1,2,0,0,56,56,999,null,null,null,5.0000000000000001E-4,"x",null,"xxxx"]
["Odomirok.13",null,null,"",{"$f":"VLOOKUP(F4971&\".\"&G4971,syllabus!B$3:I$99,8,FALSE)&RIGHT(\"00000\"&J4971,5)","v":"42007100"},"Odomirok","13","Odomirok.13: All","exam",7100,null,null,"exam:",null,null,"concept",null,"F",null,"",0,"","","","","","",1,2,0,0,56,56,999,null,null,null,5.0000000000000001E-4,"x",null,"xxxx"]
["Odomirok.13",null,null,"",{"$f":"VLOOKUP(F4980&\".\"&G4980,syllabus!B$3:I$99,8,FALSE)&RIGHT(\"00000\"&J4980,5)","v":"42008000"},"Odomirok","13","Odomirok.13: All","exam",8000,null,null,"exam:",null,null,"concept",null,"F",null,"",0,"","","","","","",1,2,0,0,56,56,999,null,null,null,5.0000000000000001E-4,"x",null,"xxxx"]
["Odomirok.13",null,null,"",{"$f":"VLOOKUP(F4987&\".\"&G4987,syllabus!B$3:I$99,8,FALSE)&RIGHT(\"00000\"&J4987,5)","v":"42008700"},"Odomirok","13","Odomirok.13: All","exam",8700,null,null,"exam:",null,null,"concept",null,"F",null,"",0,"","","","","","",1,2,0,0,56,56,999,null,null,null,5.0000000000000001E-4,"x",null,"xxxx"]
["Odomirok.13",null,null,"",{"$f":"VLOOKUP(F4990&\".\"&G4990,syllabus!B$3:I$99,8,FALSE)&RIGHT(\"00000\"&J4990,5)","v":"42009000"},"Odomirok","13","Odomirok.13: All","exam",9000,null,null,"exam:",null,null,"concept",null,"F",null,"",0,"","","","","","",1,2,0,0,56,56,999,null,null,null,5.0000000000000001E-4,"x",null,"xxxx"]
["Odomirok.13",null,null,"",{"$f":"VLOOKUP(F4998&\".\"&G4998,syllabus!B$3:I$99,8,FALSE)&RIGHT(\"00000\"&J4998,5)","v":"42009800"},"Odomirok","13","Odomirok.13: All","exam",9800,null,null,"exam:",null,null,"concept",null,"F",null,"",0,"","","","","","",1,2,0,0,56,56,999,null,null,null,5.0000000000000001E-4,"x",null,"xxxx"]
["Odomirok.14-F",null,null,"",{"$f":"VLOOKUP(F5007&\".\"&G5007,syllabus!B$3:I$99,8,FALSE)&RIGHT(\"00000\"&J5007,5)","v":"43000700"},"Odomirok","14-F","Odomirok.14-F: All","intro",700,1,null,"intro: define 'letter of credit'","a credit issued by a bank in favor of reinsured IN CASE reinsurer cannot meet obligations",null,"concept",null,"A",null,"",0,"","","","","","",4,2,2,11.313708498984761,9,9,999,null,null,null,5.0000000000000001E-4,"x",null,1]
["Odomirok.14-F",null,null,"",{"$f":"VLOOKUP(F5010&\".\"&G5010,syllabus!B$3:I$99,8,FALSE)&RIGHT(\"00000\"&J5010,5)","v":"43001000"},"Odomirok","14-F","Odomirok.14-F: All","intro",1000,1,null,"intro: does Schedule F, Part 3 use the same groups or categories as Part 1? explain.","Yes, but Schedule F, Part 3 ALSO SEPARATES authorized & unauthorized reinsurance",null,"concept",null,"A",null,"",0,"","","","","","",4,2,2,11.313708498984761,9,9,999,null,null,null,5.0000000000000001E-4,"x",null,1]
["Odomirok.14-F",null,null,"",{"$f":"VLOOKUP(F5020&\".\"&G5020,syllabus!B$3:I$99,8,FALSE)&RIGHT(\"00000\"&J5020,5)","v":"43002000"},"Odomirok","14-F","Odomirok.14-F: All","balance sheet & Sched F",2000,2,null,"balance sheet & Sched F: define 'funds held under reinsurance contract' (state whether it's an asset or liability)","- collateral from reinsurer held by insurer ~ - LIABILITY (because it still belongs to the reinsurer)",null,"concept",null,"A",null,"exam",1,"18","1-Spring",9,"","iii",0.5,4,3,2,13.856406460551018,9,9,999,null,null,null,5.0000000000000001E-4,"x",null,2]
["Odomirok.14-F",null,null,"",{"$f":"VLOOKUP(F5021&\".\"&G5021,syllabus!B$3:I$99,8,FALSE)&RIGHT(\"00000\"&J5021,5)","v":"43002100"},"Odomirok","14-F","Odomirok.14-F: All","balance sheet & Sched F",2100,2,null,"balance sheet & Sched F: define 'provision for reinsurance' (state whether it's an asset or liability)","- minimum reserve estimate for uncollectible reinsurance ~ - LIABILITY",null,"concept",null,"A",null,"exam",1,"18","1-Spring",9,"","iv",0.5,4,3,2,13.856406460551018,9,9,999,null,null,null,5.0000000000000001E-4,"x",null,2]
["Odomirok.14-F",null,null,"",{"$f":"VLOOKUP(F5030&\".\"&G5030,syllabus!B$3:I$99,8,FALSE)&RIGHT(\"00000\"&J5030,5)","v":"43003000"},"Odomirok","14-F","Odomirok.14-F: All","reinsurance provision",3000,4,null,"reinsurance provision: what is an <u>un</u>authorized reinsurer","one that does business where it is NOT legally permitted to do so",null,"concept",null,"A",null,"",0,"","","","","","",4,2,2,11.313708498984761,9,9,999,null,null,null,5.0000000000000001E-4,"x",null,4]
["Odomirok.14-F",null,null,"",{"$f":"VLOOKUP(F5037&\".\"&G5037,syllabus!B$3:I$99,8,FALSE)&RIGHT(\"00000\"&J5037,5)","v":"43003700"},"Odomirok","14-F","Odomirok.14-F: All","reinsurance provision",3700,6,null,"reinsurance provision: [setup required] calculate the provision for reinsurance","see examiner's report - click yellow \"E\" link in \"Section\" column",null,"calc","calc08","A","dup","exam",7,"13","2-Fall",16,"abc","",2.5,10,8,2,56.568542494923804,9,9,999,null,null,null,1E-4,"x",null,6]
["Odomirok.14-F",null,null,"",{"$f":"VLOOKUP(F5039&\".\"&G5039,syllabus!B$3:I$99,8,FALSE)&RIGHT(\"00000\"&J5039,5)","v":"43003900"},"Odomirok","14-F","Odomirok.14-F: All","certification",3900,5,null,"certification: identify a Schedule F criticism addressed by the 'certified reinsurer' category. explain.","criticism: financial strength of the reinsurer is not considered ~~ - financially strong & financially weak unauthorized reinsurers have the same reinsurance provision ~~ - this did NOT reflect the true credit risk ~ benefit of new 'certified reinsurer' category: ~~ - financial strength is considered when calculating provision for certified reinsurers ~~ - therefore financiallly strong reinsurers required a lower provision/collateral",null,"concept",null,"A","current","exam",2,"17","1-Spring",14,"b","",0.75,4,11,2,26.532998322843198,9,9,999,null,null,null,5.0000000000000001E-4,"x",null,5]
["Odomirok.14-F",null,null,"",{"$f":"VLOOKUP(F5048&\".\"&G5048,syllabus!B$3:I$99,8,FALSE)&RIGHT(\"00000\"&J5048,5)","v":"43004800"},"Odomirok","14-F","Odomirok.14-F: All","BC",4800,null,null,"BC:",null,null,"concept",null,"F",null,null,0,null,null,null,null,null,null,4,2,0,0,9,9,999,null,null,null,5.0000000000000001E-4,"x",null,"xxxx"]
["Odomirok.14-F",null,null,"",{"$f":"VLOOKUP(F5057&\".\"&G5057,syllabus!B$3:I$99,8,FALSE)&RIGHT(\"00000\"&J5057,5)","v":"43005700"},"Odomirok","14-F","Odomirok.14-F: All","exam",5700,null,null,"exam:",null,null,"concept",null,"F",null,"",0,"","","","","","",4,2,0,0,9,9,999,null,null,null,5.0000000000000001E-4,"x",null,"xxxx"]
["Odomirok.14-F",null,null,"",{"$f":"VLOOKUP(F5060&\".\"&G5060,syllabus!B$3:I$99,8,FALSE)&RIGHT(\"00000\"&J5060,5)","v":"43006000"},"Odomirok","14-F","Odomirok.14-F: All","exam",6000,null,null,"exam:",null,null,"concept",null,"F",null,"",0,"","","","","","",4,2,0,0,9,9,999,null,null,null,5.0000000000000001E-4,"x",null,"xxxx"]
["Odomirok.14-F",null,null,"",{"$f":"VLOOKUP(F5069&\".\"&G5069,syllabus!B$3:I$99,8,FALSE)&RIGHT(\"00000\"&J5069,5)","v":"43006900"},"Odomirok","14-F","Odomirok.14-F: All","exam",6900,null,null,"exam:",null,null,"concept",null,"F",null,"",0,"","","","","","",4,2,0,0,9,9,999,null,null,null,5.0000000000000001E-4,"x",null,"xxxx"]
["Odomirok.14-F",null,null,"",{"$f":"VLOOKUP(F5071&\".\"&G5071,syllabus!B$3:I$99,8,FALSE)&RIGHT(\"00000\"&J5071,5)","v":"43007100"},"Odomirok","14-F","Odomirok.14-F: All","exam",7100,null,null,"exam:",null,null,"concept",null,"F",null,"",0,"","","","","","",4,2,0,0,9,9,999,null,null,null,5.0000000000000001E-4,"x",null,"xxxx"]
["Odomirok.14-F",null,null,"",{"$f":"VLOOKUP(F5078&\".\"&G5078,syllabus!B$3:I$99,8,FALSE)&RIGHT(\"00000\"&J5078,5)","v":"43007800"},"Odomirok","14-F","Odomirok.14-F: All","exam",7800,6,null,"exam: describe potential improvements to Schedule F's reinsurance provision exhibit from the perspective of a regulator (3)","- include reinsurer's rating to better understand risk uncollectability ~ - seek management input on uncollectability risk (reinsurance provision formula may miss important information) ~ - re-assess the 20% slow-pay ratio threshold (current threshold arbitrary and not based on hard data)",null,"concept",null,"A",null,"exam",1,"17","1-Spring",14,"c","",0.5,4,5,2,17.888543819998318,9,9,999,null,null,null,5.0000000000000001E-4,"x",null,6]
["Odomirok.14-F",null,null,"",{"$f":"VLOOKUP(F5087&\".\"&G5087,syllabus!B$3:I$99,8,FALSE)&RIGHT(\"00000\"&J5087,5)","v":"43008700"},"Odomirok","14-F","Odomirok.14-F: All","exam",8700,null,null,"exam:",null,null,"concept",null,"F",null,"",0,"","","","","","",4,2,0,0,9,9,999,null,null,null,5.0000000000000001E-4,"x",null,"xxxx"]
["Odomirok.14-F",null,null,"",{"$f":"VLOOKUP(F5095&\".\"&G5095,syllabus!B$3:I$99,8,FALSE)&RIGHT(\"00000\"&J5095,5)","v":"43009500"},"Odomirok","14-F","Odomirok.14-F: All","exam",9500,null,null,"exam:",null,null,"concept",null,"F",null,"",0,"","","","","","",4,2,0,0,9,9,999,null,null,null,5.0000000000000001E-4,"x",null,"xxxx"]
["Odomirok.14-F",null,null,"",{"$f":"VLOOKUP(F5098&\".\"&G5098,syllabus!B$3:I$99,8,FALSE)&RIGHT(\"00000\"&J5098,5)","v":"43009800"},"Odomirok","14-F","Odomirok.14-F: All","exam",9800,null,null,"exam:",null,null,"concept",null,"F",null,"",0,"","","","","","",4,2,0,0,9,9,999,null,null,null,5.0000000000000001E-4,"x",null,"xxxx"]
["Odomirok.15-P",null,null,"",{"$f":"VLOOKUP(F5107&\".\"&G5107,syllabus!B$3:I$99,8,FALSE)&RIGHT(\"00000\"&J5107,5)","v":"44000700"},"Odomirok","15-P","Odomirok.15-P: All","overview",700,"xxxx",null,"overview: identify commons uses/functions of Schedule P and the applicable Schedule P Part","D: Development of reserves over time attributable to specific years & lines (Part 2,3,4) ~ T: Trends in frequency & severity (Part 1,2,5) ~ - ~ R: calculate RBC loss-sensitive discount (Part 7) ~ A: evaluate Adequacy of recorded reserves (Part 2,5) ~ P: determine Payment patterns for discounting (Part 3) ~ I: observe split between actuarial reserves (IBNR) and case reserves (Part 4,5) ~ D: Disclosures for the SAO (Statement of Actuarial Opinion) (Part 1)","DT-RAPID","concept",null,"A","dup","exam",2,"13","2-Fall",20,"c","",0.75,5,9,2,0,5,5,999,null,null,null,5.0000000000000001E-4,"x",null,"xxxx"]
["Odomirok.15-P",null,null,"",{"$f":"VLOOKUP(F5110&\".\"&G5110,syllabus!B$3:I$99,8,FALSE)&RIGHT(\"00000\"&J5110,5)","v":"44001000"},"Odomirok","15-P","Odomirok.15-P: All","overview",1000,1,null,"overview: identify the Parts of Schedule that have a 'Summary' section","Part 1,2,3,4 have a summary section (the subparts A - T show line of business detail) ~ Part 5,6,7 DO NOT have a summary section",null,"concept",null,"A",null,"",0,"","","","","","",5,3,2,17.320508075688771,5,5,999,null,null,null,5.0000000000000001E-4,"x",null,1]
["Odomirok.15-P",null,null,"",{"$f":"VLOOKUP(F5118&\".\"&G5118,syllabus!B$3:I$99,8,FALSE)&RIGHT(\"00000\"&J5118,5)","v":"44001800"},"Odomirok","15-P","Odomirok.15-P: All","Schedule P (5)",1800,3,null,"Schedule P (5): [setup required] calculate the triangle of ratios of closed-to-reported claims","see examiner's report - click yellow \"E\" link in \"Section\" column",null,"calc","calc06","A",null,"exam",1,"16","2-Fall",11,"a","",1.25,12.5,6,2,61.237243569579448,5,5,999,null,null,null,1E-4,"x",null,3]
["Odomirok.15-P",null,null,"",{"$f":"VLOOKUP(F5121&\".\"&G5121,syllabus!B$3:I$99,8,FALSE)&RIGHT(\"00000\"&J5121,5)","v":"44002100"},"Odomirok","15-P","Odomirok.15-P: All","Schedule P (2,3)",2100,4,null,"Schedule P (2,3): update Parts 2&3 for the new calendar year","click the button with the pencil",null,"calc","calc10","A",null,"",0,"","","","","","",12.5,10,2,316.22776601683796,5,5,999,null,"CP","US_R05_P_030_Parts234",1E-4,"x",null,4]
["Odomirok.15-P",null,null,"",{"$f":"VLOOKUP(F5128&\".\"&G5128,syllabus!B$3:I$99,8,FALSE)&RIGHT(\"00000\"&J5128,5)","v":"44002800"},"Odomirok","15-P","Odomirok.15-P: All","BC",2800,null,null,"BC:",null,null,"concept",null,"F",null,"",0,"","","","","","",5,2,0,0,5,5,999,null,null,null,5.0000000000000001E-4,"x",null,"xxxx"]
["Odomirok.15-P",null,null,"",{"$f":"VLOOKUP(F5137&\".\"&G5137,syllabus!B$3:I$99,8,FALSE)&RIGHT(\"00000\"&J5137,5)","v":"44003700"},"Odomirok","15-P","Odomirok.15-P: All","BC",3700,null,null,"BC:",null,null,"concept",null,"F",null,"",0,"","","","","","",5,2,0,0,5,5,999,null,null,null,5.0000000000000001E-4,"x",null,"xxxx"]
["Odomirok.15-P",null,null,"",{"$f":"VLOOKUP(F5144&\".\"&G5144,syllabus!B$3:I$99,8,FALSE)&RIGHT(\"00000\"&J5144,5)","v":"44004400"},"Odomirok","15-P","Odomirok.15-P: All","exam",4400,null,null,"exam:",null,null,"concept",null,"F",null,"",0,"","","","","","",5,2,0,0,5,5,999,null,null,null,5.0000000000000001E-4,"x",null,"xxxx"]
["Odomirok.15-P",null,null,"",{"$f":"VLOOKUP(F5148&\".\"&G5148,syllabus!B$3:I$99,8,FALSE)&RIGHT(\"00000\"&J5148,5)","v":"44004800"},"Odomirok","15-P","Odomirok.15-P: All","exam",4800,null,null,"exam:",null,null,"concept",null,"F",null,"",0,"","","","","","",5,2,0,0,5,5,999,null,null,null,5.0000000000000001E-4,"x",null,"xxxx"]
["Odomirok.15-P",null,null,"",{"$f":"VLOOKUP(F5157&\".\"&G5157,syllabus!B$3:I$99,8,FALSE)&RIGHT(\"00000\"&J5157,5)","v":"44005700"},"Odomirok","15-P","Odomirok.15-P: All","exam",5700,null,null,"exam:",null,null,"concept",null,"F",null,"",0,"","","","","","",5,2,0,0,5,5,999,null,null,null,5.0000000000000001E-4,"x",null,"xxxx"]
["Odomirok.15-P",null,null,"",{"$f":"VLOOKUP(F5158&\".\"&G5158,syllabus!B$3:I$99,8,FALSE)&RIGHT(\"00000\"&J5158,5)","v":"44005800"},"Odomirok","15-P","Odomirok.15-P: All","exam",5800,null,null,"exam:",null,null,"concept",null,"F",null,"",0,"","","","","","",5,2,0,0,5,5,999,null,null,null,5.0000000000000001E-4,"x",null,"xxxx"]
["Odomirok.15-P",null,null,"",{"$f":"VLOOKUP(F5167&\".\"&G5167,syllabus!B$3:I$99,8,FALSE)&RIGHT(\"00000\"&J5167,5)","v":"44006700"},"Odomirok","15-P","Odomirok.15-P: All","exam",6700,7,null,"exam: [setup required] intercompany pooling - other than Sched P (net loss & expenses)","see examiner's report - click yellow \"E\" link in \"Section\" column",null,"calc","calc02","A",null,"exam",1,"17","1-Spring",13,"b","iii",0.5,12.5,2,2,35.355339059327378,5,5,999,null,null,null,1E-4,"x",null,7]
["Odomirok.15-P",null,null,"",{"$f":"VLOOKUP(F5171&\".\"&G5171,syllabus!B$3:I$99,8,FALSE)&RIGHT(\"00000\"&J5171,5)","v":"44007100"},"Odomirok","15-P","Odomirok.15-P: All","exam",7100,8,null,"exam: [setup required] Part 5 - freq/sev trends","see examiner's report - click yellow \"E\" link in \"Section\" column",null,"calc","calc04","A",null,"exam",1,"15","2-Fall",14,"a","",1,12.5,4,2,50,5,5,999,null,null,null,1E-4,"x",null,8]
["Odomirok.15-P",null,null,"",{"$f":"VLOOKUP(F5178&\".\"&G5178,syllabus!B$3:I$99,8,FALSE)&RIGHT(\"00000\"&J5178,5)","v":"44007800"},"Odomirok","15-P","Odomirok.15-P: All","exam",7800,8,null,"exam: [setup required] claim scenario - calc Sched F entires","see examiner's report - click yellow \"E\" link in \"Section\" column",null,"calc","calc04","A",null,"exam",1,"14","1-Spring",16,"b","",1.75,12.5,4,2,50,5,5,999,null,null,null,1E-4,"x",null,8]
["Odomirok.15-P",null,null,"",{"$f":"VLOOKUP(F5187&\".\"&G5187,syllabus!B$3:I$99,8,FALSE)&RIGHT(\"00000\"&J5187,5)","v":"44008700"},"Odomirok","15-P","Odomirok.15-P: All","exam",8700,null,null,"exam: ",null,null,"concept",null,"F",null,null,1,null,null,null,null,null,null,5,2,0,0,5,5,999,null,null,null,5.0000000000000001E-4,"x",null,"xxxx"]
["Odomirok.15-P",null,null,"",{"$f":"VLOOKUP(F5193&\".\"&G5193,syllabus!B$3:I$99,8,FALSE)&RIGHT(\"00000\"&J5193,5)","v":"44009300"},"Odomirok","15-P","Odomirok.15-P: All","exam",9300,null,null,"exam:    ",null,null,"concept",null,"F",null,null,0,null,null,null,null,null,null,5,2,0,0,5,5,999,null,null,null,5.0000000000000001E-4,"x",null,"xxxx"]
["Odomirok.15-P",null,null,"",{"$f":"VLOOKUP(F5198&\".\"&G5198,syllabus!B$3:I$99,8,FALSE)&RIGHT(\"00000\"&J5198,5)","v":"44009800"},"Odomirok","15-P","Odomirok.15-P: All","exam",9800,null,null,"exam:    ",null,null,"concept",null,"F",null,"",0,"","","","","","",5,2,0,0,5,5,999,null,null,null,5.0000000000000001E-4,"x",null,"xxxx"]
["Odomirok.16-17-SAO",null,null,"",{"$f":"VLOOKUP(F5207&\".\"&G5207,syllabus!B$3:I$99,8,FALSE)&RIGHT(\"00000\"&J5207,5)","v":"45000700"},"Odomirok","16-17-SAO","Odomirok.16-17-SAO: All","Ch 16 id/scope",700,null,null,"Ch 16 id/scope: identify examples of reserve items in the SCOPE section of the SAO (3)","- loss & LAE reserves ~ - retroactive reinsurance assumed reserves ~ - unearned premium reserves for long-duration contracts","losses, reinsurance, UEP","concept",null,"A",null,"",0,"","","","","","",5,4,2,20,1,1,999,null,null,null,5.0000000000000001E-4,"x",null,2]
["Odomirok.16-17-SAO",null,null,"",{"$f":"VLOOKUP(F5208&\".\"&G5208,syllabus!B$3:I$99,8,FALSE)&RIGHT(\"00000\"&J5208,5)","v":"45000800"},"Odomirok","16-17-SAO","Odomirok.16-17-SAO: All","Ch 16 id/scope",800,null,null,"Ch 16 id/scope: define 'review date' for the SAO","date (subsequent to the valuation date) through which (material information known to the actuary) is included in (forming the reserve opinion) ~ NOTE: ~~ - the 'review date' is NOT the same as the 'signing date' ~~ - the 'signing date' comes ON/AFTER the 'review date' ~~ - info arising between 'review date' & 'signing date' is NOT relied on by the actuary","date.. through which.. is included in..","concept",null,"A",null,"",0,"","","","","","",5,9,2,30,1,1,999,null,null,null,5.0000000000000001E-4,"x",null,2]
["Odomirok.16-17-SAO",null,null,"",{"$f":"VLOOKUP(F5216&\".\"&G5216,syllabus!B$3:I$99,8,FALSE)&RIGHT(\"00000\"&J5216,5)","v":"45001600"},"Odomirok","16-17-SAO","Odomirok.16-17-SAO: All","Ch 16 opinion",1600,null,null,"Ch 16 opinion: if the opinion is reasonable, what is the appropriate wording in the SAO","(recorded amounts) make (reasonable provision for loss & LAE, both gross & net) under (terms of company's contracts & agreements)","(recorded amounts)..","concept",null,"A",null,"",0,"","","","","","",5,3,2,17.320508075688771,1,1,999,null,null,null,5.0000000000000001E-4,"x",null,3]
["Odomirok.16-17-SAO",null,null,"",{"$f":"VLOOKUP(F5221&\".\"&G5221,syllabus!B$3:I$99,8,FALSE)&RIGHT(\"00000\"&J5221,5)","v":"45002100"},"Odomirok","16-17-SAO","Odomirok.16-17-SAO: All","Ch 16 relevant comments",2100,null,null,"Ch 16 relevant comments: identify common types of materiality standards (5)","percentage-based standards: ~~ - % of reserves (loss & LAE) [10% is typical] ~~ - % of surplus [10-20% is typical] ~~ - % of net income ~ regulatory ratio based standards: ~~ - RBC: reduction in surplus that would trigger the next RBC action level ~~ - IRIS: amount that would trigger an unusual IRIS ratio","percentage-based, ratio-based","concept",null,"A",null,"",0,"","","","","","",5,13,2,36.055512754639892,1,1,999,null,null,null,5.0000000000000001E-4,"x",null,4]
["Odomirok.16-17-SAO",null,null,"",{"$f":"VLOOKUP(F5228&\".\"&G5228,syllabus!B$3:I$99,8,FALSE)&RIGHT(\"00000\"&J5228,5)","v":"45002800"},"Odomirok","16-17-SAO","Odomirok.16-17-SAO: All","Ch 17 AOS",2800,null,null,"Ch 17 AOS: if there HAS been adverse development more than 5% in 3 of last 5 years, describe item E of the AOS","provide sufficient detail so regulator can determine if additional review is required ~~ - detail depends on the specific situation ~ a possible way to strucutre the item E statement: ~~ STATE there has been adverse development & for which years ~~ SUMMARIZE the reason for the adverse development ~~ EXPLAIN the reason in more detail ~~ MITIGATE the effects of the adverse development (explain how that might be done)",null,"concept",null,"A",null,"",0,"","","","","","",5,13,2,36.055512754639892,1,1,999,null,null,null,5.0000000000000001E-4,"x",null,5]
["Odomirok.16-17-SAO",null,null,"",{"$f":"VLOOKUP(F5237&\".\"&G5237,syllabus!B$3:I$99,8,FALSE)&RIGHT(\"00000\"&J5237,5)","v":"45003700"},"Odomirok","16-17-SAO","Odomirok.16-17-SAO: All","exam",3700,null,null,"exam:",null,null,"concept",null,"F",null,"",0,"","","","","","",5,2,0,0,1,1,999,null,null,null,5.0000000000000001E-4,"x",null,"xxxx"]
["Odomirok.16-17-SAO",null,null,"",{"$f":"VLOOKUP(F5242&\".\"&G5242,syllabus!B$3:I$99,8,FALSE)&RIGHT(\"00000\"&J5242,5)","v":"45004200"},"Odomirok","16-17-SAO","Odomirok.16-17-SAO: All","exam",4200,null,null,"exam:",null,null,"concept",null,"F",null,"",0,"","","","","","",5,2,0,0,1,1,999,null,null,null,5.0000000000000001E-4,"x",null,"xxxx"]
["Odomirok.16-17-SAO",null,null,"",{"$f":"VLOOKUP(F5248&\".\"&G5248,syllabus!B$3:I$99,8,FALSE)&RIGHT(\"00000\"&J5248,5)","v":"45004800"},"Odomirok","16-17-SAO","Odomirok.16-17-SAO: All","exam",4800,null,null,"exam:",null,null,"concept",null,"F",null,"",0,"","","","","","",5,2,0,0,1,1,999,null,null,null,5.0000000000000001E-4,"x",null,"xxxx"]
["Odomirok.16-17-SAO",null,null,"",{"$f":"VLOOKUP(F5257&\".\"&G5257,syllabus!B$3:I$99,8,FALSE)&RIGHT(\"00000\"&J5257,5)","v":"45005700"},"Odomirok","16-17-SAO","Odomirok.16-17-SAO: All","exam",5700,null,null,"exam:",null,null,"concept",null,"F",null,"",0,"","","","","","",5,2,0,0,1,1,999,null,null,null,5.0000000000000001E-4,"x",null,"xxxx"]
["Odomirok.16-17-SAO",null,null,"",{"$f":"VLOOKUP(F5258&\".\"&G5258,syllabus!B$3:I$99,8,FALSE)&RIGHT(\"00000\"&J5258,5)","v":"45005800"},"Odomirok","16-17-SAO","Odomirok.16-17-SAO: All","exam",5800,null,null,"exam:",null,null,"concept",null,"F",null,"",0,"","","","","","",5,2,0,0,1,1,999,null,null,null,5.0000000000000001E-4,"x",null,"xxxx"]
["Odomirok.16-17-SAO",null,null,"",{"$f":"VLOOKUP(F5265&\".\"&G5265,syllabus!B$3:I$99,8,FALSE)&RIGHT(\"00000\"&J5265,5)","v":"45006500"},"Odomirok","16-17-SAO","Odomirok.16-17-SAO: All","exam",6500,null,null,"exam:",null,null,"concept",null,"F",null,"",0,"","","","","","",5,2,0,0,1,1,999,null,null,null,5.0000000000000001E-4,"x",null,"xxxx"]
["Odomirok.16-17-SAO",null,null,"",{"$f":"VLOOKUP(F5271&\".\"&G5271,syllabus!B$3:I$99,8,FALSE)&RIGHT(\"00000\"&J5271,5)","v":"45007100"},"Odomirok","16-17-SAO","Odomirok.16-17-SAO: All","exam",7100,null,null,"exam:",null,null,"concept",null,"F",null,"",0,"","","","","","",5,2,0,0,1,1,999,null,null,null,5.0000000000000001E-4,"x",null,"xxxx"]
["Odomirok.16-17-SAO",null,null,"",{"$f":"VLOOKUP(F5278&\".\"&G5278,syllabus!B$3:I$99,8,FALSE)&RIGHT(\"00000\"&J5278,5)","v":"45007800"},"Odomirok","16-17-SAO","Odomirok.16-17-SAO: All","exam",7800,null,null,"exam:",null,null,"concept",null,"F",null,"",0,"","","","","","",5,2,0,0,1,1,999,null,null,null,5.0000000000000001E-4,"x",null,"xxxx"]
["Odomirok.16-17-SAO",null,null,"",{"$f":"VLOOKUP(F5287&\".\"&G5287,syllabus!B$3:I$99,8,FALSE)&RIGHT(\"00000\"&J5287,5)","v":"45008700"},"Odomirok","16-17-SAO","Odomirok.16-17-SAO: All","exam",8700,null,null,"exam:",null,null,"concept",null,"F",null,"",0,"","","","","","",5,2,0,0,1,1,999,null,null,null,5.0000000000000001E-4,"x",null,"xxxx"]
["Odomirok.16-17-SAO",null,null,"",{"$f":"VLOOKUP(F5295&\".\"&G5295,syllabus!B$3:I$99,8,FALSE)&RIGHT(\"00000\"&J5295,5)","v":"45009500"},"Odomirok","16-17-SAO","Odomirok.16-17-SAO: All","exam",9500,null,null,"exam:",null,null,"concept",null,"F",null,"",0,"","","","","","",5,2,0,0,1,1,999,null,null,null,5.0000000000000001E-4,"x",null,"xxxx"]
["Odomirok.16-17-SAO",null,null,"",{"$f":"VLOOKUP(F5298&\".\"&G5298,syllabus!B$3:I$99,8,FALSE)&RIGHT(\"00000\"&J5298,5)","v":"45009800"},"Odomirok","16-17-SAO","Odomirok.16-17-SAO: All","exam",9800,null,null,"exam:",null,null,"concept",null,"F",null,"",0,"","","","","","",5,2,0,0,1,1,999,null,null,null,5.0000000000000001E-4,"x",null,"xxxx"]
["Odomirok.18-IEE",null,null,"",{"$f":"VLOOKUP(F5307&\".\"&G5307,syllabus!B$3:I$99,8,FALSE)&RIGHT(\"00000\"&J5307,5)","v":"46000700"},"Odomirok","18-IEE","Odomirok.18-IEE: All","intro",700,1,null,"intro: identify uses of the IEE to the INVESTOR","- examine profitability versus premium growth by line ~ - may affect <u>investment decision</u> if growth is in unprofitable lines",null,"concept",null,"A",null,"exam",1,"13","2-Fall",15,"d","ii",0.25,4,3,2,13.856406460551018,12,12,999,null,null,null,5.0000000000000001E-4,"x",null,1]
["Odomirok.18-IEE",null,null,"",{"$f":"VLOOKUP(F5308&\".\"&G5308,syllabus!B$3:I$99,8,FALSE)&RIGHT(\"00000\"&J5308,5)","v":"46000800"},"Odomirok","18-IEE","Odomirok.18-IEE: All","intro",800,"xxxx",null,"intro: identify uses of the IEE to the INVESTOR","- examine profitability versus premium growth by line ~ - may affect <u>investment decision</u> if growth is in unprofitable lines",null,"concept",null,"A",null,"exam",1,"12","2-Fall",17,"b","",0.5,4,3,2,13.856406460551018,12,12,999,null,null,null,5.0000000000000001E-4,"x",null,"xxxx"]
["Odomirok.18-IEE",null,null,"",{"$f":"VLOOKUP(F5314&\".\"&G5314,syllabus!B$3:I$99,8,FALSE)&RIGHT(\"00000\"&J5314,5)","v":"46001400"},"Odomirok","18-IEE","Odomirok.18-IEE: All","surplus allocation",1400,2,null,"surplus allocation: [setup required] calculate the surplus allocation to line of business","see examiner's report - click yellow \"E\" link in \"Section\" column",null,"calc","calc06","A",null,"exam",1,"15","2-Fall",13,"a","",1.5,10,6,2,48.989794855663561,12,12,999,null,null,null,1E-4,"x",null,2]
["Odomirok.18-IEE",null,null,"",{"$f":"VLOOKUP(F5321&\".\"&G5321,syllabus!B$3:I$99,8,FALSE)&RIGHT(\"00000\"&J5321,5)","v":"46002100"},"Odomirok","18-IEE","Odomirok.18-IEE: All","surplus allocation",2100,2,null,"surplus allocation: propose & justify an alternate method to allocate surplus to line of business","sample answer 1: ~~ - allocate surplus using an internal company model ~~ this incorpoates risks that were previously excluded ~~ - includes catastrophe risk, operational risk, all risks that RBC includes ~ - includes investment risk, assest risk, U/W risk ~ sample answer 2: ~~ - allocate surplus using a TVar approach (Tail Value at Risk) ~~ - captures the risk profile better ~~ - allocates more surplus to lines like HO that have cat potential (losses in tail) ~~ - TVar is prospective and captures future conditions better ~ see examiner's report - click yellow \"E\" link in \"Section\" column for more sample answers",null,"concept",null,"A",null,"exam",1,"13","2-Fall",15,"c","",0.75,4,19,2,34.871191548325392,12,12,999,null,null,null,5.0000000000000001E-4,"x",null,2]
["Odomirok.18-IEE",null,null,"",{"$f":"VLOOKUP(F5328&\".\"&G5328,syllabus!B$3:I$99,8,FALSE)&RIGHT(\"00000\"&J5328,5)","v":"46002800"},"Odomirok","18-IEE","Odomirok.18-IEE: All","investment gain 2",2800,4,null,"investment gain 2: what is the formula for TOTAL investment gain","TOTAL investment gain = (investment gain attributable to Capital & Surplus) + (investment gain attributable to Insurance Transactions)",null,"concept",null,"A",null,"",0,"","","","","","",4,3,2,13.856406460551018,12,12,999,null,null,null,5.0000000000000001E-4,"x",null,4]
["Odomirok.18-IEE",null,null,"",{"$f":"VLOOKUP(F5337&\".\"&G5337,syllabus!B$3:I$99,8,FALSE)&RIGHT(\"00000\"&J5337,5)","v":"46003700"},"Odomirok","18-IEE","Odomirok.18-IEE: All","profit (loss)",3700,null,null,"profit (loss):",null,null,"concept",null,"F",null,"",0,"","","","","","",4,2,0,0,12,12,999,null,null,null,5.0000000000000001E-4,"x",null,"xxxx"]
["Odomirok.18-IEE",null,null,"",{"$f":"VLOOKUP(F5344&\".\"&G5344,syllabus!B$3:I$99,8,FALSE)&RIGHT(\"00000\"&J5344,5)","v":"46004400"},"Odomirok","18-IEE","Odomirok.18-IEE: All","BC",4400,null,null,"BC:",null,null,"concept",null,"F",null,"",0,"","","","","","",4,2,0,0,12,12,999,null,null,null,5.0000000000000001E-4,"x",null,"xxxx"]
["Odomirok.18-IEE",null,null,"",{"$f":"VLOOKUP(F5348&\".\"&G5348,syllabus!B$3:I$99,8,FALSE)&RIGHT(\"00000\"&J5348,5)","v":"46004800"},"Odomirok","18-IEE","Odomirok.18-IEE: All","BC",4800,null,null,"BC:",null,null,"concept",null,"F",null,"",0,"","","","","","",4,2,0,0,12,12,999,null,null,null,5.0000000000000001E-4,"x",null,"xxxx"]
["Odomirok.18-IEE",null,null,"",{"$f":"VLOOKUP(F5357&\".\"&G5357,syllabus!B$3:I$99,8,FALSE)&RIGHT(\"00000\"&J5357,5)","v":"46005700"},"Odomirok","18-IEE","Odomirok.18-IEE: All","exam",5700,null,null,"exam:",null,null,"concept",null,"F",null,"",0,"","","","","","",4,2,0,0,12,12,999,null,null,null,5.0000000000000001E-4,"x",null,"xxxx"]
["Odomirok.18-IEE",null,null,"",{"$f":"VLOOKUP(F5358&\".\"&G5358,syllabus!B$3:I$99,8,FALSE)&RIGHT(\"00000\"&J5358,5)","v":"46005800"},"Odomirok","18-IEE","Odomirok.18-IEE: All","exam",5800,null,null,"exam:",null,null,"concept",null,"F",null,"",0,"","","","","","",4,2,0,0,12,12,999,null,null,null,5.0000000000000001E-4,"x",null,"xxxx"]
["Odomirok.18-IEE",null,null,"",{"$f":"VLOOKUP(F5370&\".\"&G5370,syllabus!B$3:I$99,8,FALSE)&RIGHT(\"00000\"&J5370,5)","v":"46007000"},"Odomirok","18-IEE","Odomirok.18-IEE: All","exam",7000,null,null,"exam:",null,null,"concept",null,"F",null,"",0,"","","","","","",4,2,0,0,12,12,999,null,null,null,5.0000000000000001E-4,"x",null,"xxxx"]
["Odomirok.18-IEE",null,null,"",{"$f":"VLOOKUP(F5371&\".\"&G5371,syllabus!B$3:I$99,8,FALSE)&RIGHT(\"00000\"&J5371,5)","v":"46007100"},"Odomirok","18-IEE","Odomirok.18-IEE: All","exam",7100,null,null,"exam:",null,null,"concept",null,"F",null,"",0,"","","","","","",4,2,0,0,12,12,999,null,null,null,5.0000000000000001E-4,"x",null,"xxxx"]
["Odomirok.18-IEE",null,null,"",{"$f":"VLOOKUP(F5378&\".\"&G5378,syllabus!B$3:I$99,8,FALSE)&RIGHT(\"00000\"&J5378,5)","v":"46007800"},"Odomirok","18-IEE","Odomirok.18-IEE: All","exam",7800,null,null,"exam:",null,null,"concept",null,"F",null,"",0,"","","","","","",4,2,0,0,12,12,999,null,null,null,5.0000000000000001E-4,"x",null,"xxxx"]
["Odomirok.18-IEE",null,null,"",{"$f":"VLOOKUP(F5387&\".\"&G5387,syllabus!B$3:I$99,8,FALSE)&RIGHT(\"00000\"&J5387,5)","v":"46008700"},"Odomirok","18-IEE","Odomirok.18-IEE: All","exam",8700,null,null,"exam:",null,null,"concept",null,"F",null,"",0,"","","","","","",4,2,0,0,12,12,999,null,null,null,5.0000000000000001E-4,"x",null,"xxxx"]
["Odomirok.18-IEE",null,null,"",{"$f":"VLOOKUP(F5393&\".\"&G5393,syllabus!B$3:I$99,8,FALSE)&RIGHT(\"00000\"&J5393,5)","v":"46009300"},"Odomirok","18-IEE","Odomirok.18-IEE: All","exam",9300,null,null,"exam:",null,null,"concept",null,"F",null,"",0,"","","","","","",4,2,0,0,12,12,999,null,null,null,5.0000000000000001E-4,"x",null,"xxxx"]
["Odomirok.18-IEE",null,null,"",{"$f":"VLOOKUP(F5398&\".\"&G5398,syllabus!B$3:I$99,8,FALSE)&RIGHT(\"00000\"&J5398,5)","v":"46009800"},"Odomirok","18-IEE","Odomirok.18-IEE: All","exam",9800,null,null,"exam:",null,null,"concept",null,"F",null,"",0,"","","","","","",4,2,0,0,12,12,999,null,null,null,5.0000000000000001E-4,"x",null,"xxxx"]
["Odomirok.19-RBC",null,null,"",{"$f":"VLOOKUP(F5407&\".\"&G5407,syllabus!B$3:I$99,8,FALSE)&RIGHT(\"00000\"&J5407,5)","v":"47000700"},"Odomirok","19-RBC","Odomirok.19-RBC: All","[RBC] Alice's 1 st Day",700,1,null,"[RBC] Alice's 1 st Day: what is the regulator action for an RBC ratio in the 0-70% range","- the regulator/commissioner MUST take control of the company",null,"concept",null,"A",null,"",0,"","","","","","",5,2,2,14.142135623730951,6,6,999,null,null,null,5.0000000000000001E-4,"x",null,1]
["Odomirok.19-RBC",null,null,"",{"$f":"VLOOKUP(F5408&\".\"&G5408,syllabus!B$3:I$99,8,FALSE)&RIGHT(\"00000\"&J5408,5)","v":"47000800"},"Odomirok","19-RBC","Odomirok.19-RBC: All","[RBC] Alice's 2nd Day",800,2,null,"[RBC] Alice's 2nd Day: what is the 'trend test' regarding RBC ratios","If ~~ - a company's RBC ratio is in the 200-300% range ~~ - and COR > 120% ~ then they are subject to the <strong>CAL action</strong> from the action table",null,"concept",null,"A",null,"",0,"","","","","","",5,7,2,26.457513110645905,6,6,999,null,null,null,5.0000000000000001E-4,"x",null,2]
["Odomirok.19-RBC",null,null,"",{"$f":"VLOOKUP(F5419&\".\"&G5419,syllabus!B$3:I$99,8,FALSE)&RIGHT(\"00000\"&J5419,5)","v":"47001900"},"Odomirok","19-RBC","Odomirok.19-RBC: All","[RBC] Alice's 4th Day",1900,4,null,"[RBC] Alice's 4th Day: based on industry totals rank the relative magnitude of RBC risk charges R<sub>1</sub> - R<sub>5</sub> from highest to lowest","42531 ~~ * R<sub>4</sub> (U/W - reserves) ~~ * R<sub>2</sub> (asset - equity) ~~ * R<sub>5</sub> (U/W - NWP) ~~ * R<sub>3</sub> (asset - credit) ~~ *  R<sub>1</sub> ( asset - fixed income)",null,"concept",null,"A",null,"",0,"","","","","","",5,12,2,34.641016151377542,6,6,999,null,null,null,5.0000000000000001E-4,"x",null,4]
["Odomirok.19-RBC",null,null,"",{"$f":"VLOOKUP(F5425&\".\"&G5425,syllabus!B$3:I$99,8,FALSE)&RIGHT(\"00000\"&J5425,5)","v":"47002500"},"Odomirok","19-RBC","Odomirok.19-RBC: All","[RBC] Alice's 5th Day",2500,5,null,"[RBC] Alice's 5th Day: [setup required] calculate - RBC ratio","255%",null,"calc","calc04","A",null,"exam",1,"17","2-Fall",17,"a","",0.75,12.5,4,2,50,6,6,999,null,null,null,1E-4,"x",null,5]
["Odomirok.19-RBC",null,null,"",{"$f":"VLOOKUP(F5428&\".\"&G5428,syllabus!B$3:I$99,8,FALSE)&RIGHT(\"00000\"&J5428,5)","v":"47002800"},"Odomirok","19-RBC","Odomirok.19-RBC: All","[RBC] Week 2 - Day 1",2800,6,null,"[RBC] Week 2 - Day 1: identify the items in subsidiaries that R<sub>0</sub> considers","- stocks & bonds in subsudiary ~ - investments in alien insurance company affiliates ~ - off-balance sheet or other items",null,"concept",null,"A",null,"",0,"","","","","","",5,4,2,20,6,6,999,null,null,null,5.0000000000000001E-4,"x",null,6]
["Odomirok.19-RBC",null,null,"",{"$f":"VLOOKUP(F5437&\".\"&G5437,syllabus!B$3:I$99,8,FALSE)&RIGHT(\"00000\"&J5437,5)","v":"47003410"},"Odomirok","19-RBC","Odomirok.19-RBC: All","[RBC] Week 2 - Day 2",3410,6,null,"[RBC] Week 2 - Day 2: describe an exception to the 'value x factor' rule for the basic R<sub>1</sub>","<strong>exception:</strong> holding companies ~ alternate rule: ~~ &rarr; multiply RBC factor by the holding company value <u>in excess</u> of the carrying value for indirectly owned insurance affiliates",null,"concept",null,"A",null,"",0,"","","","","","",5,5,0,0,6,6,999,null,null,null,5.0000000000000001E-4,"x",null,6]
["Odomirok.19-RBC",null,null,"",{"$f":"VLOOKUP(F5442&\".\"&G5442,syllabus!B$3:I$99,8,FALSE)&RIGHT(\"00000\"&J5442,5)","v":"47003900"},"Odomirok","19-RBC","Odomirok.19-RBC: All","[RBC] Week 2 - Day 2",3900,6,null,"[RBC] Week 2 - Day 2: calculate - R<sub>1</sub>","see examiner's report - click yellow \"E\" link in \"Section\" column",null,"calc","calc06","A",null,"exam",1,"15","2-Fall",17,"a","",1.5,12.5,6,2,61.237243569579448,6,6,999,null,null,null,1E-4,"x",null,6]
["Odomirok.19-RBC",null,null,"",{"$f":"VLOOKUP(F5448&\".\"&G5448,syllabus!B$3:I$99,8,FALSE)&RIGHT(\"00000\"&J5448,5)","v":"47004400"},"Odomirok","19-RBC","Odomirok.19-RBC: All","[RBC] Week 2 - Day 3",4400,"xxxx",null,"[RBC] Week 2 - Day 3: in the basic formula for RBC charge R<sub>2</sub>, what are the formulas for the individual terms","SC = <strong>SUM over n:</strong> [ (total stocks of type i) x (RBC factor for type i) ] ~ ACC = (total stocks from TOP 10 issuers) x (RBC factor)",null,"concept",null,"F",null,"",0,"","","","","","",5,3,0,0,6,6,999,null,null,null,5.0000000000000001E-4,"x",null,"xxxx"]
["Odomirok.19-RBC",null,null,"",{"$f":"VLOOKUP(F5457&\".\"&G5457,syllabus!B$3:I$99,8,FALSE)&RIGHT(\"00000\"&J5457,5)","v":"47005000"},"Odomirok","19-RBC","Odomirok.19-RBC: All","[RBC] Week 2 - Day 5",5000,7,null,"[RBC] Week 2 - Day 5: improving RBC - reserving practices (identify reserving practices that may improve the ratio)","- use less conservative reserving methods (results in lower basis for reserves) ~ - use tabular discounting on reserves to increase surplus",null,"concept",null,"A",null,"exam",1,"14","2-Fall",18,"b","",0.5,5,3,2,17.320508075688771,6,6,999,null,null,null,5.0000000000000001E-4,"x",null,7]
["Odomirok.19-RBC",null,null,"",{"$f":"VLOOKUP(F5458&\".\"&G5458,syllabus!B$3:I$99,8,FALSE)&RIGHT(\"00000\"&J5458,5)","v":"47005100"},"Odomirok","19-RBC","Odomirok.19-RBC: All","[RBC] Week 2 - Day 5",5100,7,null,"[RBC] Week 2 - Day 5: limitations of RBC framework in identifying impairment","- doesn't measure all relevant risks (ignores catastrophe risk, interest rate risk) - ~ - method is formula-based and uses industry average (may not be appropriate for a particular company)",null,"concept",null,"A",null,"exam",1,"14","2-Fall",18,"c","",0.5,5,3,2,17.320508075688771,6,6,999,null,null,null,5.0000000000000001E-4,"x",null,7]
["Odomirok.19-RBC",null,null,"",{"$f":"VLOOKUP(F5468&\".\"&G5468,syllabus!B$3:I$99,8,FALSE)&RIGHT(\"00000\"&J5468,5)","v":"47006800"},"Odomirok","19-RBC","Odomirok.19-RBC: All","exam",6800,"xxxx",null,"exam: [setup required] based on IRIS 1 & 2, why might a regulator be concerned","see examiner's report - click yellow \"E\" link in \"Section\" column",null,"concept",null,"A",null,"exam",1,"18","2-Fall",18,"c","",1,5,2,2,14.142135623730951,6,6,999,null,null,null,5.0000000000000001E-4,"x",null,"xxxx"]
["Odomirok.19-RBC",null,null,"",{"$f":"VLOOKUP(F5475&\".\"&G5475,syllabus!B$3:I$99,8,FALSE)&RIGHT(\"00000\"&J5475,5)","v":"47007600"},"Odomirok","19-RBC","Odomirok.19-RBC: All","[RBC] exam",7600,8,null,"[RBC] exam: describe purpose of RBC from perspective of regulator (2)","- early identification of insurers in financial trouble ~ - allows or mandates regulator to take corrective action when appropriate",null,"concept",null,"A",null,"exam",1,"16","2-Fall",16,"b","",0.5,5,3,2,17.320508075688771,6,6,999,null,null,null,5.0000000000000001E-4,"x",null,8]
["Odomirok.19-RBC",null,null,"",{"$f":"VLOOKUP(F5478&\".\"&G5478,syllabus!B$3:I$99,8,FALSE)&RIGHT(\"00000\"&J5478,5)","v":"47007900"},"Odomirok","19-RBC","Odomirok.19-RBC: All","[RBC] exam",7900,8,null,"[RBC] exam: [setup required] identify - RBC action/control level","see examiner's report - click yellow \"E\" link in \"Section\" column (answer must be consistent with calculation in part a)",null,"concept",null,"A",null,"exam",1,"16","2-Fall",17,"b","",0.25,5,2,2,14.142135623730951,6,6,999,null,null,null,5.0000000000000001E-4,"x",null,8]
["Odomirok.19-RBC",null,null,"",{"$f":"VLOOKUP(F5487&\".\"&G5487,syllabus!B$3:I$99,8,FALSE)&RIGHT(\"00000\"&J5487,5)","v":"47008750"},"Odomirok","19-RBC","Odomirok.19-RBC: All","[RBC] exam",8750,null,null,"[RBC] exam: [setup required] calculate - RBC ratio","265%",null,"calc","calc08","B",null,"exam",1,"15","1-Spring",25,"c","",4,12.5,8,0.2,7.0710678118654755,6,6,999,null,null,null,1E-4,"x",null,"xxxx"]
["Odomirok.19-RBC",null,null,"",{"$f":"VLOOKUP(F5491&\".\"&G5491,syllabus!B$3:I$99,8,FALSE)&RIGHT(\"00000\"&J5491,5)","v":"47009100"},"Odomirok","19-RBC","Odomirok.19-RBC: All","[RBC] exam",9100,null,null,"[RBC] exam: identify the RBC risk categories","asset-AFEC: ~~ - asset risk: Affiliated company risk ~~ - asset risk: Fixed income investments ~~ - asset risk: Equity risk ~~ - asset risk: Credit risk ~ U/W risk: ~~ - reserve risk ~~ - NWP risk (premium risk)","asset-AFEC, reserves, NWP","concept",null,"C",null,"exam",1,"13","2-Fall",21,"a","",1,5,15,0.2,3.872983346207417,6,6,999,null,null,null,5.0000000000000001E-4,"x",null,"xxxx"]
["Odomirok.19-RBC",null,null,"",{"$f":"VLOOKUP(F5498&\".\"&G5498,syllabus!B$3:I$99,8,FALSE)&RIGHT(\"00000\"&J5498,5)","v":"47009800"},"Odomirok","19-RBC","Odomirok.19-RBC: All","[RBC] exam",9800,null,null,"[RBC] exam: 20c","see examiner's report - click yellow \"E\" link in \"Section\" column",null,"concept",null,"D",null,"exam",1,"12","2-Fall",20,"c","",0.5,5,2,0.2,1.4142135623730951,6,6,999,null,null,null,5.0000000000000001E-4,"x",null,"xxxx"]
["Odomirok.20-IRIS",null,null,"",{"$f":"VLOOKUP(F5505&\".\"&G5505,syllabus!B$3:I$99,8,FALSE)&RIGHT(\"00000\"&J5505,5)","v":"48000500"},"Odomirok","20-IRIS","Odomirok.20-IRIS: All","BC",500,null,null,"BC:",null,null,"concept",null,"F",null,"",0,"","","","","","",1,2,0,0,57,57,999,null,null,null,5.0000000000000001E-4,"x",null,"xxxx"]
["Odomirok.20-IRIS",null,null,"",{"$f":"VLOOKUP(F5508&\".\"&G5508,syllabus!B$3:I$99,8,FALSE)&RIGHT(\"00000\"&J5508,5)","v":"48000800"},"Odomirok","20-IRIS","Odomirok.20-IRIS: All","BC",800,null,null,"BC:",null,null,"concept",null,"F",null,"",0,"","","","","","",1,2,0,0,57,57,999,null,null,null,5.0000000000000001E-4,"x",null,"xxxx"]
["Odomirok.20-IRIS",null,null,"",{"$f":"VLOOKUP(F5517&\".\"&G5517,syllabus!B$3:I$99,8,FALSE)&RIGHT(\"00000\"&J5517,5)","v":"48001700"},"Odomirok","20-IRIS","Odomirok.20-IRIS: All","BC",1700,null,null,"BC:",null,null,"concept",null,"F",null,"",0,"","","","","","",1,2,0,0,57,57,999,null,null,null,5.0000000000000001E-4,"x",null,"xxxx"]
["Odomirok.20-IRIS",null,null,"",{"$f":"VLOOKUP(F5525&\".\"&G5525,syllabus!B$3:I$99,8,FALSE)&RIGHT(\"00000\"&J5525,5)","v":"48002500"},"Odomirok","20-IRIS","Odomirok.20-IRIS: All","BC",2500,null,null,"BC:",null,null,"concept",null,"F",null,"",0,"","","","","","",1,2,0,0,57,57,999,null,null,null,5.0000000000000001E-4,"x",null,"xxxx"]
["Odomirok.20-IRIS",null,null,"",{"$f":"VLOOKUP(F5528&\".\"&G5528,syllabus!B$3:I$99,8,FALSE)&RIGHT(\"00000\"&J5528,5)","v":"48002800"},"Odomirok","20-IRIS","Odomirok.20-IRIS: All","BC",2800,null,null,"BC:",null,null,"concept",null,"F",null,"",0,"","","","","","",1,2,0,0,57,57,999,null,null,null,5.0000000000000001E-4,"x",null,"xxxx"]
["Odomirok.20-IRIS",null,null,"",{"$f":"VLOOKUP(F5537&\".\"&G5537,syllabus!B$3:I$99,8,FALSE)&RIGHT(\"00000\"&J5537,5)","v":"48003700"},"Odomirok","20-IRIS","Odomirok.20-IRIS: All","exam",3700,null,null,"exam:",null,null,"concept",null,"F",null,"",0,"","","","","","",1,2,0,0,57,57,999,null,null,null,5.0000000000000001E-4,"x",null,"xxxx"]
["Odomirok.20-IRIS",null,null,"",{"$f":"VLOOKUP(F5540&\".\"&G5540,syllabus!B$3:I$99,8,FALSE)&RIGHT(\"00000\"&J5540,5)","v":"48004000"},"Odomirok","20-IRIS","Odomirok.20-IRIS: All","exam",4000,null,null,"exam:",null,null,"concept",null,"F",null,"",0,"","","","","","",1,2,0,0,57,57,999,null,null,null,5.0000000000000001E-4,"x",null,"xxxx"]
["Odomirok.20-IRIS",null,null,"",{"$f":"VLOOKUP(F5548&\".\"&G5548,syllabus!B$3:I$99,8,FALSE)&RIGHT(\"00000\"&J5548,5)","v":"48004800"},"Odomirok","20-IRIS","Odomirok.20-IRIS: All","exam",4800,null,null,"exam:",null,null,"concept",null,"F",null,"",0,"","","","","","",1,2,0,0,57,57,999,null,null,null,5.0000000000000001E-4,"x",null,"xxxx"]
["Odomirok.20-IRIS",null,null,"",{"$f":"VLOOKUP(F5555&\".\"&G5555,syllabus!B$3:I$99,8,FALSE)&RIGHT(\"00000\"&J5555,5)","v":"48005500"},"Odomirok","20-IRIS","Odomirok.20-IRIS: All"," exam",5500,null,null," exam: ",null,null,"concept",null,"F",null,null,null,null,null,null,"","","",1,2,0,0,57,57,999,null,null,null,5.0000000000000001E-4,"x",null,"xxxx"]
["Odomirok.20-IRIS",null,null,"",{"$f":"VLOOKUP(F5558&\".\"&G5558,syllabus!B$3:I$99,8,FALSE)&RIGHT(\"00000\"&J5558,5)","v":"48005800"},"Odomirok","20-IRIS","Odomirok.20-IRIS: All","exam",5800,null,null,"exam: 16 a",null,null,"concept",null,"F",null,"exam",0,null,null,null,null,null,null,1,2,0,0,57,57,999,null,null,null,5.0000000000000001E-4,"x",null,"xxxx"]
["Odomirok.20-IRIS",null,null,"",{"$f":"VLOOKUP(F5566&\".\"&G5566,syllabus!B$3:I$99,8,FALSE)&RIGHT(\"00000\"&J5566,5)","v":"48006600"},"Odomirok","20-IRIS","Odomirok.20-IRIS: All","exam",6600,null,null,"exam:",null,null,"concept",null,"F",null,"",0,"","","","","","",1,2,0,0,57,57,999,null,null,null,5.0000000000000001E-4,"x",null,"xxxx"]
["Odomirok.20-IRIS",null,null,"",{"$f":"VLOOKUP(F5575&\".\"&G5575,syllabus!B$3:I$99,8,FALSE)&RIGHT(\"00000\"&J5575,5)","v":"48007500"},"Odomirok","20-IRIS","Odomirok.20-IRIS: All","exam",7500,null,null,"exam:",null,null,"concept",null,"F",null,"",0,"","","","","","",1,2,0,0,57,57,999,null,null,null,5.0000000000000001E-4,"x",null,"xxxx"]
["Odomirok.20-IRIS",null,null,"",{"$f":"VLOOKUP(F5578&\".\"&G5578,syllabus!B$3:I$99,8,FALSE)&RIGHT(\"00000\"&J5578,5)","v":"48007800"},"Odomirok","20-IRIS","Odomirok.20-IRIS: All","exam",7800,null,null,"exam:",null,null,"concept",null,"F",null,"",0,"","","","","","",1,2,0,0,57,57,999,null,null,null,5.0000000000000001E-4,"x",null,"xxxx"]
["Odomirok.20-IRIS",null,null,"",{"$f":"VLOOKUP(F5587&\".\"&G5587,syllabus!B$3:I$99,8,FALSE)&RIGHT(\"00000\"&J5587,5)","v":"48008700"},"Odomirok","20-IRIS","Odomirok.20-IRIS: All","exam",8700,null,null,"exam:",null,null,"concept",null,"F",null,"",0,"","","","","","",1,2,0,0,57,57,999,null,null,null,5.0000000000000001E-4,"x",null,"xxxx"]
["Odomirok.20-IRIS",null,null,"",{"$f":"VLOOKUP(F5589&\".\"&G5589,syllabus!B$3:I$99,8,FALSE)&RIGHT(\"00000\"&J5589,5)","v":"48008900"},"Odomirok","20-IRIS","Odomirok.20-IRIS: All","exam",8900,null,null,"exam:",null,null,"concept",null,"F",null,"",0,"","","","","","",1,2,0,0,57,57,999,null,null,null,5.0000000000000001E-4,"x",null,"xxxx"]
["Odomirok.20-IRIS",null,null,"",{"$f":"VLOOKUP(F5598&\".\"&G5598,syllabus!B$3:I$99,8,FALSE)&RIGHT(\"00000\"&J5598,5)","v":"48009800"},"Odomirok","20-IRIS","Odomirok.20-IRIS: All","exam",9800,null,null,"exam:",null,null,"concept",null,"F",null,"",0,"","","","","","",1,2,0,0,57,57,999,null,null,null,5.0000000000000001E-4,"x",null,"xxxx"]
["Odomirok.21-Tools",null,null,"",{"$f":"VLOOKUP(F5605&\".\"&G5605,syllabus!B$3:I$99,8,FALSE)&RIGHT(\"00000\"&J5605,5)","v":"49000500"},"Odomirok","21-Tools","Odomirok.21-Tools: All","BC",500,null,null,"BC:",null,null,"concept",null,"F",null,"",0,"","","","","","",1,2,0,0,58,58,999,null,null,null,5.0000000000000001E-4,"x",null,"xxxx"]
["Odomirok.21-Tools",null,null,"",{"$f":"VLOOKUP(F5608&\".\"&G5608,syllabus!B$3:I$99,8,FALSE)&RIGHT(\"00000\"&J5608,5)","v":"49000800"},"Odomirok","21-Tools","Odomirok.21-Tools: All","BC",800,null,null,"BC:",null,null,"concept",null,"F",null,"",0,"","","","","","",1,2,0,0,58,58,999,null,null,null,5.0000000000000001E-4,"x",null,"xxxx"]
["Odomirok.21-Tools",null,null,"",{"$f":"VLOOKUP(F5615&\".\"&G5615,syllabus!B$3:I$99,8,FALSE)&RIGHT(\"00000\"&J5615,5)","v":"49001500"},"Odomirok","21-Tools","Odomirok.21-Tools: All","BC",1500,null,null,"BC:",null,null,"concept",null,"F",null,"",0,"","","","","","",1,2,0,0,58,58,999,null,null,null,5.0000000000000001E-4,"x",null,"xxxx"]
["Odomirok.21-Tools",null,null,"",{"$f":"VLOOKUP(F5625&\".\"&G5625,syllabus!B$3:I$99,8,FALSE)&RIGHT(\"00000\"&J5625,5)","v":"49002500"},"Odomirok","21-Tools","Odomirok.21-Tools: All","BC",2500,null,null,"BC:",null,null,"concept",null,"F",null,"",0,"","","","","","",1,2,0,0,58,58,999,null,null,null,5.0000000000000001E-4,"x",null,"xxxx"]
["Odomirok.21-Tools",null,null,"",{"$f":"VLOOKUP(F5628&\".\"&G5628,syllabus!B$3:I$99,8,FALSE)&RIGHT(\"00000\"&J5628,5)","v":"49002800"},"Odomirok","21-Tools","Odomirok.21-Tools: All","BC",2800,null,null,"BC:",null,null,"concept",null,"F",null,"",0,"","","","","","",1,2,0,0,58,58,999,null,null,null,5.0000000000000001E-4,"x",null,"xxxx"]
["Odomirok.21-Tools",null,null,"",{"$f":"VLOOKUP(F5635&\".\"&G5635,syllabus!B$3:I$99,8,FALSE)&RIGHT(\"00000\"&J5635,5)","v":"49003500"},"Odomirok","21-Tools","Odomirok.21-Tools: All","exam",3500,null,null,"exam:",null,null,"concept",null,"F",null,"",0,"","","","","","",1,2,0,0,58,58,999,null,null,null,5.0000000000000001E-4,"x",null,"xxxx"]
["Odomirok.21-Tools",null,null,"",{"$f":"VLOOKUP(F5645&\".\"&G5645,syllabus!B$3:I$99,8,FALSE)&RIGHT(\"00000\"&J5645,5)","v":"49004500"},"Odomirok","21-Tools","Odomirok.21-Tools: All","exam",4500,null,null,"exam:",null,null,"concept",null,"F",null,"",0,"","","","","","",1,2,0,0,58,58,999,null,null,null,5.0000000000000001E-4,"x",null,"xxxx"]
["Odomirok.21-Tools",null,null,"",{"$f":"VLOOKUP(F5648&\".\"&G5648,syllabus!B$3:I$99,8,FALSE)&RIGHT(\"00000\"&J5648,5)","v":"49004800"},"Odomirok","21-Tools","Odomirok.21-Tools: All","exam",4800,null,null,"exam:",null,null,"concept",null,"F",null,"",0,"","","","","","",1,2,0,0,58,58,999,null,null,null,5.0000000000000001E-4,"x",null,"xxxx"]
["Odomirok.21-Tools",null,null,"",{"$f":"VLOOKUP(F5655&\".\"&G5655,syllabus!B$3:I$99,8,FALSE)&RIGHT(\"00000\"&J5655,5)","v":"49005500"},"Odomirok","21-Tools","Odomirok.21-Tools: All","exam",5500,null,null,"exam:",null,null,"concept",null,"F",null,"",0,"","","","","","",1,2,0,0,58,58,999,null,null,null,5.0000000000000001E-4,"x",null,"xxxx"]
["Odomirok.21-Tools",null,null,"",{"$f":"VLOOKUP(F5658&\".\"&G5658,syllabus!B$3:I$99,8,FALSE)&RIGHT(\"00000\"&J5658,5)","v":"49005800"},"Odomirok","21-Tools","Odomirok.21-Tools: All","exam",5800,null,null,"exam:",null,null,"concept",null,"F",null,"",0,"","","","","","",1,2,0,0,58,58,999,null,null,null,5.0000000000000001E-4,"x",null,"xxxx"]
["Odomirok.21-Tools",null,null,"",{"$f":"VLOOKUP(F5664&\".\"&G5664,syllabus!B$3:I$99,8,FALSE)&RIGHT(\"00000\"&J5664,5)","v":"49006400"},"Odomirok","21-Tools","Odomirok.21-Tools: All","exam",6400,null,null,"exam:",null,null,"concept",null,"F",null,"",0,"","","","","","",1,2,0,0,58,58,999,null,null,null,5.0000000000000001E-4,"x",null,"xxxx"]
["Odomirok.21-Tools",null,null,"",{"$f":"VLOOKUP(F5675&\".\"&G5675,syllabus!B$3:I$99,8,FALSE)&RIGHT(\"00000\"&J5675,5)","v":"49007500"},"Odomirok","21-Tools","Odomirok.21-Tools: All","exam",7500,null,null,"exam:",null,null,"concept",null,"F",null,"",0,"","","","","","",1,2,0,0,58,58,999,null,null,null,5.0000000000000001E-4,"x",null,"xxxx"]
["Odomirok.21-Tools",null,null,"",{"$f":"VLOOKUP(F5678&\".\"&G5678,syllabus!B$3:I$99,8,FALSE)&RIGHT(\"00000\"&J5678,5)","v":"49007800"},"Odomirok","21-Tools","Odomirok.21-Tools: All","exam",7800,null,null,"exam:",null,null,"concept",null,"F",null,"",0,"","","","","","",1,2,0,0,58,58,999,null,null,null,5.0000000000000001E-4,"x",null,"xxxx"]
["Odomirok.21-Tools",null,null,"",{"$f":"VLOOKUP(F5687&\".\"&G5687,syllabus!B$3:I$99,8,FALSE)&RIGHT(\"00000\"&J5687,5)","v":"49008700"},"Odomirok","21-Tools","Odomirok.21-Tools: All","exam",8700,null,null,"exam:",null,null,"concept",null,"F",null,"",0,"","","","","","",1,2,0,0,58,58,999,null,null,null,5.0000000000000001E-4,"x",null,"xxxx"]
["Odomirok.21-Tools",null,null,"",{"$f":"VLOOKUP(F5695&\".\"&G5695,syllabus!B$3:I$99,8,FALSE)&RIGHT(\"00000\"&J5695,5)","v":"49009500"},"Odomirok","21-Tools","Odomirok.21-Tools: All","exam",9500,null,null,"exam:",null,null,"concept",null,"F",null,"",0,"","","","","","",1,2,0,0,58,58,999,null,null,null,5.0000000000000001E-4,"x",null,"xxxx"]
["Odomirok.21-Tools",null,null,"",{"$f":"VLOOKUP(F5698&\".\"&G5698,syllabus!B$3:I$99,8,FALSE)&RIGHT(\"00000\"&J5698,5)","v":"49009800"},"Odomirok","21-Tools","Odomirok.21-Tools: All","exam",9800,null,null,"exam:",null,null,"concept",null,"F",null,"",0,"","","","","","",1,2,0,0,58,58,999,null,null,null,5.0000000000000001E-4,"x",null,"xxxx"]
["Odomirok.22-23-GAAP",null,null,"",{"$f":"VLOOKUP(F5705&\".\"&G5705,syllabus!B$3:I$99,8,FALSE)&RIGHT(\"00000\"&J5705,5)","v":"50000495"},"Odomirok","22-23-GAAP","Odomirok.22-23-GAAP: All","intro",495,1,null,"intro: identify the objective of SAP & GAAP financial statements","SAP: ~~ - measure ability to pay claims (more conservative) ~~ - focus is on solvency & protection of policyholders ~ GAAP: ~~ - measure earnings (less conservative) ~~ - focus is on company as a going-concern",null,"concept",null,"A","current","exam",2,"18","2-Fall",19,"b","",1,4,11,2,26.532998322843198,8,8,999,null,null,null,5.0000000000000001E-4,"x",null,1]
["Odomirok.22-23-GAAP",null,null,"",{"$f":"VLOOKUP(F5713&\".\"&G5713,syllabus!B$3:I$99,8,FALSE)&RIGHT(\"00000\"&J5713,5)","v":"50000900"},"Odomirok","22-23-GAAP","Odomirok.22-23-GAAP: All","SAP vs GAAP",900,2,null,"SAP vs GAAP: briefly describe how this item is treated different in SAP vs GAAP: Balance sheet presentation of reinsurance","SAP: ~~ - liabilities are shown NET of reinsurance on the balance sheet ~ GAAP: ~~ - liabilities are shown GROSS of reinsurance on the balance sheet ~~~ (with an offestting asset for anticipated reinsurance recoveries)",null,"concept",null,"A",null,"",0,"","","","","","",4,10,2,25.298221281347036,8,8,999,null,null,null,5.0000000000000001E-4,"x",null,2]
["Odomirok.22-23-GAAP",null,null,"",{"$f":"VLOOKUP(F5716&\".\"&G5716,syllabus!B$3:I$99,8,FALSE)&RIGHT(\"00000\"&J5716,5)","v":"50001200"},"Odomirok","22-23-GAAP","Odomirok.22-23-GAAP: All","SAP vs GAAP",1200,2,null,"SAP vs GAAP: briefly describe how this item is treated different in SAP vs GAAP: Invested assets","<u>SAP valuation</u>: ~~ ==> <span style='color: red;'>Amortized Cost<strong></strong></span>: investment grade bonds & preferred stocks ~~ ==> <span style='color: red;'>min(Amortized Cost, Fair Value)<strong></strong></span>: below investment-grade bonds ~~ ==> <span style='color: red;'>Fair Value<strong></strong></span>: common stocks ~ <u>GAAP valuation</u>: ~~ <strong>HFT</strong> (Held For Trading) ~~~ (acquired with intent to sell within hours/days) ~~~ ==> <span style='color: red;'>Fair Value<strong></strong></span> ~~~ ==> <u>changes</u> in FV flow through income statement ~~ <strong>HTM</strong> (Hold To Maturity) ~~~ (acquired with intent to keep to maturity) ~~~ ==> <span style='color: red;'>Amortized Cost<strong></strong></span> ~~~ ==> <u>realized gains</u> at maturity flow through income statement ~~ <strong>AFS</strong> (Available For Sale) ~~~ (acquired with intent to sell after 1 year but before maturity) ~~~ ==> <span style='color: red;'>Fair Value<strong></strong></span> ~~~ ==> <u>changes</u> in FV flow through OCI (not income statement), direct charge to surplus ",null,"concept",null,"A",null,"exam",1,"18","1-Spring",19,"b","",1.5,4,42,2,51.845925587262883,8,8,999,null,null,null,5.0000000000000001E-4,"x",null,2]
["Odomirok.22-23-GAAP",null,null,"",{"$f":"VLOOKUP(F5725&\".\"&G5725,syllabus!B$3:I$99,8,FALSE)&RIGHT(\"00000\"&J5725,5)","v":"50002100"},"Odomirok","22-23-GAAP","Odomirok.22-23-GAAP: All","SAP vs GAAP",2100,2,null,"SAP vs GAAP: briefly describe how this item is treated different in SAP vs GAAP: Non-admitted assets","SAP: ~~ - disallows certain assets of low liquidity ~~ - supports SAP purpose because nonadmitted assets are not liquid after an insolvency ~ GAAP: ~~ - all assets are admitted (woo-hoo!) ~~ - supports GAAP purpose because all assets should be considered in evaluating a company as a going-concern",null,"concept",null,"A",null,"exam",1,"17","2-Fall",20,"b","ii",1,4,11,2,26.532998322843198,8,8,999,null,null,null,5.0000000000000001E-4,"x",null,2]
["Odomirok.22-23-GAAP",null,null,"",{"$f":"VLOOKUP(F5728&\".\"&G5728,syllabus!B$3:I$99,8,FALSE)&RIGHT(\"00000\"&J5728,5)","v":"50002400"},"Odomirok","22-23-GAAP","Odomirok.22-23-GAAP: All","SAP vs GAAP",2400,2,null,"SAP vs GAAP: describe why the SAP (statutory) treatment of bonds may conflict with the general philosophy of SAP","- SAP is <u>conservative</u> since it's focused on solvency ~ - SAP <u>should</u> use the lowest reasonable estimate of bond value ~ - using amortized cost for investment-grade may overstate the value ~~ (if bond was purchased in an environment of rising interest rates)",null,"concept",null,"A",null,"exam",1,"18","1-Spring",19,"c","",0.75,4,6,2,19.595917942265423,8,8,999,null,null,null,5.0000000000000001E-4,"x",null,2]
["Odomirok.22-23-GAAP",null,null,"",{"$f":"VLOOKUP(F5736&\".\"&G5736,syllabus!B$3:I$99,8,FALSE)&RIGHT(\"00000\"&J5736,5)","v":"50003200"},"Odomirok","22-23-GAAP","Odomirok.22-23-GAAP: All","SAP calcs",3200,4,null,"SAP calcs: [setup required] describe 4 balance sheet items that would be treatly differently in SAP vs GAAP <strong>for this insurer</strong>","DAC: ~~ - SAP does not have a DAC asset ~~ - GAAP does have a DAC asset (so the value of 32,500 would be included in GAAP assets) ~ non-admitted assets: ~~ - SAP did not admit agents' balances > 90 days past due ~~ - GAAP <u>might</u> admit this value of 1,800 if it is deemed collectible ~ balance sheet presentation of reinsurance: ~~ - SAP nets out ceded reinsurance ~~  - GAAP does not (GAAP shows GROSS of reinsurance but has an offsetting asset for reinsurance recoveries) ~ anticipated salvage & subrogation: ~~ - we ignored salv/sub in our SAP calculation of liabilities ~~ - salv/sub <u>must</u> be netted out of reserves in GAAP",null,"concept",null,"A",null,"exam",1,"16","1-Spring",15,"c","",1,4,21,2,36.660605559646719,8,8,999,null,null,null,5.0000000000000001E-4,"x",null,4]
["Odomirok.22-23-GAAP",null,null,"",{"$f":"VLOOKUP(F5745&\".\"&G5745,syllabus!B$3:I$99,8,FALSE)&RIGHT(\"00000\"&J5745,5)","v":"50004100"},"Odomirok","22-23-GAAP","Odomirok.22-23-GAAP: All","BC",4100,null,null,"BC:",null,null,"concept",null,"F",null,"",0,"","","","","","",4,2,0,0,8,8,999,null,null,null,5.0000000000000001E-4,"x",null,"xxxx"]
["Odomirok.22-23-GAAP",null,null,"",{"$f":"VLOOKUP(F5748&\".\"&G5748,syllabus!B$3:I$99,8,FALSE)&RIGHT(\"00000\"&J5748,5)","v":"50004400"},"Odomirok","22-23-GAAP","Odomirok.22-23-GAAP: All","BC",4400,null,null,"BC:",null,null,"concept",null,"F",null,"",0,"","","","","","",4,2,0,0,8,8,999,null,null,null,5.0000000000000001E-4,"x",null,"xxxx"]
["Odomirok.22-23-GAAP",null,null,"",{"$f":"VLOOKUP(F5755&\".\"&G5755,syllabus!B$3:I$99,8,FALSE)&RIGHT(\"00000\"&J5755,5)","v":"50005100"},"Odomirok","22-23-GAAP","Odomirok.22-23-GAAP: All","BC",5100,null,null,"BC:",null,null,"concept",null,"F",null,"",0,"","","","","","",4,2,0,0,8,8,999,null,null,null,5.0000000000000001E-4,"x",null,"xxxx"]
["Odomirok.22-23-GAAP",null,null,"",{"$f":"VLOOKUP(F5762&\".\"&G5762,syllabus!B$3:I$99,8,FALSE)&RIGHT(\"00000\"&J5762,5)","v":"50005800"},"Odomirok","22-23-GAAP","Odomirok.22-23-GAAP: All","exam",5800,null,null,"exam:",null,null,"concept",null,"F",null,"",0,"","","","","","",4,2,0,0,8,8,999,null,null,null,5.0000000000000001E-4,"x",null,"xxxx"]
["Odomirok.22-23-GAAP",null,null,"",{"$f":"VLOOKUP(F5766&\".\"&G5766,syllabus!B$3:I$99,8,FALSE)&RIGHT(\"00000\"&J5766,5)","v":"50006200"},"Odomirok","22-23-GAAP","Odomirok.22-23-GAAP: All","exam",6200,null,null,"exam:",null,null,"concept",null,"F",null,"",0,"","","","","","",4,2,0,0,8,8,999,null,null,null,5.0000000000000001E-4,"x",null,"xxxx"]
["Odomirok.22-23-GAAP",null,null,"",{"$f":"VLOOKUP(F5775&\".\"&G5775,syllabus!B$3:I$99,8,FALSE)&RIGHT(\"00000\"&J5775,5)","v":"50007100"},"Odomirok","22-23-GAAP","Odomirok.22-23-GAAP: All","exam",7100,null,null,"exam:",null,null,"concept",null,"F",null,"",0,"","","","","","",4,2,0,0,8,8,999,null,null,null,5.0000000000000001E-4,"x",null,"xxxx"]
["Odomirok.22-23-GAAP",null,null,"",{"$f":"VLOOKUP(F5778&\".\"&G5778,syllabus!B$3:I$99,8,FALSE)&RIGHT(\"00000\"&J5778,5)","v":"50007400"},"Odomirok","22-23-GAAP","Odomirok.22-23-GAAP: All","exam",7400,null,null,"exam:",null,null,"concept",null,"F",null,"",0,"","","","","","",4,2,0,0,8,8,999,null,null,null,5.0000000000000001E-4,"x",null,"xxxx"]
["Odomirok.22-23-GAAP",null,null,"",{"$f":"VLOOKUP(F5785&\".\"&G5785,syllabus!B$3:I$99,8,FALSE)&RIGHT(\"00000\"&J5785,5)","v":"50008500"},"Odomirok","22-23-GAAP","Odomirok.22-23-GAAP: All","exam",8500,null,null,"exam:",null,null,"concept",null,"F",null,"",0,"","","","","","",4,2,0,0,8,8,999,null,null,null,5.0000000000000001E-4,"x",null,"xxxx"]
["Odomirok.22-23-GAAP",null,null,"",{"$f":"VLOOKUP(F5795&\".\"&G5795,syllabus!B$3:I$99,8,FALSE)&RIGHT(\"00000\"&J5795,5)","v":"50009500"},"Odomirok","22-23-GAAP","Odomirok.22-23-GAAP: All","exam",9500,null,null,"exam:",null,null,"concept",null,"F",null,"",0,"","","","","","",4,2,0,0,8,8,999,null,null,null,5.0000000000000001E-4,"x",null,"xxxx"]
["Odomirok.22-23-GAAP",null,null,"",{"$f":"VLOOKUP(F5798&\".\"&G5798,syllabus!B$3:I$99,8,FALSE)&RIGHT(\"00000\"&J5798,5)","v":"50009800"},"Odomirok","22-23-GAAP","Odomirok.22-23-GAAP: All","exam",9800,null,null,"exam:",null,null,"concept",null,"F",null,"",0,"","","","","","",4,2,0,0,8,8,999,null,null,null,5.0000000000000001E-4,"x",null,"xxxx"]
["Odomirok.24-IFRS",null,null,"",{"$f":"VLOOKUP(F5805&\".\"&G5805,syllabus!B$3:I$99,8,FALSE)&RIGHT(\"00000\"&J5805,5)","v":"51000500"},"Odomirok","24-IFRS","Odomirok.24-IFRS: All","general",500,1,null,"general: define 'insurance contract' according to IFRS","a contract under which one party (the insurer) ~ ==> accepts significant insurance risk from another party (the policyholder) ~ ==> by agreeing to compensate the policyholder ~ ==> if a specified uncertain future event (the insured event) adversely affects the policyholder",null,"concept",null,"A",null,"",0,"","","","","","",1,5,2,4.4721359549995796,59,59,999,null,null,null,5.0000000000000001E-4,"x",null,1]
["Odomirok.24-IFRS",null,null,"",{"$f":"VLOOKUP(F5811&\".\"&G5811,syllabus!B$3:I$99,8,FALSE)&RIGHT(\"00000\"&J5811,5)","v":"51001100"},"Odomirok","24-IFRS","Odomirok.24-IFRS: All","BC",1100,null,null,"BC:",null,null,"concept",null,"F",null,"",0,"","","","","","",1,2,0,0,59,59,999,null,null,null,5.0000000000000001E-4,"x",null,"xxxx"]
["Odomirok.24-IFRS",null,null,"",{"$f":"VLOOKUP(F5816&\".\"&G5816,syllabus!B$3:I$99,8,FALSE)&RIGHT(\"00000\"&J5816,5)","v":"51001600"},"Odomirok","24-IFRS","Odomirok.24-IFRS: All","BC",1600,null,null,"BC:",null,null,"concept",null,"F",null,"",0,"","","","","","",1,2,0,0,59,59,999,null,null,null,5.0000000000000001E-4,"x",null,"xxxx"]
["Odomirok.24-IFRS",null,null,"",{"$f":"VLOOKUP(F5825&\".\"&G5825,syllabus!B$3:I$99,8,FALSE)&RIGHT(\"00000\"&J5825,5)","v":"51002500"},"Odomirok","24-IFRS","Odomirok.24-IFRS: All","BC",2500,null,null,"BC:",null,null,"concept",null,"F",null,"",0,"","","","","","",1,2,0,0,59,59,999,null,null,null,5.0000000000000001E-4,"x",null,"xxxx"]
["Odomirok.24-IFRS",null,null,"",{"$f":"VLOOKUP(F5828&\".\"&G5828,syllabus!B$3:I$99,8,FALSE)&RIGHT(\"00000\"&J5828,5)","v":"51002800"},"Odomirok","24-IFRS","Odomirok.24-IFRS: All","BC",2800,null,null,"BC:",null,null,"concept",null,"F",null,"",0,"","","","","","",1,2,0,0,59,59,999,null,null,null,5.0000000000000001E-4,"x",null,"xxxx"]
["Odomirok.24-IFRS",null,null,"",{"$f":"VLOOKUP(F5834&\".\"&G5834,syllabus!B$3:I$99,8,FALSE)&RIGHT(\"00000\"&J5834,5)","v":"51003400"},"Odomirok","24-IFRS","Odomirok.24-IFRS: All","BC",3400,null,null,"BC:",null,null,"concept",null,"F",null,"",0,"","","","","","",1,2,0,0,59,59,999,null,null,null,5.0000000000000001E-4,"x",null,"xxxx"]
["Odomirok.24-IFRS",null,null,"",{"$f":"VLOOKUP(F5845&\".\"&G5845,syllabus!B$3:I$99,8,FALSE)&RIGHT(\"00000\"&J5845,5)","v":"51004500"},"Odomirok","24-IFRS","Odomirok.24-IFRS: All","exam",4500,null,null,"exam:",null,null,"concept",null,"F",null,"",0,"","","","","","",1,2,0,0,59,59,999,null,null,null,5.0000000000000001E-4,"x",null,"xxxx"]
["Odomirok.24-IFRS",null,null,"",{"$f":"VLOOKUP(F5846&\".\"&G5846,syllabus!B$3:I$99,8,FALSE)&RIGHT(\"00000\"&J5846,5)","v":"51004600"},"Odomirok","24-IFRS","Odomirok.24-IFRS: All","exam",4600,null,null,"exam:",null,null,"concept",null,"F",null,"",0,"","","","","","",1,2,0,0,59,59,999,null,null,null,5.0000000000000001E-4,"x",null,"xxxx"]
["Odomirok.24-IFRS",null,null,"",{"$f":"VLOOKUP(F5855&\".\"&G5855,syllabus!B$3:I$99,8,FALSE)&RIGHT(\"00000\"&J5855,5)","v":"51005500"},"Odomirok","24-IFRS","Odomirok.24-IFRS: All","exam",5500,null,null,"exam:",null,null,"concept",null,"F",null,"",0,"","","","","","",1,2,0,0,59,59,999,null,null,null,5.0000000000000001E-4,"x",null,"xxxx"]
["Odomirok.24-IFRS",null,null,"",{"$f":"VLOOKUP(F5860&\".\"&G5860,syllabus!B$3:I$99,8,FALSE)&RIGHT(\"00000\"&J5860,5)","v":"51006000"},"Odomirok","24-IFRS","Odomirok.24-IFRS: All","exam",6000,"x",null,"exam: start Fall.2017 here (at numID = 6000)",null,null,"concept",null,"F",null,"",0,"","","","","","",1,2,0,0,59,59,999,null,null,null,5.0000000000000001E-4,"x",null,"xxxx"]
["Odomirok.24-IFRS",null,null,"",{"$f":"VLOOKUP(F5866&\".\"&G5866,syllabus!B$3:I$99,8,FALSE)&RIGHT(\"00000\"&J5866,5)","v":"51006600"},"Odomirok","24-IFRS","Odomirok.24-IFRS: All","exam",6600,null,null,"exam:",null,null,"concept",null,"F",null,"",0,"","","","","","",1,2,0,0,59,59,999,null,null,null,5.0000000000000001E-4,"x",null,"xxxx"]
["Odomirok.24-IFRS",null,null,"",{"$f":"VLOOKUP(F5875&\".\"&G5875,syllabus!B$3:I$99,8,FALSE)&RIGHT(\"00000\"&J5875,5)","v":"51007500"},"Odomirok","24-IFRS","Odomirok.24-IFRS: All","exam",7500,null,null,"exam:",null,null,"concept",null,"F",null,"",0,"","","","","","",1,2,0,0,59,59,999,null,null,null,5.0000000000000001E-4,"x",null,"xxxx"]
["Odomirok.24-IFRS",null,null,"",{"$f":"VLOOKUP(F5878&\".\"&G5878,syllabus!B$3:I$99,8,FALSE)&RIGHT(\"00000\"&J5878,5)","v":"51007800"},"Odomirok","24-IFRS","Odomirok.24-IFRS: All","exam",7800,null,null,"exam:",null,null,"concept",null,"F",null,"",0,"","","","","","",1,2,0,0,59,59,999,null,null,null,5.0000000000000001E-4,"x",null,"xxxx"]
["Odomirok.24-IFRS",null,null,"",{"$f":"VLOOKUP(F5883&\".\"&G5883,syllabus!B$3:I$99,8,FALSE)&RIGHT(\"00000\"&J5883,5)","v":"51008300"},"Odomirok","24-IFRS","Odomirok.24-IFRS: All","exam",8300,null,null,"exam:",null,null,"concept",null,"F",null,"",0,"","","","","","",1,2,0,0,59,59,999,null,null,null,5.0000000000000001E-4,"x",null,"xxxx"]
["Odomirok.24-IFRS",null,null,"",{"$f":"VLOOKUP(F5895&\".\"&G5895,syllabus!B$3:I$99,8,FALSE)&RIGHT(\"00000\"&J5895,5)","v":"51009500"},"Odomirok","24-IFRS","Odomirok.24-IFRS: All","exam",9500,null,null,"exam:",null,null,"concept",null,"F",null,"",0,"","","","","","",1,2,0,0,59,59,999,null,null,null,5.0000000000000001E-4,"x",null,"xxxx"]
["Odomirok.24-IFRS",null,null,"",{"$f":"VLOOKUP(F5896&\".\"&G5896,syllabus!B$3:I$99,8,FALSE)&RIGHT(\"00000\"&J5896,5)","v":"51009600"},"Odomirok","24-IFRS","Odomirok.24-IFRS: All","exam",9600,null,null,"exam:",null,null,"concept",null,"F",null,"",0,"","","","","","",1,2,0,0,59,59,999,null,null,null,5.0000000000000001E-4,"x",null,"xxxx"]
["Odomirok.25-Solv2",null,null,"",{"$f":"VLOOKUP(F5905&\".\"&G5905,syllabus!B$3:I$99,8,FALSE)&RIGHT(\"00000\"&J5905,5)","v":"52000500"},"Odomirok","25-Solv2","Odomirok.25-Solv2: All","pillars",500,1,null,"pillars: describe pillar 2 of Solvency 2 (Governance pillar)","Governance: &rarr; supervisory activities - requires adequate governance in <u>4 functional areas</u>: ~~ &diams; internal audit ~~~ (report failure to follow company policies, deficiencies in internal controls) ~~ &diams; actuarial ~~~ (ensure reasonability of DAM when calculating technical provisions - Data, Assumptions, Methods) ~~ &diams; risk management ~~~ (perform ORSA to identify unique risks of company) ~~ &diams; compliance ~~~ (report failure to comply with regulations to board of directors)",null,"concept",null,"A","current","exam",2,"18","1-Spring",17,"","",2,2,22,2,18.761663039293719,24,24,999,null,null,null,5.0000000000000001E-4,"x",null,1]
["Odomirok.25-Solv2",null,null,"",{"$f":"VLOOKUP(F5909&\".\"&G5909,syllabus!B$3:I$99,8,FALSE)&RIGHT(\"00000\"&J5909,5)","v":"52000900"},"Odomirok","25-Solv2","Odomirok.25-Solv2: All","pillars",900,1,null,"pillars: governance pillar 2 - identify FUNCTIONS that must be addressed (4)","- internal audit (annual report to Board of Directors on deficiencies) ~ - actuarial (reasonability of methods & assumptions) ~ - risk management (monitor) ~ - compliance (with law)",null,"concept",null,"A",null,"",0,"","","","","","",2,5,2,8.9442719099991592,24,24,999,null,null,null,5.0000000000000001E-4,"x",null,1]
["Odomirok.25-Solv2",null,null,"",{"$f":"VLOOKUP(F5916&\".\"&G5916,syllabus!B$3:I$99,8,FALSE)&RIGHT(\"00000\"&J5916,5)","v":"52001500"},"Odomirok","25-Solv2","Odomirok.25-Solv2: All","BC",1500,null,null,"BC:",null,null,"concept",null,"F",null,"",0,"","","","","","",2,2,0,0,24,24,999,null,null,null,5.0000000000000001E-4,"x",null,"xxxx"]
["Odomirok.25-Solv2",null,null,"",{"$f":"VLOOKUP(F5925&\".\"&G5925,syllabus!B$3:I$99,8,FALSE)&RIGHT(\"00000\"&J5925,5)","v":"52002400"},"Odomirok","25-Solv2","Odomirok.25-Solv2: All","BC",2400,null,null,"BC:",null,null,"concept",null,"F",null,"",0,"","","","","","",2,2,0,0,24,24,999,null,null,null,5.0000000000000001E-4,"x",null,"xxxx"]
["Odomirok.25-Solv2",null,null,"",{"$f":"VLOOKUP(F5928&\".\"&G5928,syllabus!B$3:I$99,8,FALSE)&RIGHT(\"00000\"&J5928,5)","v":"52002700"},"Odomirok","25-Solv2","Odomirok.25-Solv2: All","BC",2700,null,null,"BC:",null,null,"concept",null,"F",null,"",0,"","","","","","",2,2,0,0,24,24,999,null,null,null,5.0000000000000001E-4,"x",null,"xxxx"]
["Odomirok.25-Solv2",null,null,"",{"$f":"VLOOKUP(F5939&\".\"&G5939,syllabus!B$3:I$99,8,FALSE)&RIGHT(\"00000\"&J5939,5)","v":"52003800"},"Odomirok","25-Solv2","Odomirok.25-Solv2: All","exam",3800,null,null,"exam:",null,null,"concept",null,"F",null,"",0,"","","","","","",2,2,0,0,24,24,999,null,null,null,5.0000000000000001E-4,"x",null,"xxxx"]
["Odomirok.25-Solv2",null,null,"",{"$f":"VLOOKUP(F5945&\".\"&G5945,syllabus!B$3:I$99,8,FALSE)&RIGHT(\"00000\"&J5945,5)","v":"52004400"},"Odomirok","25-Solv2","Odomirok.25-Solv2: All","exam",4400,null,null,"exam:",null,null,"concept",null,"F",null,"",0,"","","","","","",2,2,0,0,24,24,999,null,null,null,5.0000000000000001E-4,"x",null,"xxxx"]
["Odomirok.25-Solv2",null,null,"",{"$f":"VLOOKUP(F5946&\".\"&G5946,syllabus!B$3:I$99,8,FALSE)&RIGHT(\"00000\"&J5946,5)","v":"52004500"},"Odomirok","25-Solv2","Odomirok.25-Solv2: All","exam",4500,null,null,"exam:",null,null,"concept",null,"F",null,"",0,"","","","","","",2,2,0,0,24,24,999,null,null,null,5.0000000000000001E-4,"x",null,"xxxx"]
["Odomirok.25-Solv2",null,null,"",{"$f":"VLOOKUP(F5955&\".\"&G5955,syllabus!B$3:I$99,8,FALSE)&RIGHT(\"00000\"&J5955,5)","v":"52005400"},"Odomirok","25-Solv2","Odomirok.25-Solv2: All","exam",5400,null,null,"exam:",null,null,"concept",null,"F",null,"",0,"","","","","","",2,2,0,0,24,24,999,null,null,null,5.0000000000000001E-4,"x",null,"xxxx"]
["Odomirok.25-Solv2",null,null,"",{"$f":"VLOOKUP(F5958&\".\"&G5958,syllabus!B$3:I$99,8,FALSE)&RIGHT(\"00000\"&J5958,5)","v":"52005700"},"Odomirok","25-Solv2","Odomirok.25-Solv2: All","exam",5700,null,null,"exam:",null,null,"concept",null,"F",null,"",0,"","","","","","",2,2,0,0,24,24,999,null,null,null,5.0000000000000001E-4,"x",null,"xxxx"]
["Odomirok.25-Solv2",null,null,"",{"$f":"VLOOKUP(F5966&\".\"&G5966,syllabus!B$3:I$99,8,FALSE)&RIGHT(\"00000\"&J5966,5)","v":"52006600"},"Odomirok","25-Solv2","Odomirok.25-Solv2: All","exam",6600,null,null,"exam:",null,null,"concept",null,"F",null,"",0,"","","","","","",2,2,0,0,24,24,999,null,null,null,5.0000000000000001E-4,"x",null,"xxxx"]
["Odomirok.25-Solv2",null,null,"",{"$f":"VLOOKUP(F5975&\".\"&G5975,syllabus!B$3:I$99,8,FALSE)&RIGHT(\"00000\"&J5975,5)","v":"52007500"},"Odomirok","25-Solv2","Odomirok.25-Solv2: All","exam",7500,null,null,"exam:",null,null,"concept",null,"F",null,"",0,"","","","","","",2,2,0,0,24,24,999,null,null,null,5.0000000000000001E-4,"x",null,"xxxx"]
["Odomirok.25-Solv2",null,null,"",{"$f":"VLOOKUP(F5982&\".\"&G5982,syllabus!B$3:I$99,8,FALSE)&RIGHT(\"00000\"&J5982,5)","v":"52008200"},"Odomirok","25-Solv2","Odomirok.25-Solv2: All","exam",8200,null,null,"exam:",null,null,"concept",null,"F",null,"",0,"","","","","","",2,2,0,0,24,24,999,null,null,null,5.0000000000000001E-4,"x",null,"xxxx"]
["Odomirok.25-Solv2",null,null,"",{"$f":"VLOOKUP(F5988&\".\"&G5988,syllabus!B$3:I$99,8,FALSE)&RIGHT(\"00000\"&J5988,5)","v":"52008800"},"Odomirok","25-Solv2","Odomirok.25-Solv2: All","exam",8800,null,null,"exam:",null,null,"concept",null,"F",null,"",0,"","","","","","",2,2,0,0,24,24,999,null,null,null,5.0000000000000001E-4,"x",null,"xxxx"]
["Odomirok.25-Solv2",null,null,"",{"$f":"VLOOKUP(F5995&\".\"&G5995,syllabus!B$3:I$99,8,FALSE)&RIGHT(\"00000\"&J5995,5)","v":"52009500"},"Odomirok","25-Solv2","Odomirok.25-Solv2: All","exam",9500,null,null,"exam:",null,null,"concept",null,"F",null,"",0,"","","","","","",2,2,0,0,24,24,999,null,null,null,5.0000000000000001E-4,"x",null,"xxxx"]
["Odomirok.25-Solv2",null,null,"",{"$f":"VLOOKUP(F5996&\".\"&G5996,syllabus!B$3:I$99,8,FALSE)&RIGHT(\"00000\"&J5996,5)","v":"52009600"},"Odomirok","25-Solv2","Odomirok.25-Solv2: All","exam",9600,null,null,"exam:",null,null,"concept",null,"F",null,"",0,"","","","","","",2,2,0,0,24,24,999,null,null,null,5.0000000000000001E-4,"x",null,"xxxx"]
["Odomirok.26-Taxes",null,null,"",{"$f":"VLOOKUP(F6005&\".\"&G6005,syllabus!B$3:I$99,8,FALSE)&RIGHT(\"00000\"&J6005,5)","v":"53000500"},"Odomirok","26-Taxes","Odomirok.26-Taxes: All","calculating tax",500,2,null,"calculating tax: calculate the tax-basis income (easier version)","click button with pencil",null,"calc","calc06","A",null,"",0,"","","","","","",7.5,6,2,146.96938456699067,16,16,999,null,"CP","US_R16_tax_010_TBI_easy",1E-4,"x",null,2]
["Odomirok.26-Taxes",null,null,"",{"$f":"VLOOKUP(F6014&\".\"&G6014,syllabus!B$3:I$99,8,FALSE)&RIGHT(\"00000\"&J6014,5)","v":"53001400"},"Odomirok","26-Taxes","Odomirok.26-Taxes: All","calculating tax",1400,3,null,"calculating tax: [setup required] calculate the income tax (involves AMIT and carrying forward credits)","see examiner's report - click yellow \"E\" link in \"Section\" column",null,"calc","calc02","A",null,"exam",1,"16","2-Fall",19,"c","",0.75,7.5,2,2,21.213203435596427,16,16,999,null,null,null,1E-4,"x",null,3]
["Odomirok.26-Taxes",null,null,"",{"$f":"VLOOKUP(F6016&\".\"&G6016,syllabus!B$3:I$99,8,FALSE)&RIGHT(\"00000\"&J6016,5)","v":"53001600"},"Odomirok","26-Taxes","Odomirok.26-Taxes: All","BC",1600,null,null,"BC:",null,null,"concept",null,"F",null,"",0,"","","","","","",3,2,0,0,16,16,999,null,null,null,5.0000000000000001E-4,"x",null,"xxxx"]
["Odomirok.26-Taxes",null,null,"",{"$f":"VLOOKUP(F6025&\".\"&G6025,syllabus!B$3:I$99,8,FALSE)&RIGHT(\"00000\"&J6025,5)","v":"53002500"},"Odomirok","26-Taxes","Odomirok.26-Taxes: All","BC",2500,null,null,"BC:",null,null,"concept",null,"F",null,"",0,"","","","","","",3,2,0,0,16,16,999,null,null,null,5.0000000000000001E-4,"x",null,"xxxx"]
["Odomirok.26-Taxes",null,null,"",{"$f":"VLOOKUP(F6032&\".\"&G6032,syllabus!B$3:I$99,8,FALSE)&RIGHT(\"00000\"&J6032,5)","v":"53003200"},"Odomirok","26-Taxes","Odomirok.26-Taxes: All","BC",3200,null,null,"BC:",null,null,"concept",null,"F",null,"",0,"","","","","","",3,2,0,0,16,16,999,null,null,null,5.0000000000000001E-4,"x",null,"xxxx"]
["Odomirok.26-Taxes",null,null,"",{"$f":"VLOOKUP(F6037&\".\"&G6037,syllabus!B$3:I$99,8,FALSE)&RIGHT(\"00000\"&J6037,5)","v":"53003700"},"Odomirok","26-Taxes","Odomirok.26-Taxes: All","BC",3700,null,null,"BC:",null,null,"concept",null,"F",null,"",0,"","","","","","",3,2,0,0,16,16,999,null,null,null,5.0000000000000001E-4,"x",null,"xxxx"]
["Odomirok.26-Taxes",null,null,"",{"$f":"VLOOKUP(F6045&\".\"&G6045,syllabus!B$3:I$99,8,FALSE)&RIGHT(\"00000\"&J6045,5)","v":"53004500"},"Odomirok","26-Taxes","Odomirok.26-Taxes: All","exam",4500,null,null,"exam:",null,null,"concept",null,"F",null,"",0,"","","","","","",3,2,0,0,16,16,999,null,null,null,5.0000000000000001E-4,"x",null,"xxxx"]
["Odomirok.26-Taxes",null,null,"",{"$f":"VLOOKUP(F6046&\".\"&G6046,syllabus!B$3:I$99,8,FALSE)&RIGHT(\"00000\"&J6046,5)","v":"53004600"},"Odomirok","26-Taxes","Odomirok.26-Taxes: All","exam",4600,null,null,"exam:",null,null,"concept",null,"F",null,"",0,"","","","","","",3,2,0,0,16,16,999,null,null,null,5.0000000000000001E-4,"x",null,"xxxx"]
["Odomirok.26-Taxes",null,null,"",{"$f":"VLOOKUP(F6055&\".\"&G6055,syllabus!B$3:I$99,8,FALSE)&RIGHT(\"00000\"&J6055,5)","v":"53005500"},"Odomirok","26-Taxes","Odomirok.26-Taxes: All","exam",5500,null,null,"exam:",null,null,"concept",null,"F",null,"",0,"","","","","","",3,2,0,0,16,16,999,null,null,null,5.0000000000000001E-4,"x",null,"xxxx"]
["Odomirok.26-Taxes",null,null,"",{"$f":"VLOOKUP(F6060&\".\"&G6060,syllabus!B$3:I$99,8,FALSE)&RIGHT(\"00000\"&J6060,5)","v":"53006000"},"Odomirok","26-Taxes","Odomirok.26-Taxes: All","exam",6000,null,null,"exam:",null,null,"concept",null,"F",null,"",0,"","","","","","",3,2,0,0,16,16,999,null,null,null,5.0000000000000001E-4,"x",null,"xxxx"]
["Odomirok.26-Taxes",null,null,"",{"$f":"VLOOKUP(F6066&\".\"&G6066,syllabus!B$3:I$99,8,FALSE)&RIGHT(\"00000\"&J6066,5)","v":"53006600"},"Odomirok","26-Taxes","Odomirok.26-Taxes: All","exam",6600,"x",null,"exam:",null,null,"concept",null,"F",null,"",0,"","","","","","",3,2,0,0,16,16,999,null,null,null,5.0000000000000001E-4,"x",null,"xxxx"]
["Odomirok.26-Taxes",null,null,"",{"$f":"VLOOKUP(F6075&\".\"&G6075,syllabus!B$3:I$99,8,FALSE)&RIGHT(\"00000\"&J6075,5)","v":"53007500"},"Odomirok","26-Taxes","Odomirok.26-Taxes: All","exam",7500,null,null,"exam:",null,null,"concept",null,"F",null,"",0,"","","","","","",3,2,0,0,16,16,999,null,null,null,5.0000000000000001E-4,"x",null,"xxxx"]
["Odomirok.26-Taxes",null,null,"",{"$f":"VLOOKUP(F6082&\".\"&G6082,syllabus!B$3:I$99,8,FALSE)&RIGHT(\"00000\"&J6082,5)","v":"53008200"},"Odomirok","26-Taxes","Odomirok.26-Taxes: All","exam",8200,null,null,"exam:",null,null,"concept",null,"F",null,"",0,"","","","","","",3,2,0,0,16,16,999,null,null,null,5.0000000000000001E-4,"x",null,"xxxx"]
["Odomirok.26-Taxes",null,null,"",{"$f":"VLOOKUP(F6086&\".\"&G6086,syllabus!B$3:I$99,8,FALSE)&RIGHT(\"00000\"&J6086,5)","v":"53008600"},"Odomirok","26-Taxes","Odomirok.26-Taxes: All","exam",8600,null,null,"exam:",null,null,"concept",null,"F",null,"",0,"","","","","","",3,2,0,0,16,16,999,null,null,null,5.0000000000000001E-4,"x",null,"xxxx"]
["Odomirok.26-Taxes",null,null,"",{"$f":"VLOOKUP(F6095&\".\"&G6095,syllabus!B$3:I$99,8,FALSE)&RIGHT(\"00000\"&J6095,5)","v":"53009500"},"Odomirok","26-Taxes","Odomirok.26-Taxes: All","exam",9500,null,null,"exam:",null,null,"concept",null,"F",null,"",0,"","","","","","",3,2,0,0,16,16,999,null,null,null,5.0000000000000001E-4,"x",null,"xxxx"]
["Odomirok.26-Taxes",null,null,"",{"$f":"VLOOKUP(F6096&\".\"&G6096,syllabus!B$3:I$99,8,FALSE)&RIGHT(\"00000\"&J6096,5)","v":"53009600"},"Odomirok","26-Taxes","Odomirok.26-Taxes: All","exam",9600,null,null,"exam:",null,null,"concept",null,"F",null,"",0,"","","","","","",3,2,0,0,16,16,999,null,null,null,5.0000000000000001E-4,"x",null,"xxxx"]
["Odomirok.30-Future",null,null,"",{"$f":"VLOOKUP(F6105&\".\"&G6105,syllabus!B$3:I$99,8,FALSE)&RIGHT(\"00000\"&J6105,5)","v":"54000500"},"Odomirok","30-Future","Odomirok.30-Future: All","BC",500,null,null,"BC:",null,null,"concept",null,"F",null,"",0,"","","","","","",1,2,0,0,60,60,999,null,null,null,5.0000000000000001E-4,"x",null,"xxxx"]
["Odomirok.30-Future",null,null,"",{"$f":"VLOOKUP(F6109&\".\"&G6109,syllabus!B$3:I$99,8,FALSE)&RIGHT(\"00000\"&J6109,5)","v":"54000900"},"Odomirok","30-Future","Odomirok.30-Future: All","BC",900,null,null,"BC:",null,null,"concept",null,"F",null,"",0,"","","","","","",1,2,0,0,60,60,999,null,null,null,5.0000000000000001E-4,"x",null,"xxxx"]
["Odomirok.30-Future",null,null,"",{"$f":"VLOOKUP(F6116&\".\"&G6116,syllabus!B$3:I$99,8,FALSE)&RIGHT(\"00000\"&J6116,5)","v":"54001600"},"Odomirok","30-Future","Odomirok.30-Future: All","BC",1600,null,null,"BC:",null,null,"concept",null,"F",null,"",0,"","","","","","",1,2,0,0,60,60,999,null,null,null,5.0000000000000001E-4,"x",null,"xxxx"]
["Odomirok.30-Future",null,null,"",{"$f":"VLOOKUP(F6125&\".\"&G6125,syllabus!B$3:I$99,8,FALSE)&RIGHT(\"00000\"&J6125,5)","v":"54002500"},"Odomirok","30-Future","Odomirok.30-Future: All","BC",2500,null,null,"BC:",null,null,"concept",null,"F",null,"",0,"","","","","","",1,2,0,0,60,60,999,null,null,null,5.0000000000000001E-4,"x",null,"xxxx"]
["Odomirok.30-Future",null,null,"",{"$f":"VLOOKUP(F6132&\".\"&G6132,syllabus!B$3:I$99,8,FALSE)&RIGHT(\"00000\"&J6132,5)","v":"54003200"},"Odomirok","30-Future","Odomirok.30-Future: All","BC",3200,null,null,"BC:",null,null,"concept",null,"F",null,"",0,"","","","","","",1,2,0,0,60,60,999,null,null,null,5.0000000000000001E-4,"x",null,"xxxx"]
["Odomirok.30-Future",null,null,"",{"$f":"VLOOKUP(F6135&\".\"&G6135,syllabus!B$3:I$99,8,FALSE)&RIGHT(\"00000\"&J6135,5)","v":"54003500"},"Odomirok","30-Future","Odomirok.30-Future: All","exam",3500,null,null,"exam:",null,null,"concept",null,"F",null,"",0,"","","","","","",1,2,0,0,60,60,999,null,null,null,5.0000000000000001E-4,"x",null,"xxxx"]
["Odomirok.30-Future",null,null,"",{"$f":"VLOOKUP(F6145&\".\"&G6145,syllabus!B$3:I$99,8,FALSE)&RIGHT(\"00000\"&J6145,5)","v":"54004500"},"Odomirok","30-Future","Odomirok.30-Future: All","exam",4500,null,null,"exam:",null,null,"concept",null,"F",null,"",0,"","","","","","",1,2,0,0,60,60,999,null,null,null,5.0000000000000001E-4,"x",null,"xxxx"]
["Odomirok.30-Future",null,null,"",{"$f":"VLOOKUP(F6146&\".\"&G6146,syllabus!B$3:I$99,8,FALSE)&RIGHT(\"00000\"&J6146,5)","v":"54004600"},"Odomirok","30-Future","Odomirok.30-Future: All","exam",4600,null,null,"exam:",null,null,"concept",null,"F",null,"",0,"","","","","","",1,2,0,0,60,60,999,null,null,null,5.0000000000000001E-4,"x",null,"xxxx"]
["Odomirok.30-Future",null,null,"",{"$f":"VLOOKUP(F6155&\".\"&G6155,syllabus!B$3:I$99,8,FALSE)&RIGHT(\"00000\"&J6155,5)","v":"54005500"},"Odomirok","30-Future","Odomirok.30-Future: All","exam",5500,null,null,"exam:",null,null,"concept",null,"F",null,"",0,"","","","","","",1,2,0,0,60,60,999,null,null,null,5.0000000000000001E-4,"x",null,"xxxx"]
["Odomirok.30-Future",null,null,"",{"$f":"VLOOKUP(F6158&\".\"&G6158,syllabus!B$3:I$99,8,FALSE)&RIGHT(\"00000\"&J6158,5)","v":"54005800"},"Odomirok","30-Future","Odomirok.30-Future: All","exam",5800,null,null,"exam:",null,null,"concept",null,"F",null,"",0,"","","","","","",1,2,0,0,60,60,999,null,null,null,5.0000000000000001E-4,"x",null,"xxxx"]
["Odomirok.30-Future",null,null,"",{"$f":"VLOOKUP(F6166&\".\"&G6166,syllabus!B$3:I$99,8,FALSE)&RIGHT(\"00000\"&J6166,5)","v":"54006600"},"Odomirok","30-Future","Odomirok.30-Future: All","exam",6600,null,null,"exam:",null,null,"concept",null,"F",null,"",0,"","","","","","",1,2,0,0,60,60,999,null,null,null,5.0000000000000001E-4,"x",null,"xxxx"]
["Odomirok.30-Future",null,null,"",{"$f":"VLOOKUP(F6175&\".\"&G6175,syllabus!B$3:I$99,8,FALSE)&RIGHT(\"00000\"&J6175,5)","v":"54007500"},"Odomirok","30-Future","Odomirok.30-Future: All","exam",7500,null,null,"exam:",null,null,"concept",null,"F",null,"",0,"","","","","","",1,2,0,0,60,60,999,null,null,null,5.0000000000000001E-4,"x",null,"xxxx"]
["Odomirok.30-Future",null,null,"",{"$f":"VLOOKUP(F6182&\".\"&G6182,syllabus!B$3:I$99,8,FALSE)&RIGHT(\"00000\"&J6182,5)","v":"54008200"},"Odomirok","30-Future","Odomirok.30-Future: All","exam",8200,null,null,"exam:",null,null,"concept",null,"F",null,"",0,"","","","","","",1,2,0,0,60,60,999,null,null,null,5.0000000000000001E-4,"x",null,"xxxx"]
["Odomirok.30-Future",null,null,"",{"$f":"VLOOKUP(F6184&\".\"&G6184,syllabus!B$3:I$99,8,FALSE)&RIGHT(\"00000\"&J6184,5)","v":"54008400"},"Odomirok","30-Future","Odomirok.30-Future: All","exam",8400,null,null,"exam:",null,null,"concept",null,"F",null,"",0,"","","","","","",1,2,0,0,60,60,999,null,null,null,5.0000000000000001E-4,"x",null,"xxxx"]
["Odomirok.30-Future",null,null,"",{"$f":"VLOOKUP(F6193&\".\"&G6193,syllabus!B$3:I$99,8,FALSE)&RIGHT(\"00000\"&J6193,5)","v":"54009300"},"Odomirok","30-Future","Odomirok.30-Future: All","exam",9300,null,null,"exam:",null,null,"concept",null,"F",null,"",0,"","","","","","",1,2,0,0,60,60,999,null,null,null,5.0000000000000001E-4,"x",null,"xxxx"]
["Odomirok.30-Future",null,null,"",{"$f":"VLOOKUP(F6196&\".\"&G6196,syllabus!B$3:I$99,8,FALSE)&RIGHT(\"00000\"&J6196,5)","v":"54009600"},"Odomirok","30-Future","Odomirok.30-Future: All","exam",9600,null,null,"exam:",null,null,"concept",null,"F",null,"",0,"","","","","","",1,2,0,0,60,60,999,null,null,null,5.0000000000000001E-4,"x",null,"xxxx"]
["Porter.2-Devlpt",null,null,"",{"$f":"VLOOKUP(F6205&\".\"&G6205,syllabus!B$3:I$99,8,FALSE)&RIGHT(\"00000\"&J6205,5)","v":"56000500"},"Porter","2-Devlpt","Porter.2-Devlpt: All","BC",500,null,null,"BC:",null,null,"concept",null,"F",null,"",0,"","","","","","",3,2,0,0,17,17,999,null,null,null,5.0000000000000001E-4,"x",null,"xxxx"]
["Porter.2-Devlpt",null,null,"",{"$f":"VLOOKUP(F6214&\".\"&G6214,syllabus!B$3:I$99,8,FALSE)&RIGHT(\"00000\"&J6214,5)","v":"56001400"},"Porter","2-Devlpt","Porter.2-Devlpt: All","BC",1400,null,null,"BC:",null,null,"concept",null,"F",null,"",0,"","","","","","",3,2,0,0,17,17,999,null,null,null,5.0000000000000001E-4,"x",null,"xxxx"]
["Porter.2-Devlpt",null,null,"",{"$f":"VLOOKUP(F6216&\".\"&G6216,syllabus!B$3:I$99,8,FALSE)&RIGHT(\"00000\"&J6216,5)","v":"56001600"},"Porter","2-Devlpt","Porter.2-Devlpt: All","BC",1600,null,null,"BC:",null,null,"concept",null,"F",null,"",0,"","","","","","",3,2,0,0,17,17,999,null,null,null,5.0000000000000001E-4,"x",null,"xxxx"]
["Porter.2-Devlpt",null,null,"",{"$f":"VLOOKUP(F6225&\".\"&G6225,syllabus!B$3:I$99,8,FALSE)&RIGHT(\"00000\"&J6225,5)","v":"56002500"},"Porter","2-Devlpt","Porter.2-Devlpt: All","BC",2500,null,null,"BC:",null,null,"concept",null,"F",null,"",0,"","","","","","",3,2,0,0,17,17,999,null,null,null,5.0000000000000001E-4,"x",null,"xxxx"]
["Porter.2-Devlpt",null,null,"",{"$f":"VLOOKUP(F6232&\".\"&G6232,syllabus!B$3:I$99,8,FALSE)&RIGHT(\"00000\"&J6232,5)","v":"56003200"},"Porter","2-Devlpt","Porter.2-Devlpt: All","BC",3200,null,null,"BC:",null,null,"concept",null,"F",null,"",0,"","","","","","",3,2,0,0,17,17,999,null,null,null,5.0000000000000001E-4,"x",null,"xxxx"]
["Porter.2-Devlpt",null,null,"",{"$f":"VLOOKUP(F6233&\".\"&G6233,syllabus!B$3:I$99,8,FALSE)&RIGHT(\"00000\"&J6233,5)","v":"56003300"},"Porter","2-Devlpt","Porter.2-Devlpt: All","BC",3300,null,null,"BC:",null,null,"concept",null,"F",null,"",0,"","","","","","",3,2,0,0,17,17,999,null,null,null,5.0000000000000001E-4,"x",null,"xxxx"]
["Porter.2-Devlpt",null,null,"",{"$f":"VLOOKUP(F6243&\".\"&G6243,syllabus!B$3:I$99,8,FALSE)&RIGHT(\"00000\"&J6243,5)","v":"56004300"},"Porter","2-Devlpt","Porter.2-Devlpt: All","exam",4300,null,null,"exam:",null,null,"concept",null,"F",null,"",0,"","","","","","",3,2,0,0,17,17,999,null,null,null,5.0000000000000001E-4,"x",null,"xxxx"]
["Porter.2-Devlpt",null,null,"",{"$f":"VLOOKUP(F6246&\".\"&G6246,syllabus!B$3:I$99,8,FALSE)&RIGHT(\"00000\"&J6246,5)","v":"56004600"},"Porter","2-Devlpt","Porter.2-Devlpt: All","exam",4600,null,null,"exam:",null,null,"concept",null,"F",null,"",0,"","","","","","",3,2,0,0,17,17,999,null,null,null,5.0000000000000001E-4,"x",null,"xxxx"]
["Porter.2-Devlpt",null,null,"",{"$f":"VLOOKUP(F6255&\".\"&G6255,syllabus!B$3:I$99,8,FALSE)&RIGHT(\"00000\"&J6255,5)","v":"56005500"},"Porter","2-Devlpt","Porter.2-Devlpt: All","exam",5500,1,null,"exam: identify ways insurance companies are regulated by states (7)","financial regulation: ~~ - capital requirements ~~ - restrictions on investments ~ market conduct: ~~ - sales & advertising ~~ - underwriting ~~ - claims handling ~ licensing: ~~ - insurer licensing ~~ - producer licensing",null,"concept",null,"A",null,"exam",1,"18","1-Spring",4,"c","",1,3,18,2,25.45584412271571,17,17,999,null,null,null,5.0000000000000001E-4,"x",null,1]
["Porter.2-Devlpt",null,null,"",{"$f":"VLOOKUP(F6263&\".\"&G6263,syllabus!B$3:I$99,8,FALSE)&RIGHT(\"00000\"&J6263,5)","v":"56006300"},"Porter","2-Devlpt","Porter.2-Devlpt: All","exam",6300,2,null,"exam: describe the Robinson-Patman Act and how individual price optimization may violate this Act","Robinson-Patman Act (amendment to the Clayton Antitrust Act): ~~ - <u>price discrimination</u> must be based on reduced operating costs of corporation ~~ - <u>tying</u> is prohibited (requiring purchase of 1 product to purchase another) ~ individual price optimization: ~~ - means that similar risks could be priced differently ~~ - may be due to differences in customers' willingness to shop around ~~ - violates Act if price differences are not based on operating costs",null,"concept",null,"A",null,"exam",1,"16","2-Fall",1,"d","",1,3,13,2,21.633307652783934,17,17,999,null,null,null,5.0000000000000001E-4,"x",null,2]
["Porter.2-Devlpt",null,null,"",{"$f":"VLOOKUP(F6266&\".\"&G6266,syllabus!B$3:I$99,8,FALSE)&RIGHT(\"00000\"&J6266,5)","v":"56006600"},"Porter","2-Devlpt","Porter.2-Devlpt: All","exam",6600,2,null,"exam: argue in favor of federal insurance regulation (3) & then argue in favor if state regulation (3)","in favor of federal regulation: ~~ ==> efficiency: less duplication of effort for regulator & insurer (versus multiple state reguators) ~~ ==> uniformity: uniform regulations across U.S. facilitate entry/exit to/from states ~~ ==> single contact point: facilitates dealings with international markets ~ in favor of state regulation: ~~ ==> local knowledge: state regulators understand state-specific populations & risk factors ~~ ==> responsiveness: regulations can respond quickly to state-specific politics & economics ~~ ==> redundancy: duplication of oversight across states increase likelihood of detecting weak insurers, taking corrective actions","FEDERAL: (efficiency, uniformity, single contact point), STATE: ( local knowledge, responsiveness, redundancy)","concept",null,"A",null,"exam",1,"15","1-Spring",3,"d","",1,3,15,2,23.237900077244504,17,17,999,null,null,null,5.0000000000000001E-4,"x",null,2]
["Porter.2-Devlpt",null,null,"",{"$f":"VLOOKUP(F6275&\".\"&G6275,syllabus!B$3:I$99,8,FALSE)&RIGHT(\"00000\"&J6275,5)","v":"56007500"},"Porter","2-Devlpt","Porter.2-Devlpt: All","exam",7500,3,null,"exam: identify the impact of bureau ratemaking by (i) Paul v Virginia (ii) U.S. v SEUA","(i) Paul v Virginia: bureau ratemaking is permitted ~ (ii) U.S. v SEUA: bureau ratemaking violates federal antitrust laws",null,"concept",null,"A",null,"exam",1,"14","1-Spring",4,"d","",0.5,3,3,2,10.392304845413264,17,17,999,null,null,null,5.0000000000000001E-4,"x",null,3]
["Porter.2-Devlpt",null,null,"",{"$f":"VLOOKUP(F6282&\".\"&G6282,syllabus!B$3:I$99,8,FALSE)&RIGHT(\"00000\"&J6282,5)","v":"56008200"},"Porter","2-Devlpt","Porter.2-Devlpt: All","exam",8200,"xxxx",null,"exam: after U.S. v SEUA describe how subsequent NAIC recommendations affected insurance compacts & state regulation","insurance compacts: ~~ - became illegal ~~ - NAIC proposed laws permitting cooperative rate-setting ~ state regulation: ~~ - insurance regulation shifted to federal government ~~ - NAIC proposed laws to return insurance regulation to states",null,"concept",null,"A","dup","exam",2,"12","2-Fall",5,"c","",0.5,3,11,2,0,17,17,999,null,null,null,5.0000000000000001E-4,"x",null,"xxxx"]
["Porter.2-Devlpt",null,null,"",{"$f":"VLOOKUP(F6289&\".\"&G6289,syllabus!B$3:I$99,8,FALSE)&RIGHT(\"00000\"&J6289,5)","v":"56008900"},"Porter","2-Devlpt","Porter.2-Devlpt: All","exam",8900,null,null,"exam: ",null,null,"concept",null,"F",null,"",0,"","","","","","",3,2,0,0,17,17,999,null,null,null,5.0000000000000001E-4,"x",null,"xxxx"]
["Porter.2-Devlpt",null,null,"",{"$f":"VLOOKUP(F6293&\".\"&G6293,syllabus!B$3:I$99,8,FALSE)&RIGHT(\"00000\"&J6293,5)","v":"56009300"},"Porter","2-Devlpt","Porter.2-Devlpt: All","exam",9300,null,null,"exam:",null,null,"concept",null,"F",null,"exam",1,"","","","","","",3,2,0,0,17,17,999,null,null,null,5.0000000000000001E-4,"x",null,"xxxx"]
["Porter.2-Devlpt",null,null,"",{"$f":"VLOOKUP(F6296&\".\"&G6296,syllabus!B$3:I$99,8,FALSE)&RIGHT(\"00000\"&J6296,5)","v":"56009600"},"Porter","2-Devlpt","Porter.2-Devlpt: All","exam",9600,null,null,"exam:",null,null,"concept",null,"F",null,"exam",1,"","","","","","",3,2,0,0,17,17,999,null,null,null,5.0000000000000001E-4,"x",null,"xxxx"]
["Porter.3-Roles-Fed",null,null,"",{"$f":"VLOOKUP(F6305&\".\"&G6305,syllabus!B$3:I$99,8,FALSE)&RIGHT(\"00000\"&J6305,5)","v":"57000500"},"Porter","3-Roles-Fed","Porter.3-Roles-Fed: All","general",500,1,null,"general: describe exceptions allowing for federal intervention in insurance regulation (McCarran-Ferguson Act) (3)","FEDERAL govt may regulate insurance if: ~~ - states are NOT regulating insurance ~~ - Sherman Act applies (boycott, intimidation by insurer) ~~ - if Congress passes an applicable law (supersedes state law)","states absent, Sherman Act, Congress","concept",null,"A","current","exam",2,"17","2-Fall",4,"c","",0.5,1,8,2,5.6568542494923806,39,39,999,null,null,null,5.0000000000000001E-4,"x",null,1]
["Porter.3-Roles-Fed",null,null,"",{"$f":"VLOOKUP(F6312&\".\"&G6312,syllabus!B$3:I$99,8,FALSE)&RIGHT(\"00000\"&J6312,5)","v":"57001200"},"Porter","3-Roles-Fed","Porter.3-Roles-Fed: All","BC",1200,null,null,"BC:",null,null,"concept",null,"F",null,"",0,"","","","","","",1,2,0,0,39,39,999,null,null,null,5.0000000000000001E-4,"x",null,"xxxx"]
["Porter.3-Roles-Fed",null,null,"",{"$f":"VLOOKUP(F6316&\".\"&G6316,syllabus!B$3:I$99,8,FALSE)&RIGHT(\"00000\"&J6316,5)","v":"57001600"},"Porter","3-Roles-Fed","Porter.3-Roles-Fed: All","BC",1600,null,null,"BC:",null,null,"concept",null,"F",null,"",0,"","","","","","",1,2,0,0,39,39,999,null,null,null,5.0000000000000001E-4,"x",null,"xxxx"]
["Porter.3-Roles-Fed",null,null,"",{"$f":"VLOOKUP(F6323&\".\"&G6323,syllabus!B$3:I$99,8,FALSE)&RIGHT(\"00000\"&J6323,5)","v":"57002300"},"Porter","3-Roles-Fed","Porter.3-Roles-Fed: All","BC",2300,null,null,"BC:",null,null,"concept",null,"F",null,"",0,"","","","","","",1,2,0,0,39,39,999,null,null,null,5.0000000000000001E-4,"x",null,"xxxx"]
["Porter.3-Roles-Fed",null,null,"",{"$f":"VLOOKUP(F6332&\".\"&G6332,syllabus!B$3:I$99,8,FALSE)&RIGHT(\"00000\"&J6332,5)","v":"57003200"},"Porter","3-Roles-Fed","Porter.3-Roles-Fed: All","BC",3200,null,null,"BC:",null,null,"concept",null,"F",null,"",0,"","","","","","",1,2,0,0,39,39,999,null,null,null,5.0000000000000001E-4,"x",null,"xxxx"]
["Porter.3-Roles-Fed",null,null,"",{"$f":"VLOOKUP(F6338&\".\"&G6338,syllabus!B$3:I$99,8,FALSE)&RIGHT(\"00000\"&J6338,5)","v":"57003800"},"Porter","3-Roles-Fed","Porter.3-Roles-Fed: All","BC",3800,null,null,"BC:",null,null,"concept",null,"F",null,"",0,"","","","","","",1,2,0,0,39,39,999,null,null,null,5.0000000000000001E-4,"x",null,"xxxx"]
["Porter.3-Roles-Fed",null,null,"",{"$f":"VLOOKUP(F6343&\".\"&G6343,syllabus!B$3:I$99,8,FALSE)&RIGHT(\"00000\"&J6343,5)","v":"57004300"},"Porter","3-Roles-Fed","Porter.3-Roles-Fed: All","exam",4300,null,null,"exam:",null,null,"concept",null,"F",null,"",0,"","","","","","",1,2,0,0,39,39,999,null,null,null,5.0000000000000001E-4,"x",null,"xxxx"]
["Porter.3-Roles-Fed",null,null,"",{"$f":"VLOOKUP(F6346&\".\"&G6346,syllabus!B$3:I$99,8,FALSE)&RIGHT(\"00000\"&J6346,5)","v":"57004600"},"Porter","3-Roles-Fed","Porter.3-Roles-Fed: All","exam",4600,null,null,"exam:",null,null,"concept",null,"F",null,"",0,"","","","","","",1,2,0,0,39,39,999,null,null,null,5.0000000000000001E-4,"x",null,"xxxx"]
["Porter.3-Roles-Fed",null,null,"",{"$f":"VLOOKUP(F6355&\".\"&G6355,syllabus!B$3:I$99,8,FALSE)&RIGHT(\"00000\"&J6355,5)","v":"57005500"},"Porter","3-Roles-Fed","Porter.3-Roles-Fed: All","exam",5500,null,null,"exam:",null,null,"concept",null,"F",null,"",0,"","","","","","",1,2,0,0,39,39,999,null,null,null,5.0000000000000001E-4,"x",null,"xxxx"]
["Porter.3-Roles-Fed",null,null,"",{"$f":"VLOOKUP(F6361&\".\"&G6361,syllabus!B$3:I$99,8,FALSE)&RIGHT(\"00000\"&J6361,5)","v":"57006100"},"Porter","3-Roles-Fed","Porter.3-Roles-Fed: All","exam",6100,null,null,"exam:",null,null,"concept",null,"F",null,"",0,"","","","","","",1,2,0,0,39,39,999,null,null,null,5.0000000000000001E-4,"x",null,"xxxx"]
["Porter.3-Roles-Fed",null,null,"",{"$f":"VLOOKUP(F6366&\".\"&G6366,syllabus!B$3:I$99,8,FALSE)&RIGHT(\"00000\"&J6366,5)","v":"57006600"},"Porter","3-Roles-Fed","Porter.3-Roles-Fed: All","exam",6600,"x",null,"exam:",null,null,"concept",null,"F",null,"",0,"","","","","","",1,2,0,0,39,39,999,null,null,null,5.0000000000000001E-4,"x",null,"xxxx"]
["Porter.3-Roles-Fed",null,null,"",{"$f":"VLOOKUP(F6373&\".\"&G6373,syllabus!B$3:I$99,8,FALSE)&RIGHT(\"00000\"&J6373,5)","v":"57007300"},"Porter","3-Roles-Fed","Porter.3-Roles-Fed: All","exam",7300,null,null,"exam:",null,null,"concept",null,"F",null,"",0,"","","","","","",1,2,0,0,39,39,999,null,null,null,5.0000000000000001E-4,"x",null,"xxxx"]
["Porter.3-Roles-Fed",null,null,"",{"$f":"VLOOKUP(F6382&\".\"&G6382,syllabus!B$3:I$99,8,FALSE)&RIGHT(\"00000\"&J6382,5)","v":"57008200"},"Porter","3-Roles-Fed","Porter.3-Roles-Fed: All","exam",8200,null,null,"exam:",null,null,"concept",null,"F",null,"",0,"","","","","","",1,2,0,0,39,39,999,null,null,null,5.0000000000000001E-4,"x",null,"xxxx"]
["Porter.3-Roles-Fed",null,null,"",{"$f":"VLOOKUP(F6387&\".\"&G6387,syllabus!B$3:I$99,8,FALSE)&RIGHT(\"00000\"&J6387,5)","v":"57008700"},"Porter","3-Roles-Fed","Porter.3-Roles-Fed: All","exam",8700,null,null,"exam:",null,null,"concept",null,"F",null,"",0,"","","","","","",1,2,0,0,39,39,999,null,null,null,5.0000000000000001E-4,"x",null,"xxxx"]
["Porter.3-Roles-Fed",null,null,"",{"$f":"VLOOKUP(F6393&\".\"&G6393,syllabus!B$3:I$99,8,FALSE)&RIGHT(\"00000\"&J6393,5)","v":"57009300"},"Porter","3-Roles-Fed","Porter.3-Roles-Fed: All","exam",9300,null,null,"exam:",null,null,"concept",null,"F",null,"",0,"","","","","","",1,2,0,0,39,39,999,null,null,null,5.0000000000000001E-4,"x",null,"xxxx"]
["Porter.3-Roles-Fed",null,null,"",{"$f":"VLOOKUP(F6396&\".\"&G6396,syllabus!B$3:I$99,8,FALSE)&RIGHT(\"00000\"&J6396,5)","v":"57009600"},"Porter","3-Roles-Fed","Porter.3-Roles-Fed: All","exam",9600,null,null,"exam:",null,null,"concept",null,"F",null,"",0,"","","","","","",1,2,0,0,39,39,999,null,null,null,5.0000000000000001E-4,"x",null,"xxxx"]
["Porter.4-Roles-State",null,null,"",{"$f":"VLOOKUP(F6403&\".\"&G6403,syllabus!B$3:I$99,8,FALSE)&RIGHT(\"00000\"&J6403,5)","v":"58000300"},"Porter","4-Roles-State","Porter.4-Roles-State: All","general",300,1,null,"general: describe NAIC functions (6) (many anwers possible)","<u>fundamental goals</u>: ~~ - promote public interest (fair & equitable treatment of consumers) ~~ - promote insurer solvency ~~ - promote state insurance regulation ~ <u>types of regulatory assistance</u>: ~~ - <strong>D</strong>evelop uniform financial reporting standards ~~ - <strong>A</strong>ssist states with pricing/coverage ~~ - <strong>M</strong>aintain databases to track solvency","promote x 3, DAM","concept",null,"A",null,"exam",1,"12","2-Fall",2,"a","",1,1,15,2,7.745966692414834,40,40,999,null,null,null,5.0000000000000001E-4,"x",null,1]
["Porter.4-Roles-State",null,null,"",{"$f":"VLOOKUP(F6410&\".\"&G6410,syllabus!B$3:I$99,8,FALSE)&RIGHT(\"00000\"&J6410,5)","v":"58001000"},"Porter","4-Roles-State","Porter.4-Roles-State: All","BC",1000,null,null,"BC:",null,null,"concept",null,"F",null,"",0,"","","","","","",1,2,0,0,40,40,999,null,null,null,5.0000000000000001E-4,"x",null,"xxxx"]
["Porter.4-Roles-State",null,null,"",{"$f":"VLOOKUP(F6416&\".\"&G6416,syllabus!B$3:I$99,8,FALSE)&RIGHT(\"00000\"&J6416,5)","v":"58001600"},"Porter","4-Roles-State","Porter.4-Roles-State: All","BC",1600,null,null,"BC:",null,null,"concept",null,"F",null,"",0,"","","","","","",1,2,0,0,40,40,999,null,null,null,5.0000000000000001E-4,"x",null,"xxxx"]
["Porter.4-Roles-State",null,null,"",{"$f":"VLOOKUP(F6423&\".\"&G6423,syllabus!B$3:I$99,8,FALSE)&RIGHT(\"00000\"&J6423,5)","v":"58002300"},"Porter","4-Roles-State","Porter.4-Roles-State: All","BC",2300,null,null,"BC:",null,null,"concept",null,"F",null,"",0,"","","","","","",1,2,0,0,40,40,999,null,null,null,5.0000000000000001E-4,"x",null,"xxxx"]
["Porter.4-Roles-State",null,null,"",{"$f":"VLOOKUP(F6432&\".\"&G6432,syllabus!B$3:I$99,8,FALSE)&RIGHT(\"00000\"&J6432,5)","v":"58003200"},"Porter","4-Roles-State","Porter.4-Roles-State: All","BC",3200,null,null,"BC:",null,null,"concept",null,"F",null,"",0,"","","","","","",1,2,0,0,40,40,999,null,null,null,5.0000000000000001E-4,"x",null,"xxxx"]
["Porter.4-Roles-State",null,null,"",{"$f":"VLOOKUP(F6436&\".\"&G6436,syllabus!B$3:I$99,8,FALSE)&RIGHT(\"00000\"&J6436,5)","v":"58003600"},"Porter","4-Roles-State","Porter.4-Roles-State: All","exam",3600,null,null,"exam:",null,null,"concept",null,"F",null,"",0,"","","","","","",1,2,0,0,40,40,999,null,null,null,5.0000000000000001E-4,"x",null,"xxxx"]
["Porter.4-Roles-State",null,null,"",{"$f":"VLOOKUP(F6443&\".\"&G6443,syllabus!B$3:I$99,8,FALSE)&RIGHT(\"00000\"&J6443,5)","v":"58004300"},"Porter","4-Roles-State","Porter.4-Roles-State: All","exam",4300,null,null,"exam:",null,null,"concept",null,"F",null,"",0,"","","","","","",1,2,0,0,40,40,999,null,null,null,5.0000000000000001E-4,"x",null,"xxxx"]
["Porter.4-Roles-State",null,null,"",{"$f":"VLOOKUP(F6446&\".\"&G6446,syllabus!B$3:I$99,8,FALSE)&RIGHT(\"00000\"&J6446,5)","v":"58004600"},"Porter","4-Roles-State","Porter.4-Roles-State: All","exam",4600,null,null,"exam:",null,null,"concept",null,"F",null,"",0,"","","","","","",1,2,0,0,40,40,999,null,null,null,5.0000000000000001E-4,"x",null,"xxxx"]
["Porter.4-Roles-State",null,null,"",{"$f":"VLOOKUP(F6453&\".\"&G6453,syllabus!B$3:I$99,8,FALSE)&RIGHT(\"00000\"&J6453,5)","v":"58005300"},"Porter","4-Roles-State","Porter.4-Roles-State: All","exam",5300,null,null,"exam:",null,null,"concept",null,"F",null,"",0,"","","","","","",1,2,0,0,40,40,999,null,null,null,5.0000000000000001E-4,"x",null,"xxxx"]
["Porter.4-Roles-State",null,null,"",{"$f":"VLOOKUP(F6459&\".\"&G6459,syllabus!B$3:I$99,8,FALSE)&RIGHT(\"00000\"&J6459,5)","v":"58005900"},"Porter","4-Roles-State","Porter.4-Roles-State: All","exam",5900,null,null,"exam:",null,null,"concept",null,"F",null,"",0,"","","","","","",1,2,0,0,40,40,999,null,null,null,5.0000000000000001E-4,"x",null,"xxxx"]
["Porter.4-Roles-State",null,null,"",{"$f":"VLOOKUP(F6466&\".\"&G6466,syllabus!B$3:I$99,8,FALSE)&RIGHT(\"00000\"&J6466,5)","v":"58006600"},"Porter","4-Roles-State","Porter.4-Roles-State: All","exam",6600,2,null,"exam: [setup required] if the home state regulator doesn't act, what options does a non-home state regulator have","the non-home state regulator can: ~~ - examine the company's financial health ~~ - pressure the home state to to take action",null,"concept",null,"A",null,"exam",1,"15","1-Spring",5,"c","",0.5,1,6,2,4.8989794855663558,40,40,999,null,null,null,5.0000000000000001E-4,"x",null,2]
["Porter.4-Roles-State",null,null,"",{"$f":"VLOOKUP(F6473&\".\"&G6473,syllabus!B$3:I$99,8,FALSE)&RIGHT(\"00000\"&J6473,5)","v":"58007300"},"Porter","4-Roles-State","Porter.4-Roles-State: All","exam",7300,"xxxx",null,"exam: why might a state regulator SUPPORT adoption of a NAIC model law (2)","efficiency: ~~ - research & drafting of law has been done (no need for states to redo this work) ~ uniformity: ~~ - if adopted by all states, it's easier for each state to regulate multi-state insurers","efficiency, uniformity","concept",null,"A","dup","exam",2,"12","2-Fall",2,"b","",0.5,1,7,2,0,40,40,999,null,null,null,5.0000000000000001E-4,"x",null,"xxxx"]
["Porter.4-Roles-State",null,null,"",{"$f":"VLOOKUP(F6478&\".\"&G6478,syllabus!B$3:I$99,8,FALSE)&RIGHT(\"00000\"&J6478,5)","v":"58007800"},"Porter","4-Roles-State","Porter.4-Roles-State: All","exam",7800,null,null,"exam:",null,null,"concept",null,"F",null,"",0,"","","","","","",1,2,0,0,40,40,999,null,null,null,5.0000000000000001E-4,"x",null,"xxxx"]
["Porter.4-Roles-State",null,null,"",{"$f":"VLOOKUP(F6486&\".\"&G6486,syllabus!B$3:I$99,8,FALSE)&RIGHT(\"00000\"&J6486,5)","v":"58008600"},"Porter","4-Roles-State","Porter.4-Roles-State: All","exam",8600,null,null,"exam:",null,null,"concept",null,"F",null,"",0,"","","","","","",1,2,0,0,40,40,999,null,null,null,5.0000000000000001E-4,"x",null,"xxxx"]
["Porter.4-Roles-State",null,null,"",{"$f":"VLOOKUP(F6493&\".\"&G6493,syllabus!B$3:I$99,8,FALSE)&RIGHT(\"00000\"&J6493,5)","v":"58009300"},"Porter","4-Roles-State","Porter.4-Roles-State: All","exam",9300,null,null,"exam:",null,null,"concept",null,"F",null,"",0,"","","","","","",1,2,0,0,40,40,999,null,null,null,5.0000000000000001E-4,"x",null,"xxxx"]
["Porter.4-Roles-State",null,null,"",{"$f":"VLOOKUP(F6496&\".\"&G6496,syllabus!B$3:I$99,8,FALSE)&RIGHT(\"00000\"&J6496,5)","v":"58009600"},"Porter","4-Roles-State","Porter.4-Roles-State: All","exam",9600,null,null,"exam:",null,null,"concept",null,"F",null,"",0,"","","","","","",1,2,0,0,40,40,999,null,null,null,5.0000000000000001E-4,"x",null,"xxxx"]
["Porter.5-Opns-State",null,null,"",{"$f":"VLOOKUP(F6508&\".\"&G6508,syllabus!B$3:I$99,8,FALSE)&RIGHT(\"00000\"&J6508,5)","v":"59000800"},"Porter","5-Opns-State","Porter.5-Opns-State: All","types of insurers",800,2,null,"types of insurers: briefly describe a 'reciprocal company'","- owned by policyholders, managed by attorney-in-fact, each member covers the risk of other members\n ~ - similar to mutual companies <u>except</u>:\n ~~ &rarr; reciprocals transfer risk to other subscribers\n ~~ &rarr; mutuals transfer risk to the organization",null,"concept",null,"A",null,"",0,"","","","","","",1,7,2,5.2915026221291814,41,41,999,null,null,null,5.0000000000000001E-4,"x",null,2]
["Porter.5-Opns-State",null,null,"",{"$f":"VLOOKUP(F6513&\".\"&G6513,syllabus!B$3:I$99,8,FALSE)&RIGHT(\"00000\"&J6513,5)","v":"59001300"},"Porter","5-Opns-State","Porter.5-Opns-State: All","BC",1300,null,null,"BC:",null,null,"concept",null,"F",null,"",0,"","","","","","",1,2,0,0,41,41,999,null,null,null,5.0000000000000001E-4,"x",null,"xxxx"]
["Porter.5-Opns-State",null,null,"",{"$f":"VLOOKUP(F6516&\".\"&G6516,syllabus!B$3:I$99,8,FALSE)&RIGHT(\"00000\"&J6516,5)","v":"59001600"},"Porter","5-Opns-State","Porter.5-Opns-State: All","BC",1600,null,null,"BC:",null,null,"concept",null,"F",null,"",0,"","","","","","",1,2,0,0,41,41,999,null,null,null,5.0000000000000001E-4,"x",null,"xxxx"]
["Porter.5-Opns-State",null,null,"",{"$f":"VLOOKUP(F6523&\".\"&G6523,syllabus!B$3:I$99,8,FALSE)&RIGHT(\"00000\"&J6523,5)","v":"59002300"},"Porter","5-Opns-State","Porter.5-Opns-State: All","BC",2300,null,null,"BC:",null,null,"concept",null,"F",null,"",0,"","","","","","",1,2,0,0,41,41,999,null,null,null,5.0000000000000001E-4,"x",null,"xxxx"]
["Porter.5-Opns-State",null,null,"",{"$f":"VLOOKUP(F6527&\".\"&G6527,syllabus!B$3:I$99,8,FALSE)&RIGHT(\"00000\"&J6527,5)","v":"59002700"},"Porter","5-Opns-State","Porter.5-Opns-State: All","BC",2700,null,null,"BC:",null,null,"concept",null,"F",null,"",0,"","","","","","",1,2,0,0,41,41,999,null,null,null,5.0000000000000001E-4,"x",null,"xxxx"]
["Porter.5-Opns-State",null,null,"",{"$f":"VLOOKUP(F6534&\".\"&G6534,syllabus!B$3:I$99,8,FALSE)&RIGHT(\"00000\"&J6534,5)","v":"59003400"},"Porter","5-Opns-State","Porter.5-Opns-State: All","BC",3400,null,null,"BC:",null,null,"concept",null,"F",null,"",0,"","","","","","",1,2,0,0,41,41,999,null,null,null,5.0000000000000001E-4,"x",null,"xxxx"]
["Porter.5-Opns-State",null,null,"",{"$f":"VLOOKUP(F6543&\".\"&G6543,syllabus!B$3:I$99,8,FALSE)&RIGHT(\"00000\"&J6543,5)","v":"59004300"},"Porter","5-Opns-State","Porter.5-Opns-State: All","exam",4300,null,null,"exam:",null,null,"concept",null,"F",null,"",0,"","","","","","",1,2,0,0,41,41,999,null,null,null,5.0000000000000001E-4,"x",null,"xxxx"]
["Porter.5-Opns-State",null,null,"",{"$f":"VLOOKUP(F6546&\".\"&G6546,syllabus!B$3:I$99,8,FALSE)&RIGHT(\"00000\"&J6546,5)","v":"59004600"},"Porter","5-Opns-State","Porter.5-Opns-State: All","exam",4600,null,null,"exam:",null,null,"concept",null,"F",null,"",0,"","","","","","",1,2,0,0,41,41,999,null,null,null,5.0000000000000001E-4,"x",null,"xxxx"]
["Porter.5-Opns-State",null,null,"",{"$f":"VLOOKUP(F6557&\".\"&G6557,syllabus!B$3:I$99,8,FALSE)&RIGHT(\"00000\"&J6557,5)","v":"59005700"},"Porter","5-Opns-State","Porter.5-Opns-State: All","exam",5700,1,null,"exam: how would this item affect minimum capital requirements: line of business (3)","- long tailed lines require more capital (higher settlements, more volatility) ~ - lines with cat exposure require more capital (more volaility) ~ - insurers with only 1 line require more capital (no diversification benefit)",null,"concept",null,"A",null,"exam",1,"18","2-Fall",2,"b","i",0.5,1,4,2,4,41,41,999,null,null,null,5.0000000000000001E-4,"x",null,1]
["Porter.5-Opns-State",null,null,"",{"$f":"VLOOKUP(F6563&\".\"&G6563,syllabus!B$3:I$99,8,FALSE)&RIGHT(\"00000\"&J6563,5)","v":"59006300"},"Porter","5-Opns-State","Porter.5-Opns-State: All","exam",6300,null,null,"exam:",null,null,"concept",null,"F",null,"",0,"","","","","","",1,2,0,0,41,41,999,null,null,null,5.0000000000000001E-4,"x",null,"xxxx"]
["Porter.5-Opns-State",null,null,"",{"$f":"VLOOKUP(F6566&\".\"&G6566,syllabus!B$3:I$99,8,FALSE)&RIGHT(\"00000\"&J6566,5)","v":"59006600"},"Porter","5-Opns-State","Porter.5-Opns-State: All","exam",6600,null,null,"exam:",null,null,"concept",null,"F",null,"",0,"","","","","","",1,2,0,0,41,41,999,null,null,null,5.0000000000000001E-4,"x",null,"xxxx"]
["Porter.5-Opns-State",null,null,"",{"$f":"VLOOKUP(F6573&\".\"&G6573,syllabus!B$3:I$99,8,FALSE)&RIGHT(\"00000\"&J6573,5)","v":"59007300"},"Porter","5-Opns-State","Porter.5-Opns-State: All","exam",7300,null,null,"exam:",null,null,"concept",null,"F",null,"",0,"","","","","","",1,2,0,0,41,41,999,null,null,null,5.0000000000000001E-4,"x",null,"xxxx"]
["Porter.5-Opns-State",null,null,"",{"$f":"VLOOKUP(F6583&\".\"&G6583,syllabus!B$3:I$99,8,FALSE)&RIGHT(\"00000\"&J6583,5)","v":"59008300"},"Porter","5-Opns-State","Porter.5-Opns-State: All","exam",8300,null,null,"exam:",null,null,"concept",null,"F",null,"",0,"","","","","","",1,2,0,0,41,41,999,null,null,null,5.0000000000000001E-4,"x",null,"xxxx"]
["Porter.5-Opns-State",null,null,"",{"$f":"VLOOKUP(F6584&\".\"&G6584,syllabus!B$3:I$99,8,FALSE)&RIGHT(\"00000\"&J6584,5)","v":"59008400"},"Porter","5-Opns-State","Porter.5-Opns-State: All","exam",8400,null,null,"exam:",null,null,"concept",null,"F",null,"",0,"","","","","","",1,2,0,0,41,41,999,null,null,null,5.0000000000000001E-4,"x",null,"xxxx"]
["Porter.5-Opns-State",null,null,"",{"$f":"VLOOKUP(F6593&\".\"&G6593,syllabus!B$3:I$99,8,FALSE)&RIGHT(\"00000\"&J6593,5)","v":"59009300"},"Porter","5-Opns-State","Porter.5-Opns-State: All","exam",9300,null,null,"exam:",null,null,"concept",null,"F",null,"",0,"","","","","","",1,2,0,0,41,41,999,null,null,null,5.0000000000000001E-4,"x",null,"xxxx"]
["Porter.5-Opns-State",null,null,"",{"$f":"VLOOKUP(F6596&\".\"&G6596,syllabus!B$3:I$99,8,FALSE)&RIGHT(\"00000\"&J6596,5)","v":"59009600"},"Porter","5-Opns-State","Porter.5-Opns-State: All","exam",9600,null,null,"exam:",null,null,"concept",null,"F",null,"",0,"","","","","","",1,2,0,0,41,41,999,null,null,null,5.0000000000000001E-4,"x",null,"xxxx"]
["Porter.6-Formation",null,null,"",{"$f":"VLOOKUP(F6606&\".\"&G6606,syllabus!B$3:I$99,8,FALSE)&RIGHT(\"00000\"&J6606,5)","v":"60000600"},"Porter","6-Formation","Porter.6-Formation: All","general",600,1,null,"general: identify items that are part of 'market conduct regulation' for an insurer","sales & advertising, underwriting, rates, claims settlement",null,"concept",null,"A",null,"",0,"","","","","","",1,2,2,2.8284271247461903,61,61,999,null,null,null,5.0000000000000001E-4,"x",null,1]
["Porter.6-Formation",null,null,"",{"$f":"VLOOKUP(F6613&\".\"&G6613,syllabus!B$3:I$99,8,FALSE)&RIGHT(\"00000\"&J6613,5)","v":"60001300"},"Porter","6-Formation","Porter.6-Formation: All","BC",1300,null,null,"BC:",null,null,"concept",null,"F",null,"",0,"","","","","","",1,2,0,0,61,61,999,null,null,null,5.0000000000000001E-4,"x",null,"xxxx"]
["Porter.6-Formation",null,null,"",{"$f":"VLOOKUP(F6620&\".\"&G6620,syllabus!B$3:I$99,8,FALSE)&RIGHT(\"00000\"&J6620,5)","v":"60002000"},"Porter","6-Formation","Porter.6-Formation: All","BC",2000,null,null,"BC:",null,null,"concept",null,"F",null,"",0,"","","","","","",1,2,0,0,61,61,999,null,null,null,5.0000000000000001E-4,"x",null,"xxxx"]
["Porter.6-Formation",null,null,"",{"$f":"VLOOKUP(F6623&\".\"&G6623,syllabus!B$3:I$99,8,FALSE)&RIGHT(\"00000\"&J6623,5)","v":"60002300"},"Porter","6-Formation","Porter.6-Formation: All","BC",2300,null,null,"BC:",null,null,"concept",null,"F",null,"",0,"","","","","","",1,2,0,0,61,61,999,null,null,null,5.0000000000000001E-4,"x",null,"xxxx"]
["Porter.6-Formation",null,null,"",{"$f":"VLOOKUP(F6632&\".\"&G6632,syllabus!B$3:I$99,8,FALSE)&RIGHT(\"00000\"&J6632,5)","v":"60003200"},"Porter","6-Formation","Porter.6-Formation: All","BC",3200,null,null,"BC:",null,null,"concept",null,"F",null,"",0,"","","","","","",1,2,0,0,61,61,999,null,null,null,5.0000000000000001E-4,"x",null,"xxxx"]
["Porter.6-Formation",null,null,"",{"$f":"VLOOKUP(F6634&\".\"&G6634,syllabus!B$3:I$99,8,FALSE)&RIGHT(\"00000\"&J6634,5)","v":"60003400"},"Porter","6-Formation","Porter.6-Formation: All","BC",3400,null,null,"BC:",null,null,"concept",null,"F",null,"",0,"","","","","","",1,2,0,0,61,61,999,null,null,null,5.0000000000000001E-4,"x",null,"xxxx"]
["Porter.6-Formation",null,null,"",{"$f":"VLOOKUP(F6643&\".\"&G6643,syllabus!B$3:I$99,8,FALSE)&RIGHT(\"00000\"&J6643,5)","v":"60004300"},"Porter","6-Formation","Porter.6-Formation: All","exam",4300,null,null,"exam:",null,null,"concept",null,"F",null,"",0,"","","","","","",1,2,0,0,61,61,999,null,null,null,5.0000000000000001E-4,"x",null,"xxxx"]
["Porter.6-Formation",null,null,"",{"$f":"VLOOKUP(F6646&\".\"&G6646,syllabus!B$3:I$99,8,FALSE)&RIGHT(\"00000\"&J6646,5)","v":"60004600"},"Porter","6-Formation","Porter.6-Formation: All","exam",4600,null,null,"exam:",null,null,"concept",null,"F",null,"",0,"","","","","","",1,2,0,0,61,61,999,null,null,null,5.0000000000000001E-4,"x",null,"xxxx"]
["Porter.6-Formation",null,null,"",{"$f":"VLOOKUP(F6655&\".\"&G6655,syllabus!B$3:I$99,8,FALSE)&RIGHT(\"00000\"&J6655,5)","v":"60005500"},"Porter","6-Formation","Porter.6-Formation: All","exam",5500,null,null,"exam:",null,null,"concept",null,"F",null,"",0,"","","","","","",1,2,0,0,61,61,999,null,null,null,5.0000000000000001E-4,"x",null,"xxxx"]
["Porter.6-Formation",null,null,"",{"$f":"VLOOKUP(F6663&\".\"&G6663,syllabus!B$3:I$99,8,FALSE)&RIGHT(\"00000\"&J6663,5)","v":"60006300"},"Porter","6-Formation","Porter.6-Formation: All","exam",6300,null,null,"exam:",null,null,"concept",null,"F",null,"",0,"","","","","","",1,2,0,0,61,61,999,null,null,null,5.0000000000000001E-4,"x",null,"xxxx"]
["Porter.6-Formation",null,null,"",{"$f":"VLOOKUP(F6670&\".\"&G6670,syllabus!B$3:I$99,8,FALSE)&RIGHT(\"00000\"&J6670,5)","v":"60007000"},"Porter","6-Formation","Porter.6-Formation: All","exam",7000,null,null,"exam:",null,null,"concept",null,"F",null,"",0,"","","","","","",1,2,0,0,61,61,999,null,null,null,5.0000000000000001E-4,"x",null,"xxxx"]
["Porter.6-Formation",null,null,"",{"$f":"VLOOKUP(F6673&\".\"&G6673,syllabus!B$3:I$99,8,FALSE)&RIGHT(\"00000\"&J6673,5)","v":"60007300"},"Porter","6-Formation","Porter.6-Formation: All","exam",7300,null,null,"exam:",null,null,"concept",null,"F",null,"",0,"","","","","","",1,2,0,0,61,61,999,null,null,null,5.0000000000000001E-4,"x",null,"xxxx"]
["Porter.6-Formation",null,null,"",{"$f":"VLOOKUP(F6681&\".\"&G6681,syllabus!B$3:I$99,8,FALSE)&RIGHT(\"00000\"&J6681,5)","v":"60008100"},"Porter","6-Formation","Porter.6-Formation: All","exam",8100,null,null,"exam:",null,null,"concept",null,"F",null,"",0,"","","","","","",1,2,0,0,61,61,999,null,null,null,5.0000000000000001E-4,"x",null,"xxxx"]
["Porter.6-Formation",null,null,"",{"$f":"VLOOKUP(F6684&\".\"&G6684,syllabus!B$3:I$99,8,FALSE)&RIGHT(\"00000\"&J6684,5)","v":"60008400"},"Porter","6-Formation","Porter.6-Formation: All","exam",8400,null,null,"exam:",null,null,"concept",null,"F",null,"",0,"","","","","","",1,2,0,0,61,61,999,null,null,null,5.0000000000000001E-4,"x",null,"xxxx"]
["Porter.6-Formation",null,null,"",{"$f":"VLOOKUP(F6693&\".\"&G6693,syllabus!B$3:I$99,8,FALSE)&RIGHT(\"00000\"&J6693,5)","v":"60009300"},"Porter","6-Formation","Porter.6-Formation: All","exam",9300,null,null,"exam:",null,null,"concept",null,"F",null,"",0,"","","","","","",1,2,0,0,61,61,999,null,null,null,5.0000000000000001E-4,"x",null,"xxxx"]
["Porter.6-Formation",null,null,"",{"$f":"VLOOKUP(F6696&\".\"&G6696,syllabus!B$3:I$99,8,FALSE)&RIGHT(\"00000\"&J6696,5)","v":"60009600"},"Porter","6-Formation","Porter.6-Formation: All","exam",9600,null,null,"exam:",null,null,"concept",null,"F",null,"",0,"","","","","","",1,2,0,0,61,61,999,null,null,null,5.0000000000000001E-4,"x",null,"xxxx"]
["Porter.8-Rates",null,null,"",{"$f":"VLOOKUP(F6704&\".\"&G6704,syllabus!B$3:I$99,8,FALSE)&RIGHT(\"00000\"&J6704,5)","v":"61000400"},"Porter","8-Rates","Porter.8-Rates: All","regulation",400,1,null,"regulation: identify the level of regulatory scrutiny of rates for INLAND MARINE (& provide reasons)","regulatory scrutiny: <span style='color: green;'>low</span>  ~~ - individualized risks ~~ - thin data ~ ADDITIONAL REASONS: ~~ - diverse coverages",null,"concept",null,"A",null,"exam",1,"13","2-Fall",2,"a","i",1.5,1,9,2,6,34,34,999,null,null,null,5.0000000000000001E-4,"x",null,1]
["Porter.8-Rates",null,null,"",{"$f":"VLOOKUP(F6713&\".\"&G6713,syllabus!B$3:I$99,8,FALSE)&RIGHT(\"00000\"&J6713,5)","v":"61001300"},"Porter","8-Rates","Porter.8-Rates: All","more practice",1300,1,null,"more practice: [setup required] provide reasons that support regulator's decision","reviewing rating of commercial cat risks: NO, because ~~ - sophisticated buyers ~~ - individualized risks ~~ - thin data (may rely more on cat models) ~ reviewing rating of PPA: YES, because  ~~ - mandatory coverage ~~ - complex classification system ~ ADDITIONAL REASONS for PPA: ~~ - unsophisticated buyers ~~ - credible data",null,"concept",null,"A",null,"exam",1,"16","1-Spring",2,"b","",1.5,1,18,2,8.4852813742385695,34,34,999,null,null,null,5.0000000000000001E-4,"x",null,1]
["Porter.8-Rates",null,null,"",{"$f":"VLOOKUP(F6720&\".\"&G6720,syllabus!B$3:I$99,8,FALSE)&RIGHT(\"00000\"&J6720,5)","v":"61002000"},"Porter","8-Rates","Porter.8-Rates: All","BC",2000,null,null,"BC:",null,null,"concept",null,"F",null,"",0,"","","","","","",1,2,0,0,34,34,999,null,null,null,5.0000000000000001E-4,"x",null,"xxxx"]
["Porter.8-Rates",null,null,"",{"$f":"VLOOKUP(F6723&\".\"&G6723,syllabus!B$3:I$99,8,FALSE)&RIGHT(\"00000\"&J6723,5)","v":"61002300"},"Porter","8-Rates","Porter.8-Rates: All","BC",2300,null,null,"BC:",null,null,"concept",null,"F",null,"",0,"","","","","","",1,2,0,0,34,34,999,null,null,null,5.0000000000000001E-4,"x",null,"xxxx"]
["Porter.8-Rates",null,null,"",{"$f":"VLOOKUP(F6730&\".\"&G6730,syllabus!B$3:I$99,8,FALSE)&RIGHT(\"00000\"&J6730,5)","v":"61003000"},"Porter","8-Rates","Porter.8-Rates: All","BC",3000,null,null,"BC:",null,null,"concept",null,"F",null,"",0,"","","","","","",1,2,0,0,34,34,999,null,null,null,5.0000000000000001E-4,"x",null,"xxxx"]
["Porter.8-Rates",null,null,"",{"$f":"VLOOKUP(F6734&\".\"&G6734,syllabus!B$3:I$99,8,FALSE)&RIGHT(\"00000\"&J6734,5)","v":"61003400"},"Porter","8-Rates","Porter.8-Rates: All","BC",3400,null,null,"BC:",null,null,"concept",null,"F",null,"",0,"","","","","","",1,2,0,0,34,34,999,null,null,null,5.0000000000000001E-4,"x",null,"xxxx"]
["Porter.8-Rates",null,null,"",{"$f":"VLOOKUP(F6743&\".\"&G6743,syllabus!B$3:I$99,8,FALSE)&RIGHT(\"00000\"&J6743,5)","v":"61004300"},"Porter","8-Rates","Porter.8-Rates: All","exam",4300,null,null,"exam:",null,null,"concept",null,"F",null,"",0,"","","","","","",1,2,0,0,34,34,999,null,null,null,5.0000000000000001E-4,"x",null,"xxxx"]
["Porter.8-Rates",null,null,"",{"$f":"VLOOKUP(F6750&\".\"&G6750,syllabus!B$3:I$99,8,FALSE)&RIGHT(\"00000\"&J6750,5)","v":"61005000"},"Porter","8-Rates","Porter.8-Rates: All","exam",5000,null,null,"exam:",null,null,"concept",null,"F",null,"",0,"","","","","","",1,2,0,0,34,34,999,null,null,null,5.0000000000000001E-4,"x",null,"xxxx"]
["Porter.8-Rates",null,null,"",{"$f":"VLOOKUP(F6753&\".\"&G6753,syllabus!B$3:I$99,8,FALSE)&RIGHT(\"00000\"&J6753,5)","v":"61005300"},"Porter","8-Rates","Porter.8-Rates: All","exam",5300,null,null,"exam:",null,null,"concept",null,"F",null,"",0,"","","","","","",1,2,0,0,34,34,999,null,null,null,5.0000000000000001E-4,"x",null,"xxxx"]
["Porter.8-Rates",null,null,"",{"$f":"VLOOKUP(F6763&\".\"&G6763,syllabus!B$3:I$99,8,FALSE)&RIGHT(\"00000\"&J6763,5)","v":"61006300"},"Porter","8-Rates","Porter.8-Rates: All","exam",6300,"x",null,"exam: ",null,null,"concept",null,"F",null,"",0,"","","","","","",1,2,0,0,34,34,999,null,null,null,5.0000000000000001E-4,"x",null,"xxxx"]
["Porter.8-Rates",null,null,"",{"$f":"VLOOKUP(F6770&\".\"&G6770,syllabus!B$3:I$99,8,FALSE)&RIGHT(\"00000\"&J6770,5)","v":"61007000"},"Porter","8-Rates","Porter.8-Rates: All","exam",7000,null,null,"exam:",null,null,"concept",null,"F",null,"",0,"","","","","","",1,2,0,0,34,34,999,null,null,null,5.0000000000000001E-4,"x",null,"xxxx"]
["Porter.8-Rates",null,null,"",{"$f":"VLOOKUP(F6773&\".\"&G6773,syllabus!B$3:I$99,8,FALSE)&RIGHT(\"00000\"&J6773,5)","v":"61007300"},"Porter","8-Rates","Porter.8-Rates: All","exam",7300,null,null,"exam:",null,null,"concept",null,"F",null,"",0,"","","","","","",1,2,0,0,34,34,999,null,null,null,5.0000000000000001E-4,"x",null,"xxxx"]
["Porter.8-Rates",null,null,"",{"$f":"VLOOKUP(F6779&\".\"&G6779,syllabus!B$3:I$99,8,FALSE)&RIGHT(\"00000\"&J6779,5)","v":"61007900"},"Porter","8-Rates","Porter.8-Rates: All","exam",7900,null,null,"exam:",null,null,"concept",null,"F",null,"",0,"","","","","","",1,2,0,0,34,34,999,null,null,null,5.0000000000000001E-4,"x",null,"xxxx"]
["Porter.8-Rates",null,null,"",{"$f":"VLOOKUP(F6784&\".\"&G6784,syllabus!B$3:I$99,8,FALSE)&RIGHT(\"00000\"&J6784,5)","v":"61008400"},"Porter","8-Rates","Porter.8-Rates: All","exam",8400,null,null,"exam:",null,null,"concept",null,"F",null,"",0,"","","","","","",1,2,0,0,34,34,999,null,null,null,5.0000000000000001E-4,"x",null,"xxxx"]
["Porter.8-Rates",null,null,"",{"$f":"VLOOKUP(F6793&\".\"&G6793,syllabus!B$3:I$99,8,FALSE)&RIGHT(\"00000\"&J6793,5)","v":"61009300"},"Porter","8-Rates","Porter.8-Rates: All","exam",9300,null,null,"exam:",null,null,"concept",null,"F",null,"",0,"","","","","","",1,2,0,0,34,34,999,null,null,null,5.0000000000000001E-4,"x",null,"xxxx"]
["Porter.8-Rates",null,null,"",{"$f":"VLOOKUP(F6800&\".\"&G6800,syllabus!B$3:I$99,8,FALSE)&RIGHT(\"00000\"&J6800,5)","v":"61009999"},"Porter","8-Rates","Porter.8-Rates: All","exam",9999,null,null,"exam:",null,null,"concept",null,"F",null,"",0,"","","","","","",1,2,0,0,34,34,999,null,null,null,5.0000000000000001E-4,"x",null,"xxxx"]
["Porter.12-Insolvency",null,null,"",{"$f":"VLOOKUP(F6802&\".\"&G6802,syllabus!B$3:I$99,8,FALSE)&RIGHT(\"00000\"&J6802,5)","v":"62000200"},"Porter","12-Insolvency","Porter.12-Insolvency: All","intro",200,1,null,"intro: describe reasons for insurer insolvency","<strong>Go</strong>vernance - poor governance ~ <strong>N</strong>ew entrant - management may be inexperienced or balance sheet may be low on capital ~ <strong>G</strong>rowth - too rapid to support future loss development ~ <strong>S</strong>ize - too small to absorb unexpected losses ~ <u>ALSO</u>: ~~ - deficient reserves ~~ - under-pricing of risks","GoNGS","concept",null,"A",null,"",0,"","","","","","",2,10,2,12.649110640673518,22,22,999,null,null,null,5.0000000000000001E-4,"x",null,1]
["Porter.12-Insolvency",null,null,"",{"$f":"VLOOKUP(F6813&\".\"&G6813,syllabus!B$3:I$99,8,FALSE)&RIGHT(\"00000\"&J6813,5)","v":"62001200"},"Porter","12-Insolvency","Porter.12-Insolvency: All","BC",1200,null,null,"BC:",null,null,"concept",null,"F",null,"",0,"","","","","","",2,2,0,0,22,22,999,null,null,null,5.0000000000000001E-4,"x",null,"xxxx"]
["Porter.12-Insolvency",null,null,"",{"$f":"VLOOKUP(F6820&\".\"&G6820,syllabus!B$3:I$99,8,FALSE)&RIGHT(\"00000\"&J6820,5)","v":"62001900"},"Porter","12-Insolvency","Porter.12-Insolvency: All","BC",1900,null,null,"BC:",null,null,"concept",null,"F",null,"",0,"","","","","","",2,2,0,0,22,22,999,null,null,null,5.0000000000000001E-4,"x",null,"xxxx"]
["Porter.12-Insolvency",null,null,"",{"$f":"VLOOKUP(F6823&\".\"&G6823,syllabus!B$3:I$99,8,FALSE)&RIGHT(\"00000\"&J6823,5)","v":"62002200"},"Porter","12-Insolvency","Porter.12-Insolvency: All","BC",2200,null,null,"BC:",null,null,"concept",null,"F",null,"",0,"","","","","","",2,2,0,0,22,22,999,null,null,null,5.0000000000000001E-4,"x",null,"xxxx"]
["Porter.12-Insolvency",null,null,"",{"$f":"VLOOKUP(F6828&\".\"&G6828,syllabus!B$3:I$99,8,FALSE)&RIGHT(\"00000\"&J6828,5)","v":"62002700"},"Porter","12-Insolvency","Porter.12-Insolvency: All","BC",2700,null,null,"BC:",null,null,"concept",null,"F",null,"",0,"","","","","","",2,2,0,0,22,22,999,null,null,null,5.0000000000000001E-4,"x",null,"xxxx"]
["Porter.12-Insolvency",null,null,"",{"$f":"VLOOKUP(F6834&\".\"&G6834,syllabus!B$3:I$99,8,FALSE)&RIGHT(\"00000\"&J6834,5)","v":"62003300"},"Porter","12-Insolvency","Porter.12-Insolvency: All","BC",3300,null,null,"BC:",null,null,"concept",null,"F",null,"",0,"","","","","","",2,2,0,0,22,22,999,null,null,null,5.0000000000000001E-4,"x",null,"xxxx"]
["Porter.12-Insolvency",null,null,"",{"$f":"VLOOKUP(F6843&\".\"&G6843,syllabus!B$3:I$99,8,FALSE)&RIGHT(\"00000\"&J6843,5)","v":"62004200"},"Porter","12-Insolvency","Porter.12-Insolvency: All","exam",4200,null,null,"exam:",null,null,"concept",null,"F",null,"",0,"","","","","","",2,2,0,0,22,22,999,null,null,null,5.0000000000000001E-4,"x",null,"xxxx"]
["Porter.12-Insolvency",null,null,"",{"$f":"VLOOKUP(F6850&\".\"&G6850,syllabus!B$3:I$99,8,FALSE)&RIGHT(\"00000\"&J6850,5)","v":"62004900"},"Porter","12-Insolvency","Porter.12-Insolvency: All","exam",4900,null,null,"exam:",null,null,"concept",null,"F",null,"",0,"","","","","","",2,2,0,0,22,22,999,null,null,null,5.0000000000000001E-4,"x",null,"xxxx"]
["Porter.12-Insolvency",null,null,"",{"$f":"VLOOKUP(F6858&\".\"&G6858,syllabus!B$3:I$99,8,FALSE)&RIGHT(\"00000\"&J6858,5)","v":"62005700"},"Porter","12-Insolvency","Porter.12-Insolvency: All","exam",5700,3,null,"exam: why might a strong insurer, and guaranty fund participant, prefer strong solvency regulation","- if a weak insurer goes insolvent, the strong insurer will be assessed ~ - the strong insurer wants a system that makes insolvencies less likely",null,"concept",null,"A",null,"exam",1,"18","1-Spring",7,"a","",0.5,2,3,2,6.9282032302755088,22,22,999,null,null,null,5.0000000000000001E-4,"x",null,3]
["Porter.12-Insolvency",null,null,"",{"$f":"VLOOKUP(F6863&\".\"&G6863,syllabus!B$3:I$99,8,FALSE)&RIGHT(\"00000\"&J6863,5)","v":"62006200"},"Porter","12-Insolvency","Porter.12-Insolvency: All","exam",6200,3,null,"exam: describe limitations on a policyholder's recoveries from a state guaranty fund (3)","- applies to specific lines only ~ - unearned premium recovery is capped ~ - oustanding claim recovery is capped (aside from policy limits ) except WC","LOB exclusions, caps","concept",null,"A",null,"exam",1,"17","2-Fall",5,"b","",0.75,2,4,2,8,22,22,999,null,null,null,5.0000000000000001E-4,"x",null,3]
["Porter.12-Insolvency",null,null,"",{"$f":"VLOOKUP(F6870&\".\"&G6870,syllabus!B$3:I$99,8,FALSE)&RIGHT(\"00000\"&J6870,5)","v":"62006900"},"Porter","12-Insolvency","Porter.12-Insolvency: All","exam",6900,"xxxx",null,"exam: why might an insurer go under <strong>administrative supervision</strong> and identify the regulatory action","regulators may impose <span style='color: red;><strong>administrative supervision</strong></span> when: ~~ ==> mandatory corrective actions FAILS ~~ ==> RBC < 100% (Authorized Control Level or below) ~~ ==> further deterioration in IRIS ratios ~~ ==> judgment by regulator that that policyholders are at risk ~ <span style='color: green;><strong>corrective actions</strong></span> may include: ~~ - insurer requires regulator consent for: <u>incurring new debt</u> ~~ - insurer requires regulator consent for: <u>issuing new policies</u> ~~ - insurer requires regulator consent for: <u>purchasing reinsurance</u> ~~ - insurer requires regulator consent for: <u>basically anything \"important\"</u>",null,"concept",null,"A",null,"exam",1,"12","2-Fall",4,"b","ii",1,2,19,2,17.435595774162696,22,22,999,null,null,null,5.0000000000000001E-4,"x",null,"xxxx"]
["Porter.12-Insolvency",null,null,"",{"$f":"VLOOKUP(F6873&\".\"&G6873,syllabus!B$3:I$99,8,FALSE)&RIGHT(\"00000\"&J6873,5)","v":"62007300"},"Porter","12-Insolvency","Porter.12-Insolvency: All","exam",7300,null,null,"exam:",null,null,"concept",null,"F",null,"",0,"","","","","","",2,2,0,0,22,22,999,null,null,null,5.0000000000000001E-4,"x",null,"xxxx"]
["Porter.12-Insolvency",null,null,"",{"$f":"VLOOKUP(F6881&\".\"&G6881,syllabus!B$3:I$99,8,FALSE)&RIGHT(\"00000\"&J6881,5)","v":"62008100"},"Porter","12-Insolvency","Porter.12-Insolvency: All","exam",8100,null,null,"exam:",null,null,"concept",null,"F",null,"",0,"","","","","","",2,2,0,0,22,22,999,null,null,null,5.0000000000000001E-4,"x",null,"xxxx"]
["Porter.12-Insolvency",null,null,"",{"$f":"VLOOKUP(F6884&\".\"&G6884,syllabus!B$3:I$99,8,FALSE)&RIGHT(\"00000\"&J6884,5)","v":"62008400"},"Porter","12-Insolvency","Porter.12-Insolvency: All","exam",8400,null,null,"exam:",null,null,"concept",null,"F",null,"",0,"","","","","","",2,2,0,0,22,22,999,null,null,null,5.0000000000000001E-4,"x",null,"xxxx"]
["Porter.12-Insolvency",null,null,"",{"$f":"VLOOKUP(F6893&\".\"&G6893,syllabus!B$3:I$99,8,FALSE)&RIGHT(\"00000\"&J6893,5)","v":"62009300"},"Porter","12-Insolvency","Porter.12-Insolvency: All","exam",9300,null,null,"exam:",null,null,"concept",null,"F",null,"",0,"","","","","","",2,2,0,0,22,22,999,null,null,null,5.0000000000000001E-4,"x",null,"xxxx"]
["Porter.12-Insolvency",null,null,"",{"$f":"VLOOKUP(F6900&\".\"&G6900,syllabus!B$3:I$99,8,FALSE)&RIGHT(\"00000\"&J6900,5)","v":"62009999"},"Porter","12-Insolvency","Porter.12-Insolvency: All","exam",9999,null,null,"exam:",null,null,"concept",null,"F",null,"",0,"","","","","","",2,2,0,0,22,22,999,null,null,null,5.0000000000000001E-4,"x",null,"xxxx"]
["Porter.Reg-2",null,null,"",{"$f":"VLOOKUP(F6907&\".\"&G6907,syllabus!B$3:I$99,8,FALSE)&RIGHT(\"00000\"&J6907,5)","v":"63000700"},"Porter","Reg-2","Porter.Reg-2: All","BC",700,null,null,"BC:",null,null,"concept",null,"F",null,"",0,"","","","","","",1,2,0,0,38,38,999,null,null,null,5.0000000000000001E-4,"x",null,"xxxx"]
["Porter.Reg-2",null,null,"",{"$f":"VLOOKUP(F6913&\".\"&G6913,syllabus!B$3:I$99,8,FALSE)&RIGHT(\"00000\"&J6913,5)","v":"63001300"},"Porter","Reg-2","Porter.Reg-2: All","BC",1300,null,null,"BC:",null,null,"concept",null,"F",null,"",0,"","","","","","",1,2,0,0,38,38,999,null,null,null,5.0000000000000001E-4,"x",null,"xxxx"]
["Porter.Reg-2",null,null,"",{"$f":"VLOOKUP(F6920&\".\"&G6920,syllabus!B$3:I$99,8,FALSE)&RIGHT(\"00000\"&J6920,5)","v":"63002000"},"Porter","Reg-2","Porter.Reg-2: All","BC",2000,null,null,"BC:",null,null,"concept",null,"F",null,"",0,"","","","","","",1,2,0,0,38,38,999,null,null,null,5.0000000000000001E-4,"x",null,"xxxx"]
["Porter.Reg-2",null,null,"",{"$f":"VLOOKUP(F6923&\".\"&G6923,syllabus!B$3:I$99,8,FALSE)&RIGHT(\"00000\"&J6923,5)","v":"63002300"},"Porter","Reg-2","Porter.Reg-2: All","BC",2300,null,null,"BC:",null,null,"concept",null,"F",null,"",0,"","","","","","",1,2,0,0,38,38,999,null,null,null,5.0000000000000001E-4,"x",null,"xxxx"]
["Porter.Reg-2",null,null,"",{"$f":"VLOOKUP(F6930&\".\"&G6930,syllabus!B$3:I$99,8,FALSE)&RIGHT(\"00000\"&J6930,5)","v":"63003000"},"Porter","Reg-2","Porter.Reg-2: All","BC",3000,null,null,"BC:",null,null,"concept",null,"F",null,"",0,"","","","","","",1,2,0,0,38,38,999,null,null,null,5.0000000000000001E-4,"x",null,"xxxx"]
["Porter.Reg-2",null,null,"",{"$f":"VLOOKUP(F6934&\".\"&G6934,syllabus!B$3:I$99,8,FALSE)&RIGHT(\"00000\"&J6934,5)","v":"63003400"},"Porter","Reg-2","Porter.Reg-2: All","BC",3400,null,null,"BC:",null,null,"concept",null,"F",null,"",0,"","","","","","",1,2,0,0,38,38,999,null,null,null,5.0000000000000001E-4,"x",null,"xxxx"]
["Porter.Reg-2",null,null,"",{"$f":"VLOOKUP(F6943&\".\"&G6943,syllabus!B$3:I$99,8,FALSE)&RIGHT(\"00000\"&J6943,5)","v":"63004300"},"Porter","Reg-2","Porter.Reg-2: All","exam",4300,null,null,"exam:",null,null,"concept",null,"F",null,"",0,"","","","","","",1,2,0,0,38,38,999,null,null,null,5.0000000000000001E-4,"x",null,"xxxx"]
["Porter.Reg-2",null,null,"",{"$f":"VLOOKUP(F6950&\".\"&G6950,syllabus!B$3:I$99,8,FALSE)&RIGHT(\"00000\"&J6950,5)","v":"63005000"},"Porter","Reg-2","Porter.Reg-2: All","exam",5000,null,null,"exam:",null,null,"concept",null,"F",null,"",0,"","","","","","",1,2,0,0,38,38,999,null,null,null,5.0000000000000001E-4,"x",null,"xxxx"]
["Porter.Reg-2",null,null,"",{"$f":"VLOOKUP(F6956&\".\"&G6956,syllabus!B$3:I$99,8,FALSE)&RIGHT(\"00000\"&J6956,5)","v":"63005600"},"Porter","Reg-2","Porter.Reg-2: All","exam",5600,null,null,"exam:",null,null,"concept",null,"F",null,"",0,"","","","","","",1,2,0,0,38,38,999,null,null,null,5.0000000000000001E-4,"x",null,"xxxx"]
["Porter.Reg-2",null,null,"",{"$f":"VLOOKUP(F6961&\".\"&G6961,syllabus!B$3:I$99,8,FALSE)&RIGHT(\"00000\"&J6961,5)","v":"63006100"},"Porter","Reg-2","Porter.Reg-2: All","exam",6100,1,null,"exam: fully describe the most common process used by guaranty funds to assess insurers","post-solvency assessment: ~~ - regulator <u>determines</u> funds needed ~~ - remaining solvent insurers are <u>assessed</u> based on NWP ~~ - assessments are roughly 1-2% of NWP ~~ - assessment are <u>capped</u> annually but may recur for several years",null,"concept",null,"A",null,"exam",1,"17","1-Spring",5,"b","",1,1,10,2,6.324555320336759,38,38,999,null,null,null,5.0000000000000001E-4,"x",null,1]
["Porter.Reg-2",null,null,"",{"$f":"VLOOKUP(F6970&\".\"&G6970,syllabus!B$3:I$99,8,FALSE)&RIGHT(\"00000\"&J6970,5)","v":"63007000"},"Porter","Reg-2","Porter.Reg-2: All","exam",7000,1,null,"exam: describe good and bad effects of guaranty funds on large corporate insureds","<span style=\"color: green;\"><strong>positive:</strong></span> receive payment promptly ~ <span style=\"color: red;\"><strong>negative:</strong></span> may not receive benefits if liquiditation can cover their losses",null,"concept",null,"A",null,"exam",1,"13","2-Fall",14,"a","i",0.5,1,4,2,4,38,38,999,null,null,null,5.0000000000000001E-4,"x",null,1]
["Porter.Reg-2",null,null,"",{"$f":"VLOOKUP(F6973&\".\"&G6973,syllabus!B$3:I$99,8,FALSE)&RIGHT(\"00000\"&J6973,5)","v":"63007300"},"Porter","Reg-2","Porter.Reg-2: All","exam",7300,1,null,"exam: describe 1 advantage & 1 disadvantage of a POST-SOLVENCY assessment approach to guaranty funds","<span style=\"color: green;\"><strong>advantage:</strong></span> assessments can be offset by liquidation of insolvent insurer's assets ~ <span style=\"color: red;\"><strong>disadvantage:</strong></span> assessment could be large and unexpected",null,"concept",null,"A",null,"exam",1,"13","2-Fall",14,"b","i",0.5,1,4,2,4,38,38,999,null,null,null,5.0000000000000001E-4,"x",null,1]
["Porter.Reg-2",null,null,"",{"$f":"VLOOKUP(F6979&\".\"&G6979,syllabus!B$3:I$99,8,FALSE)&RIGHT(\"00000\"&J6979,5)","v":"63007900"},"Porter","Reg-2","Porter.Reg-2: All","exam",7900,null,null,"exam:",null,null,"concept",null,"F",null,"",0,"","","","","","",1,2,0,0,38,38,999,null,null,null,5.0000000000000001E-4,"x",null,"xxxx"]
["Porter.Reg-2",null,null,"",{"$f":"VLOOKUP(F6984&\".\"&G6984,syllabus!B$3:I$99,8,FALSE)&RIGHT(\"00000\"&J6984,5)","v":"63008400"},"Porter","Reg-2","Porter.Reg-2: All","exam",8400,null,null,"exam:",null,null,"concept",null,"F",null,"",0,"","","","","","",1,2,0,0,38,38,999,null,null,null,5.0000000000000001E-4,"x",null,"xxxx"]
["Porter.Reg-2",null,null,"",{"$f":"VLOOKUP(F6993&\".\"&G6993,syllabus!B$3:I$99,8,FALSE)&RIGHT(\"00000\"&J6993,5)","v":"63009300"},"Porter","Reg-2","Porter.Reg-2: All","exam",9300,null,null,"exam:",null,null,"concept",null,"F",null,"",0,"","","","","","",1,2,0,0,38,38,999,null,null,null,5.0000000000000001E-4,"x",null,"xxxx"]
["Porter.Reg-2",null,null,"",{"$f":"VLOOKUP(F7000&\".\"&G7000,syllabus!B$3:I$99,8,FALSE)&RIGHT(\"00000\"&J7000,5)","v":"63009999"},"Porter","Reg-2","Porter.Reg-2: All","exam",9999,null,null,"exam:",null,null,"concept",null,"F",null,"",0,"","","","","","",1,2,0,0,38,38,999,null,null,null,5.0000000000000001E-4,"x",null,"xxxx"]
["Vaughan.Crisis",null,null,"",{"$f":"VLOOKUP(F7005&\".\"&G7005,syllabus!B$3:I$99,8,FALSE)&RIGHT(\"00000\"&J7005,5)","v":"64000500"},"Vaughan","Crisis","Vaughan.Crisis: All","failure",500,1,null,"failure: briefly describe the concept of regulatory Capture","<span style=\"color: red;\"><strong>tendency for a regulator to assume the mindset of an interest group</strong></span> ~ reasons for this: ~~ - the interest group may be good at influencing a regulator ~~ - political interference",null,"concept",null,"A",null,"",0,"","","","","","",3,7,2,15.874507866387544,18,18,999,null,null,null,5.0000000000000001E-4,"x",null,1]
["Vaughan.Crisis",null,null,"",{"$f":"VLOOKUP(F7011&\".\"&G7011,syllabus!B$3:I$99,8,FALSE)&RIGHT(\"00000\"&J7011,5)","v":"64001100"},"Vaughan","Crisis","Vaughan.Crisis: All","regulation",1100,2,null,"regulation: describe checks & balances: market discipline","<span style=\"color: red;\"><strong>M</strong></span>arket discipline ~~ - state-based regulation cannot easily access federal bailout funds ~~~ (eliminates moral hazard of relying on federal government) ~~ - provides incentive for states to exercise strong regulation",null,"concept",null,"A","current","exam",3,"17","2-Fall",3,"a","vi",0,3,9,2,18,18,18,999,null,null,null,5.0000000000000001E-4,"x",null,2]
["Vaughan.Crisis",null,null,"",{"$f":"VLOOKUP(F7020&\".\"&G7020,syllabus!B$3:I$99,8,FALSE)&RIGHT(\"00000\"&J7020,5)","v":"64002000"},"Vaughan","Crisis","Vaughan.Crisis: All","BC",2000,null,null,"BC: new reading - BattleCards coming soon","~~~",null,"concept",null,"F",null,"",0,"","","","","","",3,5,0,0,18,18,999,null,null,null,5.0000000000000001E-4,"x",null,"xxxx"]
["Vaughan.Crisis",null,null,"",{"$f":"VLOOKUP(F7023&\".\"&G7023,syllabus!B$3:I$99,8,FALSE)&RIGHT(\"00000\"&J7023,5)","v":"64002300"},"Vaughan","Crisis","Vaughan.Crisis: All","BC",2300,null,null,"BC: new reading - BattleCards coming soon","~~~",null,"concept",null,"F",null,null,0,null,null,null,null,null,null,3,5,0,0,18,18,999,null,null,null,5.0000000000000001E-4,"x",null,"xxxx"]
["Vaughan.Crisis",null,null,"",{"$f":"VLOOKUP(F7028&\".\"&G7028,syllabus!B$3:I$99,8,FALSE)&RIGHT(\"00000\"&J7028,5)","v":"64002800"},"Vaughan","Crisis","Vaughan.Crisis: All","BC",2800,null,null,"BC: new reading - BattleCards coming soon","~~~",null,"concept",null,"F",null,"",0,"","","","","","",3,5,0,0,18,18,999,null,null,null,5.0000000000000001E-4,"x",null,"xxxx"]
["Vaughan.Crisis",null,null,"",{"$f":"VLOOKUP(F7034&\".\"&G7034,syllabus!B$3:I$99,8,FALSE)&RIGHT(\"00000\"&J7034,5)","v":"64003400"},"Vaughan","Crisis","Vaughan.Crisis: All","BC",3400,null,null,"BC:",null,null,"concept",null,"F",null,"",0,"","","","","","",3,2,0,0,18,18,999,null,null,null,5.0000000000000001E-4,"x",null,"xxxx"]
["Vaughan.Crisis",null,null,"",{"$f":"VLOOKUP(F7043&\".\"&G7043,syllabus!B$3:I$99,8,FALSE)&RIGHT(\"00000\"&J7043,5)","v":"64004300"},"Vaughan","Crisis","Vaughan.Crisis: All","exam",4300,null,null,"exam:",null,null,"concept",null,"F",null,"",0,"","","","","","",3,2,0,0,18,18,999,null,null,null,5.0000000000000001E-4,"x",null,"xxxx"]
["Vaughan.Crisis",null,null,"",{"$f":"VLOOKUP(F7050&\".\"&G7050,syllabus!B$3:I$99,8,FALSE)&RIGHT(\"00000\"&J7050,5)","v":"64005000"},"Vaughan","Crisis","Vaughan.Crisis: All","exam",5000,null,null,"exam:",null,null,"concept",null,"F",null,"",0,"","","","","","",3,2,0,0,18,18,999,null,null,null,5.0000000000000001E-4,"x",null,"xxxx"]
["Vaughan.Crisis",null,null,"",{"$f":"VLOOKUP(F7054&\".\"&G7054,syllabus!B$3:I$99,8,FALSE)&RIGHT(\"00000\"&J7054,5)","v":"64005400"},"Vaughan","Crisis","Vaughan.Crisis: All","exam",5400,null,null,"exam:",null,null,"concept",null,"F",null,"",0,"","","","","","",3,2,0,0,18,18,999,null,null,null,5.0000000000000001E-4,"x",null,"xxxx"]
["Vaughan.Crisis",null,null,"",{"$f":"VLOOKUP(F7061&\".\"&G7061,syllabus!B$3:I$99,8,FALSE)&RIGHT(\"00000\"&J7061,5)","v":"64006100"},"Vaughan","Crisis","Vaughan.Crisis: All","exam",6100,4,null,"exam: identify checks & balances in the U.S. insurance regulatory system for limiting failures","<span style=\"color: red;\"><strong>D</strong></span>uplication ~ <span style=\"color: red;\"><strong>D</strong></span>iversity of perspective ~ <span style=\"color: red;\"><strong>P</strong></span>eer review ~ <span style=\"color: red;\"><strong>P</strong></span>eer pressure ~ <span style=\"color: red;\"><strong>M</strong></span>arket discipline","D(2)P(2)M","concept",null,"A","current","exam",3,"16","1-Spring",3,"b","",1.5,3,6,2,14.696938456699067,18,18,999,null,null,null,5.0000000000000001E-4,"x",null,4]
["Vaughan.Crisis",null,null,"",{"$f":"VLOOKUP(F7070&\".\"&G7070,syllabus!B$3:I$99,8,FALSE)&RIGHT(\"00000\"&J7070,5)","v":"64007000"},"Vaughan","Crisis","Vaughan.Crisis: All","exam",7000,4,null,"exam: discuss the likelihood of federal bailouts in the current U.S. insurance regulatory structure","unlikely: ~~ - insurance is regulated at the state level ~~ - state guaranty funds exist for insolvent insurers",null,"concept",null,"A",null,"exam",1,"13","2-Fall",5,"d","",0.5,3,6,2,14.696938456699067,18,18,999,null,null,null,5.0000000000000001E-4,"x",null,4]
["Vaughan.Crisis",null,null,"",{"$f":"VLOOKUP(F7073&\".\"&G7073,syllabus!B$3:I$99,8,FALSE)&RIGHT(\"00000\"&J7073,5)","v":"64007300"},"Vaughan","Crisis","Vaughan.Crisis: All","exam",7300,null,null,"exam:",null,null,"concept",null,"F",null,"",0,"","","","","","",3,2,0,0,18,18,999,null,null,null,5.0000000000000001E-4,"x",null,"xxxx"]
["Vaughan.Crisis",null,null,"",{"$f":"VLOOKUP(F7077&\".\"&G7077,syllabus!B$3:I$99,8,FALSE)&RIGHT(\"00000\"&J7077,5)","v":"64007700"},"Vaughan","Crisis","Vaughan.Crisis: All","exam",7700,null,null,"exam:",null,null,"concept",null,"F",null,"",0,"","","","","","",3,2,0,0,18,18,999,null,null,null,5.0000000000000001E-4,"x",null,"xxxx"]
["Vaughan.Crisis",null,null,"",{"$f":"VLOOKUP(F7084&\".\"&G7084,syllabus!B$3:I$99,8,FALSE)&RIGHT(\"00000\"&J7084,5)","v":"64008400"},"Vaughan","Crisis","Vaughan.Crisis: All","exam",8400,null,null,"exam:",null,null,"concept",null,"F",null,"",0,"","","","","","",3,2,0,0,18,18,999,null,null,null,5.0000000000000001E-4,"x",null,"xxxx"]
["Vaughan.Crisis",null,null,"",{"$f":"VLOOKUP(F7091&\".\"&G7091,syllabus!B$3:I$99,8,FALSE)&RIGHT(\"00000\"&J7091,5)","v":"64009100"},"Vaughan","Crisis","Vaughan.Crisis: All","exam",9100,null,null,"exam:",null,null,"concept",null,"F",null,"",0,"","","","","","",3,2,0,0,18,18,999,null,null,null,5.0000000000000001E-4,"x",null,"xxxx"]
["Vaughan.Crisis",null,null,"",{"$f":"VLOOKUP(F7100&\".\"&G7100,syllabus!B$3:I$99,8,FALSE)&RIGHT(\"00000\"&J7100,5)","v":"64009999"},"Vaughan","Crisis","Vaughan.Crisis: All","exam",9999,null,null,"exam:",null,null,"concept",null,"F",null,"",0,"","","","","","",3,2,0,0,18,18,999,null,null,null,5.0000000000000001E-4,"x",null,"xxxx"]
["Webel.TRIA-1",null,null,"",{"$f":"VLOOKUP(F7103&\".\"&G7103,syllabus!B$3:I$99,8,FALSE)&RIGHT(\"00000\"&J7103,5)","v":"65000300"},"Webel","TRIA-1","Webel.TRIA-1: All","intro",300,1,null,"intro: what was the POST-9/11 status of terrorism coverage","insurers & reinsurers withdrew coverage (due to lack of credible data & potentially catastrophic losses)",null,"concept",null,"A",null,"",0,"","","","","","",2,2,2,5.6568542494923806,19,19,999,null,null,null,5.0000000000000001E-4,"x",null,1]
["Webel.TRIA-1",null,null,"",{"$f":"VLOOKUP(F7111&\".\"&G7111,syllabus!B$3:I$99,8,FALSE)&RIGHT(\"00000\"&J7111,5)","v":"65001100"},"Webel","TRIA-1","Webel.TRIA-1: All","goals of TRIA",1100,1,null,"goals of TRIA: how is TRIA goal #2 accomplished","REQUIRES insurers to offer commercial coverage & provide transparency ~~ - but insureds are NOT REQUIRED to purchase ~~ - government acts as reinsurer ",null,"concept",null,"A",null,"",0,"","","","","","",2,6,2,9.7979589711327115,19,19,999,null,null,null,5.0000000000000001E-4,"x",null,1]
["Webel.TRIA-1",null,null,"",{"$f":"VLOOKUP(F7120&\".\"&G7120,syllabus!B$3:I$99,8,FALSE)&RIGHT(\"00000\"&J7120,5)","v":"65002000"},"Webel","TRIA-1","Webel.TRIA-1: All","insurability",2000,2,null,"insurability: evaluate terrorism on insurability [C - Credibility]","Credibility: FAIL ~~ - market penetration too low for predictability & spreading of losses ~~ - (applies only to commercial insurance & coverage is not mandatory)",null,"concept",null,"A",null,"exam",1,"17","1-Spring",10,"b","ii",0.2,2,6,2,9.7979589711327115,19,19,999,null,null,null,5.0000000000000001E-4,"x",null,2]
["Webel.TRIA-1",null,null,"",{"$f":"VLOOKUP(F7123&\".\"&G7123,syllabus!B$3:I$99,8,FALSE)&RIGHT(\"00000\"&J7123,5)","v":"65002300"},"Webel","TRIA-1","Webel.TRIA-1: All","insurability",2300,2,null,"insurability: evaluate terrorism on insurability [C - not Catastrophic]","not Catastrophic: DEPENDS ~~ - if insurer's terrorism book is geographically diversified &rarr; PASS (not catastrophic) ~~ - if insurer's terrorism book is concentrated &rarr; FAIL (could be catastrophic)",null,"concept",null,"A",null,"exam",1,"17","1-Spring",10,"b","v",0.2,2,6,2,9.7979589711327115,19,19,999,null,null,null,5.0000000000000001E-4,"x",null,2]
["Webel.TRIA-1",null,null,"",{"$f":"VLOOKUP(F7133&\".\"&G7133,syllabus!B$3:I$99,8,FALSE)&RIGHT(\"00000\"&J7133,5)","v":"65003300"},"Webel","TRIA-1","Webel.TRIA-1: All","how TRIA works",3300,3,null,"how TRIA works: who must certify act of terrorism","JOINTLY BY: ~~ 1. Secretary of the Treasury ~~ 2. Secretary of State ~~ 3. Attorney General",null,"concept",null,"A",null,"",0,"","","","","","",2,8,2,11.313708498984761,19,19,999,null,null,null,5.0000000000000001E-4,"x",null,3]
["Webel.TRIA-1",null,null,"",{"$f":"VLOOKUP(F7134&\".\"&G7134,syllabus!B$3:I$99,8,FALSE)&RIGHT(\"00000\"&J7134,5)","v":"65003400"},"Webel","TRIA-1","Webel.TRIA-1: All","how TRIA works",3400,3,null,"how TRIA works: ways Private Market could replace TRIA (2)","- private reinsurance (versus federal reinsurance) ~ - cat bond market",null,"concept",null,"A",null,"",0,"","","","","","",2,3,2,6.9282032302755088,19,19,999,null,null,null,5.0000000000000001E-4,"x",null,3]
["Webel.TRIA-1",null,null,"",{"$f":"VLOOKUP(F7141&\".\"&G7141,syllabus!B$3:I$99,8,FALSE)&RIGHT(\"00000\"&J7141,5)","v":"65004100"},"Webel","TRIA-1","Webel.TRIA-1: All","exam",4100,4,null,"exam: briefly describe the TRIA roles for: federal govt, state govt, private insurers","federal government: ~~ - acts as reinsurer for private insurers ~ state government: ~~ - no involvement (other than normal regulation) ~ private insurers: ~~ - write & service terrorism policies",null,"concept",null,"A","current","exam",2,"18","2-Fall",8,"a",null,0.75,2,10,2,12.649110640673518,19,19,999,null,null,null,5.0000000000000001E-4,"x",null,4]
["Webel.TRIA-1",null,null,"",{"$f":"VLOOKUP(F7150&\".\"&G7150,syllabus!B$3:I$99,8,FALSE)&RIGHT(\"00000\"&J7150,5)","v":"65005000"},"Webel","TRIA-1","Webel.TRIA-1: All","BC",5000,"xxxx",null,"BC:",null,null,"concept",null,"F",null,"",0,"","","","","","",2,2,0,0,19,19,999,null,null,null,5.0000000000000001E-4,"x",null,"xxxx"]
["Webel.TRIA-1",null,null,"",{"$f":"VLOOKUP(F7152&\".\"&G7152,syllabus!B$3:I$99,8,FALSE)&RIGHT(\"00000\"&J7152,5)","v":"65005200"},"Webel","TRIA-1","Webel.TRIA-1: All","BC",5200,"xxxx",null,"BC:",null,null,"concept",null,"F",null,"",0,"","","","","","",2,2,0,0,19,19,999,null,null,null,5.0000000000000001E-4,"x",null,"xxxx"]
["Webel.TRIA-1",null,null,"",{"$f":"VLOOKUP(F7161&\".\"&G7161,syllabus!B$3:I$99,8,FALSE)&RIGHT(\"00000\"&J7161,5)","v":"65006100"},"Webel","TRIA-1","Webel.TRIA-1: All","exam",6100,null,null,"exam:",null,null,"concept",null,"F",null,"",0,"","","","","","",2,2,0,0,19,19,999,null,null,null,5.0000000000000001E-4,"x",null,"xxxx"]
["Webel.TRIA-1",null,null,"",{"$f":"VLOOKUP(F7170&\".\"&G7170,syllabus!B$3:I$99,8,FALSE)&RIGHT(\"00000\"&J7170,5)","v":"65007000"},"Webel","TRIA-1","Webel.TRIA-1: All","exam",7000,null,null,"exam:",null,null,"concept",null,"F",null,"",0,"","","","","","",2,2,0,0,19,19,999,null,null,null,5.0000000000000001E-4,"x",null,"xxxx"]
["Webel.TRIA-1",null,null,"",{"$f":"VLOOKUP(F7171&\".\"&G7171,syllabus!B$3:I$99,8,FALSE)&RIGHT(\"00000\"&J7171,5)","v":"65007100"},"Webel","TRIA-1","Webel.TRIA-1: All","exam",7100,null,null,"exam:",null,null,"concept",null,"F",null,"",0,"","","","","","",2,2,0,0,19,19,999,null,null,null,5.0000000000000001E-4,"x",null,"xxxx"]
["Webel.TRIA-1",null,null,"",{"$f":"VLOOKUP(F7182&\".\"&G7182,syllabus!B$3:I$99,8,FALSE)&RIGHT(\"00000\"&J7182,5)","v":"65008200"},"Webel","TRIA-1","Webel.TRIA-1: All","exam",8200,null,null,"exam:",null,null,"concept",null,"F",null,"",0,"","","","","","",2,2,0,0,19,19,999,null,null,null,5.0000000000000001E-4,"x",null,"xxxx"]
["Webel.TRIA-1",null,null,"",{"$f":"VLOOKUP(F7184&\".\"&G7184,syllabus!B$3:I$99,8,FALSE)&RIGHT(\"00000\"&J7184,5)","v":"65008400"},"Webel","TRIA-1","Webel.TRIA-1: All","exam",8400,null,null,"exam:",null,null,"concept",null,"F",null,"",0,"","","","","","",2,2,0,0,19,19,999,null,null,null,5.0000000000000001E-4,"x",null,"xxxx"]
["Webel.TRIA-1",null,null,"",{"$f":"VLOOKUP(F7191&\".\"&G7191,syllabus!B$3:I$99,8,FALSE)&RIGHT(\"00000\"&J7191,5)","v":"65009100"},"Webel","TRIA-1","Webel.TRIA-1: All","exam",9100,null,null,"exam:",null,null,"concept",null,"F",null,"",0,"","","","","","",2,2,0,0,19,19,999,null,null,null,5.0000000000000001E-4,"x",null,"xxxx"]
["Webel.TRIA-1",null,null,"",{"$f":"VLOOKUP(F7200&\".\"&G7200,syllabus!B$3:I$99,8,FALSE)&RIGHT(\"00000\"&J7200,5)","v":"65009999"},"Webel","TRIA-1","Webel.TRIA-1: All","exam",9999,null,null,"exam:",null,null,"concept",null,"F",null,"",0,"","","","","","",2,2,0,0,19,19,999,null,null,null,5.0000000000000001E-4,"x",null,"xxxx"]
["Webel.TRIA-2",null,null,"",{"$f":"VLOOKUP(F7208&\".\"&G7208,syllabus!B$3:I$99,8,FALSE)&RIGHT(\"00000\"&J7208,5)","v":"66000800"},"Webel","TRIA-2","Webel.TRIA-2: All","BC",800,null,null,"BC:",null,null,"concept",null,"F",null,"",0,"","","","","","",2,2,0,0,20,20,999,null,null,null,5.0000000000000001E-4,"x",null,"xxxx"]
["Webel.TRIA-2",null,null,"",{"$f":"VLOOKUP(F7211&\".\"&G7211,syllabus!B$3:I$99,8,FALSE)&RIGHT(\"00000\"&J7211,5)","v":"66001100"},"Webel","TRIA-2","Webel.TRIA-2: All","BC",1100,null,null,"BC:",null,null,"concept",null,"F",null,"",0,"","","","","","",2,2,0,0,20,20,999,null,null,null,5.0000000000000001E-4,"x",null,"xxxx"]
["Webel.TRIA-2",null,null,"",{"$f":"VLOOKUP(F7220&\".\"&G7220,syllabus!B$3:I$99,8,FALSE)&RIGHT(\"00000\"&J7220,5)","v":"66002000"},"Webel","TRIA-2","Webel.TRIA-2: All","BC",2000,null,null,"BC:",null,null,"concept",null,"F",null,"",0,"","","","","","",2,2,0,0,20,20,999,null,null,null,5.0000000000000001E-4,"x",null,"xxxx"]
["Webel.TRIA-2",null,null,"",{"$f":"VLOOKUP(F7221&\".\"&G7221,syllabus!B$3:I$99,8,FALSE)&RIGHT(\"00000\"&J7221,5)","v":"66002100"},"Webel","TRIA-2","Webel.TRIA-2: All","BC",2100,null,null,"BC:",null,null,"concept",null,"F",null,"",0,"","","","","","",2,2,0,0,20,20,999,null,null,null,5.0000000000000001E-4,"x",null,"xxxx"]
["Webel.TRIA-2",null,null,"",{"$f":"VLOOKUP(F7231&\".\"&G7231,syllabus!B$3:I$99,8,FALSE)&RIGHT(\"00000\"&J7231,5)","v":"66003100"},"Webel","TRIA-2","Webel.TRIA-2: All","BC",3100,null,null,"BC:",null,null,"concept",null,"F",null,"",0,"","","","","","",2,2,0,0,20,20,999,null,null,null,5.0000000000000001E-4,"x",null,"xxxx"]
["Webel.TRIA-2",null,null,"",{"$f":"VLOOKUP(F7234&\".\"&G7234,syllabus!B$3:I$99,8,FALSE)&RIGHT(\"00000\"&J7234,5)","v":"66003400"},"Webel","TRIA-2","Webel.TRIA-2: All","BC",3400,null,null,"BC:",null,null,"concept",null,"F",null,"",0,"","","","","","",2,2,0,0,20,20,999,null,null,null,5.0000000000000001E-4,"x",null,"xxxx"]
["Webel.TRIA-2",null,null,"",{"$f":"VLOOKUP(F7241&\".\"&G7241,syllabus!B$3:I$99,8,FALSE)&RIGHT(\"00000\"&J7241,5)","v":"66004100"},"Webel","TRIA-2","Webel.TRIA-2: All","exam",4100,null,null,"exam:",null,null,"concept",null,"F",null,"",0,"","","","","","",2,2,0,0,20,20,999,null,null,null,5.0000000000000001E-4,"x",null,"xxxx"]
["Webel.TRIA-2",null,null,"",{"$f":"VLOOKUP(F7250&\".\"&G7250,syllabus!B$3:I$99,8,FALSE)&RIGHT(\"00000\"&J7250,5)","v":"66005000"},"Webel","TRIA-2","Webel.TRIA-2: All","exam",5000,null,null,"exam:",null,null,"concept",null,"F",null,"",0,"","","","","","",2,2,0,0,20,20,999,null,null,null,5.0000000000000001E-4,"x",null,"xxxx"]
["Webel.TRIA-2",null,null,"",{"$f":"VLOOKUP(F7253&\".\"&G7253,syllabus!B$3:I$99,8,FALSE)&RIGHT(\"00000\"&J7253,5)","v":"66005300"},"Webel","TRIA-2","Webel.TRIA-2: All","exam",5300,null,null,"exam:",null,null,"concept",null,"F",null,"",0,"","","","","","",2,2,0,0,20,20,999,null,null,null,5.0000000000000001E-4,"x",null,"xxxx"]
["Webel.TRIA-2",null,null,"",{"$f":"VLOOKUP(F7254&\".\"&G7254,syllabus!B$3:I$99,8,FALSE)&RIGHT(\"00000\"&J7254,5)","v":"66005400"},"Webel","TRIA-2","Webel.TRIA-2: All","exam",5400,null,null,"exam:",null,null,"concept",null,"F",null,"",0,"","","","","","",2,2,0,0,20,20,999,null,null,null,5.0000000000000001E-4,"x",null,"xxxx"]
["Webel.TRIA-2",null,null,"",{"$f":"VLOOKUP(F7255&\".\"&G7255,syllabus!B$3:I$99,8,FALSE)&RIGHT(\"00000\"&J7255,5)","v":"66005500"},"Webel","TRIA-2","Webel.TRIA-2: All","exam",5500,null,null,"exam:",null,null,"concept",null,"F",null,"",0,"","","","","","",2,2,0,0,20,20,999,null,null,null,5.0000000000000001E-4,"x",null,"xxxx"]
["Webel.TRIA-2",null,null,"",{"$f":"VLOOKUP(F7256&\".\"&G7256,syllabus!B$3:I$99,8,FALSE)&RIGHT(\"00000\"&J7256,5)","v":"66005600"},"Webel","TRIA-2","Webel.TRIA-2: All","exam",5600,null,null,"exam:",null,null,"concept",null,"F",null,"",0,"","","","","","",2,2,0,0,20,20,999,null,null,null,5.0000000000000001E-4,"x",null,"xxxx"]
["Webel.TRIA-2",null,null,"",{"$f":"VLOOKUP(F7257&\".\"&G7257,syllabus!B$3:I$99,8,FALSE)&RIGHT(\"00000\"&J7257,5)","v":"66005700"},"Webel","TRIA-2","Webel.TRIA-2: All","exam",5700,null,null,"exam:",null,null,"concept",null,"F",null,"",0,"","","","","","",2,2,0,0,20,20,999,null,null,null,5.0000000000000001E-4,"x",null,"xxxx"]
["Webel.TRIA-2",null,null,"",{"$f":"VLOOKUP(F7258&\".\"&G7258,syllabus!B$3:I$99,8,FALSE)&RIGHT(\"00000\"&J7258,5)","v":"66005800"},"Webel","TRIA-2","Webel.TRIA-2: All","exam",5800,null,null,"exam:",null,null,"concept",null,"F",null,"",0,"","","","","","",2,2,0,0,20,20,999,null,null,null,5.0000000000000001E-4,"x",null,"xxxx"]
["Webel.TRIA-2",null,null,"",{"$f":"VLOOKUP(F7259&\".\"&G7259,syllabus!B$3:I$99,8,FALSE)&RIGHT(\"00000\"&J7259,5)","v":"66005900"},"Webel","TRIA-2","Webel.TRIA-2: All","exam",5900,null,null,"exam:",null,null,"concept",null,"F",null,"",0,"","","","","","",2,2,0,0,20,20,999,null,null,null,5.0000000000000001E-4,"x",null,"xxxx"]
["Webel.TRIA-2",null,null,"",{"$f":"VLOOKUP(F7260&\".\"&G7260,syllabus!B$3:I$99,8,FALSE)&RIGHT(\"00000\"&J7260,5)","v":"66006000"},"Webel","TRIA-2","Webel.TRIA-2: All","exam",6000,"x",null,"exam: start Fall.2017 here (at numID = 6000)",null,null,"concept",null,"F",null,"",0,"","","","","","",2,2,0,0,20,20,999,null,null,null,5.0000000000000001E-4,"x",null,"xxxx"]
["Webel.TRIA-2",null,null,"",{"$f":"VLOOKUP(F7261&\".\"&G7261,syllabus!B$3:I$99,8,FALSE)&RIGHT(\"00000\"&J7261,5)","v":"66006100"},"Webel","TRIA-2","Webel.TRIA-2: All","exam",6100,null,null,"exam:",null,null,"concept",null,"F",null,"",0,"","","","","","",2,2,0,0,20,20,999,null,null,null,5.0000000000000001E-4,"x",null,"xxxx"]
["Webel.TRIA-2",null,null,"",{"$f":"VLOOKUP(F7262&\".\"&G7262,syllabus!B$3:I$99,8,FALSE)&RIGHT(\"00000\"&J7262,5)","v":"66006200"},"Webel","TRIA-2","Webel.TRIA-2: All","exam",6200,null,null,"exam:",null,null,"concept",null,"F",null,"",0,"","","","","","",2,2,0,0,20,20,999,null,null,null,5.0000000000000001E-4,"x",null,"xxxx"]
["Webel.TRIA-2",null,null,"",{"$f":"VLOOKUP(F7263&\".\"&G7263,syllabus!B$3:I$99,8,FALSE)&RIGHT(\"00000\"&J7263,5)","v":"66006300"},"Webel","TRIA-2","Webel.TRIA-2: All","exam",6300,null,null,"exam:",null,null,"concept",null,"F",null,"",0,"","","","","","",2,2,0,0,20,20,999,null,null,null,5.0000000000000001E-4,"x",null,"xxxx"]
["Webel.TRIA-2",null,null,"",{"$f":"VLOOKUP(F7264&\".\"&G7264,syllabus!B$3:I$99,8,FALSE)&RIGHT(\"00000\"&J7264,5)","v":"66006400"},"Webel","TRIA-2","Webel.TRIA-2: All","exam",6400,null,null,"exam:",null,null,"concept",null,"F",null,"",0,"","","","","","",2,2,0,0,20,20,999,null,null,null,5.0000000000000001E-4,"x",null,"xxxx"]
["Webel.TRIA-2",null,null,"",{"$f":"VLOOKUP(F7265&\".\"&G7265,syllabus!B$3:I$99,8,FALSE)&RIGHT(\"00000\"&J7265,5)","v":"66006500"},"Webel","TRIA-2","Webel.TRIA-2: All","exam",6500,null,null,"exam:",null,null,"concept",null,"F",null,"",0,"","","","","","",2,2,0,0,20,20,999,null,null,null,5.0000000000000001E-4,"x",null,"xxxx"]
["Webel.TRIA-2",null,null,"",{"$f":"VLOOKUP(F7266&\".\"&G7266,syllabus!B$3:I$99,8,FALSE)&RIGHT(\"00000\"&J7266,5)","v":"66006600"},"Webel","TRIA-2","Webel.TRIA-2: All","exam",6600,null,null,"exam:",null,null,"concept",null,"F",null,"",0,"","","","","","",2,2,0,0,20,20,999,null,null,null,5.0000000000000001E-4,"x",null,"xxxx"]
["Webel.TRIA-2",null,null,"",{"$f":"VLOOKUP(F7267&\".\"&G7267,syllabus!B$3:I$99,8,FALSE)&RIGHT(\"00000\"&J7267,5)","v":"66006700"},"Webel","TRIA-2","Webel.TRIA-2: All","exam",6700,null,null,"exam:",null,null,"concept",null,"F",null,"",0,"","","","","","",2,2,0,0,20,20,999,null,null,null,5.0000000000000001E-4,"x",null,"xxxx"]
["Webel.TRIA-2",null,null,"",{"$f":"VLOOKUP(F7268&\".\"&G7268,syllabus!B$3:I$99,8,FALSE)&RIGHT(\"00000\"&J7268,5)","v":"66006800"},"Webel","TRIA-2","Webel.TRIA-2: All","exam",6800,null,null,"exam:",null,null,"concept",null,"F",null,"",0,"","","","","","",2,2,0,0,20,20,999,null,null,null,5.0000000000000001E-4,"x",null,"xxxx"]
["Webel.TRIA-2",null,null,"",{"$f":"VLOOKUP(F7269&\".\"&G7269,syllabus!B$3:I$99,8,FALSE)&RIGHT(\"00000\"&J7269,5)","v":"66006900"},"Webel","TRIA-2","Webel.TRIA-2: All","exam",6900,null,null,"exam:",null,null,"concept",null,"F",null,"",0,"","","","","","",2,2,0,0,20,20,999,null,null,null,5.0000000000000001E-4,"x",null,"xxxx"]
["Webel.TRIA-2",null,null,"",{"$f":"VLOOKUP(F7270&\".\"&G7270,syllabus!B$3:I$99,8,FALSE)&RIGHT(\"00000\"&J7270,5)","v":"66007000"},"Webel","TRIA-2","Webel.TRIA-2: All","exam",7000,null,null,"exam:",null,null,"concept",null,"F",null,"",0,"","","","","","",2,2,0,0,20,20,999,null,null,null,5.0000000000000001E-4,"x",null,"xxxx"]
["Webel.TRIA-2",null,null,"",{"$f":"VLOOKUP(F7271&\".\"&G7271,syllabus!B$3:I$99,8,FALSE)&RIGHT(\"00000\"&J7271,5)","v":"66007100"},"Webel","TRIA-2","Webel.TRIA-2: All","exam",7100,null,null,"exam:",null,null,"concept",null,"F",null,"",0,"","","","","","",2,2,0,0,20,20,999,null,null,null,5.0000000000000001E-4,"x",null,"xxxx"]
["Webel.TRIA-2",null,null,"",{"$f":"VLOOKUP(F7272&\".\"&G7272,syllabus!B$3:I$99,8,FALSE)&RIGHT(\"00000\"&J7272,5)","v":"66007200"},"Webel","TRIA-2","Webel.TRIA-2: All","exam",7200,null,null,"exam:",null,null,"concept",null,"F",null,"",0,"","","","","","",2,2,0,0,20,20,999,null,null,null,5.0000000000000001E-4,"x",null,"xxxx"]
["Webel.TRIA-2",null,null,"",{"$f":"VLOOKUP(F7273&\".\"&G7273,syllabus!B$3:I$99,8,FALSE)&RIGHT(\"00000\"&J7273,5)","v":"66007300"},"Webel","TRIA-2","Webel.TRIA-2: All","exam",7300,null,null,"exam:",null,null,"concept",null,"F",null,"",0,"","","","","","",2,2,0,0,20,20,999,null,null,null,5.0000000000000001E-4,"x",null,"xxxx"]
["Webel.TRIA-2",null,null,"",{"$f":"VLOOKUP(F7274&\".\"&G7274,syllabus!B$3:I$99,8,FALSE)&RIGHT(\"00000\"&J7274,5)","v":"66007400"},"Webel","TRIA-2","Webel.TRIA-2: All","exam",7400,null,null,"exam:",null,null,"concept",null,"F",null,"",0,"","","","","","",2,2,0,0,20,20,999,null,null,null,5.0000000000000001E-4,"x",null,"xxxx"]
["Webel.TRIA-2",null,null,"",{"$f":"VLOOKUP(F7275&\".\"&G7275,syllabus!B$3:I$99,8,FALSE)&RIGHT(\"00000\"&J7275,5)","v":"66007500"},"Webel","TRIA-2","Webel.TRIA-2: All","exam",7500,null,null,"exam:",null,null,"concept",null,"F",null,"",0,"","","","","","",2,2,0,0,20,20,999,null,null,null,5.0000000000000001E-4,"x",null,"xxxx"]
["Webel.TRIA-2",null,null,"",{"$f":"VLOOKUP(F7276&\".\"&G7276,syllabus!B$3:I$99,8,FALSE)&RIGHT(\"00000\"&J7276,5)","v":"66007600"},"Webel","TRIA-2","Webel.TRIA-2: All","exam",7600,null,null,"exam:",null,null,"concept",null,"F",null,"",0,"","","","","","",2,2,0,0,20,20,999,null,null,null,5.0000000000000001E-4,"x",null,"xxxx"]
["Webel.TRIA-2",null,null,"",{"$f":"VLOOKUP(F7277&\".\"&G7277,syllabus!B$3:I$99,8,FALSE)&RIGHT(\"00000\"&J7277,5)","v":"66007700"},"Webel","TRIA-2","Webel.TRIA-2: All","exam",7700,null,null,"exam:",null,null,"concept",null,"F",null,"",0,"","","","","","",2,2,0,0,20,20,999,null,null,null,5.0000000000000001E-4,"x",null,"xxxx"]
["Webel.TRIA-2",null,null,"",{"$f":"VLOOKUP(F7278&\".\"&G7278,syllabus!B$3:I$99,8,FALSE)&RIGHT(\"00000\"&J7278,5)","v":"66007800"},"Webel","TRIA-2","Webel.TRIA-2: All","exam",7800,null,null,"exam:",null,null,"concept",null,"F",null,"",0,"","","","","","",2,2,0,0,20,20,999,null,null,null,5.0000000000000001E-4,"x",null,"xxxx"]
["Webel.TRIA-2",null,null,"",{"$f":"VLOOKUP(F7279&\".\"&G7279,syllabus!B$3:I$99,8,FALSE)&RIGHT(\"00000\"&J7279,5)","v":"66007900"},"Webel","TRIA-2","Webel.TRIA-2: All","exam",7900,null,null,"exam:",null,null,"concept",null,"F",null,"",0,"","","","","","",2,2,0,0,20,20,999,null,null,null,5.0000000000000001E-4,"x",null,"xxxx"]
["Webel.TRIA-2",null,null,"",{"$f":"VLOOKUP(F7280&\".\"&G7280,syllabus!B$3:I$99,8,FALSE)&RIGHT(\"00000\"&J7280,5)","v":"66008000"},"Webel","TRIA-2","Webel.TRIA-2: All","exam",8000,null,null,"exam:",null,null,"concept",null,"F",null,"",0,"","","","","","",2,2,0,0,20,20,999,null,null,null,5.0000000000000001E-4,"x",null,"xxxx"]
["Webel.TRIA-2",null,null,"",{"$f":"VLOOKUP(F7281&\".\"&G7281,syllabus!B$3:I$99,8,FALSE)&RIGHT(\"00000\"&J7281,5)","v":"66008100"},"Webel","TRIA-2","Webel.TRIA-2: All","exam",8100,null,null,"exam:",null,null,"concept",null,"F",null,"",0,"","","","","","",2,2,0,0,20,20,999,null,null,null,5.0000000000000001E-4,"x",null,"xxxx"]
["Webel.TRIA-2",null,null,"",{"$f":"VLOOKUP(F7282&\".\"&G7282,syllabus!B$3:I$99,8,FALSE)&RIGHT(\"00000\"&J7282,5)","v":"66008200"},"Webel","TRIA-2","Webel.TRIA-2: All","exam",8200,null,null,"exam:",null,null,"concept",null,"F",null,"",0,"","","","","","",2,2,0,0,20,20,999,null,null,null,5.0000000000000001E-4,"x",null,"xxxx"]
["Webel.TRIA-2",null,null,"",{"$f":"VLOOKUP(F7283&\".\"&G7283,syllabus!B$3:I$99,8,FALSE)&RIGHT(\"00000\"&J7283,5)","v":"66008300"},"Webel","TRIA-2","Webel.TRIA-2: All","exam",8300,null,null,"exam:",null,null,"concept",null,"F",null,"",0,"","","","","","",2,2,0,0,20,20,999,null,null,null,5.0000000000000001E-4,"x",null,"xxxx"]
["Webel.TRIA-2",null,null,"",{"$f":"VLOOKUP(F7284&\".\"&G7284,syllabus!B$3:I$99,8,FALSE)&RIGHT(\"00000\"&J7284,5)","v":"66008400"},"Webel","TRIA-2","Webel.TRIA-2: All","exam",8400,null,null,"exam:",null,null,"concept",null,"F",null,"",0,"","","","","","",2,2,0,0,20,20,999,null,null,null,5.0000000000000001E-4,"x",null,"xxxx"]
["Webel.TRIA-2",null,null,"",{"$f":"VLOOKUP(F7285&\".\"&G7285,syllabus!B$3:I$99,8,FALSE)&RIGHT(\"00000\"&J7285,5)","v":"66008500"},"Webel","TRIA-2","Webel.TRIA-2: All","exam",8500,null,null,"exam:",null,null,"concept",null,"F",null,"",0,"","","","","","",2,2,0,0,20,20,999,null,null,null,5.0000000000000001E-4,"x",null,"xxxx"]
["Webel.TRIA-2",null,null,"",{"$f":"VLOOKUP(F7286&\".\"&G7286,syllabus!B$3:I$99,8,FALSE)&RIGHT(\"00000\"&J7286,5)","v":"66008600"},"Webel","TRIA-2","Webel.TRIA-2: All","exam",8600,null,null,"exam:",null,null,"concept",null,"F",null,"",0,"","","","","","",2,2,0,0,20,20,999,null,null,null,5.0000000000000001E-4,"x",null,"xxxx"]
["Webel.TRIA-2",null,null,"",{"$f":"VLOOKUP(F7287&\".\"&G7287,syllabus!B$3:I$99,8,FALSE)&RIGHT(\"00000\"&J7287,5)","v":"66008700"},"Webel","TRIA-2","Webel.TRIA-2: All","exam",8700,null,null,"exam:",null,null,"concept",null,"F",null,"",0,"","","","","","",2,2,0,0,20,20,999,null,null,null,5.0000000000000001E-4,"x",null,"xxxx"]
["Webel.TRIA-2",null,null,"",{"$f":"VLOOKUP(F7288&\".\"&G7288,syllabus!B$3:I$99,8,FALSE)&RIGHT(\"00000\"&J7288,5)","v":"66008800"},"Webel","TRIA-2","Webel.TRIA-2: All","exam",8800,null,null,"exam:",null,null,"concept",null,"F",null,"",0,"","","","","","",2,2,0,0,20,20,999,null,null,null,5.0000000000000001E-4,"x",null,"xxxx"]
["Webel.TRIA-2",null,null,"",{"$f":"VLOOKUP(F7289&\".\"&G7289,syllabus!B$3:I$99,8,FALSE)&RIGHT(\"00000\"&J7289,5)","v":"66008900"},"Webel","TRIA-2","Webel.TRIA-2: All","exam",8900,null,null,"exam:",null,null,"concept",null,"F",null,"",0,"","","","","","",2,2,0,0,20,20,999,null,null,null,5.0000000000000001E-4,"x",null,"xxxx"]
["Webel.TRIA-2",null,null,"",{"$f":"VLOOKUP(F7290&\".\"&G7290,syllabus!B$3:I$99,8,FALSE)&RIGHT(\"00000\"&J7290,5)","v":"66009000"},"Webel","TRIA-2","Webel.TRIA-2: All","exam",9000,null,null,"exam:",null,null,"concept",null,"F",null,"",0,"","","","","","",2,2,0,0,20,20,999,null,null,null,5.0000000000000001E-4,"x",null,"xxxx"]
["Webel.TRIA-2",null,null,"",{"$f":"VLOOKUP(F7291&\".\"&G7291,syllabus!B$3:I$99,8,FALSE)&RIGHT(\"00000\"&J7291,5)","v":"66009100"},"Webel","TRIA-2","Webel.TRIA-2: All","exam",9100,null,null,"exam:",null,null,"concept",null,"F",null,"",0,"","","","","","",2,2,0,0,20,20,999,null,null,null,5.0000000000000001E-4,"x",null,"xxxx"]
["Webel.TRIA-2",null,null,"",{"$f":"VLOOKUP(F7292&\".\"&G7292,syllabus!B$3:I$99,8,FALSE)&RIGHT(\"00000\"&J7292,5)","v":"66009200"},"Webel","TRIA-2","Webel.TRIA-2: All","exam",9200,null,null,"exam:",null,null,"concept",null,"F",null,"",0,"","","","","","",2,2,0,0,20,20,999,null,null,null,5.0000000000000001E-4,"x",null,"xxxx"]
["Webel.TRIA-2",null,null,"",{"$f":"VLOOKUP(F7293&\".\"&G7293,syllabus!B$3:I$99,8,FALSE)&RIGHT(\"00000\"&J7293,5)","v":"66009300"},"Webel","TRIA-2","Webel.TRIA-2: All","exam",9300,null,null,"exam:",null,null,"concept",null,"F",null,"",0,"","","","","","",2,2,0,0,20,20,999,null,null,null,5.0000000000000001E-4,"x",null,"xxxx"]
["Webel.TRIA-2",null,null,"",{"$f":"VLOOKUP(F7294&\".\"&G7294,syllabus!B$3:I$99,8,FALSE)&RIGHT(\"00000\"&J7294,5)","v":"66009400"},"Webel","TRIA-2","Webel.TRIA-2: All","exam",9400,null,null,"exam:",null,null,"concept",null,"F",null,"",0,"","","","","","",2,2,0,0,20,20,999,null,null,null,5.0000000000000001E-4,"x",null,"xxxx"]
["Webel.TRIA-2",null,null,"",{"$f":"VLOOKUP(F7295&\".\"&G7295,syllabus!B$3:I$99,8,FALSE)&RIGHT(\"00000\"&J7295,5)","v":"66009500"},"Webel","TRIA-2","Webel.TRIA-2: All","exam",9500,null,null,"exam:",null,null,"concept",null,"F",null,"",0,"","","","","","",2,2,0,0,20,20,999,null,null,null,5.0000000000000001E-4,"x",null,"xxxx"]
["Webel.TRIA-2",null,null,"",{"$f":"VLOOKUP(F7296&\".\"&G7296,syllabus!B$3:I$99,8,FALSE)&RIGHT(\"00000\"&J7296,5)","v":"66009600"},"Webel","TRIA-2","Webel.TRIA-2: All","exam",9600,null,null,"exam:",null,null,"concept",null,"F",null,"",0,"","","","","","",2,2,0,0,20,20,999,null,null,null,5.0000000000000001E-4,"x",null,"xxxx"]
["Webel.TRIA-2",null,null,"",{"$f":"VLOOKUP(F7297&\".\"&G7297,syllabus!B$3:I$99,8,FALSE)&RIGHT(\"00000\"&J7297,5)","v":"66009700"},"Webel","TRIA-2","Webel.TRIA-2: All","exam",9700,null,null,"exam:",null,null,"concept",null,"F",null,"",0,"","","","","","",2,2,0,0,20,20,999,null,null,null,5.0000000000000001E-4,"x",null,"xxxx"]
["Webel.TRIA-2",null,null,"",{"$f":"VLOOKUP(F7298&\".\"&G7298,syllabus!B$3:I$99,8,FALSE)&RIGHT(\"00000\"&J7298,5)","v":"66009800"},"Webel","TRIA-2","Webel.TRIA-2: All","exam",9800,null,null,"exam:",null,null,"concept",null,"F",null,"",0,"","","","","","",2,2,0,0,20,20,999,null,null,null,5.0000000000000001E-4,"x",null,"xxxx"]
["Webel.TRIA-2",null,null,"",{"$f":"VLOOKUP(F7299&\".\"&G7299,syllabus!B$3:I$99,8,FALSE)&RIGHT(\"00000\"&J7299,5)","v":"66009900"},"Webel","TRIA-2","Webel.TRIA-2: All","exam",9900,null,null,"exam:",null,null,"concept",null,"F",null,"",0,"","","","","","",2,2,0,0,20,20,999,null,null,null,5.0000000000000001E-4,"x",null,"xxxx"]
["Webel.TRIA-2",null,null,"",{"$f":"VLOOKUP(F7300&\".\"&G7300,syllabus!B$3:I$99,8,FALSE)&RIGHT(\"00000\"&J7300,5)","v":"66009999"},"Webel","TRIA-2","Webel.TRIA-2: All","exam",9999,null,null,"exam:",null,null,"concept",null,"F",null,"",0,"","","","","","",2,2,0,0,20,20,999,null,null,null,5.0000000000000001E-4,"x",null,"xxxx"]
["outdated.","x",null,"",{"$f":"VLOOKUP(F7301&\".\"&G7301,syllabus!B$3:I$99,8,FALSE)&RIGHT(\"00000\"&J7301,5)","v":"67000100"},"outdated","","outdated.: All","--",100,null,null,{"$f":"A7301&\": All\"","v":"outdated.: All"},null,null,"--",null,"info",null,"",0,"","","","","","","","",0,0,65,65,999,null,null,null,5.0000000000000001E-4,"x",null,"xxxx"]
["outdated.",null,null,"",{"$f":"VLOOKUP(F7302&\".\"&G7302,syllabus!B$3:I$99,8,FALSE)&RIGHT(\"00000\"&J7302,5)","v":"67000200"},"outdated","","outdated.: All","BC",200,1,null,"BC: no questions here (this is a placeholder BattleCard)",null,null,"concept",null,"outdated",null,"",0,"","","","","","",0,2,0,0,65,65,999,null,null,null,5.0000000000000001E-4,"x",null,1]
["outdated.",null,null,"",{"$f":"VLOOKUP(F7303&\".\"&G7303,syllabus!B$3:I$99,8,FALSE)&RIGHT(\"00000\"&J7303,5)","v":"67000200"},"outdated","","outdated.: All","BC",200,null,null,"BC:",null,null,"concept",null,"F",null,"",0,"","","","","","",0,2,0,0,65,65,999,null,null,null,5.0000000000000001E-4,"x",null,"xxxx"]
["outdated.",null,null,"",{"$f":"VLOOKUP(F7304&\".\"&G7304,syllabus!B$3:I$99,8,FALSE)&RIGHT(\"00000\"&J7304,5)","v":"67000300"},"outdated","","outdated.: All","BC",300,null,null,"BC:",null,null,"concept",null,"F",null,"",0,"","","","","","",0,2,0,0,65,65,999,null,null,null,5.0000000000000001E-4,"x",null,"xxxx"]
["outdated.",null,null,"",{"$f":"VLOOKUP(F7305&\".\"&G7305,syllabus!B$3:I$99,8,FALSE)&RIGHT(\"00000\"&J7305,5)","v":"67000400"},"outdated","","outdated.: All","BC",400,null,null,"BC:",null,null,"concept",null,"F",null,"",0,"","","","","","",0,2,0,0,65,65,999,null,null,null,5.0000000000000001E-4,"x",null,"xxxx"]
["outdated.",null,null,"",{"$f":"VLOOKUP(F7306&\".\"&G7306,syllabus!B$3:I$99,8,FALSE)&RIGHT(\"00000\"&J7306,5)","v":"67000500"},"outdated","","outdated.: All","BC",500,null,null,"BC:",null,null,"concept",null,"F",null,"",0,"","","","","","",0,2,0,0,65,65,999,null,null,null,5.0000000000000001E-4,"x",null,"xxxx"]
["outdated.",null,null,"",{"$f":"VLOOKUP(F7307&\".\"&G7307,syllabus!B$3:I$99,8,FALSE)&RIGHT(\"00000\"&J7307,5)","v":"67000600"},"outdated","","outdated.: All","BC",600,null,null,"BC:",null,null,"concept",null,"F",null,"",0,"","","","","","",0,2,0,0,65,65,999,null,null,null,5.0000000000000001E-4,"x",null,"xxxx"]
["outdated.",null,null,"",{"$f":"VLOOKUP(F7308&\".\"&G7308,syllabus!B$3:I$99,8,FALSE)&RIGHT(\"00000\"&J7308,5)","v":"67000700"},"outdated","","outdated.: All","BC",700,null,null,"BC:",null,null,"concept",null,"F",null,"",0,"","","","","","",0,2,0,0,65,65,999,null,null,null,5.0000000000000001E-4,"x",null,"xxxx"]
["outdated.",null,null,"",{"$f":"VLOOKUP(F7309&\".\"&G7309,syllabus!B$3:I$99,8,FALSE)&RIGHT(\"00000\"&J7309,5)","v":"67000800"},"outdated","","outdated.: All","BC",800,null,null,"BC:",null,null,"concept",null,"F",null,"",0,"","","","","","",0,2,0,0,65,65,999,null,null,null,5.0000000000000001E-4,"x",null,"xxxx"]
["outdated.",null,null,"",{"$f":"VLOOKUP(F7310&\".\"&G7310,syllabus!B$3:I$99,8,FALSE)&RIGHT(\"00000\"&J7310,5)","v":"67000900"},"outdated","","outdated.: All","BC",900,null,null,"BC:",null,null,"concept",null,"F",null,"",0,"","","","","","",0,2,0,0,65,65,999,null,null,null,5.0000000000000001E-4,"x",null,"xxxx"]
["outdated.",null,null,"",{"$f":"VLOOKUP(F7311&\".\"&G7311,syllabus!B$3:I$99,8,FALSE)&RIGHT(\"00000\"&J7311,5)","v":"67001000"},"outdated","","outdated.: All","BC",1000,null,null,"BC:",null,null,"concept",null,"F",null,"",0,"","","","","","",0,2,0,0,65,65,999,null,null,null,5.0000000000000001E-4,"x",null,"xxxx"]
["outdated.",null,null,"",{"$f":"VLOOKUP(F7312&\".\"&G7312,syllabus!B$3:I$99,8,FALSE)&RIGHT(\"00000\"&J7312,5)","v":"67001100"},"outdated","","outdated.: All","BC",1100,null,null,"BC:",null,null,"concept",null,"F",null,"",0,"","","","","","",0,2,0,0,65,65,999,null,null,null,5.0000000000000001E-4,"x",null,"xxxx"]
["outdated.",null,null,"",{"$f":"VLOOKUP(F7313&\".\"&G7313,syllabus!B$3:I$99,8,FALSE)&RIGHT(\"00000\"&J7313,5)","v":"67001200"},"outdated","","outdated.: All","BC",1200,null,null,"BC:",null,null,"concept",null,"F",null,"",0,"","","","","","",0,2,0,0,65,65,999,null,null,null,5.0000000000000001E-4,"x",null,"xxxx"]
["outdated.",null,null,"",{"$f":"VLOOKUP(F7314&\".\"&G7314,syllabus!B$3:I$99,8,FALSE)&RIGHT(\"00000\"&J7314,5)","v":"67001300"},"outdated","","outdated.: All","BC",1300,null,null,"BC:",null,null,"concept",null,"F",null,"",0,"","","","","","",0,2,0,0,65,65,999,null,null,null,5.0000000000000001E-4,"x",null,"xxxx"]
["outdated.",null,null,"",{"$f":"VLOOKUP(F7315&\".\"&G7315,syllabus!B$3:I$99,8,FALSE)&RIGHT(\"00000\"&J7315,5)","v":"67001400"},"outdated","","outdated.: All","BC",1400,null,null,"BC:",null,null,"concept",null,"F",null,"",0,"","","","","","",0,2,0,0,65,65,999,null,null,null,5.0000000000000001E-4,"x",null,"xxxx"]
["outdated.",null,null,"",{"$f":"VLOOKUP(F7316&\".\"&G7316,syllabus!B$3:I$99,8,FALSE)&RIGHT(\"00000\"&J7316,5)","v":"67001500"},"outdated","","outdated.: All","BC",1500,null,null,"BC:",null,null,"concept",null,"F",null,"",0,"","","","","","",0,2,0,0,65,65,999,null,null,null,5.0000000000000001E-4,"x",null,"xxxx"]
["outdated.",null,null,"",{"$f":"VLOOKUP(F7317&\".\"&G7317,syllabus!B$3:I$99,8,FALSE)&RIGHT(\"00000\"&J7317,5)","v":"67001600"},"outdated","","outdated.: All","BC",1600,null,null,"BC:",null,null,"concept",null,"F",null,"",0,"","","","","","",0,2,0,0,65,65,999,null,null,null,5.0000000000000001E-4,"x",null,"xxxx"]
["outdated.",null,null,"",{"$f":"VLOOKUP(F7318&\".\"&G7318,syllabus!B$3:I$99,8,FALSE)&RIGHT(\"00000\"&J7318,5)","v":"67001700"},"outdated","","outdated.: All","BC",1700,null,null,"BC:",null,null,"concept",null,"F",null,"",0,"","","","","","",0,2,0,0,65,65,999,null,null,null,5.0000000000000001E-4,"x",null,"xxxx"]
["outdated.",null,null,"",{"$f":"VLOOKUP(F7319&\".\"&G7319,syllabus!B$3:I$99,8,FALSE)&RIGHT(\"00000\"&J7319,5)","v":"67001800"},"outdated","","outdated.: All","BC",1800,null,null,"BC:",null,null,"concept",null,"F",null,"",0,"","","","","","",0,2,0,0,65,65,999,null,null,null,5.0000000000000001E-4,"x",null,"xxxx"]
["outdated.",null,null,"",{"$f":"VLOOKUP(F7320&\".\"&G7320,syllabus!B$3:I$99,8,FALSE)&RIGHT(\"00000\"&J7320,5)","v":"67001900"},"outdated","","outdated.: All","BC",1900,null,null,"BC:",null,null,"concept",null,"F",null,"",0,"","","","","","",0,2,0,0,65,65,999,null,null,null,5.0000000000000001E-4,"x",null,"xxxx"]
["outdated.",null,null,"",{"$f":"VLOOKUP(F7321&\".\"&G7321,syllabus!B$3:I$99,8,FALSE)&RIGHT(\"00000\"&J7321,5)","v":"67002000"},"outdated","","outdated.: All","BC",2000,null,null,"BC:",null,null,"concept",null,"F",null,"",0,"","","","","","",0,2,0,0,65,65,999,null,null,null,5.0000000000000001E-4,"x",null,"xxxx"]
["outdated.",null,null,"",{"$f":"VLOOKUP(F7322&\".\"&G7322,syllabus!B$3:I$99,8,FALSE)&RIGHT(\"00000\"&J7322,5)","v":"67002100"},"outdated","","outdated.: All","BC",2100,null,null,"BC:",null,null,"concept",null,"F",null,"",0,"","","","","","",0,2,0,0,65,65,999,null,null,null,5.0000000000000001E-4,"x",null,"xxxx"]
["outdated.",null,null,"",{"$f":"VLOOKUP(F7323&\".\"&G7323,syllabus!B$3:I$99,8,FALSE)&RIGHT(\"00000\"&J7323,5)","v":"67002200"},"outdated","","outdated.: All","BC",2200,null,null,"BC:",null,null,"concept",null,"F",null,"",0,"","","","","","",0,2,0,0,65,65,999,null,null,null,5.0000000000000001E-4,"x",null,"xxxx"]
["outdated.",null,null,"",{"$f":"VLOOKUP(F7324&\".\"&G7324,syllabus!B$3:I$99,8,FALSE)&RIGHT(\"00000\"&J7324,5)","v":"67002300"},"outdated","","outdated.: All","BC",2300,null,null,"BC:",null,null,"concept",null,"F",null,"",0,"","","","","","",0,2,0,0,65,65,999,null,null,null,5.0000000000000001E-4,"x",null,"xxxx"]
["outdated.",null,null,"",{"$f":"VLOOKUP(F7325&\".\"&G7325,syllabus!B$3:I$99,8,FALSE)&RIGHT(\"00000\"&J7325,5)","v":"67002400"},"outdated","","outdated.: All","BC",2400,null,null,"BC:",null,null,"concept",null,"F",null,"",0,"","","","","","",0,2,0,0,65,65,999,null,null,null,5.0000000000000001E-4,"x",null,"xxxx"]
["outdated.",null,null,"",{"$f":"VLOOKUP(F7326&\".\"&G7326,syllabus!B$3:I$99,8,FALSE)&RIGHT(\"00000\"&J7326,5)","v":"67002500"},"outdated","","outdated.: All","BC",2500,null,null,"BC:",null,null,"concept",null,"F",null,"",0,"","","","","","",0,2,0,0,65,65,999,null,null,null,5.0000000000000001E-4,"x",null,"xxxx"]
["outdated.",null,null,"",{"$f":"VLOOKUP(F7327&\".\"&G7327,syllabus!B$3:I$99,8,FALSE)&RIGHT(\"00000\"&J7327,5)","v":"67002600"},"outdated","","outdated.: All","BC",2600,null,null,"BC:",null,null,"concept",null,"F",null,"",0,"","","","","","",0,2,0,0,65,65,999,null,null,null,5.0000000000000001E-4,"x",null,"xxxx"]
["outdated.",null,null,"",{"$f":"VLOOKUP(F7328&\".\"&G7328,syllabus!B$3:I$99,8,FALSE)&RIGHT(\"00000\"&J7328,5)","v":"67002700"},"outdated","","outdated.: All","BC",2700,null,null,"BC:",null,null,"concept",null,"F",null,"",0,"","","","","","",0,2,0,0,65,65,999,null,null,null,5.0000000000000001E-4,"x",null,"xxxx"]
["outdated.",null,null,"",{"$f":"VLOOKUP(F7329&\".\"&G7329,syllabus!B$3:I$99,8,FALSE)&RIGHT(\"00000\"&J7329,5)","v":"67002800"},"outdated","","outdated.: All","BC",2800,null,null,"BC:",null,null,"concept",null,"F",null,"",0,"","","","","","",0,2,0,0,65,65,999,null,null,null,5.0000000000000001E-4,"x",null,"xxxx"]
["outdated.",null,null,"",{"$f":"VLOOKUP(F7330&\".\"&G7330,syllabus!B$3:I$99,8,FALSE)&RIGHT(\"00000\"&J7330,5)","v":"67002900"},"outdated","","outdated.: All","BC",2900,null,null,"BC:",null,null,"concept",null,"F",null,"",0,"","","","","","",0,2,0,0,65,65,999,null,null,null,5.0000000000000001E-4,"x",null,"xxxx"]
["outdated.",null,null,"",{"$f":"VLOOKUP(F7331&\".\"&G7331,syllabus!B$3:I$99,8,FALSE)&RIGHT(\"00000\"&J7331,5)","v":"67003000"},"outdated","","outdated.: All","BC",3000,null,null,"BC:",null,null,"concept",null,"F",null,"",0,"","","","","","",0,2,0,0,65,65,999,null,null,null,5.0000000000000001E-4,"x",null,"xxxx"]
["outdated.",null,null,"",{"$f":"VLOOKUP(F7332&\".\"&G7332,syllabus!B$3:I$99,8,FALSE)&RIGHT(\"00000\"&J7332,5)","v":"67003100"},"outdated","","outdated.: All","BC",3100,null,null,"BC:",null,null,"concept",null,"F",null,"",0,"","","","","","",0,2,0,0,65,65,999,null,null,null,5.0000000000000001E-4,"x",null,"xxxx"]
["outdated.",null,null,"",{"$f":"VLOOKUP(F7333&\".\"&G7333,syllabus!B$3:I$99,8,FALSE)&RIGHT(\"00000\"&J7333,5)","v":"67003200"},"outdated","","outdated.: All","BC",3200,null,null,"BC:",null,null,"concept",null,"F",null,"",0,"","","","","","",0,2,0,0,65,65,999,null,null,null,5.0000000000000001E-4,"x",null,"xxxx"]
["outdated.",null,null,"",{"$f":"VLOOKUP(F7334&\".\"&G7334,syllabus!B$3:I$99,8,FALSE)&RIGHT(\"00000\"&J7334,5)","v":"67003300"},"outdated","","outdated.: All","exam",3300,null,null,"exam:",null,null,"concept",null,"F",null,"",0,"","","","","","",0,2,0,0,65,65,999,null,null,null,5.0000000000000001E-4,"x",null,"xxxx"]
["outdated.",null,null,"",{"$f":"VLOOKUP(F7335&\".\"&G7335,syllabus!B$3:I$99,8,FALSE)&RIGHT(\"00000\"&J7335,5)","v":"67003400"},"outdated","","outdated.: All","exam",3400,null,null,"exam:",null,null,"concept",null,"F",null,"",0,"","","","","","",0,2,0,0,65,65,999,null,null,null,5.0000000000000001E-4,"x",null,"xxxx"]
["outdated.",null,null,"",{"$f":"VLOOKUP(F7336&\".\"&G7336,syllabus!B$3:I$99,8,FALSE)&RIGHT(\"00000\"&J7336,5)","v":"67003500"},"outdated","","outdated.: All","exam",3500,null,null,"exam:",null,null,"concept",null,"F",null,"",0,"","","","","","",0,2,0,0,65,65,999,null,null,null,5.0000000000000001E-4,"x",null,"xxxx"]
["outdated.",null,null,"",{"$f":"VLOOKUP(F7337&\".\"&G7337,syllabus!B$3:I$99,8,FALSE)&RIGHT(\"00000\"&J7337,5)","v":"67003600"},"outdated","","outdated.: All","exam",3600,null,null,"exam:",null,null,"concept",null,"F",null,"",0,"","","","","","",0,2,0,0,65,65,999,null,null,null,5.0000000000000001E-4,"x",null,"xxxx"]
["outdated.",null,null,"",{"$f":"VLOOKUP(F7338&\".\"&G7338,syllabus!B$3:I$99,8,FALSE)&RIGHT(\"00000\"&J7338,5)","v":"67003700"},"outdated","","outdated.: All","exam",3700,null,null,"exam:",null,null,"concept",null,"F",null,"",0,"","","","","","",0,2,0,0,65,65,999,null,null,null,5.0000000000000001E-4,"x",null,"xxxx"]
["outdated.",null,null,"",{"$f":"VLOOKUP(F7339&\".\"&G7339,syllabus!B$3:I$99,8,FALSE)&RIGHT(\"00000\"&J7339,5)","v":"67003800"},"outdated","","outdated.: All","exam",3800,null,null,"exam:",null,null,"concept",null,"F",null,"",0,"","","","","","",0,2,0,0,65,65,999,null,null,null,5.0000000000000001E-4,"x",null,"xxxx"]
["outdated.",null,null,"",{"$f":"VLOOKUP(F7340&\".\"&G7340,syllabus!B$3:I$99,8,FALSE)&RIGHT(\"00000\"&J7340,5)","v":"67003900"},"outdated","","outdated.: All","exam",3900,null,null,"exam:",null,null,"concept",null,"F",null,"",0,"","","","","","",0,2,0,0,65,65,999,null,null,null,5.0000000000000001E-4,"x",null,"xxxx"]
["outdated.",null,null,"",{"$f":"VLOOKUP(F7341&\".\"&G7341,syllabus!B$3:I$99,8,FALSE)&RIGHT(\"00000\"&J7341,5)","v":"67004000"},"outdated","","outdated.: All","exam",4000,null,null,"exam:",null,null,"concept",null,"F",null,"",0,"","","","","","",0,2,0,0,65,65,999,null,null,null,5.0000000000000001E-4,"x",null,"xxxx"]
["outdated.",null,null,"",{"$f":"VLOOKUP(F7342&\".\"&G7342,syllabus!B$3:I$99,8,FALSE)&RIGHT(\"00000\"&J7342,5)","v":"67004100"},"outdated","","outdated.: All","exam",4100,null,null,"exam:",null,null,"concept",null,"F",null,"",0,"","","","","","",0,2,0,0,65,65,999,null,null,null,5.0000000000000001E-4,"x",null,"xxxx"]
["outdated.",null,null,"",{"$f":"VLOOKUP(F7343&\".\"&G7343,syllabus!B$3:I$99,8,FALSE)&RIGHT(\"00000\"&J7343,5)","v":"67004200"},"outdated","","outdated.: All","exam",4200,null,null,"exam:",null,null,"concept",null,"F",null,"",0,"","","","","","",0,2,0,0,65,65,999,null,null,null,5.0000000000000001E-4,"x",null,"xxxx"]
["outdated.",null,null,"",{"$f":"VLOOKUP(F7344&\".\"&G7344,syllabus!B$3:I$99,8,FALSE)&RIGHT(\"00000\"&J7344,5)","v":"67004300"},"outdated","","outdated.: All","exam",4300,null,null,"exam:",null,null,"concept",null,"F",null,"",0,"","","","","","",0,2,0,0,65,65,999,null,null,null,5.0000000000000001E-4,"x",null,"xxxx"]
["outdated.",null,null,"",{"$f":"VLOOKUP(F7345&\".\"&G7345,syllabus!B$3:I$99,8,FALSE)&RIGHT(\"00000\"&J7345,5)","v":"67004400"},"outdated","","outdated.: All","exam",4400,null,null,"exam:",null,null,"concept",null,"F",null,"",0,"","","","","","",0,2,0,0,65,65,999,null,null,null,5.0000000000000001E-4,"x",null,"xxxx"]
["outdated.",null,null,"",{"$f":"VLOOKUP(F7346&\".\"&G7346,syllabus!B$3:I$99,8,FALSE)&RIGHT(\"00000\"&J7346,5)","v":"67004500"},"outdated","","outdated.: All","exam",4500,null,null,"exam:",null,null,"concept",null,"F",null,"",0,"","","","","","",0,2,0,0,65,65,999,null,null,null,5.0000000000000001E-4,"x",null,"xxxx"]
["outdated.",null,null,"",{"$f":"VLOOKUP(F7347&\".\"&G7347,syllabus!B$3:I$99,8,FALSE)&RIGHT(\"00000\"&J7347,5)","v":"67004600"},"outdated","","outdated.: All","exam",4600,null,null,"exam:",null,null,"concept",null,"F",null,"",0,"","","","","","",0,2,0,0,65,65,999,null,null,null,5.0000000000000001E-4,"x",null,"xxxx"]
["outdated.",null,null,"",{"$f":"VLOOKUP(F7348&\".\"&G7348,syllabus!B$3:I$99,8,FALSE)&RIGHT(\"00000\"&J7348,5)","v":"67004700"},"outdated","","outdated.: All","exam",4700,null,null,"exam:",null,null,"concept",null,"F",null,"",0,"","","","","","",0,2,0,0,65,65,999,null,null,null,5.0000000000000001E-4,"x",null,"xxxx"]
["outdated.",null,null,"",{"$f":"VLOOKUP(F7349&\".\"&G7349,syllabus!B$3:I$99,8,FALSE)&RIGHT(\"00000\"&J7349,5)","v":"67004800"},"outdated","","outdated.: All","exam",4800,null,null,"exam:",null,null,"concept",null,"F",null,"",0,"","","","","","",0,2,0,0,65,65,999,null,null,null,5.0000000000000001E-4,"x",null,"xxxx"]
["outdated.",null,null,"",{"$f":"VLOOKUP(F7350&\".\"&G7350,syllabus!B$3:I$99,8,FALSE)&RIGHT(\"00000\"&J7350,5)","v":"67004900"},"outdated","","outdated.: All","exam",4900,null,null,"exam:",null,null,"concept",null,"F",null,"",0,"","","","","","",0,2,0,0,65,65,999,null,null,null,5.0000000000000001E-4,"x",null,"xxxx"]
["outdated.",null,null,"",{"$f":"VLOOKUP(F7351&\".\"&G7351,syllabus!B$3:I$99,8,FALSE)&RIGHT(\"00000\"&J7351,5)","v":"67005000"},"outdated","","outdated.: All","exam",5000,null,null,"exam:",null,null,"concept",null,"F",null,"",0,"","","","","","",0,2,0,0,65,65,999,null,null,null,5.0000000000000001E-4,"x",null,"xxxx"]
["outdated.",null,null,"",{"$f":"VLOOKUP(F7352&\".\"&G7352,syllabus!B$3:I$99,8,FALSE)&RIGHT(\"00000\"&J7352,5)","v":"67005100"},"outdated","","outdated.: All","exam",5100,null,null,"exam:",null,null,"concept",null,"F",null,"",0,"","","","","","",0,2,0,0,65,65,999,null,null,null,5.0000000000000001E-4,"x",null,"xxxx"]
["outdated.",null,null,"",{"$f":"VLOOKUP(F7353&\".\"&G7353,syllabus!B$3:I$99,8,FALSE)&RIGHT(\"00000\"&J7353,5)","v":"67005200"},"outdated","","outdated.: All","exam",5200,null,null,"exam:",null,null,"concept",null,"F",null,"",0,"","","","","","",0,2,0,0,65,65,999,null,null,null,5.0000000000000001E-4,"x",null,"xxxx"]
["outdated.",null,null,"",{"$f":"VLOOKUP(F7354&\".\"&G7354,syllabus!B$3:I$99,8,FALSE)&RIGHT(\"00000\"&J7354,5)","v":"67005300"},"outdated","","outdated.: All","exam",5300,null,null,"exam:",null,null,"concept",null,"F",null,"",0,"","","","","","",0,2,0,0,65,65,999,null,null,null,5.0000000000000001E-4,"x",null,"xxxx"]
["outdated.",null,null,"",{"$f":"VLOOKUP(F7355&\".\"&G7355,syllabus!B$3:I$99,8,FALSE)&RIGHT(\"00000\"&J7355,5)","v":"67005400"},"outdated","","outdated.: All","exam",5400,null,null,"exam:",null,null,"concept",null,"F",null,"",0,"","","","","","",0,2,0,0,65,65,999,null,null,null,5.0000000000000001E-4,"x",null,"xxxx"]
["outdated.",null,null,"",{"$f":"VLOOKUP(F7356&\".\"&G7356,syllabus!B$3:I$99,8,FALSE)&RIGHT(\"00000\"&J7356,5)","v":"67005500"},"outdated","","outdated.: All","exam",5500,null,null,"exam:",null,null,"concept",null,"F",null,"",0,"","","","","","",0,2,0,0,65,65,999,null,null,null,5.0000000000000001E-4,"x",null,"xxxx"]
["outdated.",null,null,"",{"$f":"VLOOKUP(F7357&\".\"&G7357,syllabus!B$3:I$99,8,FALSE)&RIGHT(\"00000\"&J7357,5)","v":"67005600"},"outdated","","outdated.: All","exam",5600,null,null,"exam:",null,null,"concept",null,"F",null,"",0,"","","","","","",0,2,0,0,65,65,999,null,null,null,5.0000000000000001E-4,"x",null,"xxxx"]
["outdated.",null,null,"",{"$f":"VLOOKUP(F7358&\".\"&G7358,syllabus!B$3:I$99,8,FALSE)&RIGHT(\"00000\"&J7358,5)","v":"67005700"},"outdated","","outdated.: All","exam",5700,null,null,"exam:",null,null,"concept",null,"F",null,"",0,"","","","","","",0,2,0,0,65,65,999,null,null,null,5.0000000000000001E-4,"x",null,"xxxx"]
["outdated.",null,null,"",{"$f":"VLOOKUP(F7359&\".\"&G7359,syllabus!B$3:I$99,8,FALSE)&RIGHT(\"00000\"&J7359,5)","v":"67005800"},"outdated","","outdated.: All","exam",5800,"x",null,"exam: financial legislation to help financiallly troubled insurers","see examiner's report - click yellow \"E\" link in \"Section\" column",null,"concept",null,"outdated",null,"exam",1,"15","1-Spring",4,"","",3,0,2,0,0,65,65,999,null,null,null,5.0000000000000001E-4,"x",null,"xxxx"]
["outdated.",null,null,"",{"$f":"VLOOKUP(F7360&\".\"&G7360,syllabus!B$3:I$99,8,FALSE)&RIGHT(\"00000\"&J7360,5)","v":"67005900"},"outdated","","outdated.: All","exam",5900,null,null,"exam: details of U.S. social security","see examiner's report - click yellow \"E\" link in \"Section\" column",null,"concept",null,"outdated",null,"exam",1,"15","1-Spring",10,"","",3,0,2,0,0,65,65,999,null,null,null,5.0000000000000001E-4,"x",null,"xxxx"]
["outdated.",null,null,"",{"$f":"VLOOKUP(F7361&\".\"&G7361,syllabus!B$3:I$99,8,FALSE)&RIGHT(\"00000\"&J7361,5)","v":"67006000"},"outdated","","outdated.: All","exam",6000,null,null,"exam: IFRS versus GAAP & SAP accounting","see examiner's report - click yellow \"E\" link in \"Section\" column",null,"concept",null,"outdated",null,"exam",1,"15","1-Spring",20,"","",3,0,2,0,0,65,65,999,null,null,null,5.0000000000000001E-4,"x",null,"xxxx"]
["outdated.",null,null,"",{"$f":"VLOOKUP(F7362&\".\"&G7362,syllabus!B$3:I$99,8,FALSE)&RIGHT(\"00000\"&J7362,5)","v":"67006100"},"outdated","","outdated.: All","exam",6100,null,null,"exam: class action lawsuits for life-threathening injuries from chemical contamination","see examiner's report - click yellow \"E\" link in \"Section\" column",null,"concept",null,"outdated",null,"exam",1,"14","2-Fall",6,"","",4.75,0,2,0,0,65,65,999,null,null,null,5.0000000000000001E-4,"x",null,"xxxx"]
["outdated.",null,null,"",{"$f":"VLOOKUP(F7363&\".\"&G7363,syllabus!B$3:I$99,8,FALSE)&RIGHT(\"00000\"&J7363,5)","v":"67006200"},"outdated","","outdated.: All","exam",6200,null,null,"exam: socialized insurance costs and the effect on insurer's ability to grow","see examiner's report - click yellow \"E\" link in \"Section\" column",null,"concept",null,"outdated",null,"exam",1,"14","2-Fall",7,"","",2.5,0,2,0,0,65,65,999,null,null,null,5.0000000000000001E-4,"x",null,"xxxx"]
["outdated.",null,null,"",{"$f":"VLOOKUP(F7364&\".\"&G7364,syllabus!B$3:I$99,8,FALSE)&RIGHT(\"00000\"&J7364,5)","v":"67006300"},"outdated","","outdated.: All","exam",6300,null,null,"exam: catastrophe models and regulatory prevention of model manipulation by insuere","see examiner's report - click yellow \"E\" link in \"Section\" column",null,"concept",null,"outdated","current","exam",2,"14","1-Spring",1,"","",3,0,2,0,0,65,65,999,null,null,null,5.0000000000000001E-4,"x",null,"xxxx"]
["outdated.",null,null,"",{"$f":"VLOOKUP(F7365&\".\"&G7365,syllabus!B$3:I$99,8,FALSE)&RIGHT(\"00000\"&J7365,5)","v":"67006400"},"outdated","","outdated.: All","exam",6400,null,null,"exam: asbestos litigation","see examiner's report - click yellow \"E\" link in \"Section\" column",null,"concept",null,"outdated","current","exam",3,"14","1-Spring",7,"","",2.25,0,2,0,0,65,65,999,null,null,null,5.0000000000000001E-4,"x",null,"xxxx"]
["outdated.",null,null,"",{"$f":"VLOOKUP(F7366&\".\"&G7366,syllabus!B$3:I$99,8,FALSE)&RIGHT(\"00000\"&J7366,5)","v":"67006500"},"outdated","","outdated.: All","exam",6500,null,null,"exam: taxation & AMIT","see examiner's report - click yellow \"E\" link in \"Section\" column",null,"concept",null,"outdated",null,"exam",1,"14","1-Spring",18,"","",6,0,2,0,0,65,65,999,null,null,null,5.0000000000000001E-4,"x",null,"xxxx"]
["outdated.",null,null,"",{"$f":"VLOOKUP(F7367&\".\"&G7367,syllabus!B$3:I$99,8,FALSE)&RIGHT(\"00000\"&J7367,5)","v":"67006600"},"outdated","","outdated.: All","exam",6600,null,null,"exam: catastrophe models and regulatory prevention of model manipulation by insuere","see examiner's report - click yellow \"E\" link in \"Section\" column",null,"concept",null,"outdated","dup","exam",2,"13","2-Fall",1,"","",1.5,0,2,0,0,65,65,999,null,null,null,5.0000000000000001E-4,"x",null,"xxxx"]
["outdated.",null,null,"",{"$f":"VLOOKUP(F7368&\".\"&G7368,syllabus!B$3:I$99,8,FALSE)&RIGHT(\"00000\"&J7368,5)","v":"67006700"},"outdated","","outdated.: All","exam",6700,null,null,"exam: asbestos litigation","see examiner's report - click yellow \"E\" link in \"Section\" column",null,"concept",null,"outdated","dup","exam",3,"13","2-Fall",8,"","",3,0,2,0,0,65,65,999,null,null,null,5.0000000000000001E-4,"x",null,"xxxx"]
["outdated.",null,null,"",{"$f":"VLOOKUP(F7369&\".\"&G7369,syllabus!B$3:I$99,8,FALSE)&RIGHT(\"00000\"&J7369,5)","v":"67006800"},"outdated","","outdated.: All","exam",6800,null,null,"exam: social security and cross-subsidization among participants","see examiner's report - click yellow \"E\" link in \"Section\" column",null,"concept",null,"outdated",null,"exam",1,"13","2-Fall",9,"","",1.5,0,2,0,0,65,65,999,null,null,null,5.0000000000000001E-4,"x",null,"xxxx"]
["outdated.",null,null,"",{"$f":"VLOOKUP(F7370&\".\"&G7370,syllabus!B$3:I$99,8,FALSE)&RIGHT(\"00000\"&J7370,5)","v":"67006900"},"outdated","","outdated.: All","exam",6900,null,null,"exam: government insurance programs (not from Germani)","see examiner's report - click yellow \"E\" link in \"Section\" column",null,"concept",null,"outdated",null,"exam",1,"13","2-Fall",11,"","",3,0,2,0,0,65,65,999,null,null,null,5.0000000000000001E-4,"x",null,"xxxx"]
["outdated.",null,null,"",{"$f":"VLOOKUP(F7371&\".\"&G7371,syllabus!B$3:I$99,8,FALSE)&RIGHT(\"00000\"&J7371,5)","v":"67007000"},"outdated","","outdated.: All","exam",7000,null,null,"exam: risk margins for loss reserves","see examiner's report - click yellow \"E\" link in \"Section\" column",null,"concept",null,"outdated",null,"exam",1,"13","2-Fall",22,"","",2.75,0,2,0,0,65,65,999,null,null,null,5.0000000000000001E-4,"x",null,"xxxx"]
["outdated.",null,null,"",{"$f":"VLOOKUP(F7372&\".\"&G7372,syllabus!B$3:I$99,8,FALSE)&RIGHT(\"00000\"&J7372,5)","v":"67007100"},"outdated","","outdated.: All","exam",7100,null,null,"exam: rate regulation","see examiner's report - click yellow \"E\" link in \"Section\" column",null,"concept",null,"outdated",null,"exam",1,"12","2-Fall",1,"","",3,0,2,0,0,65,65,999,null,null,null,5.0000000000000001E-4,"x",null,"xxxx"]
["outdated.",null,null,"",{"$f":"VLOOKUP(F7373&\".\"&G7373,syllabus!B$3:I$99,8,FALSE)&RIGHT(\"00000\"&J7373,5)","v":"67007200"},"outdated","","outdated.: All","exam",7200,null,null,"exam: captive insurance groups, risk retention groups, surplus lines company","see examiner's report - click yellow \"E\" link in \"Section\" column",null,"concept",null,"outdated",null,"exam",1,"12","2-Fall",7,"","",2.25,0,2,0,0,65,65,999,null,null,null,5.0000000000000001E-4,"x",null,"xxxx"]
["outdated.",null,null,"",{"$f":"VLOOKUP(F7374&\".\"&G7374,syllabus!B$3:I$99,8,FALSE)&RIGHT(\"00000\"&J7374,5)","v":"67007300"},"outdated","","outdated.: All","exam",7300,null,null,"exam: Dodd-Frank","see examiner's report - click yellow \"E\" link in \"Section\" column",null,"concept",null,"outdated",null,"exam",1,"12","2-Fall",8,"","",1.5,0,2,0,0,65,65,999,null,null,null,5.0000000000000001E-4,"x",null,"xxxx"]
["outdated.",null,null,"",{"$f":"VLOOKUP(F7375&\".\"&G7375,syllabus!B$3:I$99,8,FALSE)&RIGHT(\"00000\"&J7375,5)","v":"67007400"},"outdated","","outdated.: All","exam",7400,null,null,"exam: asbestos litigation","see examiner's report - click yellow \"E\" link in \"Section\" column",null,"concept",null,"outdated","dup","exam",3,"12","2-Fall",9,"","",2,0,2,0,0,65,65,999,null,null,null,5.0000000000000001E-4,"x",null,"xxxx"]
["outdated.",null,null,"",{"$f":"VLOOKUP(F7376&\".\"&G7376,syllabus!B$3:I$99,8,FALSE)&RIGHT(\"00000\"&J7376,5)","v":"67007500"},"outdated","","outdated.: All","exam",7500,null,null,"exam: social security - actuarial & social equity","see examiner's report - click yellow \"E\" link in \"Section\" column",null,"concept",null,"outdated",null,"exam",1,"12","2-Fall",10,"","",2.25,0,2,0,0,65,65,999,null,null,null,5.0000000000000001E-4,"x",null,"xxxx"]
["outdated.",null,null,"",{"$f":"VLOOKUP(F7377&\".\"&G7377,syllabus!B$3:I$99,8,FALSE)&RIGHT(\"00000\"&J7377,5)","v":"67007600"},"outdated","","outdated.: All","exam",7600,null,null,"exam:",null,null,"concept",null,"F",null,"",0,"","","","","","",0,2,0,0,65,65,999,null,null,null,5.0000000000000001E-4,"x",null,"xxxx"]
["outdated.",null,null,"",{"$f":"VLOOKUP(F7378&\".\"&G7378,syllabus!B$3:I$99,8,FALSE)&RIGHT(\"00000\"&J7378,5)","v":"67007700"},"outdated","","outdated.: All","exam",7700,null,null,"exam: commutation","see examiner's report - click yellow \"E\" link in \"Section\" column",null,"concept",null,"outdated",null,"exam",1,"12","2-Fall",15,"","",3.25,0,2,0,0,65,65,999,null,null,null,5.0000000000000001E-4,"x",null,"xxxx"]
["outdated.",null,null,"",{"$f":"VLOOKUP(F7379&\".\"&G7379,syllabus!B$3:I$99,8,FALSE)&RIGHT(\"00000\"&J7379,5)","v":"67007800"},"outdated","","outdated.: All","exam",7800,null,null,"exam: Sovency II","see examiner's report - click yellow \"E\" link in \"Section\" column",null,"concept",null,"outdated",null,"exam",1,"12","2-Fall",22,"","",3,0,2,0,0,65,65,999,null,null,null,5.0000000000000001E-4,"x",null,"xxxx"]
["outdated.",null,null,"",{"$f":"VLOOKUP(F7380&\".\"&G7380,syllabus!B$3:I$99,8,FALSE)&RIGHT(\"00000\"&J7380,5)","v":"67007900"},"outdated","","outdated.: All","(OUTDATED - BRQ pts = 0) exam",7900,null,null,"(OUTDATED - BRQ pts = 0) exam: moved to outdated","see examiner's report - click yellow \"E\" link in \"Section\" column",null,"concept",null,"F",null,"",0,"","","","","","",0,2,0,0,65,65,999,null,null,null,5.0000000000000001E-4,"x",null,"xxxx"]
["outdated.",null,null,"",{"$f":"VLOOKUP(F7381&\".\"&G7381,syllabus!B$3:I$99,8,FALSE)&RIGHT(\"00000\"&J7381,5)","v":"67008000"},"outdated","","outdated.: All","(OUTDATED - BRQ pts = 0) exam",8000,null,null,"(OUTDATED - BRQ pts = 0) exam: moved to outdated","see examiner's report - click yellow \"E\" link in \"Section\" column",null,"concept",null,"A",null,"exam",1,"12","2-Fall",23,"a","",0.75,0,2,2,0,65,65,999,null,null,null,5.0000000000000001E-4,"x",null,"xxxx"]
["outdated.",null,null,"",{"$f":"VLOOKUP(F7382&\".\"&G7382,syllabus!B$3:I$99,8,FALSE)&RIGHT(\"00000\"&J7382,5)","v":"67008100"},"outdated","","outdated.: All","(OUTDATED - BRQ pts = 0) exam",8100,null,null,"(OUTDATED - BRQ pts = 0) exam: moved to outdated","see examiner's report - click yellow \"E\" link in \"Section\" column",null,"concept",null,"A",null,"exam",1,"12","2-Fall",23,"b","",0.5,0,2,2,0,65,65,999,null,null,null,5.0000000000000001E-4,"x",null,"xxxx"]
["outdated.",null,null,"",{"$f":"VLOOKUP(F7383&\".\"&G7383,syllabus!B$3:I$99,8,FALSE)&RIGHT(\"00000\"&J7383,5)","v":"67008200"},"outdated","","outdated.: All","(OUTDATED - BRQ pts = 0) exam",8200,null,null,"(OUTDATED - BRQ pts = 0) exam: ",null,null,"concept",null,"F",null,"",0,"","","","","","",0,2,0,0,65,65,999,null,null,null,5.0000000000000001E-4,"x",null,"xxxx"]
["outdated.",null,null,"",{"$f":"VLOOKUP(F7384&\".\"&G7384,syllabus!B$3:I$99,8,FALSE)&RIGHT(\"00000\"&J7384,5)","v":"67008300"},"outdated","","outdated.: All","(OUTDATED - BRQ pts = 0) exam",8300,null,null,"(OUTDATED - BRQ pts = 0) exam: ",null,null,"concept",null,"F",null,"",0,"","","","","","",0,2,0,0,65,65,999,null,null,null,5.0000000000000001E-4,"x",null,"xxxx"]
["outdated.",null,null,"",{"$f":"VLOOKUP(F7385&\".\"&G7385,syllabus!B$3:I$99,8,FALSE)&RIGHT(\"00000\"&J7385,5)","v":"67008400"},"outdated","","outdated.: All","(OUTDATED - BRQ pts = 0) exam",8400,null,null,"(OUTDATED - BRQ pts = 0) exam: SCENARIO - NAIC involvement in investigation & regulatory action","see examiner's report - click yellow \"E\" link in \"Section\" column",null,"concept",null,"A",null,"exam",1,"14","2-Fall",5,"d","",1,0,2,2,0,65,65,999,null,null,null,5.0000000000000001E-4,"x",null,"xxxx"]
["outdated.",null,null,"",{"$f":"VLOOKUP(F7386&\".\"&G7386,syllabus!B$3:I$99,8,FALSE)&RIGHT(\"00000\"&J7386,5)","v":"67008500"},"outdated","","outdated.: All","(OUTDATED - BRQ pts = 0) exam",8500,null,null,"(OUTDATED - BRQ pts = 0) exam: compare & contrast IRIS and FAST (Financial Solvency Tracking System)","see examiner's report - click yellow \"E\" link in \"Section\" column",null,"concept",null,"A",null,"exam",1,"14","1-Spring",6,"c","",0.5,0,2,2,0,65,65,999,null,null,null,5.0000000000000001E-4,"x",null,"xxxx"]
["outdated.",null,null,"",{"$f":"VLOOKUP(F7387&\".\"&G7387,syllabus!B$3:I$99,8,FALSE)&RIGHT(\"00000\"&J7387,5)","v":"67008600"},"outdated","","outdated.: All","(OUTDATED - BRQ pts = 0) exam",8600,null,null,"(OUTDATED - BRQ pts = 0) exam: describe limitations of the ATS (Analyst Team System)","see examiner's report - click yellow \"E\" link in \"Section\" column",null,"concept",null,"A",null,"exam",1,"14","1-Spring",6,"d","",0.75,0,2,2,0,65,65,999,null,null,null,5.0000000000000001E-4,"x",null,"xxxx"]
["outdated.",null,null,"",{"$f":"VLOOKUP(F7388&\".\"&G7388,syllabus!B$3:I$99,8,FALSE)&RIGHT(\"00000\"&J7388,5)","v":"67008700"},"outdated","","outdated.: All","(OUTDATED - BRQ pts = 0) exam",8700,null,null,"(OUTDATED - BRQ pts = 0) exam: ",null,null,"concept",null,"F",null,"",0,"","","","","","",0,2,0,0,65,65,999,null,null,null,5.0000000000000001E-4,"x",null,"xxxx"]
["outdated.",null,null,"",{"$f":"VLOOKUP(F7389&\".\"&G7389,syllabus!B$3:I$99,8,FALSE)&RIGHT(\"00000\"&J7389,5)","v":"67008800"},"outdated","","outdated.: All","(OUTDATED - BRQ pts = 0) exam",8800,null,null,"(OUTDATED - BRQ pts = 0) exam: ",null,null,"concept",null,"F",null,"",0,"","","","","","",0,2,0,0,65,65,999,null,null,null,5.0000000000000001E-4,"x",null,"xxxx"]
["outdated.",null,null,"",{"$f":"VLOOKUP(F7390&\".\"&G7390,syllabus!B$3:I$99,8,FALSE)&RIGHT(\"00000\"&J7390,5)","v":"67008900"},"outdated","","outdated.: All","(OUTDATED - BRQ pts = 0) exam",8900,null,null,"(OUTDATED - BRQ pts = 0) exam: ",null,null,"concept",null,"F",null,"",0,"","","","","","",0,2,0,0,65,65,999,null,null,null,5.0000000000000001E-4,"x",null,"xxxx"]
["outdated.",null,null,"",{"$f":"VLOOKUP(F7391&\".\"&G7391,syllabus!B$3:I$99,8,FALSE)&RIGHT(\"00000\"&J7391,5)","v":"67009000"},"outdated","","outdated.: All","(OUTDATED - BRQ pts = 0) exam",9000,null,null,"(OUTDATED - BRQ pts = 0) exam: ",null,null,"concept",null,"F",null,"",0,"","","","","","",0,2,0,0,65,65,999,null,null,null,5.0000000000000001E-4,"x",null,"xxxx"]
["outdated.",null,null,"",{"$f":"VLOOKUP(F7392&\".\"&G7392,syllabus!B$3:I$99,8,FALSE)&RIGHT(\"00000\"&J7392,5)","v":"67009100"},"outdated","","outdated.: All","(OUTDATED - BRQ pts = 0) exam",9100,null,null,"(OUTDATED - BRQ pts = 0) exam: ",null,null,"concept",null,"F",null,"",0,"","","","","","",0,2,0,0,65,65,999,null,null,null,5.0000000000000001E-4,"x",null,"xxxx"]
["outdated.",null,null,"",{"$f":"VLOOKUP(F7393&\".\"&G7393,syllabus!B$3:I$99,8,FALSE)&RIGHT(\"00000\"&J7393,5)","v":"67009200"},"outdated","","outdated.: All","(OUTDATED - BRQ pts = 0) exam",9200,null,null,"(OUTDATED - BRQ pts = 0) exam: ",null,null,"concept",null,"F",null,"",0,"","","","","","",0,2,0,0,65,65,999,null,null,null,5.0000000000000001E-4,"x",null,"xxxx"]
["outdated.",null,null,"",{"$f":"VLOOKUP(F7394&\".\"&G7394,syllabus!B$3:I$99,8,FALSE)&RIGHT(\"00000\"&J7394,5)","v":"67009300"},"outdated","","outdated.: All","(OUTDATED - BRQ pts = 0) exam",9300,null,null,"(OUTDATED - BRQ pts = 0) exam: ",null,null,"concept",null,"F",null,"",0,"","","","","","",0,2,0,0,65,65,999,null,null,null,5.0000000000000001E-4,"x",null,"xxxx"]
["outdated.",null,null,"",{"$f":"VLOOKUP(F7395&\".\"&G7395,syllabus!B$3:I$99,8,FALSE)&RIGHT(\"00000\"&J7395,5)","v":"67009400"},"outdated","","outdated.: All","(OUTDATED - BRQ pts = 0) exam",9400,null,null,"(OUTDATED - BRQ pts = 0) exam: ",null,null,"concept",null,"F",null,"",0,"","","","","","",0,2,0,0,65,65,999,null,null,null,5.0000000000000001E-4,"x",null,"xxxx"]
["outdated.",null,null,"",{"$f":"VLOOKUP(F7396&\".\"&G7396,syllabus!B$3:I$99,8,FALSE)&RIGHT(\"00000\"&J7396,5)","v":"67009500"},"outdated","","outdated.: All","(OUTDATED - BRQ pts = 0) exam",9500,null,null,"(OUTDATED - BRQ pts = 0) exam: ",null,null,"concept",null,"F",null,"",0,"","","","","","",0,2,0,0,65,65,999,null,null,null,5.0000000000000001E-4,"x",null,"xxxx"]
["outdated.",null,null,"",{"$f":"VLOOKUP(F7397&\".\"&G7397,syllabus!B$3:I$99,8,FALSE)&RIGHT(\"00000\"&J7397,5)","v":"67009600"},"outdated","","outdated.: All","(OUTDATED - BRQ pts = 0) exam",9600,null,null,"(OUTDATED - BRQ pts = 0) exam: ",null,null,"concept",null,"F",null,"",0,"","","","","","",0,2,0,0,65,65,999,null,null,null,5.0000000000000001E-4,"x",null,"xxxx"]
["outdated.",null,null,"",{"$f":"VLOOKUP(F7398&\".\"&G7398,syllabus!B$3:I$99,8,FALSE)&RIGHT(\"00000\"&J7398,5)","v":"67009700"},"outdated","","outdated.: All","(OUTDATED - BRQ pts = 0) exam",9700,null,null,"(OUTDATED - BRQ pts = 0) exam: ",null,null,"concept",null,"F",null,"",0,"","","","","","",0,2,0,0,65,65,999,null,null,null,5.0000000000000001E-4,"x",null,"xxxx"]
["outdated.",null,null,"",{"$f":"VLOOKUP(F7399&\".\"&G7399,syllabus!B$3:I$99,8,FALSE)&RIGHT(\"00000\"&J7399,5)","v":"67009800"},"outdated","","outdated.: All","(OUTDATED - BRQ pts = 0) exam",9800,null,null,"(OUTDATED - BRQ pts = 0) exam: ",null,null,"concept",null,"F",null,"",0,"","","","","","",0,2,0,0,65,65,999,null,null,null,5.0000000000000001E-4,"x",null,"xxxx"]
["outdated.",null,null,"",{"$f":"VLOOKUP(F7400&\".\"&G7400,syllabus!B$3:I$99,8,FALSE)&RIGHT(\"00000\"&J7400,5)","v":"67009900"},"outdated","","outdated.: All","(OUTDATED - BRQ pts = 0) exam",9900,null,null,"(OUTDATED - BRQ pts = 0) exam: ",null,null,"concept",null,"F",null,"",0,"","","","","","",0,2,0,0,65,65,999,null,null,null,5.0000000000000001E-4,"x",null,"xxxx"]
["outdated.",null,null,"",{"$f":"VLOOKUP(F7401&\".\"&G7401,syllabus!B$3:I$99,8,FALSE)&RIGHT(\"00000\"&J7401,5)","v":"67009999"},"outdated","","outdated.: All","(OUTDATED - BRQ pts = 0) exam",9999,null,null,"(OUTDATED - BRQ pts = 0) exam: ",null,null,"concept",null,"F",null,"",0,"","","","","","",0,2,0,0,65,65,999,null,null,null,5.0000000000000001E-4,"x",null,"xxxx"]
["unknown.","x",null,"",{"$f":"VLOOKUP(F7402&\".\"&G7402,syllabus!B$3:I$99,8,FALSE)&RIGHT(\"00000\"&J7402,5)","v":"68000100"},"unknown","","unknown.: All","--",100,null,null,{"$f":"A7402&\": All\"","v":"unknown.: All"},null,null,"--",null,"info",null,"",0,"","","","","","","","",0,0,66,66,999,null,null,null,5.0000000000000001E-4,"x",null,"xxxx"]
["unknown.",null,null,"",{"$f":"VLOOKUP(F7403&\".\"&G7403,syllabus!B$3:I$99,8,FALSE)&RIGHT(\"00000\"&J7403,5)","v":"68000200"},"unknown","","unknown.: All","BC",200,1,null,"BC: no questions here (this is a placeholder BattleCard)",null,null,"concept",null,"outdated",null,"",0,"","","","","","",0,2,0,0,66,66,999,null,null,null,5.0000000000000001E-4,"x",null,1]
["unknown.",null,null,"",{"$f":"VLOOKUP(F7404&\".\"&G7404,syllabus!B$3:I$99,8,FALSE)&RIGHT(\"00000\"&J7404,5)","v":"68000300"},"unknown","","unknown.: All","BC",300,null,null,"BC:",null,null,"concept",null,"F",null,"",0,"","","","","","",0,2,0,0,66,66,999,null,null,null,5.0000000000000001E-4,"x",null,"xxxx"]
["unknown.",null,null,"",{"$f":"VLOOKUP(F7405&\".\"&G7405,syllabus!B$3:I$99,8,FALSE)&RIGHT(\"00000\"&J7405,5)","v":"68000400"},"unknown","","unknown.: All","BC",400,null,null,"BC:",null,null,"concept",null,"F",null,"",0,"","","","","","",0,2,0,0,66,66,999,null,null,null,5.0000000000000001E-4,"x",null,"xxxx"]
["unknown.",null,null,"",{"$f":"VLOOKUP(F7406&\".\"&G7406,syllabus!B$3:I$99,8,FALSE)&RIGHT(\"00000\"&J7406,5)","v":"68000500"},"unknown","","unknown.: All","BC",500,null,null,"BC:",null,null,"concept",null,"F",null,"",0,"","","","","","",0,2,0,0,66,66,999,null,null,null,5.0000000000000001E-4,"x",null,"xxxx"]
["unknown.",null,null,"",{"$f":"VLOOKUP(F7407&\".\"&G7407,syllabus!B$3:I$99,8,FALSE)&RIGHT(\"00000\"&J7407,5)","v":"68000600"},"unknown","","unknown.: All","BC",600,null,null,"BC:",null,null,"concept",null,"F",null,"",0,"","","","","","",0,2,0,0,66,66,999,null,null,null,5.0000000000000001E-4,"x",null,"xxxx"]
["unknown.",null,null,"",{"$f":"VLOOKUP(F7408&\".\"&G7408,syllabus!B$3:I$99,8,FALSE)&RIGHT(\"00000\"&J7408,5)","v":"68000700"},"unknown","","unknown.: All","BC",700,null,null,"BC:",null,null,"concept",null,"F",null,"",0,"","","","","","",0,2,0,0,66,66,999,null,null,null,5.0000000000000001E-4,"x",null,"xxxx"]
["unknown.",null,null,"",{"$f":"VLOOKUP(F7409&\".\"&G7409,syllabus!B$3:I$99,8,FALSE)&RIGHT(\"00000\"&J7409,5)","v":"68000800"},"unknown","","unknown.: All","BC",800,null,null,"BC:",null,null,"concept",null,"F",null,"",0,"","","","","","",0,2,0,0,66,66,999,null,null,null,5.0000000000000001E-4,"x",null,"xxxx"]
["unknown.",null,null,"",{"$f":"VLOOKUP(F7410&\".\"&G7410,syllabus!B$3:I$99,8,FALSE)&RIGHT(\"00000\"&J7410,5)","v":"68000900"},"unknown","","unknown.: All","BC",900,null,null,"BC:",null,null,"concept",null,"F",null,"",0,"","","","","","",0,2,0,0,66,66,999,null,null,null,5.0000000000000001E-4,"x",null,"xxxx"]
["unknown.",null,null,"",{"$f":"VLOOKUP(F7411&\".\"&G7411,syllabus!B$3:I$99,8,FALSE)&RIGHT(\"00000\"&J7411,5)","v":"68001000"},"unknown","","unknown.: All","BC",1000,null,null,"BC:",null,null,"concept",null,"F",null,"",0,"","","","","","",0,2,0,0,66,66,999,null,null,null,5.0000000000000001E-4,"x",null,"xxxx"]
["unknown.",null,null,"",{"$f":"VLOOKUP(F7412&\".\"&G7412,syllabus!B$3:I$99,8,FALSE)&RIGHT(\"00000\"&J7412,5)","v":"68001100"},"unknown","","unknown.: All","BC",1100,null,null,"BC:",null,null,"concept",null,"F",null,"",0,"","","","","","",0,2,0,0,66,66,999,null,null,null,5.0000000000000001E-4,"x",null,"xxxx"]
["unknown.",null,null,"",{"$f":"VLOOKUP(F7413&\".\"&G7413,syllabus!B$3:I$99,8,FALSE)&RIGHT(\"00000\"&J7413,5)","v":"68001200"},"unknown","","unknown.: All","BC",1200,null,null,"BC:",null,null,"concept",null,"F",null,"",0,"","","","","","",0,2,0,0,66,66,999,null,null,null,5.0000000000000001E-4,"x",null,"xxxx"]
["unknown.",null,null,"",{"$f":"VLOOKUP(F7414&\".\"&G7414,syllabus!B$3:I$99,8,FALSE)&RIGHT(\"00000\"&J7414,5)","v":"68001300"},"unknown","","unknown.: All","BC",1300,null,null,"BC:",null,null,"concept",null,"F",null,"",0,"","","","","","",0,2,0,0,66,66,999,null,null,null,5.0000000000000001E-4,"x",null,"xxxx"]
["unknown.",null,null,"",{"$f":"VLOOKUP(F7415&\".\"&G7415,syllabus!B$3:I$99,8,FALSE)&RIGHT(\"00000\"&J7415,5)","v":"68001400"},"unknown","","unknown.: All","BC",1400,null,null,"BC:",null,null,"concept",null,"F",null,"",0,"","","","","","",0,2,0,0,66,66,999,null,null,null,5.0000000000000001E-4,"x",null,"xxxx"]
["unknown.",null,null,"",{"$f":"VLOOKUP(F7416&\".\"&G7416,syllabus!B$3:I$99,8,FALSE)&RIGHT(\"00000\"&J7416,5)","v":"68001500"},"unknown","","unknown.: All","BC",1500,null,null,"BC:",null,null,"concept",null,"F",null,"",0,"","","","","","",0,2,0,0,66,66,999,null,null,null,5.0000000000000001E-4,"x",null,"xxxx"]
["unknown.",null,null,"",{"$f":"VLOOKUP(F7417&\".\"&G7417,syllabus!B$3:I$99,8,FALSE)&RIGHT(\"00000\"&J7417,5)","v":"68001600"},"unknown","","unknown.: All","BC",1600,null,null,"BC:",null,null,"concept",null,"F",null,"",0,"","","","","","",0,2,0,0,66,66,999,null,null,null,5.0000000000000001E-4,"x",null,"xxxx"]
["unknown.",null,null,"",{"$f":"VLOOKUP(F7418&\".\"&G7418,syllabus!B$3:I$99,8,FALSE)&RIGHT(\"00000\"&J7418,5)","v":"68001700"},"unknown","","unknown.: All","BC",1700,null,null,"BC:",null,null,"concept",null,"F",null,"",0,"","","","","","",0,2,0,0,66,66,999,null,null,null,5.0000000000000001E-4,"x",null,"xxxx"]
["unknown.",null,null,"",{"$f":"VLOOKUP(F7419&\".\"&G7419,syllabus!B$3:I$99,8,FALSE)&RIGHT(\"00000\"&J7419,5)","v":"68001800"},"unknown","","unknown.: All","BC",1800,null,null,"BC:",null,null,"concept",null,"F",null,"",0,"","","","","","",0,2,0,0,66,66,999,null,null,null,5.0000000000000001E-4,"x",null,"xxxx"]
["unknown.",null,null,"",{"$f":"VLOOKUP(F7420&\".\"&G7420,syllabus!B$3:I$99,8,FALSE)&RIGHT(\"00000\"&J7420,5)","v":"68001900"},"unknown","","unknown.: All","BC",1900,null,null,"BC:",null,null,"concept",null,"F",null,"",0,"","","","","","",0,2,0,0,66,66,999,null,null,null,5.0000000000000001E-4,"x",null,"xxxx"]
["unknown.",null,null,"",{"$f":"VLOOKUP(F7421&\".\"&G7421,syllabus!B$3:I$99,8,FALSE)&RIGHT(\"00000\"&J7421,5)","v":"68002000"},"unknown","","unknown.: All","BC",2000,null,null,"BC:",null,null,"concept",null,"F",null,"",0,"","","","","","",0,2,0,0,66,66,999,null,null,null,5.0000000000000001E-4,"x",null,"xxxx"]
["unknown.",null,null,"",{"$f":"VLOOKUP(F7422&\".\"&G7422,syllabus!B$3:I$99,8,FALSE)&RIGHT(\"00000\"&J7422,5)","v":"68002100"},"unknown","","unknown.: All","BC",2100,null,null,"BC:",null,null,"concept",null,"F",null,"",0,"","","","","","",0,2,0,0,66,66,999,null,null,null,5.0000000000000001E-4,"x",null,"xxxx"]
["unknown.",null,null,"",{"$f":"VLOOKUP(F7423&\".\"&G7423,syllabus!B$3:I$99,8,FALSE)&RIGHT(\"00000\"&J7423,5)","v":"68002200"},"unknown","","unknown.: All","BC",2200,null,null,"BC:",null,null,"concept",null,"F",null,"",0,"","","","","","",0,2,0,0,66,66,999,null,null,null,5.0000000000000001E-4,"x",null,"xxxx"]
["unknown.",null,null,"",{"$f":"VLOOKUP(F7424&\".\"&G7424,syllabus!B$3:I$99,8,FALSE)&RIGHT(\"00000\"&J7424,5)","v":"68002300"},"unknown","","unknown.: All","BC",2300,null,null,"BC:",null,null,"concept",null,"F",null,"",0,"","","","","","",0,2,0,0,66,66,999,null,null,null,5.0000000000000001E-4,"x",null,"xxxx"]
["unknown.",null,null,"",{"$f":"VLOOKUP(F7425&\".\"&G7425,syllabus!B$3:I$99,8,FALSE)&RIGHT(\"00000\"&J7425,5)","v":"68002400"},"unknown","","unknown.: All","BC",2400,null,null,"BC:",null,null,"concept",null,"F",null,"",0,"","","","","","",0,2,0,0,66,66,999,null,null,null,5.0000000000000001E-4,"x",null,"xxxx"]
["unknown.",null,null,"",{"$f":"VLOOKUP(F7426&\".\"&G7426,syllabus!B$3:I$99,8,FALSE)&RIGHT(\"00000\"&J7426,5)","v":"68002500"},"unknown","","unknown.: All","BC",2500,null,null,"BC:",null,null,"concept",null,"F",null,"",0,"","","","","","",0,2,0,0,66,66,999,null,null,null,5.0000000000000001E-4,"x",null,"xxxx"]
["unknown.",null,null,"",{"$f":"VLOOKUP(F7427&\".\"&G7427,syllabus!B$3:I$99,8,FALSE)&RIGHT(\"00000\"&J7427,5)","v":"68002600"},"unknown","","unknown.: All","BC",2600,null,null,"BC:",null,null,"concept",null,"F",null,"",0,"","","","","","",0,2,0,0,66,66,999,null,null,null,5.0000000000000001E-4,"x",null,"xxxx"]
["unknown.",null,null,"",{"$f":"VLOOKUP(F7428&\".\"&G7428,syllabus!B$3:I$99,8,FALSE)&RIGHT(\"00000\"&J7428,5)","v":"68002700"},"unknown","","unknown.: All","BC",2700,null,null,"BC:",null,null,"concept",null,"F",null,"",0,"","","","","","",0,2,0,0,66,66,999,null,null,null,5.0000000000000001E-4,"x",null,"xxxx"]
["unknown.",null,null,"",{"$f":"VLOOKUP(F7429&\".\"&G7429,syllabus!B$3:I$99,8,FALSE)&RIGHT(\"00000\"&J7429,5)","v":"68002800"},"unknown","","unknown.: All","BC",2800,null,null,"BC:",null,null,"concept",null,"F",null,"",0,"","","","","","",0,2,0,0,66,66,999,null,null,null,5.0000000000000001E-4,"x",null,"xxxx"]
["unknown.",null,null,"",{"$f":"VLOOKUP(F7430&\".\"&G7430,syllabus!B$3:I$99,8,FALSE)&RIGHT(\"00000\"&J7430,5)","v":"68002900"},"unknown","","unknown.: All","BC",2900,null,null,"BC:",null,null,"concept",null,"F",null,"",0,"","","","","","",0,2,0,0,66,66,999,null,null,null,5.0000000000000001E-4,"x",null,"xxxx"]
["unknown.",null,null,"",{"$f":"VLOOKUP(F7431&\".\"&G7431,syllabus!B$3:I$99,8,FALSE)&RIGHT(\"00000\"&J7431,5)","v":"68003000"},"unknown","","unknown.: All","BC",3000,null,null,"BC:",null,null,"concept",null,"F",null,"",0,"","","","","","",0,2,0,0,66,66,999,null,null,null,5.0000000000000001E-4,"x",null,"xxxx"]
["unknown.",null,null,"",{"$f":"VLOOKUP(F7432&\".\"&G7432,syllabus!B$3:I$99,8,FALSE)&RIGHT(\"00000\"&J7432,5)","v":"68003100"},"unknown","","unknown.: All","BC",3100,null,null,"BC:",null,null,"concept",null,"F",null,"",0,"","","","","","",0,2,0,0,66,66,999,null,null,null,5.0000000000000001E-4,"x",null,"xxxx"]
["unknown.",null,null,"",{"$f":"VLOOKUP(F7433&\".\"&G7433,syllabus!B$3:I$99,8,FALSE)&RIGHT(\"00000\"&J7433,5)","v":"68003200"},"unknown","","unknown.: All","BC",3200,null,null,"BC:",null,null,"concept",null,"F",null,"",0,"","","","","","",0,2,0,0,66,66,999,null,null,null,5.0000000000000001E-4,"x",null,"xxxx"]
["unknown.",null,null,"",{"$f":"VLOOKUP(F7434&\".\"&G7434,syllabus!B$3:I$99,8,FALSE)&RIGHT(\"00000\"&J7434,5)","v":"68003300"},"unknown","","unknown.: All","BC",3300,null,null,"BC:",null,null,"concept",null,"F",null,"",0,"","","","","","",0,2,0,0,66,66,999,null,null,null,5.0000000000000001E-4,"x",null,"xxxx"]
["unknown.",null,null,"",{"$f":"VLOOKUP(F7435&\".\"&G7435,syllabus!B$3:I$99,8,FALSE)&RIGHT(\"00000\"&J7435,5)","v":"68003400"},"unknown","","unknown.: All","BC",3400,null,null,"BC:",null,null,"concept",null,"F",null,"",0,"","","","","","",0,2,0,0,66,66,999,null,null,null,5.0000000000000001E-4,"x",null,"xxxx"]
["unknown.",null,null,"",{"$f":"VLOOKUP(F7436&\".\"&G7436,syllabus!B$3:I$99,8,FALSE)&RIGHT(\"00000\"&J7436,5)","v":"68003500"},"unknown","","unknown.: All","exam",3500,null,null,"exam:",null,null,"concept",null,"F",null,"",0,"","","","","","",0,2,0,0,66,66,999,null,null,null,5.0000000000000001E-4,"x",null,"xxxx"]
["unknown.",null,null,"",{"$f":"VLOOKUP(F7437&\".\"&G7437,syllabus!B$3:I$99,8,FALSE)&RIGHT(\"00000\"&J7437,5)","v":"68003600"},"unknown","","unknown.: All","exam",3600,null,null,"exam:",null,null,"concept",null,"F",null,"",0,"","","","","","",0,2,0,0,66,66,999,null,null,null,5.0000000000000001E-4,"x",null,"xxxx"]
["unknown.",null,null,"",{"$f":"VLOOKUP(F7438&\".\"&G7438,syllabus!B$3:I$99,8,FALSE)&RIGHT(\"00000\"&J7438,5)","v":"68003700"},"unknown","","unknown.: All","exam",3700,null,null,"exam:",null,null,"concept",null,"F",null,"",0,"","","","","","",0,2,0,0,66,66,999,null,null,null,5.0000000000000001E-4,"x",null,"xxxx"]
["unknown.",null,null,"",{"$f":"VLOOKUP(F7439&\".\"&G7439,syllabus!B$3:I$99,8,FALSE)&RIGHT(\"00000\"&J7439,5)","v":"68003800"},"unknown","","unknown.: All","exam",3800,null,null,"exam:",null,null,"concept",null,"F",null,"",0,"","","","","","",0,2,0,0,66,66,999,null,null,null,5.0000000000000001E-4,"x",null,"xxxx"]
["unknown.",null,null,"",{"$f":"VLOOKUP(F7440&\".\"&G7440,syllabus!B$3:I$99,8,FALSE)&RIGHT(\"00000\"&J7440,5)","v":"68003900"},"unknown","","unknown.: All","exam",3900,null,null,"exam:",null,null,"concept",null,"F",null,"",0,"","","","","","",0,2,0,0,66,66,999,null,null,null,5.0000000000000001E-4,"x",null,"xxxx"]
["unknown.",null,null,"",{"$f":"VLOOKUP(F7441&\".\"&G7441,syllabus!B$3:I$99,8,FALSE)&RIGHT(\"00000\"&J7441,5)","v":"68004000"},"unknown","","unknown.: All","exam",4000,null,null,"exam:",null,null,"concept",null,"F",null,"",0,"","","","","","",0,2,0,0,66,66,999,null,null,null,5.0000000000000001E-4,"x",null,"xxxx"]
["unknown.",null,null,"",{"$f":"VLOOKUP(F7442&\".\"&G7442,syllabus!B$3:I$99,8,FALSE)&RIGHT(\"00000\"&J7442,5)","v":"68004100"},"unknown","","unknown.: All","exam",4100,null,null,"exam:",null,null,"concept",null,"F",null,"",0,"","","","","","",0,2,0,0,66,66,999,null,null,null,5.0000000000000001E-4,"x",null,"xxxx"]
["unknown.",null,null,"",{"$f":"VLOOKUP(F7443&\".\"&G7443,syllabus!B$3:I$99,8,FALSE)&RIGHT(\"00000\"&J7443,5)","v":"68004200"},"unknown","","unknown.: All","exam",4200,null,null,"exam:",null,null,"concept",null,"F",null,"",0,"","","","","","",0,2,0,0,66,66,999,null,null,null,5.0000000000000001E-4,"x",null,"xxxx"]
["unknown.",null,null,"",{"$f":"VLOOKUP(F7444&\".\"&G7444,syllabus!B$3:I$99,8,FALSE)&RIGHT(\"00000\"&J7444,5)","v":"68004300"},"unknown","","unknown.: All","exam",4300,null,null,"exam:",null,null,"concept",null,"F",null,"",0,"","","","","","",0,2,0,0,66,66,999,null,null,null,5.0000000000000001E-4,"x",null,"xxxx"]
["unknown.",null,null,"",{"$f":"VLOOKUP(F7445&\".\"&G7445,syllabus!B$3:I$99,8,FALSE)&RIGHT(\"00000\"&J7445,5)","v":"68004400"},"unknown","","unknown.: All","exam",4400,null,null,"exam:",null,null,"concept",null,"F",null,"",0,"","","","","","",0,2,0,0,66,66,999,null,null,null,5.0000000000000001E-4,"x",null,"xxxx"]
["unknown.",null,null,"",{"$f":"VLOOKUP(F7446&\".\"&G7446,syllabus!B$3:I$99,8,FALSE)&RIGHT(\"00000\"&J7446,5)","v":"68004500"},"unknown","","unknown.: All","exam",4500,null,null,"exam:",null,null,"concept",null,"F",null,"",0,"","","","","","",0,2,0,0,66,66,999,null,null,null,5.0000000000000001E-4,"x",null,"xxxx"]
["unknown.",null,null,"",{"$f":"VLOOKUP(F7447&\".\"&G7447,syllabus!B$3:I$99,8,FALSE)&RIGHT(\"00000\"&J7447,5)","v":"68004600"},"unknown","","unknown.: All","exam",4600,null,null,"exam:",null,null,"concept",null,"F",null,"",0,"","","","","","",0,2,0,0,66,66,999,null,null,null,5.0000000000000001E-4,"x",null,"xxxx"]
["unknown.",null,null,"",{"$f":"VLOOKUP(F7448&\".\"&G7448,syllabus!B$3:I$99,8,FALSE)&RIGHT(\"00000\"&J7448,5)","v":"68004700"},"unknown","","unknown.: All","exam",4700,null,null,"exam:",null,null,"concept",null,"F",null,"",0,"","","","","","",0,2,0,0,66,66,999,null,null,null,5.0000000000000001E-4,"x",null,"xxxx"]
["unknown.",null,null,"",{"$f":"VLOOKUP(F7449&\".\"&G7449,syllabus!B$3:I$99,8,FALSE)&RIGHT(\"00000\"&J7449,5)","v":"68004800"},"unknown","","unknown.: All","exam",4800,null,null,"exam:",null,null,"concept",null,"F",null,"",0,"","","","","","",0,2,0,0,66,66,999,null,null,null,5.0000000000000001E-4,"x",null,"xxxx"]
["unknown.",null,null,"",{"$f":"VLOOKUP(F7450&\".\"&G7450,syllabus!B$3:I$99,8,FALSE)&RIGHT(\"00000\"&J7450,5)","v":"68004900"},"unknown","","unknown.: All","exam",4900,null,null,"exam:",null,null,"concept",null,"F",null,"",0,"","","","","","",0,2,0,0,66,66,999,null,null,null,5.0000000000000001E-4,"x",null,"xxxx"]
["unknown.",null,null,"",{"$f":"VLOOKUP(F7451&\".\"&G7451,syllabus!B$3:I$99,8,FALSE)&RIGHT(\"00000\"&J7451,5)","v":"68005000"},"unknown","","unknown.: All","exam",5000,null,null,"exam:",null,null,"concept",null,"F",null,"",0,"","","","","","",0,2,0,0,66,66,999,null,null,null,5.0000000000000001E-4,"x",null,"xxxx"]
["unknown.",null,null,"",{"$f":"VLOOKUP(F7452&\".\"&G7452,syllabus!B$3:I$99,8,FALSE)&RIGHT(\"00000\"&J7452,5)","v":"68005100"},"unknown","","unknown.: All","exam",5100,null,null,"exam:",null,null,"concept",null,"F",null,"",0,"","","","","","",0,2,0,0,66,66,999,null,null,null,5.0000000000000001E-4,"x",null,"xxxx"]
["unknown.",null,null,"",{"$f":"VLOOKUP(F7453&\".\"&G7453,syllabus!B$3:I$99,8,FALSE)&RIGHT(\"00000\"&J7453,5)","v":"68005200"},"unknown","","unknown.: All","exam",5200,null,null,"exam:",null,null,"concept",null,"F",null,"",0,"","","","","","",0,2,0,0,66,66,999,null,null,null,5.0000000000000001E-4,"x",null,"xxxx"]
["unknown.",null,null,"",{"$f":"VLOOKUP(F7454&\".\"&G7454,syllabus!B$3:I$99,8,FALSE)&RIGHT(\"00000\"&J7454,5)","v":"68005300"},"unknown","","unknown.: All","exam",5300,null,null,"exam:",null,null,"concept",null,"F",null,"",0,"","","","","","",0,2,0,0,66,66,999,null,null,null,5.0000000000000001E-4,"x",null,"xxxx"]
["unknown.",null,null,"",{"$f":"VLOOKUP(F7455&\".\"&G7455,syllabus!B$3:I$99,8,FALSE)&RIGHT(\"00000\"&J7455,5)","v":"68005400"},"unknown","","unknown.: All","exam",5400,null,null,"exam:",null,null,"concept",null,"F",null,"",0,"","","","","","",0,2,0,0,66,66,999,null,null,null,5.0000000000000001E-4,"x",null,"xxxx"]
["unknown.",null,null,"",{"$f":"VLOOKUP(F7456&\".\"&G7456,syllabus!B$3:I$99,8,FALSE)&RIGHT(\"00000\"&J7456,5)","v":"68005500"},"unknown","","unknown.: All","exam",5500,null,null,"exam:",null,null,"concept",null,"F",null,"",0,"","","","","","",0,2,0,0,66,66,999,null,null,null,5.0000000000000001E-4,"x",null,"xxxx"]
["unknown.",null,null,"",{"$f":"VLOOKUP(F7457&\".\"&G7457,syllabus!B$3:I$99,8,FALSE)&RIGHT(\"00000\"&J7457,5)","v":"68005600"},"unknown","","unknown.: All","exam",5600,null,null,"exam:",null,null,"concept",null,"F",null,"",0,"","","","","","",0,2,0,0,66,66,999,null,null,null,5.0000000000000001E-4,"x",null,"xxxx"]
["unknown.",null,null,"",{"$f":"VLOOKUP(F7458&\".\"&G7458,syllabus!B$3:I$99,8,FALSE)&RIGHT(\"00000\"&J7458,5)","v":"68005700"},"unknown","","unknown.: All","exam",5700,null,null,"exam:",null,null,"concept",null,"F",null,"",0,"","","","","","",0,2,0,0,66,66,999,null,null,null,5.0000000000000001E-4,"x",null,"xxxx"]
["unknown.",null,null,"",{"$f":"VLOOKUP(F7459&\".\"&G7459,syllabus!B$3:I$99,8,FALSE)&RIGHT(\"00000\"&J7459,5)","v":"68005800"},"unknown","","unknown.: All","exam",5800,null,null,"exam:",null,null,"concept",null,"F",null,"",0,"","","","","","",0,2,0,0,66,66,999,null,null,null,5.0000000000000001E-4,"x",null,"xxxx"]
["unknown.",null,null,"",{"$f":"VLOOKUP(F7460&\".\"&G7460,syllabus!B$3:I$99,8,FALSE)&RIGHT(\"00000\"&J7460,5)","v":"68005900"},"unknown","","unknown.: All","exam",5900,null,null,"exam:",null,null,"concept",null,"F",null,"",0,"","","","","","",0,2,0,0,66,66,999,null,null,null,5.0000000000000001E-4,"x",null,"xxxx"]
["unknown.",null,null,"",{"$f":"VLOOKUP(F7461&\".\"&G7461,syllabus!B$3:I$99,8,FALSE)&RIGHT(\"00000\"&J7461,5)","v":"68006000"},"unknown","","unknown.: All","(unknown) exam",6000,"x",null,"(unknown) exam: federal litigation and judicial reforms","see examiner's report - click yellow \"E\" link in \"Section\" column",null,"concept",null,"outdated",null,"exam",1,"16","1-Spring",5,"","",2.25,0,2,0,0,66,66,999,null,null,null,5.0000000000000001E-4,"x",null,"xxxx"]
["unknown.",null,null,"",{"$f":"VLOOKUP(F7462&\".\"&G7462,syllabus!B$3:I$99,8,FALSE)&RIGHT(\"00000\"&J7462,5)","v":"68006100"},"unknown","","unknown.: All","(unknown) exam",6100,null,null,"(unknown) exam: prospective reinsurance, discounting, risk margins","see examiner's report - click yellow \"E\" link in \"Section\" column",null,"concept",null,"outdated",null,"exam",1,"16","1-Spring",19,"","",2.5,0,2,0,0,66,66,999,null,null,null,5.0000000000000001E-4,"x",null,"xxxx"]
["unknown.",null,null,"",{"$f":"VLOOKUP(F7463&\".\"&G7463,syllabus!B$3:I$99,8,FALSE)&RIGHT(\"00000\"&J7463,5)","v":"68006200"},"unknown","","unknown.: All","(unknown) exam",6200,null,null,"(unknown) exam: asbestos litigation","see examiner's report - click yellow \"E\" link in \"Section\" column",null,"concept",null,"outdated",null,"exam",1,"15","2-Fall",7,"","",2,0,2,0,0,66,66,999,null,null,null,5.0000000000000001E-4,"x",null,"xxxx"]
["unknown.",null,null,"",{"$f":"VLOOKUP(F7464&\".\"&G7464,syllabus!B$3:I$99,8,FALSE)&RIGHT(\"00000\"&J7464,5)","v":"68006300"},"unknown","","unknown.: All","(unknown) exam",6300,null,null,"(unknown) exam: tax incentives, investment strategies","see examiner's report - click yellow \"E\" link in \"Section\" column",null,"concept",null,"outdated",null,"exam",1,"15","2-Fall",20,"","",3.75,0,2,0,0,66,66,999,null,null,null,5.0000000000000001E-4,"x",null,"xxxx"]
["unknown.",null,null,"",{"$f":"VLOOKUP(F7465&\".\"&G7465,syllabus!B$3:I$99,8,FALSE)&RIGHT(\"00000\"&J7465,5)","v":"68006400"},"unknown","","unknown.: All","(UNKNOWN - BRQ pts = 0) exam",6400,null,null,"(UNKNOWN - BRQ pts = 0) exam: ",null,null,"concept",null,"F",null,"",0,"","","","","","",0,2,0,0,66,66,999,null,null,null,5.0000000000000001E-4,"x",null,"xxxx"]
["unknown.",null,null,"",{"$f":"VLOOKUP(F7466&\".\"&G7466,syllabus!B$3:I$99,8,FALSE)&RIGHT(\"00000\"&J7466,5)","v":"68006500"},"unknown","","unknown.: All","(UNKNOWN - BRQ pts = 0) exam",6500,null,null,"(UNKNOWN - BRQ pts = 0) exam: ",null,null,"concept",null,"F",null,"",0,"","","","","","",0,2,0,0,66,66,999,null,null,null,5.0000000000000001E-4,"x",null,"xxxx"]
["unknown.",null,null,"",{"$f":"VLOOKUP(F7467&\".\"&G7467,syllabus!B$3:I$99,8,FALSE)&RIGHT(\"00000\"&J7467,5)","v":"68006600"},"unknown","","unknown.: All","(UNKNOWN - BRQ pts = 0) exam",6600,null,null,"(UNKNOWN - BRQ pts = 0) exam: ",null,null,"concept",null,"F",null,"",0,"","","","","","",0,2,0,0,66,66,999,null,null,null,5.0000000000000001E-4,"x",null,"xxxx"]
["unknown.",null,null,"",{"$f":"VLOOKUP(F7468&\".\"&G7468,syllabus!B$3:I$99,8,FALSE)&RIGHT(\"00000\"&J7468,5)","v":"68006700"},"unknown","","unknown.: All","(UNKNOWN - BRQ pts = 0) exam",6700,null,null,"(UNKNOWN - BRQ pts = 0) exam: ",null,null,"concept",null,"F",null,"",0,"","","","","","",0,2,0,0,66,66,999,null,null,null,5.0000000000000001E-4,"x",null,"xxxx"]
["unknown.",null,null,"",{"$f":"VLOOKUP(F7469&\".\"&G7469,syllabus!B$3:I$99,8,FALSE)&RIGHT(\"00000\"&J7469,5)","v":"68006800"},"unknown","","unknown.: All","(UNKNOWN - BRQ pts = 0) exam",6800,null,null,"(UNKNOWN - BRQ pts = 0) exam: ",null,null,"concept",null,"F",null,"",0,"","","","","","",0,2,0,0,66,66,999,null,null,null,5.0000000000000001E-4,"x",null,"xxxx"]
["unknown.",null,null,"",{"$f":"VLOOKUP(F7470&\".\"&G7470,syllabus!B$3:I$99,8,FALSE)&RIGHT(\"00000\"&J7470,5)","v":"68006900"},"unknown","","unknown.: All","(UNKNOWN - BRQ pts = 0) exam",6900,null,null,"(UNKNOWN - BRQ pts = 0) exam: ",null,null,"concept",null,"F",null,"",0,"","","","","","",0,2,0,0,66,66,999,null,null,null,5.0000000000000001E-4,"x",null,"xxxx"]
["unknown.",null,null,"",{"$f":"VLOOKUP(F7471&\".\"&G7471,syllabus!B$3:I$99,8,FALSE)&RIGHT(\"00000\"&J7471,5)","v":"68007000"},"unknown","","unknown.: All","(UNKNOWN - BRQ pts = 0) exam",7000,null,null,"(UNKNOWN - BRQ pts = 0) exam: ",null,null,"concept",null,"F",null,"",0,"","","","","","",0,2,0,0,66,66,999,null,null,null,5.0000000000000001E-4,"x",null,"xxxx"]
["unknown.",null,null,"",{"$f":"VLOOKUP(F7472&\".\"&G7472,syllabus!B$3:I$99,8,FALSE)&RIGHT(\"00000\"&J7472,5)","v":"68007100"},"unknown","","unknown.: All","(UNKNOWN - BRQ pts = 0) exam",7100,null,null,"(UNKNOWN - BRQ pts = 0) exam: ",null,null,"concept",null,"F",null,"",0,"","","","","","",0,2,0,0,66,66,999,null,null,null,5.0000000000000001E-4,"x",null,"xxxx"]
["unknown.",null,null,"",{"$f":"VLOOKUP(F7473&\".\"&G7473,syllabus!B$3:I$99,8,FALSE)&RIGHT(\"00000\"&J7473,5)","v":"68007200"},"unknown","","unknown.: All","(UNKNOWN - BRQ pts = 0) exam",7200,null,null,"(UNKNOWN - BRQ pts = 0) exam: ",null,null,"concept",null,"F",null,"",0,"","","","","","",0,2,0,0,66,66,999,null,null,null,5.0000000000000001E-4,"x",null,"xxxx"]
["unknown.",null,null,"",{"$f":"VLOOKUP(F7474&\".\"&G7474,syllabus!B$3:I$99,8,FALSE)&RIGHT(\"00000\"&J7474,5)","v":"68007300"},"unknown","","unknown.: All","(UNKNOWN - BRQ pts = 0) exam",7300,null,null,"(UNKNOWN - BRQ pts = 0) exam: ",null,null,"concept",null,"F",null,"",0,"","","","","","",0,2,0,0,66,66,999,null,null,null,5.0000000000000001E-4,"x",null,"xxxx"]
["unknown.",null,null,"",{"$f":"VLOOKUP(F7475&\".\"&G7475,syllabus!B$3:I$99,8,FALSE)&RIGHT(\"00000\"&J7475,5)","v":"68007400"},"unknown","","unknown.: All","(UNKNOWN - BRQ pts = 0) exam",7400,null,null,"(UNKNOWN - BRQ pts = 0) exam: ",null,null,"concept",null,"F",null,"",0,"","","","","","",0,2,0,0,66,66,999,null,null,null,5.0000000000000001E-4,"x",null,"xxxx"]
["unknown.",null,null,"",{"$f":"VLOOKUP(F7476&\".\"&G7476,syllabus!B$3:I$99,8,FALSE)&RIGHT(\"00000\"&J7476,5)","v":"68007500"},"unknown","","unknown.: All","(UNKNOWN - BRQ pts = 0) exam",7500,null,null,"(UNKNOWN - BRQ pts = 0) exam: ",null,null,"concept",null,"F",null,"",0,"","","","","","",0,2,0,0,66,66,999,null,null,null,5.0000000000000001E-4,"x",null,"xxxx"]
["unknown.",null,null,"",{"$f":"VLOOKUP(F7477&\".\"&G7477,syllabus!B$3:I$99,8,FALSE)&RIGHT(\"00000\"&J7477,5)","v":"68007600"},"unknown","","unknown.: All","(UNKNOWN - BRQ pts = 0) exam",7600,null,null,"(UNKNOWN - BRQ pts = 0) exam: ",null,null,"concept",null,"F",null,"",0,"","","","","","",0,2,0,0,66,66,999,null,null,null,5.0000000000000001E-4,"x",null,"xxxx"]
["unknown.",null,null,"",{"$f":"VLOOKUP(F7478&\".\"&G7478,syllabus!B$3:I$99,8,FALSE)&RIGHT(\"00000\"&J7478,5)","v":"68007700"},"unknown","","unknown.: All","(UNKNOWN - BRQ pts = 0) exam",7700,null,null,"(UNKNOWN - BRQ pts = 0) exam: ",null,null,"concept",null,"F",null,"",0,"","","","","","",0,2,0,0,66,66,999,null,null,null,5.0000000000000001E-4,"x",null,"xxxx"]
["unknown.",null,null,"",{"$f":"VLOOKUP(F7479&\".\"&G7479,syllabus!B$3:I$99,8,FALSE)&RIGHT(\"00000\"&J7479,5)","v":"68007800"},"unknown","","unknown.: All","(UNKNOWN - BRQ pts = 0) exam",7800,null,null,"(UNKNOWN - BRQ pts = 0) exam: ",null,null,"concept",null,"F",null,"",0,"","","","","","",0,2,0,0,66,66,999,null,null,null,5.0000000000000001E-4,"x",null,"xxxx"]
["unknown.",null,null,"",{"$f":"VLOOKUP(F7480&\".\"&G7480,syllabus!B$3:I$99,8,FALSE)&RIGHT(\"00000\"&J7480,5)","v":"68007900"},"unknown","","unknown.: All","(UNKNOWN - BRQ pts = 0) exam",7900,null,null,"(UNKNOWN - BRQ pts = 0) exam: ",null,null,"concept",null,"F",null,"",0,"","","","","","",0,2,0,0,66,66,999,null,null,null,5.0000000000000001E-4,"x",null,"xxxx"]
["unknown.",null,null,"",{"$f":"VLOOKUP(F7481&\".\"&G7481,syllabus!B$3:I$99,8,FALSE)&RIGHT(\"00000\"&J7481,5)","v":"68008000"},"unknown","","unknown.: All","(UNKNOWN - BRQ pts = 0) exam",8000,null,null,"(UNKNOWN - BRQ pts = 0) exam: ",null,null,"concept",null,"F",null,"",0,"","","","","","",0,2,0,0,66,66,999,null,null,null,5.0000000000000001E-4,"x",null,"xxxx"]
["unknown.",null,null,"",{"$f":"VLOOKUP(F7482&\".\"&G7482,syllabus!B$3:I$99,8,FALSE)&RIGHT(\"00000\"&J7482,5)","v":"68008100"},"unknown","","unknown.: All","(UNKNOWN - BRQ pts = 0) exam",8100,null,null,"(UNKNOWN - BRQ pts = 0) exam: ",null,null,"concept",null,"F",null,"",0,"","","","","","",0,2,0,0,66,66,999,null,null,null,5.0000000000000001E-4,"x",null,"xxxx"]
["unknown.",null,null,"",{"$f":"VLOOKUP(F7483&\".\"&G7483,syllabus!B$3:I$99,8,FALSE)&RIGHT(\"00000\"&J7483,5)","v":"68008200"},"unknown","","unknown.: All","(UNKNOWN - BRQ pts = 0) exam",8200,null,null,"(UNKNOWN - BRQ pts = 0) exam: ",null,null,"concept",null,"F",null,"",0,"","","","","","",0,2,0,0,66,66,999,null,null,null,5.0000000000000001E-4,"x",null,"xxxx"]
["unknown.",null,null,"",{"$f":"VLOOKUP(F7484&\".\"&G7484,syllabus!B$3:I$99,8,FALSE)&RIGHT(\"00000\"&J7484,5)","v":"68008300"},"unknown","","unknown.: All","(UNKNOWN - BRQ pts = 0) exam",8300,null,null,"(UNKNOWN - BRQ pts = 0) exam: ",null,null,"concept",null,"F",null,"",0,"","","","","","",0,2,0,0,66,66,999,null,null,null,5.0000000000000001E-4,"x",null,"xxxx"]
["unknown.",null,null,"",{"$f":"VLOOKUP(F7485&\".\"&G7485,syllabus!B$3:I$99,8,FALSE)&RIGHT(\"00000\"&J7485,5)","v":"68008400"},"unknown","","unknown.: All","(UNKNOWN - BRQ pts = 0) exam",8400,null,null,"(UNKNOWN - BRQ pts = 0) exam: ",null,null,"concept",null,"F",null,"",0,"","","","","","",0,2,0,0,66,66,999,null,null,null,5.0000000000000001E-4,"x",null,"xxxx"]
["unknown.",null,null,"",{"$f":"VLOOKUP(F7486&\".\"&G7486,syllabus!B$3:I$99,8,FALSE)&RIGHT(\"00000\"&J7486,5)","v":"68008500"},"unknown","","unknown.: All","(UNKNOWN - BRQ pts = 0) exam",8500,null,null,"(UNKNOWN - BRQ pts = 0) exam: ",null,null,"concept",null,"F",null,"",0,"","","","","","",0,2,0,0,66,66,999,null,null,null,5.0000000000000001E-4,"x",null,"xxxx"]
["unknown.",null,null,"",{"$f":"VLOOKUP(F7487&\".\"&G7487,syllabus!B$3:I$99,8,FALSE)&RIGHT(\"00000\"&J7487,5)","v":"68008600"},"unknown","","unknown.: All","(UNKNOWN - BRQ pts = 0) exam",8600,null,null,"(UNKNOWN - BRQ pts = 0) exam: ",null,null,"concept",null,"F",null,"",0,"","","","","","",0,2,0,0,66,66,999,null,null,null,5.0000000000000001E-4,"x",null,"xxxx"]
["unknown.",null,null,"",{"$f":"VLOOKUP(F7488&\".\"&G7488,syllabus!B$3:I$99,8,FALSE)&RIGHT(\"00000\"&J7488,5)","v":"68008700"},"unknown","","unknown.: All","(UNKNOWN - BRQ pts = 0) exam",8700,null,null,"(UNKNOWN - BRQ pts = 0) exam: ",null,null,"concept",null,"F",null,"",0,"","","","","","",0,2,0,0,66,66,999,null,null,null,5.0000000000000001E-4,"x",null,"xxxx"]
["unknown.",null,null,"",{"$f":"VLOOKUP(F7489&\".\"&G7489,syllabus!B$3:I$99,8,FALSE)&RIGHT(\"00000\"&J7489,5)","v":"68008800"},"unknown","","unknown.: All","(UNKNOWN - BRQ pts = 0) exam",8800,null,null,"(UNKNOWN - BRQ pts = 0) exam: ",null,null,"concept",null,"F",null,"",0,"","","","","","",0,2,0,0,66,66,999,null,null,null,5.0000000000000001E-4,"x",null,"xxxx"]
["unknown.",null,null,"",{"$f":"VLOOKUP(F7490&\".\"&G7490,syllabus!B$3:I$99,8,FALSE)&RIGHT(\"00000\"&J7490,5)","v":"68008900"},"unknown","","unknown.: All","(UNKNOWN - BRQ pts = 0) exam",8900,null,null,"(UNKNOWN - BRQ pts = 0) exam: ",null,null,"concept",null,"F",null,"",0,"","","","","","",0,2,0,0,66,66,999,null,null,null,5.0000000000000001E-4,"x",null,"xxxx"]
["unknown.",null,null,"",{"$f":"VLOOKUP(F7491&\".\"&G7491,syllabus!B$3:I$99,8,FALSE)&RIGHT(\"00000\"&J7491,5)","v":"68009000"},"unknown","","unknown.: All","(UNKNOWN - BRQ pts = 0) exam",9000,null,null,"(UNKNOWN - BRQ pts = 0) exam: ",null,null,"concept",null,"F",null,"",0,"","","","","","",0,2,0,0,66,66,999,null,null,null,5.0000000000000001E-4,"x",null,"xxxx"]
["unknown.",null,null,"",{"$f":"VLOOKUP(F7492&\".\"&G7492,syllabus!B$3:I$99,8,FALSE)&RIGHT(\"00000\"&J7492,5)","v":"68009100"},"unknown","","unknown.: All","(UNKNOWN - BRQ pts = 0) exam",9100,null,null,"(UNKNOWN - BRQ pts = 0) exam: ",null,null,"concept",null,"F",null,"",0,"","","","","","",0,2,0,0,66,66,999,null,null,null,5.0000000000000001E-4,"x",null,"xxxx"]
["unknown.",null,null,"",{"$f":"VLOOKUP(F7493&\".\"&G7493,syllabus!B$3:I$99,8,FALSE)&RIGHT(\"00000\"&J7493,5)","v":"68009200"},"unknown","","unknown.: All","(UNKNOWN - BRQ pts = 0) exam",9200,null,null,"(UNKNOWN - BRQ pts = 0) exam: ",null,null,"concept",null,"F",null,"",0,"","","","","","",0,2,0,0,66,66,999,null,null,null,5.0000000000000001E-4,"x",null,"xxxx"]
["unknown.",null,null,"",{"$f":"VLOOKUP(F7494&\".\"&G7494,syllabus!B$3:I$99,8,FALSE)&RIGHT(\"00000\"&J7494,5)","v":"68009300"},"unknown","","unknown.: All","(UNKNOWN - BRQ pts = 0) exam",9300,null,null,"(UNKNOWN - BRQ pts = 0) exam: ",null,null,"concept",null,"F",null,"",0,"","","","","","",0,2,0,0,66,66,999,null,null,null,5.0000000000000001E-4,"x",null,"xxxx"]
["unknown.",null,null,"",{"$f":"VLOOKUP(F7495&\".\"&G7495,syllabus!B$3:I$99,8,FALSE)&RIGHT(\"00000\"&J7495,5)","v":"68009400"},"unknown","","unknown.: All","(UNKNOWN - BRQ pts = 0) exam",9400,null,null,"(UNKNOWN - BRQ pts = 0) exam: ",null,null,"concept",null,"F",null,"",0,"","","","","","",0,2,0,0,66,66,999,null,null,null,5.0000000000000001E-4,"x",null,"xxxx"]
["unknown.",null,null,"",{"$f":"VLOOKUP(F7496&\".\"&G7496,syllabus!B$3:I$99,8,FALSE)&RIGHT(\"00000\"&J7496,5)","v":"68009500"},"unknown","","unknown.: All","(UNKNOWN - BRQ pts = 0) exam",9500,null,null,"(UNKNOWN - BRQ pts = 0) exam: ",null,null,"concept",null,"F",null,"",0,"","","","","","",0,2,0,0,66,66,999,null,null,null,5.0000000000000001E-4,"x",null,"xxxx"]
["unknown.",null,null,"",{"$f":"VLOOKUP(F7497&\".\"&G7497,syllabus!B$3:I$99,8,FALSE)&RIGHT(\"00000\"&J7497,5)","v":"68009600"},"unknown","","unknown.: All","(UNKNOWN - BRQ pts = 0) exam",9600,null,null,"(UNKNOWN - BRQ pts = 0) exam: ",null,null,"concept",null,"F",null,"",0,"","","","","","",0,2,0,0,66,66,999,null,null,null,5.0000000000000001E-4,"x",null,"xxxx"]
["unknown.",null,null,"",{"$f":"VLOOKUP(F7498&\".\"&G7498,syllabus!B$3:I$99,8,FALSE)&RIGHT(\"00000\"&J7498,5)","v":"68009700"},"unknown","","unknown.: All","(UNKNOWN - BRQ pts = 0) exam",9700,null,null,"(UNKNOWN - BRQ pts = 0) exam: ",null,null,"concept",null,"F",null,"",0,"","","","","","",0,2,0,0,66,66,999,null,null,null,5.0000000000000001E-4,"x",null,"xxxx"]
["unknown.",null,null,"",{"$f":"VLOOKUP(F7499&\".\"&G7499,syllabus!B$3:I$99,8,FALSE)&RIGHT(\"00000\"&J7499,5)","v":"68009800"},"unknown","","unknown.: All","(UNKNOWN - BRQ pts = 0) exam",9800,null,null,"(UNKNOWN - BRQ pts = 0) exam: ",null,null,"concept",null,"F",null,"",0,"","","","","","",0,2,0,0,66,66,999,null,null,null,5.0000000000000001E-4,"x",null,"xxxx"]
["unknown.",null,null,"",{"$f":"VLOOKUP(F7500&\".\"&G7500,syllabus!B$3:I$99,8,FALSE)&RIGHT(\"00000\"&J7500,5)","v":"68009900"},"unknown","","unknown.: All","(UNKNOWN - BRQ pts = 0) exam",9900,null,null,"(UNKNOWN - BRQ pts = 0) exam: ",null,null,"concept",null,"F",null,"",0,"","","","","","",0,2,0,0,66,66,999,null,null,null,5.0000000000000001E-4,"x",null,"xxxx"]
["unknown.",null,null,"",{"$f":"VLOOKUP(F7501&\".\"&G7501,syllabus!B$3:I$99,8,FALSE)&RIGHT(\"00000\"&J7501,5)","v":"68009999"},"unknown","","unknown.: All","(UNKNOWN - BRQ pts = 0) exam",9999,null,null,"(UNKNOWN - BRQ pts = 0) exam: ",null,null,"concept",null,"F",null,"",0,"","","","","","",0,2,0,0,66,66,999,null,null,null,5.0000000000000001E-4,"x",null,"xxxx"]
["----","----","----","----","----","----","----","----","----","----","----","----","----","----","----","----","----","----","----","----","----","----","----","----","----","----","----","----","----","----","----","----","----","----","----","----","----","----","----","----","----","----","----","----","----","----","----","----","----","----","----","----","----","----","----","----","----","----","----","----","----","----","----","----","----","----","----","----","----","----","----","----","----","----","----","----","----","----","----","----","----","----"]

{"sheet":"ExamPtTots","index":7,"n_rows":36,"n_cols":8,"rows_kept":36,"cut":false,"hidden":false,"merged":[]}
["examYear","18",null,"1,7,8,9,10,15,22",null,"nos"]
["examTerm","2-Fall",null,24,null,"multiple"]
[]
["Row Labels","Sum of examQpoints",null,"actual","diff",null,null,"18F"]
[1,3,null,{"$f":"VLOOKUP(A5,G$5:H$40,2,FALSE)","v":3},{"$f":"B5-D5","v":0},null,1,3]
[2,2.5,null,{"$f":"VLOOKUP(A6,G$5:H$40,2,FALSE)","v":2.5},{"$f":"B6-D6","v":0},null,2,2.5]
[3,3,null,3,0,null,3,3]
[4,1.75,null,1.75,0,null,4,1.75]
[5,2.25,null,2.25,0,null,5,2.25]
[6,2.5,null,2.5,0,null,6,2.5]
[7,2.75,null,2.75,0,null,7,2.75]
[8,2.25,null,2.25,0,null,8,2.25]
[9,2,null,2,0,null,9,2]
[10,3.5,null,3.5,0,null,10,3.5]
[11,2.25,null,2.25,0,null,11,2.25]
[12,2,null,2,0,null,12,2]
[13,2.75,null,2.75,0,null,13,2.75]
[14,2.5,null,2.5,0,null,14,2.5]
[15,3,null,3,0,null,15,3]
[16,3.75,null,3.75,0,null,16,3.75]
[17,2.75,null,2.75,0,null,17,2.75]
[18,3.5,null,3.5,0,null,18,3.5]
[19,3.5,null,3.5,0,null,19,3.5]
[20,1.5,null,1.5,0,null,20,1.5]
[21,4.75,null,4.75,0,null,21,4.75]
[22,2.75,null,2.75,0,null,22,2.75]
[23,1.75,null,1.75,0,null,23,1.75]
[24,2,null,{"$f":"VLOOKUP(A28,G$5:H$40,2,FALSE)","v":2},{"$f":"B28-D28","v":0},null,24,2]
[25,3.25,null,3.25,0,null,25,3.25]
[26,2,null,2,0,null,26,2]
["(blank)",null,null,{"$error":"#N/A"},{"$error":"#N/A"},null,27]
["Grand Total",69.5,null,{"$error":"#N/A"},{"$error":"#N/A"},null,28]
[null,null,null,{"$error":"#N/A"},{"$error":"#N/A"},null,29]
[null,null,null,{"$error":"#N/A"},{"$error":"#N/A"},null,30]
[null,null,null,null,null,null,31]
[null,null,null,null,null,null,null,{"$f":"SUM(H5:H35)","v":69.5}]

{"sheet":"COPLFR","index":8,"n_rows":71,"n_cols":15,"rows_kept":71,"cut":false,"hidden":false,"merged":[]}
["SECTION",null,"2018.F","2018.S","2017.F","2017.S","2016.F","2016.S","2015.F","2015.S","2014.F","2014.S","2013.F","2012.F","Totals"]
["1.0","INTRODUCTION",null,null,null,null,null,null,null,null,null,null,null,null,{"$f":"IF(COUNTA(C2:N2)=0,\"\",COUNTA(C2:N2))","v":""}]
["1.1",null,null,null,null,null,null,null,null,null,null,null,null,null,{"$f":"IF(COUNTA(C3:N3)=0,\"\",COUNTA(C3:N3))","v":""}]
["1.2",null,null,null,null,null,null,null,null,null,null,null,null,null,""]
["1.3",null,null,null,null,null,null,null,null,null,null,null,null,null,""]
["1.4",null,null,null,null,null,null,null,null,null,null,null,null,null,""]
["1.5",null,null,null,null,null,null,null,null,null,null,null,null,null,""]
["1.6",null,null,null,null,null,null,null,null,null,null,null,null,null,""]
["2.0","IDENTIFICATION section",null,null,null,null,null,null,null,null,null,null,null,null,""]
["2.1","- appointment of the qualified actuary",null,null,null,null,"22(ab)","20(b)",null,null,null,null,"27(a)",null,3]
["2.2","- qualifications",null,null,null,null,null,null,null,null,null,null,null,null,""]
["2.3","- change in appointed actuary",null,null,null,null,"22(c)",null,21,null,null,null,null,null,2]
["3.0","SCOPE section",null,null,null,null,null,null,"25(a)",null,null,null,"25(a)",null,2]
["3.1","- scope of SAO",null,null,null,null,null,null,null,null,null,null,null,null,""]
["3.2","- stated basis of presentation",null,null,null,null,null,null,null,null,null,null,null,null,""]
["3.3","- intercompany pooling",null,null,"23","13(c)",null,null,null,null,null,null,null,null,2]
["3.4","- review date",null,null,null,null,null,null,null,null,null,null,"25(b.ii)",null,1]
["3.5","- provider of data",null,null,null,"23(a.ii)",null,null,null,null,null,null,"25(b.iv)",null,2]
["3.6","- evaluate data for reasonability/consistency",null,null,null,null,null,null,null,null,null,null,null,null,""]
["3.7","- reconciliation to Schedule P",null,"23(a)",null,null,null,"21(b)",null,null,null,null,"25(b.iii)",null,3]
["3.8","- data testing requirement",null,null,null,null,null,"21(a)",null,null,null,null,null,null,1]
["3.9","- methodology",null,null,null,null,null,null,null,null,null,null,"25(b.i)",null,1]
["4.0","OPINION section",null,"23(c)","22(a)",null,null,null,null,null,"21(a)",null,null,"26(b)",4]
["4.1","- meets relevant laws",null,null,null,null,null,null,null,null,null,null,null,null,""]
["4.2","- accepted actuarial standards",null,null,null,null,null,null,null,null,null,null,null,null,""]
["4.3","- TYPE OF OPINION: reasonable",null,null,"22(b)",null,"20(a)","20(a)",null,null,"20(i)",null,null,null,4]
["4.4","- TYPE OF OPINION: inadequate/excessive",null,null,null,null,null,"22(b)","22(a)",null,"20(iv)",null,null,null,3]
["4.5","- TYPE OF OPINION: qualified",null,null,null,null,null,null,null,null,"20(iii)","25(c)",null,"26(a)",3]
["4.6","- TYPE OF OPINION: none",null,null,null,null,null,null,null,null,"20(ii)",null,null,null,1]
["4.7","- other loss reserve items",null,null,null,null,null,null,null,null,null,null,null,null,""]
["4.8","- UPR for long duration contracts",null,null,null,null,null,null,null,null,null,null,"27(b)",null,1]
["4.9","- other premium reserve items",null,null,null,null,null,null,null,null,null,null,null,null,""]
["4.10","- work of others",null,"22(a)","24","23(a.iii, c)",null,"20(a)",null,null,"21(b)","25(b)",null,null,6]
["5.0","RELEVANT COMMENTS section",null,null,null,null,null,null,null,null,null,null,null,null,""]
["5.1","- materiality standard",null,"25(ab)","26","22(ab)",null,"24(a)","23(ab), 24(a)","22(ac)","22(a)","24(a)","24, 27(d.i)","28(abc)",10]
["5.2","- company-specific risk factors",null,null,null,"25a",null,"24(c)",null,"22(d)",null,null,"24, 27(d.ii)",null,4]
["5.3","- RMAD (Risk of Material Adverse Deviation)",null,"25(c)",null,"22(c), 25(bc)","20(bc)","22(b), 24(b)","22(b), 23(c), 24(c)","22(b)","22(b)","24(cd)",24,null,9]
["5.4","- anticipated salvage & subrogation",null,null,null,null,null,null,null,null,null,null,null,null,""]
["5.5","- discounting",null,null,null,null,null,null,"25(b)",null,null,"25(a)",null,null,2]
["5.6","- voluntary/involuntary pools & associations",null,null,null,null,null,null,null,null,"21(c)","25(b)",null,null,2]
["5.7","- A&E liabilities",null,null,null,null,null,null,null,null,null,null,null,null,""]
["5.8","- retroactive reinsurance",null,null,null,null,"21",null,null,null,null,null,null,null,1]
["5.9","- financial reinsurance",null,null,null,null,null,null,null,null,null,null,null,null,""]
["5.10","- uncollectible reinsurance",null,null,"25","23(a.i)",null,null,null,null,null,null,24,null,3]
["5.11","- IRIS Ratios",null,null,null,null,null,"23(ab)",null,"23(a,c.i)",null,null,24,null,3]
["5.12","- changes in assumptions & methods",null,"22(bc)",null,null,null,null,"23(d)",null,null,"25(d)",null,null,3]
["5.13","- extended reporting endorsements",null,null,null,null,null,null,null,null,null,null,null,null,""]
["5.14","- long duration contracts",null,null,null,null,null,null,null,"23(c.ii)",null,null,null,null,1]
["6.0","Additional Considerations",null,null,null,null,null,null,null,null,null,null,null,null,""]
["6.1","- formatting requirements",null,null,null,null,null,null,null,null,null,null,null,null,""]
["6.2","- errors in SAO",null,null,null,null,null,"21(c)",null,null,null,null,null,null,1]
["7.0","AOS",null,null,null,"24(a.i)",null,null,null,null,null,null,null,null,1]
["7.1","- AOS: filing",null,null,null,null,null,null,null,null,null,null,null,null,""]
["7.2","- AOS: contents",null,null,null,"24(a.ii, bcd)",null,null,"24(b)",null,null,null,null,null,2]
["7.3","- AOS: sample formats",null,"24(ac)","22(c)",null,24,null,"22(c)",null,"24(a)",null,null,"29(ab)",6]
["7.4","- AOS: for pooled companies",null,null,null,null,null,null,null,null,null,null,null,null,""]
["7.5","- AOS: errors",null,null,null,null,null,null,null,null,null,null,null,null,""]
["8.0","Actuarial Report",null,null,null,null,null,"25(b)",null,null,null,null,null,null,1]
["8.1","- requirements of report",null,null,null,null,null,null,null,null,null,null,null,null,""]
["8.2","- AA's relationship to company",null,null,null,null,null,null,null,null,null,null,null,null,""]
["8.3","- AA's estimates vs recorded reserves",null,null,null,null,null,null,null,null,null,null,null,null,""]
["8.4","- reconciling data to Schedule P",null,null,null,null,null,null,null,null,null,null,null,null,""]
["8.5","- change in AA's estimates",null,null,null,null,null,null,null,null,null,null,null,null,""]
["8.6","- extended comments: risks 7 uncertanties",null,null,null,null,null,null,null,null,null,null,null,null,""]
["8.7","- extended comments: IRIS 11,12,13",null,null,null,null,null,null,null,null,null,null,null,null,""]
["9.0","Resources",null,null,null,null,null,null,null,null,null,null,null,null,""]
["9.1","- applicable ASOPs",null,null,null,null,null,"25(a)",null,null,null,null,null,null,{"$f":"IF(COUNTA(C67:N67)=0,\"\",COUNTA(C67:N67))","v":1}]
["9.2","- applicable SSAPs",null,null,null,null,null,null,null,null,null,null,null,null,{"$f":"IF(COUNTA(C68:N68)=0,\"\",COUNTA(C68:N68))","v":""}]
["9.3","- other opinions not covered",null,null,null,null,null,null,null,null,null,null,null,null,{"$f":"IF(COUNTA(C69:N69)=0,\"\",COUNTA(C69:N69))","v":""}]
["Odo.16","SAO overview",null,21,null,null,"23",null,null,"23(b), 24(i)",null,"24(b)","26(ab), 27(c)","25, 27",{"$f":"IF(COUNTA(C70:N70)=0,\"\",COUNTA(C70:N70))","v":6}]
["Odo.17","AOS overview",null,"23(b), 24(b)",null,null,null,null,null,"24(ii)","24(b)",null,null,null,{"$f":"IF(COUNTA(C71:N71)=0,\"\",COUNTA(C71:N71))","v":3}]